Report for MozRepl-0.06

Back
From: metabase:user:313dc9fe-2aae-11df-837a-5e0a49663a4f
Subject: PASS MozRepl-0.06 v5.15.4 GNU/Linux
Date: 2011-10-29T18:37:52Z

This distribution has been tested as part of the CPAN Testers
project, supporting the Perl programming language.  See
http://wiki.cpantesters.org/ for more information or email
questions to cpan-testers-discuss@perl.org


--
Dear Toru Yamaguchi,

This is a computer-generated report for MozRepl-0.06
on perl 5.15.4, created by CPAN-Reporter-1.2002.

Thank you for uploading your work to CPAN.  Congratulations!
All tests were successful.

Sections of this report:

    * Tester comments
    * Program output
    * Prerequisites
    * Environment and other context

------------------------------
TESTER COMMENTS
------------------------------

Additional comments from tester:

this report is from an automated smoke testing program
and was not reviewed by a human for accuracy

------------------------------
PROGRAM OUTPUT
------------------------------

Output from '/usr/bin/make test':

/home/perl5154/perl/perl "-Iinc" Makefile.PL --config= --installdeps=Carp::Clan,0,Class::Accessor::Fast,0,Class::Data::Inheritable,0,Data::Dump,0,Data::JavaScript::Anon,0,Module::Pluggable::Fast,0,Net::Telnet,0,Template,0,Template::Provider::FromDATA,0,Text::SimpleTable,0,UNIVERSAL::require,0
PERL_DL_NONLAZY=1 /home/perl5154/perl/perl "-MExtUtils::Command::MM" "-e" "test_harness(0, 'inc', 'blib/lib', 'blib/arch')" t/00-load.t t/10-plugin-repl-enter.t t/11-plugin-repl-search.t t/12-plugin-repl-inspect.t t/13-plugin-repl-load.t t/14-plugin-repl-rename.t t/15-plugin-repl-print.t t/16-plugin-repl-home.t t/17-plugin-repl-back.t t/18-plugin-repl-util-help_url_for.t t/19-plugin-repl-util-doc_for.t t/20-plugin-json.t t/pod-coverage.t t/pod.t
# Testing MozRepl 0.06
t/00-load.t ........................... ok
[DEBUG] MozRepl logging enabled
[DEBUG] 
---- Client arguments ----
.----------------------+------------------------------------------.
| client_arg_name      | client_arg_value                         |
+----------------------+------------------------------------------+
| host                 | localhost                                |
| port                 | 4242                                     |
| timeout              | 10                                       |
| extra_client_args    | {}                                       |
'----------------------+------------------------------------------'
t/10-plugin-repl-enter.t .............. ok
[DEBUG] MozRepl logging enabled
[DEBUG] 
---- Client arguments ----
.----------------------+------------------------------------------.
| client_arg_name      | client_arg_value                         |
+----------------------+------------------------------------------+
| host                 | localhost                                |
| port                 | 4242                                     |
| timeout              | 10                                       |
| extra_client_args    | {}                                       |
'----------------------+------------------------------------------'
t/11-plugin-repl-search.t ............. ok
[DEBUG] MozRepl logging enabled
[DEBUG] 
---- Client arguments ----
.----------------------+------------------------------------------.
| client_arg_name      | client_arg_value                         |
+----------------------+------------------------------------------+
| host                 | localhost                                |
| port                 | 4242                                     |
| timeout              | 10                                       |
| extra_client_args    | {}                                       |
'----------------------+------------------------------------------'
t/12-plugin-repl-inspect.t ............ ok
[DEBUG] MozRepl logging enabled
[DEBUG] 
---- Client arguments ----
.----------------------+------------------------------------------.
| client_arg_name      | client_arg_value                         |
+----------------------+------------------------------------------+
| host                 | localhost                                |
| port                 | 4242                                     |
| timeout              | 10                                       |
| extra_client_args    | {}                                       |
'----------------------+------------------------------------------'
t/13-plugin-repl-load.t ............... ok
[DEBUG] MozRepl logging enabled
[DEBUG] 
---- Client arguments ----
.----------------------+------------------------------------------.
| client_arg_name      | client_arg_value                         |
+----------------------+------------------------------------------+
| host                 | localhost                                |
| port                 | 4242                                     |
| timeout              | 10                                       |
| extra_client_args    | {}                                       |
'----------------------+------------------------------------------'
t/14-plugin-repl-rename.t ............. ok
[DEBUG] MozRepl logging enabled
[DEBUG] 
---- Client arguments ----
.----------------------+------------------------------------------.
| client_arg_name      | client_arg_value                         |
+----------------------+------------------------------------------+
| host                 | localhost                                |
| port                 | 4242                                     |
| timeout              | 10                                       |
| extra_client_args    | {}                                       |
'----------------------+------------------------------------------'
t/15-plugin-repl-print.t .............. ok
[DEBUG] MozRepl logging enabled
[DEBUG] 
---- Client arguments ----
.----------------------+------------------------------------------.
| client_arg_name      | client_arg_value                         |
+----------------------+------------------------------------------+
| host                 | localhost                                |
| port                 | 4242                                     |
| timeout              | 10                                       |
| extra_client_args    | {}                                       |
'----------------------+------------------------------------------'
t/16-plugin-repl-home.t ............... ok
[DEBUG] MozRepl logging enabled
[DEBUG] 
---- Client arguments ----
.----------------------+------------------------------------------.
| client_arg_name      | client_arg_value                         |
+----------------------+------------------------------------------+
| host                 | localhost                                |
| port                 | 4242                                     |
| timeout              | 10                                       |
| extra_client_args    | {}                                       |
'----------------------+------------------------------------------'
t/17-plugin-repl-back.t ............... ok
[DEBUG] MozRepl logging enabled
[DEBUG] 
---- Client arguments ----
.----------------------+------------------------------------------.
| client_arg_name      | client_arg_value                         |
+----------------------+------------------------------------------+
| host                 | localhost                                |
| port                 | 4242                                     |
| timeout              | 10                                       |
| extra_client_args    | {}                                       |
'----------------------+------------------------------------------'
t/18-plugin-repl-util-help_url_for.t .. ok
[DEBUG] MozRepl logging enabled
[DEBUG] 
---- Client arguments ----
.----------------------+------------------------------------------.
| client_arg_name      | client_arg_value                         |
+----------------------+------------------------------------------+
| host                 | localhost                                |
| port                 | 4242                                     |
| timeout              | 10                                       |
| extra_client_args    | {}                                       |
'----------------------+------------------------------------------'
t/19-plugin-repl-util-doc_for.t ....... ok
[DEBUG] MozRepl logging enabled
[DEBUG] 
---- Client arguments ----
.----------------------+------------------------------------------.
| client_arg_name      | client_arg_value                         |
+----------------------+------------------------------------------+
| host                 | localhost                                |
| port                 | 4242                                     |
| timeout              | 10                                       |
| extra_client_args    | {}                                       |
'----------------------+------------------------------------------'
t/20-plugin-json.t .................... ok
t/pod-coverage.t ...................... ok
t/pod.t ............................... ok
All tests successful.
Files=14, Tests=74,  1 wallclock secs ( 0.07 usr  0.03 sys +  1.28 cusr  0.28 csys =  1.66 CPU)
Result: PASS

------------------------------
PREREQUISITES
------------------------------

Prerequisite modules loaded:

requires:

    Module                       Need Have   
    ---------------------------- ---- -------
    Carp::Clan                   0    6.04   
    Class::Accessor::Fast        0    0.34   
    Class::Data::Inheritable     0    0.08   
    Data::Dump                   0    1.21   
    Data::JavaScript::Anon       0    1.03   
    File::Spec                   0    3.34   
    Module::Pluggable::Fast      0    0.19   
    Net::Telnet                  0    3.03   
    Template                     0    2.22   
    Template::Provider::FromDATA 0    0.11   
    Text::SimpleTable            0    2.03   
    UNIVERSAL::require           0    0.13   
    URI                          0    1.59   

build_requires:

    Module                       Need Have   
    ---------------------------- ---- -------
    ExtUtils::MakeMaker          0    6.61_01


------------------------------
ENVIRONMENT AND OTHER CONTEXT
------------------------------

Environment variables:

    AUTOMATED_TESTING = 1
    LANG = en_US.UTF-8
    PATH = /usr/local/sbin:/usr/local/bin:/usr/sbin:/usr/bin:/sbin:/bin:/usr/games
    PERL5LIB = /home/perl5154/.cpan/build/Data-JavaScript-Anon-1.03-50Sq0f/blib/arch:/home/perl5154/.cpan/build/Data-JavaScript-Anon-1.03-50Sq0f/blib/lib:/home/perl5154/.cpan/build/Params-Util-1.04-uKeXMc/blib/arch:/home/perl5154/.cpan/build/Params-Util-1.04-uKeXMc/blib/lib:/home/perl5154/.cpan/build/Class-Default-1.51-V_FGAb/blib/arch:/home/perl5154/.cpan/build/Class-Default-1.51-V_FGAb/blib/lib:/home/perl5154/.cpan/build/Net-Telnet-3.03-m4mWO1/blib/arch:/home/perl5154/.cpan/build/Net-Telnet-3.03-m4mWO1/blib/lib:/home/perl5154/.cpan/build/Class-Data-Inheritable-0.08-aA7JBO/blib/arch:/home/perl5154/.cpan/build/Class-Data-Inheritable-0.08-aA7JBO/blib/lib:/home/perl5154/.cpan/build/Carp-Clan-6.04-drK7dm/blib/arch:/home/perl5154/.cpan/build/Carp-Clan-6.04-drK7dm/blib/lib:/home/perl5154/.cpan/build/Test-Exception-0.31-K4l04U/blib/arch:/home/perl5154/.cpan/build/Test-Exception-0.31-K4l04U/blib/lib:/home/perl5154/.cpan/build/Sub-Uplevel-0.22-ugWSp4/blib/arch:/home/perl5154/.cpan/build/Sub-Uplevel-0.22-ugWSp4/blib/lib:/home/perl5154/.cpan/build/Data-Dump-1.21-L5xeCT/blib/arch:/home/perl5154/.cpan/build/Data-Dump-1.21-L5xeCT/blib/lib:/home/perl5154/.cpan/build/Text-SimpleTable-2.03-rKVun4/blib/arch:/home/perl5154/.cpan/build/Text-SimpleTable-2.03-rKVun4/blib/lib:/home/perl5154/.cpan/build/Template-Provider-FromDATA-0.11-mcMrcw/blib/arch:/home/perl5154/.cpan/build/Template-Provider-FromDATA-0.11-mcMrcw/blib/lib:/home/perl5154/.cpan/build/Template-Toolkit-2.22-dUfDsv/blib/arch:/home/perl5154/.cpan/build/Template-Toolkit-2.22-dUfDsv/blib/lib:/home/perl5154/.cpan/build/AppConfig-1.66-L6Ni_p/blib/arch:/home/perl5154/.cpan/build/AppConfig-1.66-L6Ni_p/blib/lib:/home/perl5154/.cpan/build/Class-Accessor-0.34-1Fiau3/blib/arch:/home/perl5154/.cpan/build/Class-Accessor-0.34-1Fiau3/blib/lib:/home/perl5154/.cpan/build/Module-Pluggable-Fast-0.19-g38kmm/blib/arch:/home/perl5154/.cpan/build/Module-Pluggable-Fast-0.19-g38kmm/blib/lib:/home/perl5154/.cpan/build/UNIVERSAL-require-0.13-Juhto5/blib/arch:/home/perl5154/.cpan/build/UNIVERSAL-require-0.13-Juhto5/blib/lib
    PERL5OPT = 
    PERL5_CPANPLUS_IS_RUNNING = 30544
    PERL5_CPAN_IS_RUNNING = 30544
    PERL5_CPAN_IS_RUNNING_IN_RECURSION = 511,30544
    PERL_CR_SMOKER_CURRENT = MozRepl-RemoteObject-0.28
    PERL_EXTUTILS_AUTOINSTALL = --defaultdeps
    PERL_MM_USE_DEFAULT = 1
    SHELL = /bin/bash
    TERM = xterm

Perl special variables (and OS-specific diagnostics, for MSWin32):

    $^X = /home/perl5154/perl/perl
    $UID/$EUID = 1012 / 1012
    $GID = 1016 1016
    $EGID = 1016 1016

Perl module toolchain versions installed:

    Module              Have    
    ------------------- --------
    CPAN                1.9800  
    CPAN::Meta          2.112621
    Cwd                 3.37    
    ExtUtils::CBuilder  0.280204
    ExtUtils::Command   1.17    
    ExtUtils::Install   1.57    
    ExtUtils::MakeMaker 6.61_01 
    ExtUtils::Manifest  1.60    
    ExtUtils::ParseXS   3.05    
    File::Spec          3.34    
    JSON                n/a     
    JSON::PP            2.27200 
    Module::Build       0.39_01 
    Module::Signature   n/a     
    Parse::CPAN::Meta   1.4401  
    Test::Harness       3.23    
    Test::More          0.98    
    YAML                0.77    
    YAML::Syck          n/a     
    version             0.94    


--

Summary of my perl5 (revision 5 version 15 subversion 4) configuration:
   
  Platform:
    osname=linux, osvers=2.6.35-28-generic-pae, archname=i686-linux-thread-multi-64int-ld
    uname='linux higgsboson 2.6.35-28-generic-pae #49-ubuntu smp tue mar 1 14:58:06 utc 2011 i686 gnulinux '
    config_args=''
    hint=previous, useposix=true, d_sigaction=define
    useithreads=define, usemultiplicity=define
    useperlio=define, d_sfio=undef, uselargefiles=define, usesocks=undef
    use64bitint=define, use64bitall=undef, uselongdouble=define
    usemymalloc=n, bincompat5005=undef
  Compiler:
    cc='cc', ccflags ='-D_REENTRANT -D_GNU_SOURCE -fno-strict-aliasing -pipe -fstack-protector -I/usr/local/include -D_LARGEFILE_SOURCE -D_FILE_OFFSET_BITS=64',
    optimize='-O2',
    cppflags='-D_REENTRANT -D_GNU_SOURCE -fno-strict-aliasing -pipe -fstack-protector -I/usr/local/include -D_REENTRANT -D_GNU_SOURCE -fno-strict-aliasing -pipe -fstack-protector -I/usr/local/include -D_LARGEFILE_SOURCE -D_FILE_OFFSET_BITS=64 -D_REENTRANT -D_GNU_SOURCE -fno-strict-aliasing -pipe -fstack-protector -I/usr/local/include -D_LARGEFILE_SOURCE -D_FILE_OFFSET_BITS=64'
    ccversion='', gccversion='4.5.2', gccosandvers=''
    intsize=4, longsize=4, ptrsize=4, doublesize=8, byteorder=12345678
    d_longlong=define, longlongsize=8, d_longdbl=define, longdblsize=12
    ivtype='long long', ivsize=8, nvtype='long double', nvsize=12, Off_t='off_t', lseeksize=8
    alignbytes=4, prototype=define
  Linker and Libraries:
    ld='cc', ldflags =' -fstack-protector -L/usr/local/lib'
    libpth=/usr/local/lib /lib /usr/lib /usr/lib64
    libs=-lnsl -ldl -lm -lcrypt -lutil -lpthread -lc -lrt
    perllibs=-lnsl -ldl -lm -lcrypt -lutil -lpthread -lc -lrt
    libc=/lib/libc-2.12.1.so, so=so, useshrplib=false, libperl=libperl.a
    gnulibc_version='2.13'
  Dynamic Linking:
    dlsrc=dl_dlopen.xs, dlext=so, d_dlsymun=undef, ccdlflags='-Wl,-E'
    cccdlflags='-fPIC', lddlflags='-shared -O2 -L/usr/local/lib -fstack-protector'


Characteristics of this binary (from libperl): 
  Compile-time options: HAS_TIMES MULTIPLICITY PERLIO_LAYERS
                        PERL_DONT_CREATE_GVSV PERL_IMPLICIT_CONTEXT
                        PERL_MALLOC_WRAP PERL_PRESERVE_IVUV USE_64_BIT_INT
                        USE_ITHREADS USE_LARGE_FILES USE_LOCALE
                        USE_LOCALE_COLLATE USE_LOCALE_CTYPE
                        USE_LOCALE_NUMERIC USE_LONG_DOUBLE USE_PERLIO
                        USE_PERL_ATOF USE_REENTRANT_API
  Built under linux
  Compiled at Oct 27 2011 16:21:29
  %ENV:
    PERL5LIB="/home/perl5154/.cpan/build/Data-JavaScript-Anon-1.03-50Sq0f/blib/arch:/home/perl5154/.cpan/build/Data-JavaScript-Anon-1.03-50Sq0f/blib/lib:/home/perl5154/.cpan/build/Params-Util-1.04-uKeXMc/blib/arch:/home/perl5154/.cpan/build/Params-Util-1.04-uKeXMc/blib/lib:/home/perl5154/.cpan/build/Class-Default-1.51-V_FGAb/blib/arch:/home/perl5154/.cpan/build/Class-Default-1.51-V_FGAb/blib/lib:/home/perl5154/.cpan/build/Net-Telnet-3.03-m4mWO1/blib/arch:/home/perl5154/.cpan/build/Net-Telnet-3.03-m4mWO1/blib/lib:/home/perl5154/.cpan/build/Class-Data-Inheritable-0.08-aA7JBO/blib/arch:/home/perl5154/.cpan/build/Class-Data-Inheritable-0.08-aA7JBO/blib/lib:/home/perl5154/.cpan/build/Carp-Clan-6.04-drK7dm/blib/arch:/home/perl5154/.cpan/build/Carp-Clan-6.04-drK7dm/blib/lib:/home/perl5154/.cpan/build/Test-Exception-0.31-K4l04U/blib/arch:/home/perl5154/.cpan/build/Test-Exception-0.31-K4l04U/blib/lib:/home/perl5154/.cpan/build/Sub-Uplevel-0.22-ugWSp4/blib/arch:/home/perl5154/.cpan/build/Sub-Uplevel-0.22-ugWSp4/blib/lib:/home/perl5154/.cpan/build/Data-Dump-1.21-L5xeCT/blib/arch:/home/perl5154/.cpan/build/Data-Dump-1.21-L5xeCT/blib/lib:/home/perl5154/.cpan/build/Text-SimpleTable-2.03-rKVun4/blib/arch:/home/perl5154/.cpan/build/Text-SimpleTable-2.03-rKVun4/blib/lib:/home/perl5154/.cpan/build/Template-Provider-FromDATA-0.11-mcMrcw/blib/arch:/home/perl5154/.cpan/build/Template-Provider-FromDATA-0.11-mcMrcw/blib/lib:/home/perl5154/.cpan/build/Template-Toolkit-2.22-dUfDsv/blib/arch:/home/perl5154/.cpan/build/Template-Toolkit-2.22-dUfDsv/blib/lib:/home/perl5154/.cpan/build/AppConfig-1.66-L6Ni_p/blib/arch:/home/perl5154/.cpan/build/AppConfig-1.66-L6Ni_p/blib/lib:/home/perl5154/.cpan/build/Class-Accessor-0.34-1Fiau3/blib/arch:/home/perl5154/.cpan/build/Class-Accessor-0.34-1Fiau3/blib/lib:/home/perl5154/.cpan/build/Module-Pluggable-Fast-0.19-g38kmm/blib/arch:/home/perl5154/.cpan/build/Module-Pluggable-Fast-0.19-g38kmm/blib/lib:/home/perl5154/.cpan/build/UNIVERSAL-require-0.13-Juhto5/blib/arch:/home/perl5154/.cpan/build/UNIVERSAL-require-0.13-Juhto5/blib/lib"
    PERL5OPT=""
    PERL5_CPANPLUS_IS_RUNNING="30544"
    PERL5_CPAN_IS_RUNNING="30544"
    PERL5_CPAN_IS_RUNNING_IN_RECURSION="511,30544"
    PERL_CR_SMOKER_CURRENT="MozRepl-RemoteObject-0.28"
    PERL_EXTUTILS_AUTOINSTALL="--defaultdeps"
    PERL_MM_USE_DEFAULT="1"
  @INC:
    /home/perl5154/.cpan/build/Data-JavaScript-Anon-1.03-50Sq0f/blib/arch
    /home/perl5154/.cpan/build/Data-JavaScript-Anon-1.03-50Sq0f/blib/lib
    /home/perl5154/.cpan/build/Params-Util-1.04-uKeXMc/blib/arch
    /home/perl5154/.cpan/build/Params-Util-1.04-uKeXMc/blib/lib
    /home/perl5154/.cpan/build/Class-Default-1.51-V_FGAb/blib/arch
    /home/perl5154/.cpan/build/Class-Default-1.51-V_FGAb/blib/lib
    /home/perl5154/.cpan/build/Net-Telnet-3.03-m4mWO1/blib/arch
    /home/perl5154/.cpan/build/Net-Telnet-3.03-m4mWO1/blib/lib
    /home/perl5154/.cpan/build/Class-Data-Inheritable-0.08-aA7JBO/blib/arch
    /home/perl5154/.cpan/build/Class-Data-Inheritable-0.08-aA7JBO/blib/lib
    /home/perl5154/.cpan/build/Carp-Clan-6.04-drK7dm/blib/arch
    /home/perl5154/.cpan/build/Carp-Clan-6.04-drK7dm/blib/lib
    /home/perl5154/.cpan/build/Test-Exception-0.31-K4l04U/blib/arch
    /home/perl5154/.cpan/build/Test-Exception-0.31-K4l04U/blib/lib
    /home/perl5154/.cpan/build/Sub-Uplevel-0.22-ugWSp4/blib/arch
    /home/perl5154/.cpan/build/Sub-Uplevel-0.22-ugWSp4/blib/lib
    /home/perl5154/.cpan/build/Data-Dump-1.21-L5xeCT/blib/arch
    /home/perl5154/.cpan/build/Data-Dump-1.21-L5xeCT/blib/lib
    /home/perl5154/.cpan/build/Text-SimpleTable-2.03-rKVun4/blib/arch
    /home/perl5154/.cpan/build/Text-SimpleTable-2.03-rKVun4/blib/lib
    /home/perl5154/.cpan/build/Template-Provider-FromDATA-0.11-mcMrcw/blib/arch
    /home/perl5154/.cpan/build/Template-Provider-FromDATA-0.11-mcMrcw/blib/lib
    /home/perl5154/.cpan/build/Template-Toolkit-2.22-dUfDsv/blib/arch
    /home/perl5154/.cpan/build/Template-Toolkit-2.22-dUfDsv/blib/lib
    /home/perl5154/.cpan/build/AppConfig-1.66-L6Ni_p/blib/arch
    /home/perl5154/.cpan/build/AppConfig-1.66-L6Ni_p/blib/lib
    /home/perl5154/.cpan/build/Class-Accessor-0.34-1Fiau3/blib/arch
    /home/perl5154/.cpan/build/Class-Accessor-0.34-1Fiau3/blib/lib
    /home/perl5154/.cpan/build/Module-Pluggable-Fast-0.19-g38kmm/blib/arch
    /home/perl5154/.cpan/build/Module-Pluggable-Fast-0.19-g38kmm/blib/lib
    /home/perl5154/.cpan/build/UNIVERSAL-require-0.13-Juhto5/blib/arch
    /home/perl5154/.cpan/build/UNIVERSAL-require-0.13-Juhto5/blib/lib
    /home/perl5154/perl/lib
    /home/perl5154/perl/lib
    .