Report for Module-Provision-0.42.1

Back
From: metabase:user:322078bc-2aae-11df-837a-5e0a49663a4f
Subject: PASS Module-Provision-0.42.1 v5.8.9 Debian GNU/kFreeBSD
Date: 2017-05-09T20:00:11Z

This distribution has been tested as part of the CPAN Testers
project, supporting the Perl programming language.  See
http://wiki.cpantesters.org/ for more information or email
questions to cpan-testers-discuss@perl.org


--

Dear PJFL,

This is a computer-generated error report created automatically by
CPANPLUS, version 0.9166. Testers personal comments may appear
at the end of this report.


Thank you for uploading your work to CPAN.  Congratulations!
All tests were successful.

TEST RESULTS:

Below is the error stack from stage 'make test':


OS: gnukfreebsd, Host: kondor

=== Environment variables ===

    $AUTHOR_TESTING                   undef
    $AUTOMATED_TESTING                1
    $EXTENDED_TESTING                 undef
    $NONINTERACTIVE_TESTING           1
    $PERL_CPAN_REPORTER_CONFIG        undef
    $PERL_CR_SMOKER_CURRENT           undef
    $PERL5_CPAN_IS_RUNNING            undef
    $PERL5_CPANPLUS_IS_VERSION        0.9166
    $TEST_CRITIC                      undef
    $TEST_SPELLING                    undef

Versions for all modules listed in MYMETA.json (including optional ones):

=== Configure Requires ===

    Module          Want   Have
    ------------- ------ ------
    Module::Build 0.4004 0.4222
    version         0.88 0.9917

=== Build Requires ===

    Module          Want   Have
    ------------- ------ ------
    Module::Build 0.4004 0.4222
    version         0.88 0.9917

=== Test Requires ===

    Module               Want     Have
    ---------------- -------- --------
    File::Spec            any     3.62
    Module::Build      0.4004   0.4222
    Module::Metadata 1.000011 1.000027
    Sys::Hostname         any     1.11
    Test::Requires       0.08     0.10
    version              0.88   0.9917

=== Test Recommends ===

    Module         Want     Have
    ---------- -------- --------
    CPAN::Meta 2.120900 2.150010

=== Runtime Requires ===

    Module                                         Want     Have
    ------------------------------------------ -------- --------
    CPAN::Meta                                 2.150005 2.150010
    CPAN::Uploader                             0.103004  missing
    Class::Null                                2.110730  missing
    Class::Usul                                 v0.73.0  missing
    Config::Tiny                                   2.22  missing
    Date::Format                                   2.24  missing
    Dist::Zilla                                   5.037  missing
    Dist::Zilla::Plugin::AbstractFromPOD         v0.3.0  missing
    Dist::Zilla::Plugin::LicenseFromModule         0.05  missing
    Dist::Zilla::Plugin::ManifestInRoot         v0.13.0  missing
    Dist::Zilla::Plugin::Meta::Dynamic::Config     0.04  missing
    Dist::Zilla::Plugin::ModuleBuild::Custom       4.26  missing
    Dist::Zilla::Plugin::ReadmeAnyFromPod      0.150250  missing
    Dist::Zilla::Plugin::Signature             1.100930  missing
    Dist::Zilla::Plugin::Test::ReportMetadata    v0.4.0  missing
    Dist::Zilla::Plugin::VersionFromModule         0.08  missing
    File::DataClass                             v0.68.0  missing
    File::ShareDir                                1.102    1.102
    HTTP::Message                                  6.06  missing
    LWP                                            6.13  missing
    LWP::Protocol::https                            any  missing
    Module::Metadata                           1.000011 1.000027
    Moo                                        2.000001  missing
    Perl::Version                                 1.013  missing
    Pod::Eventual                              0.094001  missing
    Software::License                          0.103010  missing
    Template                                       2.26  missing
    Test::Requires                                 0.08     0.10
    Try::Tiny                                      0.22  missing
    Type::Tiny                                 1.000004  missing
    Unexpected                                  v0.43.0  missing
    local::lib                                 2.000014  missing
    namespace::autoclean                           0.26  missing


*** WARNING WARNING WARNING WARNING WARNING WARNING ***

The following REQUIRED prerequisites were not satisfied:

CPAN::Uploader is not installed (version '0.103004' required)
Class::Null is not installed (version '2.110730' required)
Class::Usul is not installed (version 'v0.73.0' required)
Config::Tiny is not installed (version '2.22' required)
Date::Format is not installed (version '2.24' required)
Dist::Zilla is not installed (version '5.037' required)
Dist::Zilla::Plugin::AbstractFromPOD is not installed (version 'v0.3.0' required)
Dist::Zilla::Plugin::LicenseFromModule is not installed (version '0.05' required)
Dist::Zilla::Plugin::ManifestInRoot is not installed (version 'v0.13.0' required)
Dist::Zilla::Plugin::Meta::Dynamic::Config is not installed (version '0.04' required)
Dist::Zilla::Plugin::ModuleBuild::Custom is not installed (version '4.26' required)
Dist::Zilla::Plugin::ReadmeAnyFromPod is not installed (version '0.150250' required)
Dist::Zilla::Plugin::Signature is not installed (version '1.100930' required)
Dist::Zilla::Plugin::Test::ReportMetadata is not installed (version 'v0.4.0' required)
Dist::Zilla::Plugin::VersionFromModule is not installed (version '0.08' required)
File::DataClass is not installed (version 'v0.68.0' required)
HTTP::Message is not installed (version '6.06' required)
LWP is not installed (version '6.13' required)
LWP::Protocol::https is not installed (any version required)
Moo is not installed (version '2.000001' required)
Perl::Version is not installed (version '1.013' required)
Pod::Eventual is not installed (version '0.094001' required)
Software::License is not installed (version '0.103010' required)
Template is not installed (version '2.26' required)
Try::Tiny is not installed (version '0.22' required)
Type::Tiny is not installed (version '1.000004' required)
Unexpected is not installed (version 'v0.43.0' required)
local::lib is not installed (version '2.000014' required)
namespace::autoclean is not installed (version '0.26' required)

t/00report-metadata.t .. ok
t/02pod.t .............. skipped: POD test only for developers
t/03podcoverage.t ...... skipped: POD coverage test only for developers
t/05kwalitee.t ......... skipped: Kwalitee test only for developers
t/06yaml.t ............. skipped: YAML test only for developers
t/07podspelling.t ...... skipped: POD spelling test only for developers
t/10test_script.t ...... skipped: Perl v5.10.1 required--this is only v5.8.9, stopped at (eval 36) line 2.
All tests successful.
Files=7, Tests=1,  1 wallclock secs ( 0.02 usr  0.03 sys +  0.32 cusr  0.15 csys =  0.52 CPU)
Result: PASS


PREREQUISITES:

Here is a list of prerequisites you specified and versions we
managed to load:

	  Module Name                        Have     Want
	  File::ShareDir                    1.102     1.00
	  Module::Build                    0.4222   0.4004
	  Test::Requires                     0.10     0.06
	  version                          0.9917     0.88

Perl module toolchain versions installed:
	Module Name                        Have
	CPANPLUS                         0.9166
	CPANPLUS::Dist::Build              0.86
	Cwd                                3.62
	ExtUtils::CBuilder             0.280224
	ExtUtils::Command                  7.24
	ExtUtils::Install                  2.04
	ExtUtils::MakeMaker                7.24
	ExtUtils::Manifest                 1.70
	ExtUtils::ParseXS                  3.30
	File::Spec                         3.62
	Module::Build                    0.4222
	Pod::Parser                        1.35
	Pod::Simple                        3.32
	Test2                          1.302078
	Test::Harness                      3.39
	Test::More                     1.302078
	version                          0.9917

******************************** NOTE ********************************
The comments above are created mechanically, possibly without manual
checking by the sender.  As there are many people performing automatic
tests on each upload to CPAN, it is likely that you will receive
identical messages about the same problem.

If you believe that the message is mistaken, please reply to the first
one with correction and/or additional informations, and do not take
it personally.  We appreciate your patience. :)
**********************************************************************

Additional comments:


This report was machine-generated by CPANPLUS::Dist::YACSmoke 1.02.
Powered by minismokebox version 0.66

------------------------------
ENVIRONMENT AND OTHER CONTEXT
------------------------------

Environment variables:

    AUTOMATED_TESTING = 1
    LANG = en_GB.UTF-8
    LANGUAGE = en_GB:en
    NONINTERACTIVE_TESTING = 1
    PATH = /home/cpan/pit/thr/conf/perl-5.8.9/.cpanplus/5.8.9/build/MingznA1oq/Module-Provision-0.42.1/blib/script:/usr/local/bin:/usr/bin:/bin:/usr/local/games:/usr/games
    PERL5LIB = :/home/cpan/pit/thr/conf/perl-5.8.9/.cpanplus/5.8.9/build/7BALQ6TQSN/Class-Inspector-1.31/blib/lib:/home/cpan/pit/thr/conf/perl-5.8.9/.cpanplus/5.8.9/build/7BALQ6TQSN/Class-Inspector-1.31/blib/arch:/home/cpan/pit/thr/conf/perl-5.8.9/.cpanplus/5.8.9/build/_Vp5UfFiJX/File-ShareDir-Install-0.11/blib/lib:/home/cpan/pit/thr/conf/perl-5.8.9/.cpanplus/5.8.9/build/_Vp5UfFiJX/File-ShareDir-Install-0.11/blib/arch:/home/cpan/pit/thr/conf/perl-5.8.9/.cpanplus/5.8.9/build/qMmGxmrCUK/File-ShareDir-1.102/blib/lib:/home/cpan/pit/thr/conf/perl-5.8.9/.cpanplus/5.8.9/build/qMmGxmrCUK/File-ShareDir-1.102/blib/arch:/home/cpan/pit/thr/conf/perl-5.8.9/.cpanplus/5.8.9/build/ybpLvODMm_/Test-Requires-0.10/blib/lib:/home/cpan/pit/thr/conf/perl-5.8.9/.cpanplus/5.8.9/build/ybpLvODMm_/Test-Requires-0.10/blib/arch:/home/cpan/pit/thr/conf/perl-5.8.9/.cpanplus/5.8.9/build/MingznA1oq/Module-Provision-0.42.1/blib/lib:/home/cpan/pit/thr/conf/perl-5.8.9/.cpanplus/5.8.9/build/MingznA1oq/Module-Provision-0.42.1/blib/arch
    PERL5_CPANPLUS_IS_RUNNING = 85718
    PERL5_CPANPLUS_IS_VERSION = 0.9166
    PERL5_MINISMOKEBOX = 0.66
    PERL5_YACSMOKE_BASE = /home/cpan/pit/thr/conf/perl-5.8.9
    PERL_EXTUTILS_AUTOINSTALL = --defaultdeps
    PERL_MM_USE_DEFAULT = 1
    SHELL = /bin/bash
    TERM = screen

Perl special variables (and OS-specific diagnostics, for MSWin32):

    Perl: $^X = /home/cpan/pit/thr/perl-5.8.9/bin/perl
    UID:  $<  = 1001
    EUID: $>  = 1001
    GID:  $(  = 1001 1001
    EGID: $)  = 1001 1001


-------------------------------


--

Summary of my perl5 (revision 5 version 8 subversion 9) configuration:
  Platform:
    osname=gnukfreebsd, osvers=10.1-0-amd64, archname=x86_64-gnukfreebsd-thread-multi
    uname='gnukfreebsd kondor 10.1-0-amd64 #0 wed, 16 mar 2016 23:16:33 +0000 x86_64 amd64 qemu virtual cpu version 2.0.0 gnukfreebsd '
    config_args='-des -Dprefix=/home/cpan/pit/thr/perl-5.8.9 -Dusethreads'
    hint=recommended, useposix=true, d_sigaction=define
    usethreads=define use5005threads=undef useithreads=define usemultiplicity=define
    useperlio=define d_sfio=undef uselargefiles=define usesocks=undef
    use64bitint=define use64bitall=define uselongdouble=undef
    usemymalloc=n, bincompat5005=undef
  Compiler:
    cc='cc', ccflags ='-D_REENTRANT -D_GNU_SOURCE -fno-strict-aliasing -pipe -I/usr/local/include -D_LARGEFILE_SOURCE -D_FILE_OFFSET_BITS=64',
    optimize='-O2',
    cppflags='-D_REENTRANT -D_GNU_SOURCE -fno-strict-aliasing -pipe -I/usr/local/include'
    ccversion='', gccversion='4.9.2', gccosandvers=''
    intsize=4, longsize=8, ptrsize=8, doublesize=8, byteorder=12345678
    d_longlong=define, longlongsize=8, d_longdbl=define, longdblsize=16
    ivtype='long', ivsize=8, nvtype='double', nvsize=8, Off_t='off_t', lseeksize=8
    alignbytes=8, prototype=define
  Linker and Libraries:
    ld='cc', ldflags =' -L/usr/local/lib'
    libpth=/usr/local/lib /lib/x86_64-kfreebsd-gnu /lib/../lib /usr/lib/x86_64-kfreebsd-gnu /usr/lib/../lib /lib /usr/lib
    libs=-lnsl -lgdbm -ldl -lm -lcrypt -lutil -lpthread -lc -lgdbm_compat
    perllibs=-lnsl -ldl -lm -lcrypt -lutil -lpthread -lc -lgdbm_compat
    libc=/usr/lib/x86_64-kfreebsd-gnu/libc.so, so=so, useshrplib=false, libperl=libperl.a
    gnulibc_version='2.19'
  Dynamic Linking:
    dlsrc=dl_dlopen.xs, dlext=so, d_dlsymun=undef, ccdlflags='-Wl,-E'
    cccdlflags='-fpic', lddlflags='-shared -O2 -L/usr/local/lib'


Characteristics of this binary (from libperl): 
  Compile-time options: MULTIPLICITY PERL_IMPLICIT_CONTEXT PERL_MALLOC_WRAP
                        USE_64_BIT_ALL USE_64_BIT_INT USE_FAST_STDIO
                        USE_ITHREADS USE_LARGE_FILES USE_PERLIO
                        USE_REENTRANT_API
  Locally applied patches:
	Devel::PatchPerl 1.42
  Built under gnukfreebsd
  Compiled at May  7 2016 02:21:13
  %ENV:
    PERL5LIB=":/home/cpan/pit/thr/conf/perl-5.8.9/.cpanplus/5.8.9/build/7BALQ6TQSN/Class-Inspector-1.31/blib/lib:/home/cpan/pit/thr/conf/perl-5.8.9/.cpanplus/5.8.9/build/7BALQ6TQSN/Class-Inspector-1.31/blib/arch:/home/cpan/pit/thr/conf/perl-5.8.9/.cpanplus/5.8.9/build/_Vp5UfFiJX/File-ShareDir-Install-0.11/blib/lib:/home/cpan/pit/thr/conf/perl-5.8.9/.cpanplus/5.8.9/build/_Vp5UfFiJX/File-ShareDir-Install-0.11/blib/arch:/home/cpan/pit/thr/conf/perl-5.8.9/.cpanplus/5.8.9/build/qMmGxmrCUK/File-ShareDir-1.102/blib/lib:/home/cpan/pit/thr/conf/perl-5.8.9/.cpanplus/5.8.9/build/qMmGxmrCUK/File-ShareDir-1.102/blib/arch:/home/cpan/pit/thr/conf/perl-5.8.9/.cpanplus/5.8.9/build/ybpLvODMm_/Test-Requires-0.10/blib/lib:/home/cpan/pit/thr/conf/perl-5.8.9/.cpanplus/5.8.9/build/ybpLvODMm_/Test-Requires-0.10/blib/arch:/home/cpan/pit/thr/conf/perl-5.8.9/.cpanplus/5.8.9/build/MingznA1oq/Module-Provision-0.42.1/blib/lib:/home/cpan/pit/thr/conf/perl-5.8.9/.cpanplus/5.8.9/build/MingznA1oq/Module-Provision-0.42.1/blib/arch"
    PERL5_CPANPLUS_IS_RUNNING="85718"
    PERL5_CPANPLUS_IS_VERSION="0.9166"
    PERL5_MINISMOKEBOX="0.66"
    PERL5_YACSMOKE_BASE="/home/cpan/pit/thr/conf/perl-5.8.9"
    PERL_EXTUTILS_AUTOINSTALL="--defaultdeps"
    PERL_MM_USE_DEFAULT="1"
  @INC:
    /home/cpan/pit/thr/conf/perl-5.8.9/.cpanplus/5.8.9/build/7BALQ6TQSN/Class-Inspector-1.31/blib/lib
    /home/cpan/pit/thr/conf/perl-5.8.9/.cpanplus/5.8.9/build/7BALQ6TQSN/Class-Inspector-1.31/blib/arch
    /home/cpan/pit/thr/conf/perl-5.8.9/.cpanplus/5.8.9/build/_Vp5UfFiJX/File-ShareDir-Install-0.11/blib/lib
    /home/cpan/pit/thr/conf/perl-5.8.9/.cpanplus/5.8.9/build/_Vp5UfFiJX/File-ShareDir-Install-0.11/blib/arch
    /home/cpan/pit/thr/conf/perl-5.8.9/.cpanplus/5.8.9/build/qMmGxmrCUK/File-ShareDir-1.102/blib/lib
    /home/cpan/pit/thr/conf/perl-5.8.9/.cpanplus/5.8.9/build/qMmGxmrCUK/File-ShareDir-1.102/blib/arch
    /home/cpan/pit/thr/conf/perl-5.8.9/.cpanplus/5.8.9/build/ybpLvODMm_/Test-Requires-0.10/blib/lib
    /home/cpan/pit/thr/conf/perl-5.8.9/.cpanplus/5.8.9/build/ybpLvODMm_/Test-Requires-0.10/blib/arch
    /home/cpan/pit/thr/conf/perl-5.8.9/.cpanplus/5.8.9/build/MingznA1oq/Module-Provision-0.42.1/blib/lib
    /home/cpan/pit/thr/conf/perl-5.8.9/.cpanplus/5.8.9/build/MingznA1oq/Module-Provision-0.42.1/blib/arch
    /home/cpan/pit/thr/perl-5.8.9/lib/5.8.9/x86_64-gnukfreebsd-thread-multi
    /home/cpan/pit/thr/perl-5.8.9/lib/5.8.9
    /home/cpan/pit/thr/perl-5.8.9/lib/site_perl/5.8.9/x86_64-gnukfreebsd-thread-multi
    /home/cpan/pit/thr/perl-5.8.9/lib/site_perl/5.8.9
    .