File-Find-Rule-Perl v1.16 Perl 5 v5.39.1 x86_64-linux
- Status
- Pass
- From
- Nigel Horne
- Dist
-
File-Find-Rule-Perl v1.16
- Platform
- Perl 5 v5.39.1 x86_64-linux
- Date
- 2023-10-02 04:21:07
- ID
- 1ba808f8-60db-11ee-aca5-e458c23c65c2
This distribution has been tested as part of the CPAN Testers
project, supporting the Perl programming language. See
http://wiki.cpantesters.org/ for more information or email
questions to cpan-testers-discuss@perl.org
--
Dear Karen Etheridge,
This is a computer-generated report for File-Find-Rule-Perl-1.16
on perl 5.39.1, created by CPAN-Reporter-1.2019.
Thank you for uploading your work to CPAN. Congratulations!
All tests were successful.
Sections of this report:
* Tester comments
* Program output
* Prerequisites
* Environment and other context
------------------------------
TESTER COMMENTS
------------------------------
Additional comments from tester:
this report is from an automated smoke testing program
and was not reviewed by a human for accuracy
------------------------------
PROGRAM OUTPUT
------------------------------
Output from '/usr/bin/make test':
PERL_DL_NONLAZY=1 "/home/opc/perl5/perlbrew/perls/perl-5.39.1/bin/perl5.39.1" "-MExtUtils::Command::MM" "-MTest::Harness" "-e" "undef *Test::Harness::Switches; test_harness(0, 'blib/lib', 'blib/arch')" t/*.t
t/01_compile.t ... ok
t/02_main.t ...... ok
t/03_no_index.t .. ok
All tests successful.
Files=3, Tests=31, 1 wallclock secs ( 0.02 usr 0.01 sys + 0.32 cusr 0.03 csys = 0.38 CPU)
Result: PASS
------------------------------
PREREQUISITES
------------------------------
Prerequisite modules loaded:
requires:
Module Need Have
------------------- ----- --------
File::Find::Rule 0.20 0.34
File::Spec 0.82 3.88
Params::Util 0.38 1.102
Parse::CPAN::Meta 1.38 2.150010
perl 5.006 5.039001
build_requires:
Module Need Have
------------------- ----- --------
Test::More 0 1.302195
configure_requires:
Module Need Have
------------------- ----- --------
ExtUtils::MakeMaker 0 7.70
------------------------------
ENVIRONMENT AND OTHER CONTEXT
------------------------------
Environment variables:
AUTOMATED_TESTING = 1
LANG = en_US.UTF-8
PATH = /home/opc/perl5/perlbrew/bin:/home/opc/perl5/perlbrew/perls/perl-5.39.1/bin:/home/opc/perl5/perlbrew/bin:/home/opc/src/njh/smoker/bin:/usr/bin:/bin
PERL5LIB = /home/opc/.cpan/build/File-Find-Rule-0.34-0/blib/arch:/home/opc/.cpan/build/File-Find-Rule-0.34-0/blib/lib:/home/opc/.cpan/build/Text-Glob-0.11-0/blib/arch:/home/opc/.cpan/build/Text-Glob-0.11-0/blib/lib:/home/opc/.cpan/build/Number-Compare-0.03-0/blib/arch:/home/opc/.cpan/build/Number-Compare-0.03-0/blib/lib
PERL5OPT =
PERL5_CPANPLUS_IS_RUNNING = 11870
PERL5_CPAN_IS_RUNNING = 11870
PERL5_CPAN_IS_RUNNING_IN_RECURSION = 11858,11870
PERLBREW_LIB =
PERLBREW_MANPATH = /home/opc/perl5/perlbrew/perls/perl-5.39.1/man
PERLBREW_PATH = /home/opc/perl5/perlbrew/bin:/home/opc/perl5/perlbrew/perls/perl-5.39.1/bin
PERLBREW_PERL = perl-5.39.1
PERLBREW_ROOT = /home/opc/perl5/perlbrew
PERLBREW_SHELLRC_VERSION = 0.98
PERLBREW_VERSION = 0.98
PERL_LOCAL_LIB_ROOT =
PERL_MM_USE_DEFAULT = 1
PERL_USE_UNSAFE_INC = 1
SHELL = /usr/bin/bash
TMPDIR = /tmp/testwrapper.11862
Perl special variables (and OS-specific diagnostics, for MSWin32):
$^X = /home/opc/perl5/perlbrew/perls/perl-5.39.1/bin/perl5.39.1
$UID/$EUID = 1000 / 1000
$GID = 1000 4 10 190 1000
$EGID = 1000 4 10 190 1000
Perl module toolchain versions installed:
Module Have
------------------- --------
CPAN 2.36
CPAN::Meta 2.150010
Cwd 3.89
ExtUtils::CBuilder 0.280239
ExtUtils::Command 7.70
ExtUtils::Install 2.22
ExtUtils::MakeMaker 7.70
ExtUtils::Manifest 1.75
ExtUtils::ParseXS 3.51
File::Spec 3.88
JSON n/a
JSON::PP 4.16
Module::Build 0.4234
Module::Signature n/a
Parse::CPAN::Meta 2.150010
Test2 1.302195
Test::Harness 3.47
Test::More 1.302195
YAML 1.30
YAML::Syck 1.34
version 0.9929
--
Summary of my perl5 (revision 5 version 39 subversion 1) configuration:
Platform:
osname=linux
osvers=5.4.17-2136.321.4.el7uek.x86_64
archname=x86_64-linux
uname='linux oracle2.bandsman.co.uk 5.4.17-2136.321.4.el7uek.x86_64 #2 smp mon jun 26 16:20:00 pdt 2023 x86_64 x86_64 x86_64 gnulinux '
config_args='-de -Dprefix=/home/opc/perl5/perlbrew/perls/perl-5.39.1 -Dusedevel -Aeval:scriptdir=/home/opc/perl5/perlbrew/perls/perl-5.39.1/bin'
hint=recommended
useposix=true
d_sigaction=define
useithreads=undef
usemultiplicity=undef
use64bitint=define
use64bitall=define
uselongdouble=undef
usemymalloc=n
default_inc_excludes_dot=define
Compiler:
cc='cc'
ccflags ='-std=gnu99 -fwrapv -fno-strict-aliasing -pipe -fstack-protector-strong -I/usr/local/include -D_LARGEFILE_SOURCE -D_FILE_OFFSET_BITS=64 -D_FORTIFY_SOURCE=2'
optimize='-O2'
cppflags='-std=gnu99 -fwrapv -fno-strict-aliasing -pipe -fstack-protector-strong -I/usr/local/include'
ccversion=''
gccversion='4.8.5 20150623 (Red Hat 4.8.5-44.0.3)'
gccosandvers=''
intsize=4
longsize=8
ptrsize=8
doublesize=8
byteorder=12345678
doublekind=3
d_longlong=define
longlongsize=8
d_longdbl=define
longdblsize=16
longdblkind=3
ivtype='long'
ivsize=8
nvtype='double'
nvsize=8
Off_t='off_t'
lseeksize=8
alignbytes=8
prototype=define
Linker and Libraries:
ld='cc'
ldflags =' -fstack-protector-strong -L/usr/local/lib'
libpth=/usr/local/lib /usr/lib /usr/lib64 /usr/local/lib64
libs=-lpthread -lgdbm -ldb -ldl -lm -lcrypt -lutil -lc -lgdbm_compat
perllibs=-lpthread -ldl -lm -lcrypt -lutil -lc
libc=libc-2.17.so
so=so
useshrplib=false
libperl=libperl.a
gnulibc_version='2.17'
Dynamic Linking:
dlsrc=dl_dlopen.xs
dlext=so
d_dlsymun=undef
ccdlflags='-Wl,-E'
cccdlflags='-fPIC'
lddlflags='-shared -O2 -L/usr/local/lib -fstack-protector-strong'
Characteristics of this binary (from libperl):
Compile-time options:
HAS_LONG_DOUBLE
HAS_STRTOLD
HAS_TIMES
PERLIO_LAYERS
PERL_COPY_ON_WRITE
PERL_DONT_CREATE_GVSV
PERL_HASH_FUNC_SIPHASH13
PERL_HASH_USE_SBOX32
PERL_MALLOC_WRAP
PERL_OP_PARENT
PERL_PRESERVE_IVUV
PERL_USE_DEVEL
PERL_USE_SAFE_PUTENV
USE_64_BIT_ALL
USE_64_BIT_INT
USE_LARGE_FILES
USE_LOCALE
USE_LOCALE_COLLATE
USE_LOCALE_CTYPE
USE_LOCALE_NUMERIC
USE_LOCALE_TIME
USE_PERLIO
USE_PERL_ATOF
Built under linux
Compiled at Aug 2 2023 09:27:10
%ENV:
PERL5LIB="/home/opc/.cpan/build/File-Find-Rule-0.34-0/blib/arch:/home/opc/.cpan/build/File-Find-Rule-0.34-0/blib/lib:/home/opc/.cpan/build/Text-Glob-0.11-0/blib/arch:/home/opc/.cpan/build/Text-Glob-0.11-0/blib/lib:/home/opc/.cpan/build/Number-Compare-0.03-0/blib/arch:/home/opc/.cpan/build/Number-Compare-0.03-0/blib/lib"
PERL5OPT=""
PERL5_CPANPLUS_IS_RUNNING="11870"
PERL5_CPAN_IS_RUNNING="11870"
PERL5_CPAN_IS_RUNNING_IN_RECURSION="11858,11870"
PERLBREW_LIB=""
PERLBREW_MANPATH="/home/opc/perl5/perlbrew/perls/perl-5.39.1/man"
PERLBREW_PATH="/home/opc/perl5/perlbrew/bin:/home/opc/perl5/perlbrew/perls/perl-5.39.1/bin"
PERLBREW_PERL="perl-5.39.1"
PERLBREW_ROOT="/home/opc/perl5/perlbrew"
PERLBREW_SHELLRC_VERSION="0.98"
PERLBREW_VERSION="0.98"
PERL_LOCAL_LIB_ROOT=""
PERL_MM_USE_DEFAULT="1"
PERL_USE_UNSAFE_INC="1"
@INC:
/home/opc/.cpan/build/File-Find-Rule-0.34-0/blib/arch
/home/opc/.cpan/build/File-Find-Rule-0.34-0/blib/lib
/home/opc/.cpan/build/Text-Glob-0.11-0/blib/arch
/home/opc/.cpan/build/Text-Glob-0.11-0/blib/lib
/home/opc/.cpan/build/Number-Compare-0.03-0/blib/arch
/home/opc/.cpan/build/Number-Compare-0.03-0/blib/lib
/home/opc/perl5/perlbrew/perls/perl-5.39.1/lib/site_perl/5.39.1/x86_64-linux
/home/opc/perl5/perlbrew/perls/perl-5.39.1/lib/site_perl/5.39.1
/home/opc/perl5/perlbrew/perls/perl-5.39.1/lib/5.39.1/x86_64-linux
/home/opc/perl5/perlbrew/perls/perl-5.39.1/lib/5.39.1
.