Lingua-String v0.02 Perl 5 v5.28.2 x86_64-linux-thread-multi
- Status
- Pass
- From
- Nigel Horne
- Dist
-
Lingua-String v0.02
- Platform
- Perl 5 v5.28.2 x86_64-linux-thread-multi
- Date
- 2021-01-25 14:10:41
- ID
- 1b963c7c-5f17-11eb-b9db-b6c7a8faccfa
This distribution has been tested as part of the CPAN Testers
project, supporting the Perl programming language. See
http://wiki.cpantesters.org/ for more information or email
questions to cpan-testers-discuss@perl.org
--
Dear Nigel Horne,
This is a computer-generated report for Lingua-String-0.02
on perl 5.28.2, created by CPAN-Reporter-1.2018.
Thank you for uploading your work to CPAN. Congratulations!
All tests were successful.
Sections of this report:
* Tester comments
* Program output
* Prerequisites
* Environment and other context
------------------------------
TESTER COMMENTS
------------------------------
Additional comments from tester:
none provided
------------------------------
PROGRAM OUTPUT
------------------------------
Output from '/usr/bin/make test':
PERL_DL_NONLAZY=1 "/home/njh/perl5/perlbrew/perls/cperl-5.28.2/bin/cperl5.28.2" "-MExtUtils::Command::MM" "-MTest::Harness" "-e" "undef *Test::Harness::Switches; test_harness(0, 'blib/lib', 'blib/arch')" t/*.t
t/links.t ..... skipped: Author tests not required for installation
Lingua::String use ->new() not ::new() to instantiate at t/10-new.t line 10.
t/10-new.t .... ok
t/eof.t ....... skipped: Author tests not required for installation
t/coverage.t .. skipped: Author tests not required for installation
t/eol.t ....... skipped: Author tests not required for installation
t/no404s.t .... skipped: Author tests not required for installation
t/carp.t ...... ok
t/pod-cm.t .... skipped: Test::Pod::Spelling::CommonMistakes required for testing POD spelling
t/pod.t ....... skipped: Author tests not required for installation
# Testing Lingua::String 0.02, Perl 5.028002, /home/njh/perl5/perlbrew/perls/cperl-5.28.2/bin/cperl5.28.2
t/00-load.t ... ok
t/snippets.t .. skipped: Author tests not required for installation
t/spelling.t .. skipped: Author tests not required for installation
t/strict.t .... skipped: Author tests not required for installation
t/vars.t ...... skipped: Author tests not required for installation
t/string.t .... ok
All tests successful.
Files=15, Tests=36, 1 wallclock secs ( 0.03 usr 0.01 sys + 0.55 cusr 0.10 csys = 0.69 CPU)
Result: PASS
------------------------------
PREREQUISITES
------------------------------
Prerequisite modules loaded:
requires:
Module Need Have
------------------- -------- --------
Carp 0 1.45_01c
Exporter 0 5.73
HTML::Entities 0 3.69
perl 5.006002 5.028002
build_requires:
Module Need Have
------------------- -------- --------
ExtUtils::MakeMaker 0 8.35_08
Test::Carp 0 0.2
Test::Most 0 0.37
Test::NoWarnings 0 1.04
configure_requires:
Module Need Have
------------------- -------- --------
ExtUtils::MakeMaker 0 8.35_08
------------------------------
ENVIRONMENT AND OTHER CONTEXT
------------------------------
Environment variables:
HARNESS_OPTIONS = j10:c
LANG = en_GB.UTF-8
LD_LIBRARY_PATH = /usr/local/lib::
NONINTERACTIVE_TESTING = 1
PATH = /home/njh/perl5/perlbrew/bin:/home/njh/perl5/perlbrew/perls/cperl-5.28.2/bin:/home/njh/perl5/perlbrew/bin:/usr/local/bin:/usr/bin:/bin:/usr/games:/home/njh/bin:/sbin:/home/njh/.cargo/bin
PERL5LIB =
PERL5OPT =
PERL5_CPANPLUS_IS_RUNNING = 2244874
PERL5_CPAN_IS_RUNNING = 2244874
PERLBREW_HOME = /home/njh/.perlbrew
PERLBREW_LIB =
PERLBREW_MANPATH = /home/njh/perl5/perlbrew/perls/cperl-5.28.2/man
PERLBREW_PATH = /home/njh/perl5/perlbrew/bin:/home/njh/perl5/perlbrew/perls/cperl-5.28.2/bin
PERLBREW_PERL = cperl-5.28.2
PERLBREW_ROOT = /home/njh/perl5/perlbrew
PERLBREW_SHELLRC_VERSION = 0.88
PERLBREW_VERSION = 0.88
PERL_LOCAL_LIB_ROOT =
PERL_MM_USE_DEFAULT = 1
PERL_USE_UNSAFE_INC = 1
SHELL = /bin/bash
TEMP = /tmp/user/1000
TMPDIR = /tmp/user/1000
Perl special variables (and OS-specific diagnostics, for MSWin32):
$^X = /home/njh/perl5/perlbrew/perls/cperl-5.28.2/bin/cperl5.28.2
$UID/$EUID = 1000 / 1000
$GID = 1000 4 24 25 29 30 44 46 107 996 1000
$EGID = 1000 4 24 25 29 30 44 46 107 996 1000
Perl module toolchain versions installed:
Module Have
------------------- ---------
CPAN 2.27
CPAN::Meta 2.150010c
Cwd 4.75c
ExtUtils::CBuilder 0.280230
ExtUtils::Command 7.35_06
ExtUtils::Install 2.14
ExtUtils::MakeMaker 8.35_08
ExtUtils::Manifest 1.71
ExtUtils::ParseXS 3.39_03
File::Spec 4.74c
JSON n/a
JSON::PP 4.04
Module::Build 0.4229
Module::Signature n/a
Parse::CPAN::Meta 1.5000c
Test::Harness 3.42_01
Test::More 1.401015c
YAML 1.30
YAML::Syck 1.32
version 0.9924_02
--
Summary of my cperl (revision 5 version 28 subversion 2) configuration:
git_branch=
Platform:
osname=linux, osvers=4.19.0-4-amd64, archname=x86_64-linux-thread-multi
uname='linux microcenter 4.19.0-4-amd64 #1 smp debian 4.19.28-2 (2019-03-15) x86_64 gnulinux '
config_args='-de -Dprefix=/home/njh/perl5/perlbrew/perls/cperl-5.28.2 -Dusedevel -Dusemultiplicity -Dusethreads -Dusecperl -Accflags= -Aeval:scriptdir=/home/njh/perl5/perlbrew/perls/cperl-5.28.2/bin'
hint=recommended, useposix=true, d_sigaction=define
useithreads=define, usemultiplicity=define
use64bitint=define, use64bitall=define, uselongdouble=undef
usemymalloc=n, bincompat5005=undef default_inc_excludes_dot=define
Compiler:
cc='cc', ccflags ='-D_REENTRANT -D_GNU_SOURCE -fwrapv -fno-strict-aliasing -pipe -fstack-protector-strong -D_LARGEFILE_SOURCE -D_FILE_OFFSET_BITS=64 -D_FORTIFY_SOURCE=2',
optimize='-O2 --pipe',
cppflags='-D_REENTRANT -D_GNU_SOURCE -fwrapv -fno-strict-aliasing -pipe -fstack-protector-strong'
ccversion='', gccversion='8.3.0', gccosandvers=''
intsize=4, longsize=8, ptrsize=8, doublesize=8, byteorder=12345678, doublekind=3
d_longlong=define, longlongsize=8, d_longdbl=define, longdblsize=16, longdblkind=3
ivtype='long', ivsize=8, nvtype='double', nvsize=8, Off_t='off_t', lseeksize=8
alignbytes=8
Linker and Libraries:
ld='cc', ldflags =' -fstack-protector-strong -L/usr/local/lib'
libpth=/usr/lib/gcc/x86_64-linux-gnu/8 /usr/lib/x86_64-linux-gnu /usr/lib /lib/x86_64-linux-gnu /lib /usr/local/lib /lib64
libs=-lpthread -lnsl -ldl -lm -lcrypt -lutil -lc
perllibs=-lpthread -lnsl -ldl -lm -lcrypt -lutil -lc
libc=libc-2.28.so, so=so, useshrplib=false, libperl=libperl.a
gnulibc_version='2.28'
Dynamic Linking:
dlsrc=dl_dlopen.xs, dlext=so, d_dlsymun=undef, ccdlflags='-Wl,-E'
cccdlflags='-fPIC', lddlflags='-shared -O2 --pipe -L/usr/local/lib -fstack-protector-strong'
Characteristics of this binary (from libperl):
Compile-time options: HAS_TIMES MULTIPLICITY PERLIO_LAYERS
PERL_COPY_ON_WRITE PERL_DONT_CREATE_GVSV
PERL_HASH_FUNC_FNV1A PERL_IMPLICIT_CONTEXT
PERL_MALLOC_WRAP PERL_OP_PARENT PERL_PERTURB_KEYS_TOP
PERL_PRESERVE_IVUV PERL_USE_DEVEL USE_64_BIT_ALL
USE_64_BIT_INT USE_CPERL USE_ITHREADS USE_LARGE_FILES
USE_LOCALE USE_LOCALE_COLLATE USE_LOCALE_CTYPE
USE_LOCALE_NUMERIC USE_LOCALE_TIME USE_PERLIO
USE_PERL_ATOF USE_REENTRANT_API
Built under linux
Compiled at Sat Apr 20 04:31:12 UTC 2019
%ENV:
PERL5LIB=""
PERL5OPT=""
PERL5_CPANPLUS_IS_RUNNING="2244874"
PERL5_CPAN_IS_RUNNING="2244874"
PERLBREW_HOME="/home/njh/.perlbrew"
PERLBREW_LIB=""
PERLBREW_MANPATH="/home/njh/perl5/perlbrew/perls/cperl-5.28.2/man"
PERLBREW_PATH="/home/njh/perl5/perlbrew/bin:/home/njh/perl5/perlbrew/perls/cperl-5.28.2/bin"
PERLBREW_PERL="cperl-5.28.2"
PERLBREW_ROOT="/home/njh/perl5/perlbrew"
PERLBREW_SHELLRC_VERSION="0.88"
PERLBREW_VERSION="0.88"
PERL_LOCAL_LIB_ROOT=""
PERL_MM_USE_DEFAULT="1"
PERL_USE_UNSAFE_INC="1"
@INC:
/home/njh/perl5/perlbrew/perls/cperl-5.28.2/lib/site_cperl/5.28.2/x86_64-linux-thread-multi
/home/njh/perl5/perlbrew/perls/cperl-5.28.2/lib/site_cperl/5.28.2
/home/njh/perl5/perlbrew/perls/cperl-5.28.2/lib/5.28.2/x86_64-linux-thread-multi
/home/njh/perl5/perlbrew/perls/cperl-5.28.2/lib/5.28.2
.