Alt-Crypt-RSA-BigInt v0.06 Perl 5 v5.38.0 darwin-2level

Status
Pass
From
Philip Sharman
Dist
Alt-Crypt-RSA-BigInt v0.06
Platform
Perl 5 v5.38.0 darwin-2level
Date
2023-12-17 20:51:53
ID
1b8c352c-9d1e-11ee-a595-3c7fb33af7c0
This distribution has been tested as part of the CPAN Testers
project, supporting the Perl programming language.  See
http://wiki.cpantesters.org/ for more information or email
questions to cpan-testers-discuss@perl.org


--
Dear Dana Jacobsen,

This is a computer-generated report for Alt-Crypt-RSA-BigInt-0.06
on perl 5.38.0, created by CPAN-Reporter-1.2019.

Thank you for uploading your work to CPAN.  Congratulations!
All tests were successful.

Sections of this report:

    * Tester comments
    * Program output
    * Prerequisites
    * Environment and other context

------------------------------
TESTER COMMENTS
------------------------------

Additional comments from tester:

none provided

------------------------------
PROGRAM OUTPUT
------------------------------

Output from '/usr/bin/make test':

PERL_DL_NONLAZY=1 "/Users/philip/perl5/perlbrew/perls/perl-5.38.0/bin/perl" "-MExtUtils::Command::MM" "-MTest::Harness" "-e" "undef *Test::Harness::Switches; test_harness(0, 'blib/lib', 'blib/arch')" t/*.t
t/00-errorhandler.t ........ ok
t/01-i2osp.t ............... ok
t/02-os2ip.t ............... ok
t/02a-h2osp.t .............. ok
t/03-random_octet.t ........ ok
t/04-octet_xor.t ........... ok
t/05-primitives.t .......... ok
# BigInt library: GMP
t/06-oaep.t ................ ok
t/07-pss.t ................. ok
WARNING: The key derivation method "opensslv1" is deprecated. Using -pbkdf=>'pbkdf2' would be better.
Pass -nodeprecate=>1 to inhibit this message.
 at /Users/philip/perl5/perlbrew/perls/perl-5.38.0/lib/site_perl/5.38.0/Tie/EncryptedHash.pm line 125.
WARNING: The key derivation method "opensslv1" is deprecated. Using -pbkdf=>'pbkdf2' would be better.
Pass -nodeprecate=>1 to inhibit this message.
 at /Users/philip/perl5/perlbrew/perls/perl-5.38.0/lib/site_perl/5.38.0/Tie/EncryptedHash.pm line 125.
WARNING: The key derivation method "opensslv1" is deprecated. Using -pbkdf=>'pbkdf2' would be better.
Pass -nodeprecate=>1 to inhibit this message.
 at /Users/philip/perl5/perlbrew/perls/perl-5.38.0/lib/site_perl/5.38.0/Tie/EncryptedHash.pm line 125.
WARNING: The key derivation method "opensslv1" is deprecated. Using -pbkdf=>'pbkdf2' would be better.
Pass -nodeprecate=>1 to inhibit this message.
 at /Users/philip/perl5/perlbrew/perls/perl-5.38.0/lib/site_perl/5.38.0/Tie/EncryptedHash.pm line 125.
t/08-secretkey.t ........... ok
t/09-publickey.t ........... ok
t/10-keygen.t .............. ok
t/11-wrapper.t ............. ok
t/12-versioning.t .......... ok
t/13-es-pkcs1v15.t ......... ok
t/14-ss-pkcs1v15.t ......... ok
t/15-benchmark.t ........... ok
t/16-serialize.t ........... ok
t/17-public-ssh.t .......... ok
WARNING: The key derivation method "opensslv1" is deprecated. Using -pbkdf=>'pbkdf2' would be better.
Pass -nodeprecate=>1 to inhibit this message.
 at /Users/philip/.cpan/build/Alt-Crypt-RSA-BigInt-0.06-0/blib/lib/Crypt/RSA/Key/Private/SSH.pm line 236.
t/18-private-ssh.t ......... ok
t/91-release-pod-syntax.t .. skipped: these tests are for release candidate testing
All tests successful.
Files=21, Tests=117,  3 wallclock secs ( 0.07 usr  0.04 sys +  2.24 cusr  0.38 csys =  2.73 CPU)
Result: PASS

------------------------------
PREREQUISITES
------------------------------

Prerequisite modules loaded:

requires:

    Module                 Need  Have    
    ---------------------- ----- --------
    Carp                   0     1.54    
    Class::Loader          0     2.03    
    Convert::ASCII::Armour 0     1.4     
    Crypt::Blowfish        0     2.14    
    Crypt::CBC             2.17  3.04    
    Data::Buffer           0     0.04    
    Data::Dumper           0     2.188   
    Digest::MD2            0     2.04    
    Digest::MD5            0     2.58_01 
    Digest::SHA            0     6.04    
    Exporter               0     5.77    
    Math::BigInt           1.78  2.002001
    Math::BigInt::GMP      0     1.6013  
    Math::Prime::Util      0.64  0.73    
    Math::Prime::Util::GMP 0     0.52    
    perl                   5.008 5.038000
    Sort::Versions         0     1.62    
    Tie::EncryptedHash     0     1.8     

build_requires:

    Module                 Need  Have    
    ---------------------- ----- --------
    Benchmark              0     1.24    
    MIME::Base64           0     3.16_01 
    Test::More             0.45  1.302198

configure_requires:

    Module                 Need  Have    
    ---------------------- ----- --------
    ExtUtils::MakeMaker    0     7.70    


------------------------------
ENVIRONMENT AND OTHER CONTEXT
------------------------------

Environment variables:

    LANG = en_CA.UTF-8
    PATH = /Users/philip/Library/Caches/activestate/bin:/Users/philip/Library/Application Support/KomodoIDE/12.0/XRE/state/bin:/usr/local/sbin:/Users/philip/perl5/perlbrew/bin:/Users/philip/perl5/perlbrew/perls/perl-5.38.0/bin:/usr/local/bin:/usr/bin:/bin:/usr/sbin:/sbin:/Applications/VMware Fusion.app/Contents/Public:/Applications/Little Snitch.app/Contents/Components:/opt/X11/bin:/Library/Apple/usr/bin
    PERL5LIB = 
    PERL5OPT = 
    PERL5_CPANPLUS_IS_RUNNING = 31030
    PERL5_CPAN_IS_RUNNING = 31030
    PERL_USE_UNSAFE_INC = 1
    SHELL = /bin/sh
    TERM = xterm-256color

Perl special variables (and OS-specific diagnostics, for MSWin32):

    $^X = /Users/philip/perl5/perlbrew/perls/perl-5.38.0/bin/perl
    $UID/$EUID = 0 / 0
    $GID = 0 0 1 2 3 4 5 8 9 12 20 29 61 80 701 33 98
    $EGID = 0 0 1 2 3 4 5 8 9 12 20 29 61 80 701 33 98

Perl module toolchain versions installed:

    Module              Have    
    ------------------- --------
    CPAN                2.36    
    CPAN::Meta          2.150010
    Cwd                 3.89    
    ExtUtils::CBuilder  0.280238
    ExtUtils::Command   7.70    
    ExtUtils::Install   2.22    
    ExtUtils::MakeMaker 7.70    
    ExtUtils::Manifest  1.75    
    ExtUtils::ParseXS   3.51    
    File::Spec          3.88    
    JSON                4.10    
    JSON::PP            4.16    
    Module::Build       0.4234  
    Module::Signature   n/a     
    Parse::CPAN::Meta   2.150010
    Test2               1.302198
    Test::Harness       3.48    
    Test::More          1.302198
    YAML                1.30    
    YAML::Syck          n/a     
    version             0.9930  


--

Summary of my perl5 (revision 5 version 38 subversion 0) configuration:
   
  Platform:
    osname=darwin
    osvers=20.6.0
    archname=darwin-2level
    uname='darwin imac3.local 20.6.0 darwin kernel version 20.6.0: thu jun 8 22:36:09 pdt 2023; root:xnu-7195.141.49.701.4~1release_x86_64 x86_64 '
    config_args='-de -Dprefix=/Users/philip/perl5/perlbrew/perls/perl-5.38.0 -Aeval:scriptdir=/Users/philip/perl5/perlbrew/perls/perl-5.38.0/bin'
    hint=recommended
    useposix=true
    d_sigaction=define
    useithreads=undef
    usemultiplicity=undef
    use64bitint=define
    use64bitall=define
    uselongdouble=undef
    usemymalloc=n
    default_inc_excludes_dot=define
  Compiler:
    cc='cc'
    ccflags ='-fno-common -DPERL_DARWIN -mmacosx-version-min=11.7 -DNO_POSIX_2008_LOCALE -fno-strict-aliasing -pipe -fstack-protector-strong -I/usr/local/include'
    optimize='-O3'
    cppflags='-fno-common -DPERL_DARWIN -mmacosx-version-min=11.7 -DNO_POSIX_2008_LOCALE -fno-strict-aliasing -pipe -fstack-protector-strong -I/usr/local/include'
    ccversion=''
    gccversion='Apple LLVM 13.0.0 (clang-1300.0.29.30)'
    gccosandvers=''
    intsize=4
    longsize=8
    ptrsize=8
    doublesize=8
    byteorder=12345678
    doublekind=3
    d_longlong=define
    longlongsize=8
    d_longdbl=define
    longdblsize=16
    longdblkind=3
    ivtype='long'
    ivsize=8
    nvtype='double'
    nvsize=8
    Off_t='off_t'
    lseeksize=8
    alignbytes=8
    prototype=define
  Linker and Libraries:
    ld='cc'
    ldflags =' -mmacosx-version-min=11.7 -fstack-protector-strong -L/usr/local/lib'
    libpth=/usr/local/lib /Applications/Xcode.app/Contents/Developer/Toolchains/XcodeDefault.xctoolchain/usr/lib/clang/13.0.0/lib /Applications/Xcode.app/Contents/Developer/Platforms/MacOSX.platform/Developer/SDKs/MacOSX.sdk/usr/lib /Applications/Xcode.app/Contents/Developer/Toolchains/XcodeDefault.xctoolchain/usr/lib /usr/lib
    libs=-lgdbm
    perllibs=
    libc=
    so=dylib
    useshrplib=false
    libperl=libperl.a
    gnulibc_version=''
  Dynamic Linking:
    dlsrc=dl_dlopen.xs
    dlext=bundle
    d_dlsymun=undef
    ccdlflags=' '
    cccdlflags=' '
    lddlflags=' -mmacosx-version-min=11.7 -bundle -undefined dynamic_lookup -L/usr/local/lib -fstack-protector-strong'


Characteristics of this binary (from libperl): 
  Compile-time options:
    HAS_LONG_DOUBLE
    HAS_STRTOLD
    HAS_TIMES
    PERLIO_LAYERS
    PERL_COPY_ON_WRITE
    PERL_DONT_CREATE_GVSV
    PERL_HASH_FUNC_SIPHASH13
    PERL_HASH_USE_SBOX32
    PERL_MALLOC_WRAP
    PERL_OP_PARENT
    PERL_PRESERVE_IVUV
    PERL_USE_SAFE_PUTENV
    USE_64_BIT_ALL
    USE_64_BIT_INT
    USE_LARGE_FILES
    USE_LOCALE
    USE_LOCALE_COLLATE
    USE_LOCALE_CTYPE
    USE_LOCALE_NUMERIC
    USE_LOCALE_TIME
    USE_PERLIO
    USE_PERL_ATOF
  Built under darwin
  Compiled at Jul 16 2023 18:22:44
  %ENV:
    PERL5LIB=""
    PERL5OPT=""
    PERL5_CPANPLUS_IS_RUNNING="31030"
    PERL5_CPAN_IS_RUNNING="31030"
    PERL_USE_UNSAFE_INC="1"
  @INC:
    /Users/philip/perl5/perlbrew/perls/perl-5.38.0/lib/site_perl/5.38.0/darwin-2level
    /Users/philip/perl5/perlbrew/perls/perl-5.38.0/lib/site_perl/5.38.0
    /Users/philip/perl5/perlbrew/perls/perl-5.38.0/lib/5.38.0/darwin-2level
    /Users/philip/perl5/perlbrew/perls/perl-5.38.0/lib/5.38.0
    .