Report for File-PathInfo-1.27

Back
From: metabase:user:320bfe00-2aae-11df-837a-5e0a49663a4f
Subject: PASS File-PathInfo-1.27 v5.14.4 GNU/Linux
Date: 2013-09-04T04:47:31Z

This distribution has been tested as part of the CPAN Testers
project, supporting the Perl programming language.  See
http://wiki.cpantesters.org/ for more information or email
questions to cpan-testers-discuss@perl.org


--
Dear Leo Charre,

This is a computer-generated report for File-PathInfo-1.27
on perl 5.14.4, created by CPAN-Reporter-1.2010.

Thank you for uploading your work to CPAN.  Congratulations!
All tests were successful.

Sections of this report:

    * Tester comments
    * Program output
    * Prerequisites
    * Environment and other context

------------------------------
TESTER COMMENTS
------------------------------

Additional comments from tester:

this report is from an automated smoke testing program
and was not reviewed by a human for accuracy

------------------------------
PROGRAM OUTPUT
------------------------------

Output from '/usr/bin/make test':

PERL_DL_NONLAZY=1 /home/sand/src/perl/repoperls/installed-perls/perl/v5.14.4/a2da/bin/perl "-MExtUtils::Command::MM" "-e" "test_harness(0, 'blib/lib', 'blib/arch')" t/*.t
'/i do not exist/at all/1378270024' is not on disk
set() '/i do not exist/at all/1378270024' is not on disk. at lib/File/PathInfo.pm line 55.
	File::PathInfo::set(File::PathInfo=HASH(0x19b3bc0), "/i do not exist/at all/1378270024") called at t/0_fpi.t line 23


--------------------------------------------------------------------------------
arg is not a ref, treating as arg


--------------------------------------------------------------------------------
arg is not a ref, treating as arg


--------------------------------------------------------------------------------
arg is not a ref, treating as arg


--------------------------------------------------------------------------------
arg is not a ref, treating as arg


--------------------------------------------------------------------------------
arg is not a ref, treating as arg


--------------------------------------------------------------------------------
arg is not a ref, treating as arg
2) things we know are not in doc root


--------------------------------------------------------------------------------


--------------------------------------------------------------------------------
'/tmp/loop_over_bdir-10503-8EMjH4/File-PathInfo-1.27-SajNml/t/public_html/demo/cvil.txt' is not on disk
set() './t/public_html/demo/../demo/cvil.txt' is not on disk. at lib/File/PathInfo.pm line 55, <DATA> line 1.
	File::PathInfo::set(File::PathInfo=HASH(0x1c01450), "./t/public_html/demo/../demo/cvil.txt") called at t/0_fpi.t line 128
'/tmp/loop_over_bdir-10503-8EMjH4/File-PathInfo-1.27-SajNml/t/public_html/de41zmo' is not on disk
set() './t/public_html/de41zmo' is not on disk. at lib/File/PathInfo.pm line 55, <DATA> line 1.
	File::PathInfo::set(File::PathInfo=HASH(0x1cf3120), "./t/public_html/de41zmo") called at t/0_fpi.t line 145
'/tmp/loop_over_bdir-10503-8EMjH4/File-PathInfo-1.27-SajNml/t/public_html/demvo2' is not on disk
set() 'demvo2' is not on disk. at lib/File/PathInfo.pm line 55, <DATA> line 1.
	File::PathInfo::set(File::PathInfo=HASH(0x1cf3120), "demvo2") called at t/0_fpi.t line 145
argument: './t/public_html/demo/../demo/civil.rtxt/', cant resolve as path rel to current working dir with Cwd abs_path
set() './t/public_html/demo/../demo/civil.rtxt/' is not on disk. at lib/File/PathInfo.pm line 55, <DATA> line 1.
	File::PathInfo::set(File::PathInfo=HASH(0x1cf3120), "./t/public_html/demo/../demo/civil.rtxt/") called at t/0_fpi.t line 145
t/0_fpi.t ....... ok
2) things that do not exist.
set() './t/public_html/hhahahahahahahouse.txt' is not on disk. at lib/File/PathInfo.pm line 55, <DATA> line 1.
	File::PathInfo::set(File::PathInfo=HASH(0x2284830), "./t/public_html/hhahahahahahahouse.txt") called at lib/File/PathInfo.pm line 42
	File::PathInfo::new("File::PathInfo", "./t/public_html/hhahahahahahahouse.txt") called at t/1_fpi_hash.t line 35
failed set() ./t/public_html/hhahahahahahahouse.txt at lib/File/PathInfo.pm line 42, <DATA> line 1.
	File::PathInfo::new("File::PathInfo", "./t/public_html/hhahahahahahahouse.txt") called at t/1_fpi_hash.t line 35
File::PathInfo : no file is set(). Use set(). at lib/File/PathInfo.pm line 303, <DATA> line 1.
	File::PathInfo::_stat(File::PathInfo=HASH(0x2284830)) called at lib/File/PathInfo.pm line 372
	File::PathInfo::get_datahash(File::PathInfo=HASH(0x2284830)) called at t/1_fpi_hash.t line 49
set() '/nons/ense' is not on disk. at lib/File/PathInfo.pm line 55, <DATA> line 1.
	File::PathInfo::set(File::PathInfo=HASH(0x2284830), "/nons/ense") called at lib/File/PathInfo.pm line 42
	File::PathInfo::new("File::PathInfo", "/nons/ense") called at t/1_fpi_hash.t line 35
failed set() /nons/ense at lib/File/PathInfo.pm line 42, <DATA> line 1.
	File::PathInfo::new("File::PathInfo", "/nons/ense") called at t/1_fpi_hash.t line 35
File::PathInfo : no file is set(). Use set(). at lib/File/PathInfo.pm line 303, <DATA> line 1.
	File::PathInfo::_stat(File::PathInfo=HASH(0x2284830)) called at lib/File/PathInfo.pm line 372
	File::PathInfo::get_datahash(File::PathInfo=HASH(0x2284830)) called at t/1_fpi_hash.t line 49
set() '/moreneo/nensense' is not on disk. at lib/File/PathInfo.pm line 55, <DATA> line 1.
	File::PathInfo::set(File::PathInfo=HASH(0x2284830), "/moreneo/nensense") called at lib/File/PathInfo.pm line 42
	File::PathInfo::new("File::PathInfo", "/moreneo/nensense") called at t/1_fpi_hash.t line 35
failed set() /moreneo/nensense at lib/File/PathInfo.pm line 42, <DATA> line 1.
	File::PathInfo::new("File::PathInfo", "/moreneo/nensense") called at t/1_fpi_hash.t line 35
File::PathInfo : no file is set(). Use set(). at lib/File/PathInfo.pm line 303, <DATA> line 1.
	File::PathInfo::_stat(File::PathInfo=HASH(0x2284830)) called at lib/File/PathInfo.pm line 372
	File::PathInfo::get_datahash(File::PathInfo=HASH(0x2284830)) called at t/1_fpi_hash.t line 49
t/1_fpi_hash.t .. ok
t/2_errstr.t .... ok
All tests successful.
Files=3, Tests=78,  1 wallclock secs ( 0.03 usr  0.00 sys +  0.11 cusr  0.01 csys =  0.15 CPU)
Result: PASS

------------------------------
PREREQUISITES
------------------------------

Prerequisite modules loaded:

requires:

    Module              Need Have    
    ------------------- ---- --------
    Cwd                 0.1  3.40    
    Smart::Comments     0    1.000005
    Time::Format        0.01 1.12    

build_requires:

    Module              Need Have    
    ------------------- ---- --------
    ExtUtils::MakeMaker 0    6.75_03 

configure_requires:

    Module              Need Have    
    ------------------- ---- --------
    ExtUtils::MakeMaker 0    6.75_03 


------------------------------
ENVIRONMENT AND OTHER CONTEXT
------------------------------

Environment variables:

    AUTOMATED_TESTING = 1
    LANG = en_US.UTF-8
    LANGUAGE = en_US:en
    PATH = /usr/lib/ccache:/home/sand/bin:/usr/local/bin:/usr/bin:/bin:/usr/bin/X11:/usr/games:/usr/local/perl/bin:/usr/X11/bin:/sbin:/usr/sbin
    PERL5LIB = 
    PERL5OPT = 
    PERL5_CPANPLUS_IS_RUNNING = 10505
    PERL5_CPAN_IS_RUNNING = 10505
    PERL_MM_USE_DEFAULT = 1
    SHELL = /usr/bin/zsh
    TERM = screen

Perl special variables (and OS-specific diagnostics, for MSWin32):

    $^X = /home/sand/src/perl/repoperls/installed-perls/perl/v5.14.4/a2da/bin/perl
    $UID/$EUID = 1005 / 1005
    $GID = 1005 1005
    $EGID = 1005 1005

Perl module toolchain versions installed:

    Module              Have    
    ------------------- --------
    CPAN                2.00    
    CPAN::Meta          2.132140
    Cwd                 3.40    
    ExtUtils::CBuilder  0.280205
    ExtUtils::Command   1.17    
    ExtUtils::Install   1.56    
    ExtUtils::MakeMaker 6.75_03 
    ExtUtils::Manifest  1.60    
    ExtUtils::ParseXS   2.2210  
    File::Spec          3.40    
    JSON                2.59    
    JSON::PP            2.27200 
    Module::Build       0.4007  
    Module::Signature   0.73    
    Parse::CPAN::Meta   1.4405  
    Test::Harness       3.28    
    Test::More          0.98    
    YAML                0.84    
    YAML::Syck          1.27    
    version             0.9904  


--

Summary of my perl5 (revision 5 version 14 subversion 4) configuration:
  Commit id: 26c5c13a4ece9084f310610bb17fb2f24c72a73e
  Platform:
    osname=linux, osvers=3.10-2-amd64, archname=x86_64-linux-thread-multi-ld
    uname='linux k83 3.10-2-amd64 #1 smp debian 3.10.7-1 (2013-08-17) x86_64 gnulinux '
    config_args='-Dprefix=/home/sand/src/perl/repoperls/installed-perls/perl/v5.14.4/a2da -Dmyhostname=k83 -Dinstallusrbinperl=n -Uversiononly -Dusedevel -des -Ui_db -Duseithreads -Duselongdouble -DDEBUGGING=-g'
    hint=recommended, useposix=true, d_sigaction=define
    useithreads=define, usemultiplicity=define
    useperlio=define, d_sfio=undef, uselargefiles=define, usesocks=undef
    use64bitint=define, use64bitall=define, uselongdouble=define
    usemymalloc=n, bincompat5005=undef
  Compiler:
    cc='cc', ccflags ='-D_REENTRANT -D_GNU_SOURCE -fno-strict-aliasing -pipe -fstack-protector -I/usr/local/include -D_LARGEFILE_SOURCE -D_FILE_OFFSET_BITS=64',
    optimize='-O2 -g',
    cppflags='-D_REENTRANT -D_GNU_SOURCE -fno-strict-aliasing -pipe -fstack-protector -I/usr/local/include'
    ccversion='', gccversion='4.8.1', gccosandvers=''
    intsize=4, longsize=8, ptrsize=8, doublesize=8, byteorder=12345678
    d_longlong=define, longlongsize=8, d_longdbl=define, longdblsize=16
    ivtype='long', ivsize=8, nvtype='long double', nvsize=16, Off_t='off_t', lseeksize=8
    alignbytes=16, prototype=define
  Linker and Libraries:
    ld='cc', ldflags =' -fstack-protector -L/usr/local/lib'
    libpth=/usr/local/lib /lib/x86_64-linux-gnu /lib/../lib /usr/lib/x86_64-linux-gnu /usr/lib/../lib /lib /usr/lib
    libs=-lnsl -lgdbm -ldb -ldl -lm -lcrypt -lutil -lpthread -lc -lgdbm_compat
    perllibs=-lnsl -ldl -lm -lcrypt -lutil -lpthread -lc
    libc=, so=so, useshrplib=false, libperl=libperl.a
    gnulibc_version='2.17'
  Dynamic Linking:
    dlsrc=dl_dlopen.xs, dlext=so, d_dlsymun=undef, ccdlflags='-Wl,-E'
    cccdlflags='-fPIC', lddlflags='-shared -O2 -g -L/usr/local/lib -fstack-protector'


Characteristics of this binary (from libperl): 
  Compile-time options: MULTIPLICITY PERL_DONT_CREATE_GVSV
                        PERL_IMPLICIT_CONTEXT PERL_MALLOC_WRAP
                        PERL_PRESERVE_IVUV PERL_USE_DEVEL USE_64_BIT_ALL
                        USE_64_BIT_INT USE_ITHREADS USE_LARGE_FILES
                        USE_LONG_DOUBLE USE_PERLIO USE_PERL_ATOF
                        USE_REENTRANT_API
  Built under linux
  Compiled at Sep  3 2013 08:35:47
  %ENV:
    PERL5LIB=""
    PERL5OPT=""
    PERL5_CPANPLUS_IS_RUNNING="10505"
    PERL5_CPAN_IS_RUNNING="10505"
    PERL_MM_USE_DEFAULT="1"
  @INC:
    /home/sand/src/perl/repoperls/installed-perls/perl/v5.14.4/a2da/lib/site_perl/5.14.4/x86_64-linux-thread-multi-ld
    /home/sand/src/perl/repoperls/installed-perls/perl/v5.14.4/a2da/lib/site_perl/5.14.4
    /home/sand/src/perl/repoperls/installed-perls/perl/v5.14.4/a2da/lib/5.14.4/x86_64-linux-thread-multi-ld
    /home/sand/src/perl/repoperls/installed-perls/perl/v5.14.4/a2da/lib/5.14.4
    .