Back
From: metabase:user:320bfe00-2aae-11df-837a-5e0a49663a4f
Subject: PASS MooseX-Types-FakeHash-0.1.0 v5.15.9 GNU/Linux
Date: 2012-05-12T19:24:34Z
This distribution has been tested as part of the CPAN Testers
project, supporting the Perl programming language. See
http://wiki.cpantesters.org/ for more information or email
questions to cpan-testers-discuss@perl.org
--
Dear Kent Fredric,
This is a computer-generated report for MooseX-Types-FakeHash-0.1.0
on perl 5.15.9, created by CPAN-Reporter-1.2006.
Thank you for uploading your work to CPAN. Congratulations!
All tests were successful.
Sections of this report:
* Tester comments
* Program output
* Prerequisites
* Environment and other context
------------------------------
TESTER COMMENTS
------------------------------
Additional comments from tester:
this report is from an automated smoke testing program
and was not reviewed by a human for accuracy
------------------------------
PROGRAM OUTPUT
------------------------------
Output from './Build test':
t/00-compile.t ......................... ok
#
#
# perl: v5.15.9 (wanted any version) on linux from /home/sand/src/perl/repoperls/installed-perls/perl/v5.15.9-269-g68cd360/9980/bin/perl
#
# Dist::Zilla::PluginBundle::Author::KENTNL => module not found. (want 1.0.0)
# Dist::Zilla::PluginBundle::Author::KENTNL::Lite => 1.3.0 (want 0.01009803)
# English => 1.05 (want any version)
# File::Find => 1.20 (want any version)
# File::Temp => 0.22 (want any version)
# Module::Build => 0.4 (want 0.3601)
# Moose => 2.0602 (want any version)
# Moose::Meta::TypeConstraint::Parameterizable => 2.0602 (want any version)
# Moose::Meta::TypeConstraint::Parameterized => 2.0602 (want any version)
# Moose::Util::TypeConstraints => 2.0602 (want any version)
# MooseX::Types => 0.31 (want any version)
# MooseX::Types::Moose => 0.31 (want any version)
# Test::Fatal => 0.010 (want any version)
# Test::More => 0.98 (want 0.96)
#
# Thanks for using my code. I hope it works for you.
# If not, please try and include this output in the bug report.
# That will help me reproduce the issue and solve you problem.
#
t/000-report-versions-tiny.t ........... ok
t/01-moose-simple.t .................... ok
t/02-moose-deeper.t .................... ok
t/03-moose-simple-mxtypes.t ............ ok
t/04-moose-deeper-mxtypes.t ............ ok
t/11-fakehash.t ........................ ok
t/12-fakehash-deeper.t ................. ok
t/13-fakehash-mxtypes.t ................ ok
t/14-fakehash-deeper-mxtypes.t ......... ok
t/21-orderedfakehash.t ................. ok
t/22-orderedfakehash-deeper.t .......... ok
t/23-orderedfakehash-mxtypes.t ......... ok
t/24-orderedfakehash-deeper-mxtypes.t .. ok
t/author-critic.t ...................... skipped: these tests are for testing by the author
t/release-cpan-changes.t ............... skipped: these tests are for release candidate testing
t/release-distmeta.t ................... skipped: these tests are for release candidate testing
t/release-eol.t ........................ skipped: these tests are for release candidate testing
t/release-kwalitee.t ................... skipped: these tests are for release candidate testing
t/release-pod-coverage.t ............... skipped: these tests are for release candidate testing
t/release-pod-syntax.t ................. skipped: these tests are for release candidate testing
All tests successful.
Files=21, Tests=106, 4 wallclock secs ( 0.07 usr 0.03 sys + 3.17 cusr 0.34 csys = 3.61 CPU)
Result: PASS
------------------------------
PREREQUISITES
------------------------------
Prerequisite modules loaded:
requires:
Module Need Have
-------------------------------------------- ------ ------
! Moose::Meta::TypeConstraint::Parameterizable 0 broken
! Moose::Meta::TypeConstraint::Parameterized 0 broken
Moose::Util::TypeConstraints 0 2.0602
MooseX::Types 0 0.31
build_requires:
Module Need Have
-------------------------------------------- ------ ------
English 0 1.05
File::Find 0 1.20
File::Temp 0 0.22
Module::Build 0.3601 0.40
Moose 0 2.0602
MooseX::Types::Moose 0 0.31
Test::Fatal 0 0.010
Test::More 0.96 0.98
configure_requires:
Module Need Have
-------------------------------------------- ------ ------
Module::Build 0.3601 0.40
------------------------------
ENVIRONMENT AND OTHER CONTEXT
------------------------------
Environment variables:
AUTOMATED_TESTING = 1
LANG = en_US.UTF-8
LANGUAGE = en_US:en
PATH = /home/sand/bin:/usr/local/bin:/usr/bin:/bin:/usr/bin/X11:/usr/games:/usr/local/perl/bin:/usr/X11/bin:/sbin:/usr/sbin
PERL5LIB =
PERL5OPT =
PERL5_CPANPLUS_IS_RUNNING = 27813
PERL5_CPAN_IS_RUNNING = 27813
PERL_MM_USE_DEFAULT = 1
SHELL = /usr/bin/zsh
TERM = screen
Perl special variables (and OS-specific diagnostics, for MSWin32):
$^X = /home/sand/src/perl/repoperls/installed-perls/perl/v5.15.9-269-g68cd360/9980/bin/perl
$UID/$EUID = 1005 / 1005
$GID = 1005 1005
$EGID = 1005 1005
Perl module toolchain versions installed:
Module Have
------------------- --------
CPAN 1.9800
CPAN::Meta 2.120921
Cwd 3.39_02
ExtUtils::CBuilder 0.280206
ExtUtils::Command 1.17
ExtUtils::Install 1.58
ExtUtils::MakeMaker 6.63_02
ExtUtils::Manifest 1.61
ExtUtils::ParseXS 3.16
File::Spec 3.39_02
JSON 2.53
JSON::PP 2.27200
Module::Build 0.40
Module::Signature 0.68
Parse::CPAN::Meta 1.4404
Test::Harness 3.23
Test::More 0.98
YAML 0.81
YAML::Syck 1.20
version 0.99
--
Summary of my perl5 (revision 5 version 15 subversion 9) configuration:
Commit id: 68cd360812f9eaa2d34c45c501e2fef87c44ccde
Platform:
osname=linux, osvers=3.2.0-2-amd64, archname=x86_64-linux-thread-multi
uname='linux k83 3.2.0-2-amd64 #1 smp sun apr 15 16:47:38 utc 2012 x86_64 gnulinux '
config_args='-Dprefix=/home/src/perl/repoperls/installed-perls/perl/v5.15.9-269-g68cd360/9980 -Dmyhostname=k83 -Dinstallusrbinperl=n -Uversiononly -Dusedevel -des -Ui_db -Duseithreads -Uuselongdouble -DDEBUGGING=-g'
hint=recommended, useposix=true, d_sigaction=define
useithreads=define, usemultiplicity=define
useperlio=define, d_sfio=undef, uselargefiles=define, usesocks=undef
use64bitint=define, use64bitall=define, uselongdouble=undef
usemymalloc=n, bincompat5005=undef
Compiler:
cc='cc', ccflags ='-D_REENTRANT -D_GNU_SOURCE -fno-strict-aliasing -pipe -fstack-protector -I/usr/local/include -D_LARGEFILE_SOURCE -D_FILE_OFFSET_BITS=64',
optimize='-O2 -g',
cppflags='-D_REENTRANT -D_GNU_SOURCE -fno-strict-aliasing -pipe -fstack-protector -I/usr/local/include'
ccversion='', gccversion='4.6.3', gccosandvers=''
intsize=4, longsize=8, ptrsize=8, doublesize=8, byteorder=12345678
d_longlong=define, longlongsize=8, d_longdbl=define, longdblsize=16
ivtype='long', ivsize=8, nvtype='double', nvsize=8, Off_t='off_t', lseeksize=8
alignbytes=8, prototype=define
Linker and Libraries:
ld='cc', ldflags =' -fstack-protector -L/usr/local/lib'
libpth=/usr/local/lib /lib/x86_64-linux-gnu /lib/../lib /usr/lib/x86_64-linux-gnu /usr/lib/../lib /lib /usr/lib
libs=-lnsl -ldl -lm -lcrypt -lutil -lpthread -lc
perllibs=-lnsl -ldl -lm -lcrypt -lutil -lpthread -lc
libc=, so=so, useshrplib=false, libperl=libperl.a
gnulibc_version='2.13'
Dynamic Linking:
dlsrc=dl_dlopen.xs, dlext=so, d_dlsymun=undef, ccdlflags='-Wl,-E'
cccdlflags='-fPIC', lddlflags='-shared -O2 -g -L/usr/local/lib -fstack-protector'
Characteristics of this binary (from libperl):
Compile-time options: HAS_TIMES MULTIPLICITY PERLIO_LAYERS
PERL_DONT_CREATE_GVSV PERL_IMPLICIT_CONTEXT
PERL_MALLOC_WRAP PERL_PRESERVE_IVUV PERL_USE_DEVEL
USE_64_BIT_ALL USE_64_BIT_INT USE_ITHREADS
USE_LARGE_FILES USE_LOCALE USE_LOCALE_COLLATE
USE_LOCALE_CTYPE USE_LOCALE_NUMERIC USE_PERLIO
USE_PERL_ATOF USE_REENTRANT_API
Built under linux
Compiled at May 2 2012 02:54:50
%ENV:
PERL5LIB=""
PERL5OPT=""
PERL5_CPANPLUS_IS_RUNNING="27813"
PERL5_CPAN_IS_RUNNING="27813"
PERL_MM_USE_DEFAULT="1"
@INC:
/home/src/perl/repoperls/installed-perls/perl/v5.15.9-269-g68cd360/9980/lib/site_perl/5.15.9/x86_64-linux-thread-multi
/home/src/perl/repoperls/installed-perls/perl/v5.15.9-269-g68cd360/9980/lib/site_perl/5.15.9
/home/src/perl/repoperls/installed-perls/perl/v5.15.9-269-g68cd360/9980/lib/5.15.9/x86_64-linux-thread-multi
/home/src/perl/repoperls/installed-perls/perl/v5.15.9-269-g68cd360/9980/lib/5.15.9
.