Back
From: metabase:user:838e5b0a-2bb6-1016-a696-43a2537fa0c6
Subject: PASS Async-Defer-v1.0.0 v5.22.1 OpenBSD
Date: 2016-02-22T06:32:55Z
This distribution has been tested as part of the CPAN Testers
project, supporting the Perl programming language. See
http://wiki.cpantesters.org/ for more information or email
questions to cpan-testers-discuss@perl.org
--
Dear Alex Efros,
This is a computer-generated report for Async-Defer-v1.0.0
on perl 5.22.1, created by CPAN-Reporter-1.2015.
Thank you for uploading your work to CPAN. Congratulations!
All tests were successful.
Sections of this report:
* Tester comments
* Program output
* Prerequisites
* Environment and other context
------------------------------
TESTER COMMENTS
------------------------------
Additional comments from tester:
this report is from an automated smoke testing program
and was not reviewed by a human for accuracy
------------------------------
PROGRAM OUTPUT
------------------------------
Output from './Build test':
# Testing Async::Defer v1.0.0, Perl 5.022001, /home/perluser/perl5/perlbrew/perls/perl-5.22.1/bin/perl
t/00.load.t .................... ok
t/1-clone.t .................... ok
t/1-iter.t ..................... ok
t/1-new.t ...................... ok
t/2-do.t ....................... ok
t/2-do_batch.t ................. ok
t/2-if.t ....................... ok
t/2-try.t ...................... ok
t/2-while.t .................... ok
t/3-run.t ...................... ok
t/4-done.t ..................... ok
t/4-last.t ..................... ok
t/4-next.t ..................... ok
t/4-throw.t .................... ok
t/5-interface_modifications.t .. ok
t/7-run_with_coderef.t ......... ok
t/8-nested_defers.t ............ ok
t/author-perlcritic.t .......... skipped: these tests are for testing by the author
t/author-pod-syntax.t .......... skipped: these tests are for testing by the author
t/release-distribution.t ....... skipped: these tests are for release candidate testing
All tests successful.
Files=20, Tests=166, 3 wallclock secs ( 0.12 usr 0.13 sys + 0.96 cusr 0.27 csys = 1.48 CPU)
Result: PASS
------------------------------
PREREQUISITES
------------------------------
Prerequisite modules loaded:
requires:
Module Need Have
------------------- ----- --------
List::Util 1.33 1.41
perl 5.012 5.022001
Scalar::Util 0 1.41
build_requires:
Module Need Have
------------------- ----- --------
AE 0 0
Test::Exception 0 0.43
Test::More 0 1.001014
configure_requires:
Module Need Have
------------------- ----- --------
Module::Build::Tiny 0.034 0.039
------------------------------
ENVIRONMENT AND OTHER CONTEXT
------------------------------
Environment variables:
AUTOMATED_TESTING = 1
PATH = /home/perluser/perl5/perlbrew/bin:/home/perluser/perl5/perlbrew/perls/perl-5.22.1/bin:/sbin:/usr/sbin:/bin:/usr/bin:/usr/X11R6/bin:/usr/local/sbin:/usr/local/bin
PERL5LIB = /home/perluser/.cpan/build/Test-Exception-0.43-YHVeXO/blib/arch:/home/perluser/.cpan/build/Test-Exception-0.43-YHVeXO/blib/lib:/home/perluser/.cpan/build/Sub-Uplevel-0.25-luOkWZ/blib/arch:/home/perluser/.cpan/build/Sub-Uplevel-0.25-luOkWZ/blib/lib:/home/perluser/.cpan/build/Async-Interrupt-1.21-NK_hKk/blib/arch:/home/perluser/.cpan/build/Async-Interrupt-1.21-NK_hKk/blib/lib:/home/perluser/.cpan/build/Guard-1.023-suhg8X/blib/arch:/home/perluser/.cpan/build/Guard-1.023-suhg8X/blib/lib:/home/perluser/.cpan/build/EV-4.22-tFgRPd/blib/arch:/home/perluser/.cpan/build/EV-4.22-tFgRPd/blib/lib:/home/perluser/.cpan/build/AnyEvent-7.12-Tb1c7i/blib/arch:/home/perluser/.cpan/build/AnyEvent-7.12-Tb1c7i/blib/lib:/home/perluser/.cpan/build/Canary-Stability-2006-YSSzgG/blib/arch:/home/perluser/.cpan/build/Canary-Stability-2006-YSSzgG/blib/lib
PERL5OPT =
PERL5_CPANPLUS_IS_RUNNING = 29382
PERL5_CPAN_IS_RUNNING = 29382
PERL5_CPAN_IS_RUNNING_IN_RECURSION = 7894,29382
PERLBREW_BASHRC_VERSION = 0.71
PERLBREW_HOME = /home/perluser/.perlbrew
PERLBREW_MANPATH = /home/perluser/perl5/perlbrew/perls/perl-5.22.1/man
PERLBREW_PATH = /home/perluser/perl5/perlbrew/bin:/home/perluser/perl5/perlbrew/perls/perl-5.22.1/bin
PERLBREW_PERL = perl-5.22.1
PERLBREW_ROOT = /home/perluser/perl5/perlbrew
PERLBREW_VERSION = 0.71
PERL_CR_SMOKER_CURRENT = Async-Defer-v1.0.0
PERL_EXTUTILS_AUTOINSTALL = --defaultdeps
PERL_MM_USE_DEFAULT = 1
SHELL = /bin/ksh
TERM = xterm
Perl special variables (and OS-specific diagnostics, for MSWin32):
$^X = /home/perluser/perl5/perlbrew/perls/perl-5.22.1/bin/perl
$UID/$EUID = 1000 / 1000
$GID = 1000 1000
$EGID = 1000 1000
Perl module toolchain versions installed:
Module Have
------------------- --------
CPAN 2.11
CPAN::Meta 2.150001
Cwd 3.56
ExtUtils::CBuilder 0.280224
ExtUtils::Command 1.20
ExtUtils::Install 2.04
ExtUtils::MakeMaker 7.04_01
ExtUtils::Manifest 1.70
ExtUtils::ParseXS 3.28
File::Spec 3.56
JSON 2.90
JSON::PP 2.27300
Module::Build 0.4214
Module::Signature n/a
Parse::CPAN::Meta 1.4414
Test::Harness 3.35
Test::More 1.001014
YAML n/a
YAML::Syck 1.29
version 0.9912
--
Summary of my perl5 (revision 5 version 22 subversion 1) configuration:
Platform:
osname=openbsd, osvers=5.7, archname=OpenBSD.amd64-openbsd
uname='openbsd openbsd-test.manor.solimano.org 5.7 generic#825 amd64 '
config_args='-de -Dprefix=/home/perluser/perl5/perlbrew/perls/perl-5.22.1 -Aeval:scriptdir=/home/perluser/perl5/perlbrew/perls/perl-5.22.1/bin'
hint=recommended, useposix=true, d_sigaction=define
useithreads=undef, usemultiplicity=undef
use64bitint=define, use64bitall=define, uselongdouble=undef
usemymalloc=n, bincompat5005=undef
Compiler:
cc='cc', ccflags ='-fno-strict-aliasing -pipe -fstack-protector-strong -I/usr/local/include -D_FORTIFY_SOURCE=2',
optimize='-O2',
cppflags='-fno-strict-aliasing -pipe -fstack-protector-strong -I/usr/local/include'
ccversion='', gccversion='4.2.1 20070719 ', gccosandvers='openbsd5.7'
intsize=4, longsize=8, ptrsize=8, doublesize=8, byteorder=12345678, doublekind=3
d_longlong=define, longlongsize=8, d_longdbl=define, longdblsize=16, longdblkind=3
ivtype='long', ivsize=8, nvtype='double', nvsize=8, Off_t='off_t', lseeksize=8
alignbytes=8, prototype=define
Linker and Libraries:
ld='cc', ldflags ='-Wl,-E -fstack-protector-strong -L/usr/local/lib'
libpth=/usr/lib /usr/local/lib
libs=-lpthread -lm -lutil -lc
perllibs=-lpthread -lm -lutil -lc
libc=/usr/lib/libc.so.78.1, so=so, useshrplib=false, libperl=libperl.a
gnulibc_version=''
Dynamic Linking:
dlsrc=dl_dlopen.xs, dlext=so, d_dlsymun=undef, ccdlflags=' '
cccdlflags='-DPIC -fPIC ', lddlflags='-shared -fPIC -L/usr/local/lib -fstack-protector-strong'
Characteristics of this binary (from libperl):
Compile-time options: HAS_TIMES PERLIO_LAYERS PERL_DONT_CREATE_GVSV
PERL_HASH_FUNC_ONE_AT_A_TIME_HARD PERL_MALLOC_WRAP
PERL_NEW_COPY_ON_WRITE PERL_PRESERVE_IVUV
USE_64_BIT_ALL USE_64_BIT_INT USE_LARGE_FILES
USE_LOCALE USE_LOCALE_COLLATE USE_LOCALE_CTYPE
USE_LOCALE_NUMERIC USE_LOCALE_TIME USE_PERLIO
USE_PERL_ATOF
Locally applied patches:
Devel::PatchPerl 1.30
Built under openbsd
Compiled at Dec 18 2015 21:50:33
%ENV:
PERL5LIB="/home/perluser/.cpan/build/Test-Exception-0.43-YHVeXO/blib/arch:/home/perluser/.cpan/build/Test-Exception-0.43-YHVeXO/blib/lib:/home/perluser/.cpan/build/Sub-Uplevel-0.25-luOkWZ/blib/arch:/home/perluser/.cpan/build/Sub-Uplevel-0.25-luOkWZ/blib/lib:/home/perluser/.cpan/build/Async-Interrupt-1.21-NK_hKk/blib/arch:/home/perluser/.cpan/build/Async-Interrupt-1.21-NK_hKk/blib/lib:/home/perluser/.cpan/build/Guard-1.023-suhg8X/blib/arch:/home/perluser/.cpan/build/Guard-1.023-suhg8X/blib/lib:/home/perluser/.cpan/build/EV-4.22-tFgRPd/blib/arch:/home/perluser/.cpan/build/EV-4.22-tFgRPd/blib/lib:/home/perluser/.cpan/build/AnyEvent-7.12-Tb1c7i/blib/arch:/home/perluser/.cpan/build/AnyEvent-7.12-Tb1c7i/blib/lib:/home/perluser/.cpan/build/Canary-Stability-2006-YSSzgG/blib/arch:/home/perluser/.cpan/build/Canary-Stability-2006-YSSzgG/blib/lib"
PERL5OPT=""
PERL5_CPANPLUS_IS_RUNNING="29382"
PERL5_CPAN_IS_RUNNING="29382"
PERL5_CPAN_IS_RUNNING_IN_RECURSION="7894,29382"
PERLBREW_BASHRC_VERSION="0.71"
PERLBREW_HOME="/home/perluser/.perlbrew"
PERLBREW_MANPATH="/home/perluser/perl5/perlbrew/perls/perl-5.22.1/man"
PERLBREW_PATH="/home/perluser/perl5/perlbrew/bin:/home/perluser/perl5/perlbrew/perls/perl-5.22.1/bin"
PERLBREW_PERL="perl-5.22.1"
PERLBREW_ROOT="/home/perluser/perl5/perlbrew"
PERLBREW_VERSION="0.71"
PERL_CR_SMOKER_CURRENT="Async-Defer-v1.0.0"
PERL_EXTUTILS_AUTOINSTALL="--defaultdeps"
PERL_MM_USE_DEFAULT="1"
@INC:
/home/perluser/.cpan/build/Test-Exception-0.43-YHVeXO/blib/arch
/home/perluser/.cpan/build/Test-Exception-0.43-YHVeXO/blib/lib
/home/perluser/.cpan/build/Sub-Uplevel-0.25-luOkWZ/blib/arch
/home/perluser/.cpan/build/Sub-Uplevel-0.25-luOkWZ/blib/lib
/home/perluser/.cpan/build/Async-Interrupt-1.21-NK_hKk/blib/arch
/home/perluser/.cpan/build/Async-Interrupt-1.21-NK_hKk/blib/lib
/home/perluser/.cpan/build/Guard-1.023-suhg8X/blib/arch
/home/perluser/.cpan/build/Guard-1.023-suhg8X/blib/lib
/home/perluser/.cpan/build/EV-4.22-tFgRPd/blib/arch
/home/perluser/.cpan/build/EV-4.22-tFgRPd/blib/lib
/home/perluser/.cpan/build/AnyEvent-7.12-Tb1c7i/blib/arch
/home/perluser/.cpan/build/AnyEvent-7.12-Tb1c7i/blib/lib
/home/perluser/.cpan/build/Canary-Stability-2006-YSSzgG/blib/arch
/home/perluser/.cpan/build/Canary-Stability-2006-YSSzgG/blib/lib
/home/perluser/perl5/perlbrew/perls/perl-5.22.1/lib/site_perl/5.22.1/OpenBSD.amd64-openbsd
/home/perluser/perl5/perlbrew/perls/perl-5.22.1/lib/site_perl/5.22.1
/home/perluser/perl5/perlbrew/perls/perl-5.22.1/lib/5.22.1/OpenBSD.amd64-openbsd
/home/perluser/perl5/perlbrew/perls/perl-5.22.1/lib/5.22.1
.