CPAN-Testers-Common-Client v0.14 Perl 5 v5.24.4 MSWin32-x64-multi-thread
- Status
- Pass
- From
- Peter C. Jones (PETERCJ)
- Dist
-
CPAN-Testers-Common-Client v0.14
- Platform
- Perl 5 v5.24.4 MSWin32-x64-multi-thread
- Date
- 2020-02-23 20:54:08
- ID
- 1b2d3ac5-6bf5-1014-bc24-bbd3381a3f20
This distribution has been tested as part of the CPAN Testers
project, supporting the Perl programming language. See
http://wiki.cpantesters.org/ for more information or email
questions to cpan-testers-discuss@perl.org
--
Dear GARU,
This is a computer-generated report for CPAN-Testers-Common-Client-0.14
on perl 5.24.4, created by App::cpanminus::reporter 0.17 (1.7043).
Thank you for uploading your work to CPAN. Congratulations!
All tests were successful.
Sections of this report:
* Tester comments
* Program output
* Prerequisites
* Environment and other context
------------------------------
TESTER COMMENTS
------------------------------
Additional comments from tester:
none provided
------------------------------
PROGRAM OUTPUT
------------------------------
Output from '':
Building and testing CPAN-Testers-Common-Client-0.14
cp lib/CPAN/Testers/Common/Client.pm blib\lib\CPAN\Testers\Common\Client.pm
cp lib/CPAN/Testers/Common/Client/Config.pm blib\lib\CPAN\Testers\Common\Client\Config.pm
cp lib/CPAN/Testers/Common/Client/History.pm blib\lib\CPAN\Testers\Common\Client\History.pm
cp lib/CPAN/Testers/Common/Client/PrereqCheck.pm blib\lib\CPAN\Testers\Common\Client\PrereqCheck.pm
"C:\usr\local\apps\berrybrew\perls\5.24.4_64\perl\bin\perl.exe" "-MExtUtils::Command::MM" "-MTest::Harness" "-e" "undef *Test::Harness::Switches; test_harness(0, 'blib\lib', 'blib\arch')" t/*.t
# Testing CPAN::Testers::Common::Client 0.14
t/00.load.t ................. ok
t/01-basic.t ................ ok
t/02-config.t ............... ok
t/03-history.t .............. ok
t/03-undef-prereq-report.t .. ok
All tests successful.
Files=5, Tests=95, 5 wallclock secs ( 0.03 usr + 0.05 sys = 0.08 CPU)
Result: PASS
------------------------------
PREREQUISITES
------------------------------
Prerequisite modules loaded:
No requirements found
------------------------------
ENVIRONMENT AND OTHER CONTEXT
------------------------------
Environment variables:
COMSPEC = C:\Windows\system32\cmd.exe
NUMBER_OF_PROCESSORS = 6
PATH = C:\usr\local\apps\berrybrew\perls\5.24.4_64\c\bin;C:\usr\local\apps\berrybrew\perls\5.24.4_64\perl\bin;C:\usr\local\apps\berrybrew\perls\5.24.4_64\perl\site\bin;C:\Program Files (x86)\Common Files\Oracle\Java\javapath;C:\Windows\system32;C:\Windows;C:\Windows\System32\Wbem;C:\Windows\System32\WindowsPowerShell\v1.0\;C:\Windows\System32\OpenSSH\;c:\Program Files (x86)\Common Files\Adobe\AGL;C:\Program Files\TortoiseSVN\bin;c:\usr\local\apps\berrybrew\bin;c:\usr\local\apps\berrybrew\perls\system\c\bin;c:\usr\local\apps\berrybrew\perls\system\perl\bin;c:\usr\local\apps\berrybrew\perls\system\perl\site\bin;c:\usr\local\bin;c:\usr\local\scripts;C:\usr\local\apps\GnuPG\bin;C:\usr\local\apps\putty;C:\Program Files\Notepad++;c:\usr\local\apps\NirSoft;C:\usr\local\apps\Git\cmd;;C:\usr\local\apps\GnuPG\..\GnuPG\bin;C:\Users\Peter\AppData\Local\Microsoft\WindowsApps;
PROCESSOR_IDENTIFIER = Intel64 Family 6 Model 158 Stepping 13, GenuineIntel
TEMP = C:\Users\Peter\AppData\Local\Temp
Perl special variables (and OS-specific diagnostics, for MSWin32):
EGID = 0
EUID = 0
EXECUTABLE_NAME = C:\usr\local\apps\berrybrew\perls\5.24.4_64\perl\bin\perl.exe
GID = 0
UID = 0
Win32::FsType = NTFS
Win32::GetOSName = Win10
Win32::GetOSVersion = , 10, 0, 18362, 2, 0, 0, 768, 1
Win32::IsAdminUser = 0
Perl module toolchain versions installed:
Module Have
------------------- --------
CPAN 2.16
CPAN::Meta 2.150010
Cwd 3.74
ExtUtils::CBuilder 0.280230
ExtUtils::Command 7.34
ExtUtils::Install 2.14
ExtUtils::MakeMaker 7.34
ExtUtils::Manifest 1.70
ExtUtils::ParseXS 3.35
File::Spec 3.74
JSON 2.97001
JSON::PP 2.97001
Module::Build 0.4224
Module::Signature n/a
Parse::CPAN::Meta 2.150010
Test::Harness 3.42
Test::More 1.302135
YAML 1.24
YAML::Syck n/a
version 0.9922
--
Summary of my perl5 (revision 5 version 24 subversion 4) configuration:
Platform:
osname=MSWin32, osvers=10.0, archname=MSWin32-x64-multi-thread
uname='Win32 strawberry-perl 5.24.4.1 #1 Sun Apr 15 19:39:13 2018 x64'
config_args='undef'
hint=recommended, useposix=true, d_sigaction=undef
useithreads=define, usemultiplicity=define
use64bitint=define, use64bitall=undef, uselongdouble=undef
usemymalloc=n, bincompat5005=undef
Compiler:
cc='gcc', ccflags =' -s -O2 -DWIN32 -DWIN64 -DCONSERVATIVE -DPERL_TEXTMODE_SCRIPTS -DPERL_IMPLICIT_CONTEXT -DPERL_IMPLICIT_SYS -fwrapv -fno-strict-aliasing -mms-bitfields',
optimize='-s -O2',
cppflags='-DWIN32'
ccversion='', gccversion='4.9.2', gccosandvers=''
intsize=4, longsize=4, ptrsize=8, doublesize=8, byteorder=12345678, doublekind=3
d_longlong=define, longlongsize=8, d_longdbl=define, longdblsize=16, longdblkind=3
ivtype='long long', ivsize=8, nvtype='double', nvsize=8, Off_t='long long', lseeksize=8
alignbytes=8, prototype=define
Linker and Libraries:
ld='g++.exe', ldflags ='-s -L"C:\usr\local\apps\berrybrew\perls\5.24.4_64\perl\lib\CORE" -L"C:\usr\local\apps\berrybrew\perls\5.24.4_64\c\lib"'
libpth=C:\usr\local\apps\berrybrew\perls\5.24.4_64\c\lib C:\usr\local\apps\berrybrew\perls\5.24.4_64\c\x86_64-w64-mingw32\lib C:\usr\local\apps\berrybrew\perls\5.24.4_64\c\lib\gcc\x86_64-w64-mingw32\4.9.2
libs=-lmoldname -lkernel32 -luser32 -lgdi32 -lwinspool -lcomdlg32 -ladvapi32 -lshell32 -lole32 -loleaut32 -lnetapi32 -luuid -lws2_32 -lmpr -lwinmm -lversion -lodbc32 -lodbccp32 -lcomctl32
perllibs=-lmoldname -lkernel32 -luser32 -lgdi32 -lwinspool -lcomdlg32 -ladvapi32 -lshell32 -lole32 -loleaut32 -lnetapi32 -luuid -lws2_32 -lmpr -lwinmm -lversion -lodbc32 -lodbccp32 -lcomctl32
libc=, so=dll, useshrplib=true, libperl=libperl524.a
gnulibc_version=''
Dynamic Linking:
dlsrc=dl_win32.xs, dlext=xs.dll, d_dlsymun=undef, ccdlflags=' '
cccdlflags=' ', lddlflags='-mdll -s -L"C:\usr\local\apps\berrybrew\perls\5.24.4_64\perl\lib\CORE" -L"C:\usr\local\apps\berrybrew\perls\5.24.4_64\c\lib"'
Characteristics of this binary (from libperl):
Compile-time options: HAS_TIMES HAVE_INTERP_INTERN MULTIPLICITY
PERLIO_LAYERS PERL_COPY_ON_WRITE
PERL_DONT_CREATE_GVSV
PERL_HASH_FUNC_ONE_AT_A_TIME_HARD
PERL_IMPLICIT_CONTEXT PERL_IMPLICIT_SYS
PERL_MALLOC_WRAP PERL_PRESERVE_IVUV USE_64_BIT_INT
USE_ITHREADS USE_LARGE_FILES USE_LOCALE
USE_LOCALE_COLLATE USE_LOCALE_CTYPE
USE_LOCALE_NUMERIC USE_LOCALE_TIME USE_PERLIO
USE_PERL_ATOF
Built under MSWin32
Compiled at Apr 15 2018 19:43:12
@INC:
C:/usr/local/apps/berrybrew/perls/5.24.4_64/perl/site/lib/MSWin32-x64-multi-thread
C:/usr/local/apps/berrybrew/perls/5.24.4_64/perl/site/lib
C:/usr/local/apps/berrybrew/perls/5.24.4_64/perl/vendor/lib
C:/usr/local/apps/berrybrew/perls/5.24.4_64/perl/lib
.