Mail-Mbox-MessageParser v1.5111 Perl 5 v5.41.13 x86_64-linux

Status
Pass
From
Andreas J. König (ANDK)
Dist
Mail-Mbox-MessageParser v1.5111
Platform
Perl 5 v5.41.13 x86_64-linux
Date
2025-05-31 20:30:35
ID
1b1efb50-3e5e-11f0-b117-c79cab2bcf94
This distribution has been tested as part of the CPAN Testers
project, supporting the Perl programming language.  See
http://wiki.cpantesters.org/ for more information or email
questions to cpan-testers-discuss@perl.org


--
Dear David Coppit,

This is a computer-generated report for Mail-Mbox-MessageParser-1.5111
on perl 5.41.13, created by CPAN-Reporter-1.2020.

Thank you for uploading your work to CPAN.  Congratulations!
All tests were successful.

Sections of this report:

    * Tester comments
    * Program output
    * Prerequisites
    * Environment and other context

------------------------------
TESTER COMMENTS
------------------------------

Additional comments from tester:

this report is from an automated smoke testing program
and was not reviewed by a human for accuracy

------------------------------
PROGRAM OUTPUT
------------------------------

Output from '/usr/bin/make test':

PERL_DL_NONLAZY=1 "/tmp/basesmoker-reloperl-GxvO/bin/perl" "-MExtUtils::Command::MM" "-MTest::Harness" "-e" "undef *Test::Harness::Switches; test_harness(1, 'blib/lib', 'blib/arch')" t/*.t
t/000_standard__compile.t ....... 
1..6
ok 1 - blib/lib/Mail/Mbox/MessageParser.pm compiles
ok 2 - blib/lib/Mail/Mbox/MessageParser/Cache.pm compiles
ok 3 - blib/lib/Mail/Mbox/MessageParser/Config.pm compiles
ok 4 - blib/lib/Mail/Mbox/MessageParser/Grep.pm compiles
ok 5 - blib/lib/Mail/Mbox/MessageParser/MetaInfo.pm compiles
ok 6 - blib/lib/Mail/Mbox/MessageParser/Perl.pm compiles
ok
t/000_standard__perl_critic.t ... skipped: Author test. Set $ENV{TEST_AUTHOR} to a true value to run.
t/000_standard__pod.t ........... 
1..6
ok 1 - POD test for blib/lib/Mail/Mbox/MessageParser.pm
ok 2 - POD test for blib/lib/Mail/Mbox/MessageParser/Grep.pm
ok 3 - POD test for blib/lib/Mail/Mbox/MessageParser/MetaInfo.pm
ok 4 - POD test for blib/lib/Mail/Mbox/MessageParser/Cache.pm
ok 5 - POD test for blib/lib/Mail/Mbox/MessageParser/Config.pm
ok 6 - POD test for blib/lib/Mail/Mbox/MessageParser/Perl.pm
ok
t/000_standard__pod_coverage.t .. 
1..6
ok 1 - Pod coverage on Mail::Mbox::MessageParser
ok 2 - Pod coverage on Mail::Mbox::MessageParser::Grep
ok 3 - Pod coverage on Mail::Mbox::MessageParser::MetaInfo
ok 4 - Pod coverage on Mail::Mbox::MessageParser::Cache
ok 5 - Pod coverage on Mail::Mbox::MessageParser::Config
ok 6 - Pod coverage on Mail::Mbox::MessageParser::Perl
ok
t/appended_mailbox.t ............ 
1..6
Testing modified mailbox with Perl implementation
Comparing /tmp/IHVKMFQtLP to t/mailboxes/mailarc-1.txt
Output /tmp/IHVKMFQtLP looks good.
ok 1 - Computing differences
Testing modified mailbox with Cache implementation
Comparing /tmp/VwNB99Q7wY to t/mailboxes/mailarc-1.txt
Output /tmp/VwNB99Q7wY looks good.
ok 2 - Computing differences
Testing modified mailbox with Grep implementation
ok 3 # skip GNU grep not available
Testing modified mailbox with Perl implementation
Comparing /tmp/sAovqcLuJa to t/mailboxes/mailarc-1.txt
Output /tmp/sAovqcLuJa looks good.
ok 4 - Computing differences
Testing modified mailbox with Cache implementation
Comparing /tmp/94jAzTAdnO to t/mailboxes/mailarc-1.txt
Output /tmp/94jAzTAdnO looks good.
ok 5 - Computing differences
Testing modified mailbox with Grep implementation
ok 6 # skip GNU grep not available
ok
t/bzip2.t ....................... 
1..1
Running test:
  "/usr/bin/cat" "t/mailboxes/mailarc-2.txt.bz2" | "/usr/bin/bzip2" -cd
Comparing /tmp/xlUFfhfJ3x to t/results/mailarc-2.txt
Output /tmp/xlUFfhfJ3x looks good.
Comparing /tmp/ZW_vf_GLEo to t/results/none
Output /tmp/ZW_vf_GLEo looks good.
ok 1 - Computing differences
ok
t/endline.t ..................... 
1..8
Testing filename: t/mailboxes/mailarc-1-dos.txt
ok 1 - Dos endline expected
ok 2 - Dos endline expected
ok 3 - Dos endline expected
ok 4 # skip GNU grep not available
Testing filename: t/mailboxes/mailarc-1.txt
ok 5 - Unix endline expected
ok 6 - Unix endline expected
ok 7 - Unix endline expected
ok 8 # skip GNU grep not available
ok
t/filehandle_compressed.t ....... 
1..16
Testing filename: t/mailboxes/mailarc-2.txt.bz2
Comparing /tmp/NkPpLZVPRz to t/mailboxes/mailarc-2.txt
Output /tmp/NkPpLZVPRz looks good.
ok 1 - Computing differences
Comparing /tmp/sPe01qkZEw to t/mailboxes/mailarc-2.txt
Output /tmp/sPe01qkZEw looks good.
ok 2 - Computing differences
Comparing /tmp/CFlB9qEnGq to t/mailboxes/mailarc-2.txt
Output /tmp/CFlB9qEnGq looks good.
ok 3 - Computing differences
ok 4 # skip GNU grep not available
Testing filename: t/mailboxes/mailarc-2.txt.gz
Comparing /tmp/SzK0hPJmE5 to t/mailboxes/mailarc-2.txt
Output /tmp/SzK0hPJmE5 looks good.
ok 5 - Computing differences
Comparing /tmp/X9kGUw_K92 to t/mailboxes/mailarc-2.txt
Output /tmp/X9kGUw_K92 looks good.
ok 6 - Computing differences
Comparing /tmp/jEFfqCSMXx to t/mailboxes/mailarc-2.txt
Output /tmp/jEFfqCSMXx looks good.
ok 7 - Computing differences
ok 8 # skip GNU grep not available
Testing filename: t/mailboxes/mailarc-2.txt.lz
ok 9 # skip lzip not available
ok 10 # skip lzip not available
ok 11 # skip lzip not available
ok 12 # skip lzip not available
Testing filename: t/mailboxes/mailarc-2.txt.xz
Comparing /tmp/DM3MRowLBv to t/mailboxes/mailarc-2.txt
Output /tmp/DM3MRowLBv looks good.
ok 13 - Computing differences
Comparing /tmp/6IAxaYVxA6 to t/mailboxes/mailarc-2.txt
Output /tmp/6IAxaYVxA6 looks good.
ok 14 - Computing differences
Comparing /tmp/JKchYRq_La to t/mailboxes/mailarc-2.txt
Output /tmp/JKchYRq_La looks good.
ok 15 - Computing differences
ok 16 # skip GNU grep not available
ok
t/filehandle_noncompressed.t .... 
1..44
Testing filename: t/mailboxes/binary_body.txt
Comparing /tmp/Uu06CTOMMA to t/mailboxes/binary_body.txt
Output /tmp/Uu06CTOMMA looks good.
ok 1 - Computing differences
Comparing /tmp/Uos0qr8jFD to t/mailboxes/binary_body.txt
Output /tmp/Uos0qr8jFD looks good.
ok 2 - Computing differences
Comparing /tmp/zHVtnuGamj to t/mailboxes/binary_body.txt
Output /tmp/zHVtnuGamj looks good.
ok 3 - Computing differences
ok 4 # skip GNU grep not available
Testing filename: t/mailboxes/hessbug.txt
Comparing /tmp/bU7xkEDsTQ to t/mailboxes/hessbug.txt
Output /tmp/bU7xkEDsTQ looks good.
ok 5 - Computing differences
Comparing /tmp/aFEmX884aD to t/mailboxes/hessbug.txt
Output /tmp/aFEmX884aD looks good.
ok 6 - Computing differences
Comparing /tmp/nCXEszvhRd to t/mailboxes/hessbug.txt
Output /tmp/nCXEszvhRd looks good.
ok 7 - Computing differences
ok 8 # skip GNU grep not available
Testing filename: t/mailboxes/invalid-boundaries.txt
Comparing /tmp/XCzMbT7cYU to t/mailboxes/invalid-boundaries.txt
Output /tmp/XCzMbT7cYU looks good.
ok 9 - Computing differences
Comparing /tmp/ECmWkjNY6Y to t/mailboxes/invalid-boundaries.txt
Output /tmp/ECmWkjNY6Y looks good.
ok 10 - Computing differences
Comparing /tmp/eotEWcztgC to t/mailboxes/invalid-boundaries.txt
Output /tmp/eotEWcztgC looks good.
ok 11 - Computing differences
ok 12 # skip GNU grep not available
Testing filename: t/mailboxes/mailarc-1-dos.txt
Comparing /tmp/MHZN9mYPkn to t/mailboxes/mailarc-1-dos.txt
Output /tmp/MHZN9mYPkn looks good.
ok 13 - Computing differences
Comparing /tmp/fnJ0Hgf_z3 to t/mailboxes/mailarc-1-dos.txt
Output /tmp/fnJ0Hgf_z3 looks good.
ok 14 - Computing differences
Comparing /tmp/AbpkTB4Ol2 to t/mailboxes/mailarc-1-dos.txt
Output /tmp/AbpkTB4Ol2 looks good.
ok 15 - Computing differences
ok 16 # skip GNU grep not available
Testing filename: t/mailboxes/mailarc-1.txt
Comparing /tmp/0VBWfnA6AN to t/mailboxes/mailarc-1.txt
Output /tmp/0VBWfnA6AN looks good.
ok 17 - Computing differences
Comparing /tmp/FDzM2D7QkJ to t/mailboxes/mailarc-1.txt
Output /tmp/FDzM2D7QkJ looks good.
ok 18 - Computing differences
Comparing /tmp/MAaHk68Aqb to t/mailboxes/mailarc-1.txt
Output /tmp/MAaHk68Aqb looks good.
ok 19 - Computing differences
ok 20 # skip GNU grep not available
Testing filename: t/mailboxes/mailarc-2.txt
Comparing /tmp/VNEyorFcD1 to t/mailboxes/mailarc-2.txt
Output /tmp/VNEyorFcD1 looks good.
ok 21 - Computing differences
Comparing /tmp/q_CNVuHjQQ to t/mailboxes/mailarc-2.txt
Output /tmp/q_CNVuHjQQ looks good.
ok 22 - Computing differences
Comparing /tmp/stnYvZPxu9 to t/mailboxes/mailarc-2.txt
Output /tmp/stnYvZPxu9 looks good.
ok 23 - Computing differences
ok 24 # skip GNU grep not available
Testing filename: t/mailboxes/mailarc-3.txt
Comparing /tmp/jvg4hXj0fG to t/mailboxes/mailarc-3.txt
Output /tmp/jvg4hXj0fG looks good.
ok 25 - Computing differences
Comparing /tmp/lGdf_RgUXW to t/mailboxes/mailarc-3.txt
Output /tmp/lGdf_RgUXW looks good.
ok 26 - Computing differences
Comparing /tmp/MXo64uNC3e to t/mailboxes/mailarc-3.txt
Output /tmp/MXo64uNC3e looks good.
ok 27 - Computing differences
ok 28 # skip GNU grep not available
Testing filename: t/mailboxes/mailseparators.txt
Comparing /tmp/de5_jz2ovJ to t/mailboxes/mailseparators.txt
Output /tmp/de5_jz2ovJ looks good.
ok 29 - Computing differences
Comparing /tmp/cBrLYRyuP6 to t/mailboxes/mailseparators.txt
Output /tmp/cBrLYRyuP6 looks good.
ok 30 - Computing differences
Comparing /tmp/5DfcVD9P7H to t/mailboxes/mailseparators.txt
Output /tmp/5DfcVD9P7H looks good.
ok 31 - Computing differences
ok 32 # skip GNU grep not available
Testing filename: t/mailboxes/malformed.txt
Comparing /tmp/yaL6HC4AAH to t/mailboxes/malformed.txt
Output /tmp/yaL6HC4AAH looks good.
ok 33 - Computing differences
Comparing /tmp/Mqrihwgl28 to t/mailboxes/malformed.txt
Output /tmp/Mqrihwgl28 looks good.
ok 34 - Computing differences
Comparing /tmp/8VIohachER to t/mailboxes/malformed.txt
Output /tmp/8VIohachER looks good.
ok 35 - Computing differences
ok 36 # skip GNU grep not available
Testing filename: t/mailboxes/newlines_at_beginning.txt
Comparing /tmp/QwTpNqgRft to t/mailboxes/newlines_at_beginning.txt
Output /tmp/QwTpNqgRft looks good.
ok 37 - Computing differences
Comparing /tmp/04bo2rBayG to t/mailboxes/newlines_at_beginning.txt
Output /tmp/04bo2rBayG looks good.
ok 38 - Computing differences
Comparing /tmp/snWYyresru to t/mailboxes/newlines_at_beginning.txt
Output /tmp/snWYyresru looks good.
ok 39 - Computing differences
ok 40 # skip GNU grep not available
Testing filename: t/mailboxes/vm-emacs.txt
Comparing /tmp/jo5HnLThKf to t/mailboxes/vm-emacs.txt
Output /tmp/jo5HnLThKf looks good.
ok 41 - Computing differences
Comparing /tmp/uYn5Fi4N_j to t/mailboxes/vm-emacs.txt
Output /tmp/uYn5Fi4N_j looks good.
ok 42 - Computing differences
Comparing /tmp/9Kokpdu3oQ to t/mailboxes/vm-emacs.txt
Output /tmp/9Kokpdu3oQ looks good.
ok 43 - Computing differences
ok 44 # skip GNU grep not available
ok
t/filename_compressed.t ......... 
1..4
Testing filename: t/mailboxes/mailarc-2.txt.bz2
Comparing /tmp/C23_34yXbB to t/mailboxes/mailarc-2.txt
Output /tmp/C23_34yXbB looks good.
ok 1 - Computing differences
Testing filename: t/mailboxes/mailarc-2.txt.gz
Comparing /tmp/_fVs1f_p6c to t/mailboxes/mailarc-2.txt
Output /tmp/_fVs1f_p6c looks good.
ok 2 - Computing differences
Testing filename: t/mailboxes/mailarc-2.txt.lz
ok 3 # skip lzip not available
Testing filename: t/mailboxes/mailarc-2.txt.xz
Comparing /tmp/clGNGN_djx to t/mailboxes/mailarc-2.txt
Output /tmp/clGNGN_djx looks good.
ok 4 - Computing differences
ok
t/filename_noncompressed.t ...... 
1..11
Testing filename: t/mailboxes/binary_body.txt
Comparing /tmp/ullfdGEruk to t/mailboxes/binary_body.txt
Output /tmp/ullfdGEruk looks good.
ok 1 - Computing differences
Testing filename: t/mailboxes/hessbug.txt
Comparing /tmp/btJIZaJwh9 to t/mailboxes/hessbug.txt
Output /tmp/btJIZaJwh9 looks good.
ok 2 - Computing differences
Testing filename: t/mailboxes/invalid-boundaries.txt
Comparing /tmp/LGr8ZyG_iq to t/mailboxes/invalid-boundaries.txt
Output /tmp/LGr8ZyG_iq looks good.
ok 3 - Computing differences
Testing filename: t/mailboxes/mailarc-1-dos.txt
Comparing /tmp/67Kgpfj9aM to t/mailboxes/mailarc-1-dos.txt
Output /tmp/67Kgpfj9aM looks good.
ok 4 - Computing differences
Testing filename: t/mailboxes/mailarc-1.txt
Comparing /tmp/xUyN3JIvtD to t/mailboxes/mailarc-1.txt
Output /tmp/xUyN3JIvtD looks good.
ok 5 - Computing differences
Testing filename: t/mailboxes/mailarc-2.txt
Comparing /tmp/MdRX6aivZg to t/mailboxes/mailarc-2.txt
Output /tmp/MdRX6aivZg looks good.
ok 6 - Computing differences
Testing filename: t/mailboxes/mailarc-3.txt
Comparing /tmp/0HkwaZ0IiU to t/mailboxes/mailarc-3.txt
Output /tmp/0HkwaZ0IiU looks good.
ok 7 - Computing differences
Testing filename: t/mailboxes/mailseparators.txt
Comparing /tmp/ei_dYlzpMv to t/mailboxes/mailseparators.txt
Output /tmp/ei_dYlzpMv looks good.
ok 8 - Computing differences
Testing filename: t/mailboxes/malformed.txt
Comparing /tmp/Ko9_uad3Yu to t/mailboxes/malformed.txt
Output /tmp/Ko9_uad3Yu looks good.
ok 9 - Computing differences
Testing filename: t/mailboxes/newlines_at_beginning.txt
Comparing /tmp/57PYSgY3_w to t/mailboxes/newlines_at_beginning.txt
Output /tmp/57PYSgY3_w looks good.
ok 10 - Computing differences
Testing filename: t/mailboxes/vm-emacs.txt
Comparing /tmp/IDBT2Ot1HP to t/mailboxes/vm-emacs.txt
Output /tmp/IDBT2Ot1HP looks good.
ok 11 - Computing differences
ok
t/grep.t ........................ 
1..4
Running test:
  unset LC_ALL LC_COLLATE LANG LC_CTYPE LC_MESSAGES; grep --extended-regexp --line-number --byte-offset --binary-files=text "^From [^:]+(:[0-9][0-9]){1,2}(  *([A-Z]{2,6}|[+-]?[0-9]{4})){1,3}( remote from .*)?
?$" t/mailboxes/mailarc-1.txt
ok 1 # skip 1
Running test:
  unset LC_ALL LC_COLLATE LANG LC_CTYPE LC_MESSAGES; grep --extended-regexp --line-number --byte-offset --binary-files=text "^From [^:]+(:[0-9][0-9]){1,2}(  *([A-Z]{2,6}|[+-]?[0-9]{4})){1,3}( remote from .*)?
?$" t/mailboxes/mailarc-2.txt
ok 2 # skip 1
Running test:
  unset LC_ALL LC_COLLATE LANG LC_CTYPE LC_MESSAGES; grep --extended-regexp --line-number --byte-offset --binary-files=text "^From [^:]+(:[0-9][0-9]){1,2}(  *([A-Z]{2,6}|[+-]?[0-9]{4})){1,3}( remote from .*)?
?$" t/mailboxes/mailarc-3.txt
ok 3 # skip 1
Running test:
  unset LC_ALL LC_COLLATE LANG LC_CTYPE LC_MESSAGES; grep --extended-regexp --line-number --byte-offset --binary-files=text "^From [^:]+(:[0-9][0-9]){1,2}(  *([A-Z]{2,6}|[+-]?[0-9]{4})){1,3}( remote from .*)?
?$" t/mailboxes/mailseparators.txt
ok 4 # skip 1
ok
t/gzip.t ........................ 
1..1
Running test:
  "/usr/bin/cat" "t/mailboxes/mailarc-2.txt.gz" | "/usr/bin/gzip" -cd
Comparing /tmp/4cAZwm8P8t to t/results/mailarc-2.txt
Output /tmp/4cAZwm8P8t looks good.
Comparing /tmp/El2WEikpPK to t/results/none
Output /tmp/El2WEikpPK looks good.
ok 1 - Computing differences
ok
t/length.t ...................... 
1..30
Testing filename: t/mailboxes/binary_body.txt
Comparing /tmp/nKTn6sYAuL to t/results/length_binary_body.stdout
Output /tmp/nKTn6sYAuL looks good.
ok 1 - Computing differences
Comparing /tmp/5160Tresxt to t/results/length_binary_body.stdout
Output /tmp/5160Tresxt looks good.
ok 2 - Computing differences
ok 3 # skip GNU grep not available
Testing filename: t/mailboxes/hessbug.txt
Comparing /tmp/EZTo8QcpLf to t/results/length_hessbug.stdout
Output /tmp/EZTo8QcpLf looks good.
ok 4 - Computing differences
Comparing /tmp/dp80FfT7FS to t/results/length_hessbug.stdout
Output /tmp/dp80FfT7FS looks good.
ok 5 - Computing differences
ok 6 # skip GNU grep not available
Testing filename: t/mailboxes/invalid-boundaries.txt
Comparing /tmp/YKagmUSIo5 to t/results/length_invalid-boundaries.stdout
Output /tmp/YKagmUSIo5 looks good.
ok 7 - Computing differences
Comparing /tmp/Q3zqCnGZ3H to t/results/length_invalid-boundaries.stdout
Output /tmp/Q3zqCnGZ3H looks good.
ok 8 - Computing differences
ok 9 # skip GNU grep not available
Testing filename: t/mailboxes/mailarc-1-dos.txt
Comparing /tmp/Go1GmGZPNV to t/results/length_mailarc-1-dos.stdout
Output /tmp/Go1GmGZPNV looks good.
ok 10 - Computing differences
Comparing /tmp/2G1MIjJLpD to t/results/length_mailarc-1-dos.stdout
Output /tmp/2G1MIjJLpD looks good.
ok 11 - Computing differences
ok 12 # skip GNU grep not available
Testing filename: t/mailboxes/mailarc-1.txt
Comparing /tmp/UfG3g1WN3a to t/results/length_mailarc-1.stdout
Output /tmp/UfG3g1WN3a looks good.
ok 13 - Computing differences
Comparing /tmp/b8oDyE9BJX to t/results/length_mailarc-1.stdout
Output /tmp/b8oDyE9BJX looks good.
ok 14 - Computing differences
ok 15 # skip GNU grep not available
Testing filename: t/mailboxes/mailarc-2.txt
Comparing /tmp/0s2VcHFSxb to t/results/length_mailarc-2.stdout
Output /tmp/0s2VcHFSxb looks good.
ok 16 - Computing differences
Comparing /tmp/EtaORVaZvc to t/results/length_mailarc-2.stdout
Output /tmp/EtaORVaZvc looks good.
ok 17 - Computing differences
ok 18 # skip GNU grep not available
Testing filename: t/mailboxes/mailarc-3.txt
Comparing /tmp/Sl6Tzdc3JW to t/results/length_mailarc-3.stdout
Output /tmp/Sl6Tzdc3JW looks good.
ok 19 - Computing differences
Comparing /tmp/xVUqqUjfcg to t/results/length_mailarc-3.stdout
Output /tmp/xVUqqUjfcg looks good.
ok 20 - Computing differences
ok 21 # skip GNU grep not available
Testing filename: t/mailboxes/mailseparators.txt
Comparing /tmp/OpPF4J7HeS to t/results/length_mailseparators.stdout
Output /tmp/OpPF4J7HeS looks good.
ok 22 - Computing differences
Comparing /tmp/sBi5KEBuvU to t/results/length_mailseparators.stdout
Output /tmp/sBi5KEBuvU looks good.
ok 23 - Computing differences
ok 24 # skip GNU grep not available
Testing filename: t/mailboxes/malformed.txt
Comparing /tmp/81mIV1YFPv to t/results/length_malformed.stdout
Output /tmp/81mIV1YFPv looks good.
ok 25 - Computing differences
Comparing /tmp/VqEBxolMMi to t/results/length_malformed.stdout
Output /tmp/VqEBxolMMi looks good.
ok 26 - Computing differences
ok 27 # skip GNU grep not available
Testing filename: t/mailboxes/newlines_at_beginning.txt
Comparing /tmp/Oc53ns3U1m to t/results/length_newlines_at_beginning.stdout
Output /tmp/Oc53ns3U1m looks good.
ok 28 - Computing differences
Comparing /tmp/_t0_2mBh8T to t/results/length_newlines_at_beginning.stdout
Output /tmp/_t0_2mBh8T looks good.
ok 29 - Computing differences
ok 30 # skip GNU grep not available
ok
t/line_number.t ................. 
1..30
Testing filename: t/mailboxes/binary_body.txt
Comparing /tmp/Hp4KqwPJbO to t/results/line_number_binary_body.stdout
Output /tmp/Hp4KqwPJbO looks good.
ok 1 - Computing differences
Comparing /tmp/6oCjttlLjz to t/results/line_number_binary_body.stdout
Output /tmp/6oCjttlLjz looks good.
ok 2 - Computing differences
ok 3 # skip GNU grep not available
Testing filename: t/mailboxes/hessbug.txt
Comparing /tmp/OrnCY_Fru8 to t/results/line_number_hessbug.stdout
Output /tmp/OrnCY_Fru8 looks good.
ok 4 - Computing differences
Comparing /tmp/b6sXQxDrtY to t/results/line_number_hessbug.stdout
Output /tmp/b6sXQxDrtY looks good.
ok 5 - Computing differences
ok 6 # skip GNU grep not available
Testing filename: t/mailboxes/invalid-boundaries.txt
Comparing /tmp/R5Ag15PHdq to t/results/line_number_invalid-boundaries.stdout
Output /tmp/R5Ag15PHdq looks good.
ok 7 - Computing differences
Comparing /tmp/7uhgOdOmFa to t/results/line_number_invalid-boundaries.stdout
Output /tmp/7uhgOdOmFa looks good.
ok 8 - Computing differences
ok 9 # skip GNU grep not available
Testing filename: t/mailboxes/mailarc-1-dos.txt
Comparing /tmp/N03oFmwRDA to t/results/line_number_mailarc-1-dos.stdout
Output /tmp/N03oFmwRDA looks good.
ok 10 - Computing differences
Comparing /tmp/4ZUDipHzoc to t/results/line_number_mailarc-1-dos.stdout
Output /tmp/4ZUDipHzoc looks good.
ok 11 - Computing differences
ok 12 # skip GNU grep not available
Testing filename: t/mailboxes/mailarc-1.txt
Comparing /tmp/4iNc_0ffC_ to t/results/line_number_mailarc-1.stdout
Output /tmp/4iNc_0ffC_ looks good.
ok 13 - Computing differences
Comparing /tmp/3HgBWZwU5x to t/results/line_number_mailarc-1.stdout
Output /tmp/3HgBWZwU5x looks good.
ok 14 - Computing differences
ok 15 # skip GNU grep not available
Testing filename: t/mailboxes/mailarc-2.txt
Comparing /tmp/QXdkCHBiOy to t/results/line_number_mailarc-2.stdout
Output /tmp/QXdkCHBiOy looks good.
ok 16 - Computing differences
Comparing /tmp/HRCeaw0uqD to t/results/line_number_mailarc-2.stdout
Output /tmp/HRCeaw0uqD looks good.
ok 17 - Computing differences
ok 18 # skip GNU grep not available
Testing filename: t/mailboxes/mailarc-3.txt
Comparing /tmp/jxT_GQlF1n to t/results/line_number_mailarc-3.stdout
Output /tmp/jxT_GQlF1n looks good.
ok 19 - Computing differences
Comparing /tmp/bZUKODIdul to t/results/line_number_mailarc-3.stdout
Output /tmp/bZUKODIdul looks good.
ok 20 - Computing differences
ok 21 # skip GNU grep not available
Testing filename: t/mailboxes/mailseparators.txt
Comparing /tmp/c9_ZE0olr4 to t/results/line_number_mailseparators.stdout
Output /tmp/c9_ZE0olr4 looks good.
ok 22 - Computing differences
Comparing /tmp/nf1oX1epJK to t/results/line_number_mailseparators.stdout
Output /tmp/nf1oX1epJK looks good.
ok 23 - Computing differences
ok 24 # skip GNU grep not available
Testing filename: t/mailboxes/malformed.txt
Comparing /tmp/46uPdz3z4b to t/results/line_number_malformed.stdout
Output /tmp/46uPdz3z4b looks good.
ok 25 - Computing differences
Comparing /tmp/qOheM252h_ to t/results/line_number_malformed.stdout
Output /tmp/qOheM252h_ looks good.
ok 26 - Computing differences
ok 27 # skip GNU grep not available
Testing filename: t/mailboxes/newlines_at_beginning.txt
Comparing /tmp/9Nf06U1p_G to t/results/line_number_newlines_at_beginning.stdout
Output /tmp/9Nf06U1p_G looks good.
ok 28 - Computing differences
Comparing /tmp/RsaChM8S_H to t/results/line_number_newlines_at_beginning.stdout
Output /tmp/RsaChM8S_H looks good.
ok 29 - Computing differences
ok 30 # skip GNU grep not available
ok
t/lzip.t ........................ 
1..1
Running test:
  "/usr/bin/cat" "t/mailboxes/mailarc-2.txt.lz" | "lzip" -cd
ok 1 # skip lzip not available
ok
t/number.t ...................... 
1..30
Testing filename: t/mailboxes/binary_body.txt
Comparing /tmp/9W6062ZocR to t/results/number_binary_body.stdout
Output /tmp/9W6062ZocR looks good.
ok 1 - Computing differences
Comparing /tmp/VFEIkyaP2B to t/results/number_binary_body.stdout
Output /tmp/VFEIkyaP2B looks good.
ok 2 - Computing differences
ok 3 # skip GNU grep not available
Testing filename: t/mailboxes/hessbug.txt
Comparing /tmp/rQPMQyG2QK to t/results/number_hessbug.stdout
Output /tmp/rQPMQyG2QK looks good.
ok 4 - Computing differences
Comparing /tmp/AqcmkR3_Jp to t/results/number_hessbug.stdout
Output /tmp/AqcmkR3_Jp looks good.
ok 5 - Computing differences
ok 6 # skip GNU grep not available
Testing filename: t/mailboxes/invalid-boundaries.txt
Comparing /tmp/9Iq1PFEe5k to t/results/number_invalid-boundaries.stdout
Output /tmp/9Iq1PFEe5k looks good.
ok 7 - Computing differences
Comparing /tmp/vk6DYArPES to t/results/number_invalid-boundaries.stdout
Output /tmp/vk6DYArPES looks good.
ok 8 - Computing differences
ok 9 # skip GNU grep not available
Testing filename: t/mailboxes/mailarc-1-dos.txt
Comparing /tmp/Z7kyJeKcVe to t/results/number_mailarc-1-dos.stdout
Output /tmp/Z7kyJeKcVe looks good.
ok 10 - Computing differences
Comparing /tmp/hc5etmAubg to t/results/number_mailarc-1-dos.stdout
Output /tmp/hc5etmAubg looks good.
ok 11 - Computing differences
ok 12 # skip GNU grep not available
Testing filename: t/mailboxes/mailarc-1.txt
Comparing /tmp/fgGNW_2jrv to t/results/number_mailarc-1.stdout
Output /tmp/fgGNW_2jrv looks good.
ok 13 - Computing differences
Comparing /tmp/VHE93xce1F to t/results/number_mailarc-1.stdout
Output /tmp/VHE93xce1F looks good.
ok 14 - Computing differences
ok 15 # skip GNU grep not available
Testing filename: t/mailboxes/mailarc-2.txt
Comparing /tmp/fh7bLC0sty to t/results/number_mailarc-2.stdout
Output /tmp/fh7bLC0sty looks good.
ok 16 - Computing differences
Comparing /tmp/8kcYy0V7ev to t/results/number_mailarc-2.stdout
Output /tmp/8kcYy0V7ev looks good.
ok 17 - Computing differences
ok 18 # skip GNU grep not available
Testing filename: t/mailboxes/mailarc-3.txt
Comparing /tmp/rRH3C2gW0Q to t/results/number_mailarc-3.stdout
Output /tmp/rRH3C2gW0Q looks good.
ok 19 - Computing differences
Comparing /tmp/GSdpt_mqt2 to t/results/number_mailarc-3.stdout
Output /tmp/GSdpt_mqt2 looks good.
ok 20 - Computing differences
ok 21 # skip GNU grep not available
Testing filename: t/mailboxes/mailseparators.txt
Comparing /tmp/eFWaknyVAt to t/results/number_mailseparators.stdout
Output /tmp/eFWaknyVAt looks good.
ok 22 - Computing differences
Comparing /tmp/jkSQkdzX13 to t/results/number_mailseparators.stdout
Output /tmp/jkSQkdzX13 looks good.
ok 23 - Computing differences
ok 24 # skip GNU grep not available
Testing filename: t/mailboxes/malformed.txt
Comparing /tmp/H3C_SUPzBB to t/results/number_malformed.stdout
Output /tmp/H3C_SUPzBB looks good.
ok 25 - Computing differences
Comparing /tmp/BxuY0KLi6D to t/results/number_malformed.stdout
Output /tmp/BxuY0KLi6D looks good.
ok 26 - Computing differences
ok 27 # skip GNU grep not available
Testing filename: t/mailboxes/newlines_at_beginning.txt
Comparing /tmp/zIbNxzUcoC to t/results/number_newlines_at_beginning.stdout
Output /tmp/zIbNxzUcoC looks good.
ok 28 - Computing differences
Comparing /tmp/8mNhxPtYjK to t/results/number_newlines_at_beginning.stdout
Output /tmp/8mNhxPtYjK looks good.
ok 29 - Computing differences
ok 30 # skip GNU grep not available
ok
t/offset.t ...................... 
1..30
Testing filename: t/mailboxes/binary_body.txt
Comparing /tmp/oxSOiNI7ju to t/results/offset_binary_body.stdout
Output /tmp/oxSOiNI7ju looks good.
ok 1 - Computing differences
Comparing /tmp/Yp7vdzO3Dy to t/results/offset_binary_body.stdout
Output /tmp/Yp7vdzO3Dy looks good.
ok 2 - Computing differences
ok 3 # skip GNU grep not available
Testing filename: t/mailboxes/hessbug.txt
Comparing /tmp/WTC6oFE6BE to t/results/offset_hessbug.stdout
Output /tmp/WTC6oFE6BE looks good.
ok 4 - Computing differences
Comparing /tmp/hv1n3wf0SX to t/results/offset_hessbug.stdout
Output /tmp/hv1n3wf0SX looks good.
ok 5 - Computing differences
ok 6 # skip GNU grep not available
Testing filename: t/mailboxes/invalid-boundaries.txt
Comparing /tmp/kbHOnAQFy4 to t/results/offset_invalid-boundaries.stdout
Output /tmp/kbHOnAQFy4 looks good.
ok 7 - Computing differences
Comparing /tmp/KqUy4j8bM6 to t/results/offset_invalid-boundaries.stdout
Output /tmp/KqUy4j8bM6 looks good.
ok 8 - Computing differences
ok 9 # skip GNU grep not available
Testing filename: t/mailboxes/mailarc-1-dos.txt
Comparing /tmp/nH0vRrimBa to t/results/offset_mailarc-1-dos.stdout
Output /tmp/nH0vRrimBa looks good.
ok 10 - Computing differences
Comparing /tmp/9tqemcZfQt to t/results/offset_mailarc-1-dos.stdout
Output /tmp/9tqemcZfQt looks good.
ok 11 - Computing differences
ok 12 # skip GNU grep not available
Testing filename: t/mailboxes/mailarc-1.txt
Comparing /tmp/QqjVvdlbmV to t/results/offset_mailarc-1.stdout
Output /tmp/QqjVvdlbmV looks good.
ok 13 - Computing differences
Comparing /tmp/UKWYQP5B1Q to t/results/offset_mailarc-1.stdout
Output /tmp/UKWYQP5B1Q looks good.
ok 14 - Computing differences
ok 15 # skip GNU grep not available
Testing filename: t/mailboxes/mailarc-2.txt
Comparing /tmp/QVS4hmViNr to t/results/offset_mailarc-2.stdout
Output /tmp/QVS4hmViNr looks good.
ok 16 - Computing differences
Comparing /tmp/MF7ZqzPkps to t/results/offset_mailarc-2.stdout
Output /tmp/MF7ZqzPkps looks good.
ok 17 - Computing differences
ok 18 # skip GNU grep not available
Testing filename: t/mailboxes/mailarc-3.txt
Comparing /tmp/dZYmd89CQM to t/results/offset_mailarc-3.stdout
Output /tmp/dZYmd89CQM looks good.
ok 19 - Computing differences
Comparing /tmp/ILcrDVW1tS to t/results/offset_mailarc-3.stdout
Output /tmp/ILcrDVW1tS looks good.
ok 20 - Computing differences
ok 21 # skip GNU grep not available
Testing filename: t/mailboxes/mailseparators.txt
Comparing /tmp/uJtKFIf9aQ to t/results/offset_mailseparators.stdout
Output /tmp/uJtKFIf9aQ looks good.
ok 22 - Computing differences
Comparing /tmp/qEwA3YlAzW to t/results/offset_mailseparators.stdout
Output /tmp/qEwA3YlAzW looks good.
ok 23 - Computing differences
ok 24 # skip GNU grep not available
Testing filename: t/mailboxes/malformed.txt
Comparing /tmp/PyusD2V8y6 to t/results/offset_malformed.stdout
Output /tmp/PyusD2V8y6 looks good.
ok 25 - Computing differences
Comparing /tmp/3BwkuaYPk8 to t/results/offset_malformed.stdout
Output /tmp/3BwkuaYPk8 looks good.
ok 26 - Computing differences
ok 27 # skip GNU grep not available
Testing filename: t/mailboxes/newlines_at_beginning.txt
Comparing /tmp/oBQNo7eUu2 to t/results/offset_newlines_at_beginning.stdout
Output /tmp/oBQNo7eUu2 looks good.
ok 28 - Computing differences
Comparing /tmp/iEPtFiY3GG to t/results/offset_newlines_at_beginning.stdout
Output /tmp/iEPtFiY3GG looks good.
ok 29 - Computing differences
ok 30 # skip GNU grep not available
ok
t/prologue.t .................... 
1..33
Testing filename: t/mailboxes/binary_body.txt
Comparing /tmp/WmHYBvWySB to t/mailboxes/binary_body.txt
Output /tmp/WmHYBvWySB looks good.
ok 1 - Computing differences
Comparing /tmp/jWxlTY4Jua to t/mailboxes/binary_body.txt
Output /tmp/jWxlTY4Jua looks good.
ok 2 - Computing differences
ok 3 # skip GNU grep not available
Testing filename: t/mailboxes/hessbug.txt
Comparing /tmp/eWiAuQ3eFh to t/mailboxes/hessbug.txt
Output /tmp/eWiAuQ3eFh looks good.
ok 4 - Computing differences
Comparing /tmp/HODph2DGOw to t/mailboxes/hessbug.txt
Output /tmp/HODph2DGOw looks good.
ok 5 - Computing differences
ok 6 # skip GNU grep not available
Testing filename: t/mailboxes/invalid-boundaries.txt
Comparing /tmp/M3MaU4nwfE to t/mailboxes/invalid-boundaries.txt
Output /tmp/M3MaU4nwfE looks good.
ok 7 - Computing differences
Comparing /tmp/3hDHcl8RC8 to t/mailboxes/invalid-boundaries.txt
Output /tmp/3hDHcl8RC8 looks good.
ok 8 - Computing differences
ok 9 # skip GNU grep not available
Testing filename: t/mailboxes/mailarc-1-dos.txt
Comparing /tmp/pY3nGYQr3B to t/mailboxes/mailarc-1-dos.txt
Output /tmp/pY3nGYQr3B looks good.
ok 10 - Computing differences
Comparing /tmp/iBn9eXyWmO to t/mailboxes/mailarc-1-dos.txt
Output /tmp/iBn9eXyWmO looks good.
ok 11 - Computing differences
ok 12 # skip GNU grep not available
Testing filename: t/mailboxes/mailarc-1.txt
Comparing /tmp/CuAhNOBzSX to t/mailboxes/mailarc-1.txt
Output /tmp/CuAhNOBzSX looks good.
ok 13 - Computing differences
Comparing /tmp/fEcSNfYk6w to t/mailboxes/mailarc-1.txt
Output /tmp/fEcSNfYk6w looks good.
ok 14 - Computing differences
ok 15 # skip GNU grep not available
Testing filename: t/mailboxes/mailarc-2.txt
Comparing /tmp/z2KxbB2ym0 to t/mailboxes/mailarc-2.txt
Output /tmp/z2KxbB2ym0 looks good.
ok 16 - Computing differences
Comparing /tmp/ynmLF7QiYm to t/mailboxes/mailarc-2.txt
Output /tmp/ynmLF7QiYm looks good.
ok 17 - Computing differences
ok 18 # skip GNU grep not available
Testing filename: t/mailboxes/mailarc-3.txt
Comparing /tmp/0M3YpuXKJC to t/mailboxes/mailarc-3.txt
Output /tmp/0M3YpuXKJC looks good.
ok 19 - Computing differences
Comparing /tmp/bi_evFezqO to t/mailboxes/mailarc-3.txt
Output /tmp/bi_evFezqO looks good.
ok 20 - Computing differences
ok 21 # skip GNU grep not available
Testing filename: t/mailboxes/mailseparators.txt
Comparing /tmp/Dg78F_zXW2 to t/mailboxes/mailseparators.txt
Output /tmp/Dg78F_zXW2 looks good.
ok 22 - Computing differences
Comparing /tmp/mBFbIanolI to t/mailboxes/mailseparators.txt
Output /tmp/mBFbIanolI looks good.
ok 23 - Computing differences
ok 24 # skip GNU grep not available
Testing filename: t/mailboxes/malformed.txt
Comparing /tmp/yDIBA90BjM to t/mailboxes/malformed.txt
Output /tmp/yDIBA90BjM looks good.
ok 25 - Computing differences
Comparing /tmp/y1NI4ppdBi to t/mailboxes/malformed.txt
Output /tmp/y1NI4ppdBi looks good.
ok 26 - Computing differences
ok 27 # skip GNU grep not available
Testing filename: t/mailboxes/newlines_at_beginning.txt
Comparing /tmp/wEbfQaBU8S to t/mailboxes/newlines_at_beginning.txt
Output /tmp/wEbfQaBU8S looks good.
ok 28 - Computing differences
Comparing /tmp/rp9aX69e6J to t/mailboxes/newlines_at_beginning.txt
Output /tmp/rp9aX69e6J looks good.
ok 29 - Computing differences
ok 30 # skip GNU grep not available
Testing filename: t/mailboxes/vm-emacs.txt
Comparing /tmp/DVeVz8kj7q to t/mailboxes/vm-emacs.txt
Output /tmp/DVeVz8kj7q looks good.
ok 31 - Computing differences
Comparing /tmp/DpqrOA6CB_ to t/mailboxes/vm-emacs.txt
Output /tmp/DpqrOA6CB_ looks good.
ok 32 - Computing differences
ok 33 # skip GNU grep not available
ok
t/reset.t ....................... 
1..60
Testing filename: t/mailboxes/binary_body.txt
Testing partial mailbox reset with Perl implementation
Comparing /tmp/JN6dz_3_h_ to t/results/reset_binary_body.stdout
Output /tmp/JN6dz_3_h_ looks good.
ok 1 - Computing differences
Testing partial mailbox reset with Cache implementation
Comparing /tmp/bjm2VZxVYn to t/results/reset_binary_body.stdout
Output /tmp/bjm2VZxVYn looks good.
ok 2 - Computing differences
Testing partial mailbox reset with Grep implementation
ok 3 # skip GNU grep not available
Testing full mailbox reset with Perl implementation
Comparing /tmp/D2G59jAjbq to t/results/reset_binary_body.stdout
Output /tmp/D2G59jAjbq looks good.
ok 4 - Computing differences
Testing full mailbox reset with Cache implementation
Comparing /tmp/kP7sW57oTb to t/results/reset_binary_body.stdout
Output /tmp/kP7sW57oTb looks good.
ok 5 - Computing differences
Testing full mailbox reset with Grep implementation
ok 6 # skip GNU grep not available
Testing filename: t/mailboxes/hessbug.txt
Testing partial mailbox reset with Perl implementation
Comparing /tmp/zF0FPqc05R to t/results/reset_hessbug.stdout
Output /tmp/zF0FPqc05R looks good.
ok 7 - Computing differences
Testing partial mailbox reset with Cache implementation
Comparing /tmp/oFWazTyDZi to t/results/reset_hessbug.stdout
Output /tmp/oFWazTyDZi looks good.
ok 8 - Computing differences
Testing partial mailbox reset with Grep implementation
ok 9 # skip GNU grep not available
Testing full mailbox reset with Perl implementation
Comparing /tmp/gMADXUtEip to t/results/reset_hessbug.stdout
Output /tmp/gMADXUtEip looks good.
ok 10 - Computing differences
Testing full mailbox reset with Cache implementation
Comparing /tmp/EUyQ23gPmv to t/results/reset_hessbug.stdout
Output /tmp/EUyQ23gPmv looks good.
ok 11 - Computing differences
Testing full mailbox reset with Grep implementation
ok 12 # skip GNU grep not available
Testing filename: t/mailboxes/invalid-boundaries.txt
Testing partial mailbox reset with Perl implementation
Comparing /tmp/eZoZt4ojgg to t/results/reset_invalid-boundaries.stdout
Output /tmp/eZoZt4ojgg looks good.
ok 13 - Computing differences
Testing partial mailbox reset with Cache implementation
Comparing /tmp/n1IltfeYO7 to t/results/reset_invalid-boundaries.stdout
Output /tmp/n1IltfeYO7 looks good.
ok 14 - Computing differences
Testing partial mailbox reset with Grep implementation
ok 15 # skip GNU grep not available
Testing full mailbox reset with Perl implementation
Comparing /tmp/SvNRWAwgjN to t/results/reset_invalid-boundaries.stdout
Output /tmp/SvNRWAwgjN looks good.
ok 16 - Computing differences
Testing full mailbox reset with Cache implementation
Comparing /tmp/DNkryq690T to t/results/reset_invalid-boundaries.stdout
Output /tmp/DNkryq690T looks good.
ok 17 - Computing differences
Testing full mailbox reset with Grep implementation
ok 18 # skip GNU grep not available
Testing filename: t/mailboxes/mailarc-1-dos.txt
Testing partial mailbox reset with Perl implementation
Comparing /tmp/tAScFj8V6x to t/results/reset_mailarc-1-dos.stdout
Output /tmp/tAScFj8V6x looks good.
ok 19 - Computing differences
Testing partial mailbox reset with Cache implementation
Comparing /tmp/ZQNgs6Xhaa to t/results/reset_mailarc-1-dos.stdout
Output /tmp/ZQNgs6Xhaa looks good.
ok 20 - Computing differences
Testing partial mailbox reset with Grep implementation
ok 21 # skip GNU grep not available
Testing full mailbox reset with Perl implementation
Comparing /tmp/pgLKc_RhRc to t/results/reset_mailarc-1-dos.stdout
Output /tmp/pgLKc_RhRc looks good.
ok 22 - Computing differences
Testing full mailbox reset with Cache implementation
Comparing /tmp/p_HoM7o0wj to t/results/reset_mailarc-1-dos.stdout
Output /tmp/p_HoM7o0wj looks good.
ok 23 - Computing differences
Testing full mailbox reset with Grep implementation
ok 24 # skip GNU grep not available
Testing filename: t/mailboxes/mailarc-1.txt
Testing partial mailbox reset with Perl implementation
Comparing /tmp/vXIjgawAPt to t/results/reset_mailarc-1.stdout
Output /tmp/vXIjgawAPt looks good.
ok 25 - Computing differences
Testing partial mailbox reset with Cache implementation
Comparing /tmp/OlOX1p9HNb to t/results/reset_mailarc-1.stdout
Output /tmp/OlOX1p9HNb looks good.
ok 26 - Computing differences
Testing partial mailbox reset with Grep implementation
ok 27 # skip GNU grep not available
Testing full mailbox reset with Perl implementation
Comparing /tmp/HbOKnNZ2SY to t/results/reset_mailarc-1.stdout
Output /tmp/HbOKnNZ2SY looks good.
ok 28 - Computing differences
Testing full mailbox reset with Cache implementation
Comparing /tmp/ywiXWiglsO to t/results/reset_mailarc-1.stdout
Output /tmp/ywiXWiglsO looks good.
ok 29 - Computing differences
Testing full mailbox reset with Grep implementation
ok 30 # skip GNU grep not available
Testing filename: t/mailboxes/mailarc-2.txt
Testing partial mailbox reset with Perl implementation
Comparing /tmp/RYwIhESZLY to t/results/reset_mailarc-2.stdout
Output /tmp/RYwIhESZLY looks good.
ok 31 - Computing differences
Testing partial mailbox reset with Cache implementation
Comparing /tmp/Ik2m6Qk7u5 to t/results/reset_mailarc-2.stdout
Output /tmp/Ik2m6Qk7u5 looks good.
ok 32 - Computing differences
Testing partial mailbox reset with Grep implementation
ok 33 # skip GNU grep not available
Testing full mailbox reset with Perl implementation
Comparing /tmp/4guS2PJrbr to t/results/reset_mailarc-2.stdout
Output /tmp/4guS2PJrbr looks good.
ok 34 - Computing differences
Testing full mailbox reset with Cache implementation
Comparing /tmp/HtdvxXykS8 to t/results/reset_mailarc-2.stdout
Output /tmp/HtdvxXykS8 looks good.
ok 35 - Computing differences
Testing full mailbox reset with Grep implementation
ok 36 # skip GNU grep not available
Testing filename: t/mailboxes/mailarc-3.txt
Testing partial mailbox reset with Perl implementation
Comparing /tmp/hXS2ZgUCKa to t/results/reset_mailarc-3.stdout
Output /tmp/hXS2ZgUCKa looks good.
ok 37 - Computing differences
Testing partial mailbox reset with Cache implementation
Comparing /tmp/BjkH67VH8A to t/results/reset_mailarc-3.stdout
Output /tmp/BjkH67VH8A looks good.
ok 38 - Computing differences
Testing partial mailbox reset with Grep implementation
ok 39 # skip GNU grep not available
Testing full mailbox reset with Perl implementation
Comparing /tmp/BHiOLxU_Pz to t/results/reset_mailarc-3.stdout
Output /tmp/BHiOLxU_Pz looks good.
ok 40 - Computing differences
Testing full mailbox reset with Cache implementation
Comparing /tmp/5TJ1p4J_NI to t/results/reset_mailarc-3.stdout
Output /tmp/5TJ1p4J_NI looks good.
ok 41 - Computing differences
Testing full mailbox reset with Grep implementation
ok 42 # skip GNU grep not available
Testing filename: t/mailboxes/mailseparators.txt
Testing partial mailbox reset with Perl implementation
Comparing /tmp/raLbrBrzfg to t/results/reset_mailseparators.stdout
Output /tmp/raLbrBrzfg looks good.
ok 43 - Computing differences
Testing partial mailbox reset with Cache implementation
Comparing /tmp/6RyeaBeFUr to t/results/reset_mailseparators.stdout
Output /tmp/6RyeaBeFUr looks good.
ok 44 - Computing differences
Testing partial mailbox reset with Grep implementation
ok 45 # skip GNU grep not available
Testing full mailbox reset with Perl implementation
Comparing /tmp/a7mrvu4Sic to t/results/reset_mailseparators.stdout
Output /tmp/a7mrvu4Sic looks good.
ok 46 - Computing differences
Testing full mailbox reset with Cache implementation
Comparing /tmp/LqZTSYwuym to t/results/reset_mailseparators.stdout
Output /tmp/LqZTSYwuym looks good.
ok 47 - Computing differences
Testing full mailbox reset with Grep implementation
ok 48 # skip GNU grep not available
Testing filename: t/mailboxes/malformed.txt
Testing partial mailbox reset with Perl implementation
Comparing /tmp/C_8P2DGMZW to t/results/reset_malformed.stdout
Output /tmp/C_8P2DGMZW looks good.
ok 49 - Computing differences
Testing partial mailbox reset with Cache implementation
Comparing /tmp/WTB1dzBit4 to t/results/reset_malformed.stdout
Output /tmp/WTB1dzBit4 looks good.
ok 50 - Computing differences
Testing partial mailbox reset with Grep implementation
ok 51 # skip GNU grep not available
Testing full mailbox reset with Perl implementation
Comparing /tmp/apX9ioJ2Vx to t/results/reset_malformed.stdout
Output /tmp/apX9ioJ2Vx looks good.
ok 52 - Computing differences
Testing full mailbox reset with Cache implementation
Comparing /tmp/VBsFlqFPdS to t/results/reset_malformed.stdout
Output /tmp/VBsFlqFPdS looks good.
ok 53 - Computing differences
Testing full mailbox reset with Grep implementation
ok 54 # skip GNU grep not available
Testing filename: t/mailboxes/newlines_at_beginning.txt
Testing partial mailbox reset with Perl implementation
Comparing /tmp/vMinVlpQkm to t/results/reset_newlines_at_beginning.stdout
Output /tmp/vMinVlpQkm looks good.
ok 55 - Computing differences
Testing partial mailbox reset with Cache implementation
Comparing /tmp/SiEHVBM6DN to t/results/reset_newlines_at_beginning.stdout
Output /tmp/SiEHVBM6DN looks good.
ok 56 - Computing differences
Testing partial mailbox reset with Grep implementation
ok 57 # skip GNU grep not available
Testing full mailbox reset with Perl implementation
Comparing /tmp/kw8AfAnOW9 to t/results/reset_newlines_at_beginning.stdout
Output /tmp/kw8AfAnOW9 looks good.
ok 58 - Computing differences
Testing full mailbox reset with Cache implementation
Comparing /tmp/2z0evMZxQl to t/results/reset_newlines_at_beginning.stdout
Output /tmp/2z0evMZxQl looks good.
ok 59 - Computing differences
Testing full mailbox reset with Grep implementation
ok 60 # skip GNU grep not available
ok
t/separators.t .................. 
1..6
Testing filename: t/mailboxes/separators2.sep
ok 1 - Number of emails in t/mailboxes/separators2.sep
ok 2 - Number of emails in t/mailboxes/separators2.sep
ok 3 # skip GNU grep not available
Testing filename: t/mailboxes/separators1.sep
ok 4 - Number of emails in t/mailboxes/separators1.sep
ok 5 - Number of emails in t/mailboxes/separators1.sep
ok 6 # skip GNU grep not available
ok
t/stdin_compressed.t ............ 
1..4
Testing filename: t/mailboxes/mailarc-2.txt.bz2
Comparing /tmp/zhe7d8FA0q to t/mailboxes/mailarc-2.txt
Output /tmp/zhe7d8FA0q looks good.
ok 1 - Computing differences
Testing filename: t/mailboxes/mailarc-2.txt.gz
Comparing /tmp/biDYmRjqdz to t/mailboxes/mailarc-2.txt
Output /tmp/biDYmRjqdz looks good.
ok 2 - Computing differences
Testing filename: t/mailboxes/mailarc-2.txt.lz
ok 3 # skip lzip not available
Testing filename: t/mailboxes/mailarc-2.txt.xz
Comparing /tmp/7q70dMLL8O to t/mailboxes/mailarc-2.txt
Output /tmp/7q70dMLL8O looks good.
ok 4 - Computing differences
ok
t/stdin_uncompressed.t .......... 
1..11
Testing filename: t/mailboxes/binary_body.txt
Comparing /tmp/33hddXKNL8 to t/mailboxes/binary_body.txt
Output /tmp/33hddXKNL8 looks good.
ok 1 - Computing differences
Testing filename: t/mailboxes/hessbug.txt
Comparing /tmp/PqKclwPVdc to t/mailboxes/hessbug.txt
Output /tmp/PqKclwPVdc looks good.
ok 2 - Computing differences
Testing filename: t/mailboxes/invalid-boundaries.txt
Comparing /tmp/SU2asCfIim to t/mailboxes/invalid-boundaries.txt
Output /tmp/SU2asCfIim looks good.
ok 3 - Computing differences
Testing filename: t/mailboxes/mailarc-1-dos.txt
Comparing /tmp/B4GRe6Oxcw to t/mailboxes/mailarc-1-dos.txt
Output /tmp/B4GRe6Oxcw looks good.
ok 4 - Computing differences
Testing filename: t/mailboxes/mailarc-1.txt
Comparing /tmp/sKDDAmiNIt to t/mailboxes/mailarc-1.txt
Output /tmp/sKDDAmiNIt looks good.
ok 5 - Computing differences
Testing filename: t/mailboxes/mailarc-2.txt
Comparing /tmp/Xw17Qt1Aqm to t/mailboxes/mailarc-2.txt
Output /tmp/Xw17Qt1Aqm looks good.
ok 6 - Computing differences
Testing filename: t/mailboxes/mailarc-3.txt
Comparing /tmp/qH8nzSbThE to t/mailboxes/mailarc-3.txt
Output /tmp/qH8nzSbThE looks good.
ok 7 - Computing differences
Testing filename: t/mailboxes/mailseparators.txt
Comparing /tmp/eNMhmze6c0 to t/mailboxes/mailseparators.txt
Output /tmp/eNMhmze6c0 looks good.
ok 8 - Computing differences
Testing filename: t/mailboxes/malformed.txt
Comparing /tmp/tq6lrNjhJz to t/mailboxes/malformed.txt
Output /tmp/tq6lrNjhJz looks good.
ok 9 - Computing differences
Testing filename: t/mailboxes/newlines_at_beginning.txt
Comparing /tmp/X6bz7ILJJF to t/mailboxes/newlines_at_beginning.txt
Output /tmp/X6bz7ILJJF looks good.
ok 10 - Computing differences
Testing filename: t/mailboxes/vm-emacs.txt
Comparing /tmp/x4e3o_6VI6 to t/mailboxes/vm-emacs.txt
Output /tmp/x4e3o_6VI6 looks good.
ok 11 - Computing differences
ok
t/undef_return_value.t .......... 
1..33
Testing Perl 
Comparing /tmp/GNjfdry5TA to t/mailboxes/binary_body.txt
Output /tmp/GNjfdry5TA looks good.
ok 1 - Computing differences
Testing Cache implementation
Comparing /tmp/eq8d6JMZx2 to t/mailboxes/binary_body.txt
Output /tmp/eq8d6JMZx2 looks good.
ok 2 - Computing differences
ok 3 # skip GNU grep not available
Testing Perl 
Comparing /tmp/CY0nuyHnQK to t/mailboxes/hessbug.txt
Output /tmp/CY0nuyHnQK looks good.
ok 4 - Computing differences
Testing Cache implementation
Comparing /tmp/6QxxHMdFgX to t/mailboxes/hessbug.txt
Output /tmp/6QxxHMdFgX looks good.
ok 5 - Computing differences
ok 6 # skip GNU grep not available
Testing Perl 
Comparing /tmp/1ZZaDelbDv to t/mailboxes/invalid-boundaries.txt
Output /tmp/1ZZaDelbDv looks good.
ok 7 - Computing differences
Testing Cache implementation
Comparing /tmp/yU6CIEMJwh to t/mailboxes/invalid-boundaries.txt
Output /tmp/yU6CIEMJwh looks good.
ok 8 - Computing differences
ok 9 # skip GNU grep not available
Testing Perl 
Comparing /tmp/6DQLSlAAcc to t/mailboxes/mailarc-1-dos.txt
Output /tmp/6DQLSlAAcc looks good.
ok 10 - Computing differences
Testing Cache implementation
Comparing /tmp/l4OJxcoLnW to t/mailboxes/mailarc-1-dos.txt
Output /tmp/l4OJxcoLnW looks good.
ok 11 - Computing differences
ok 12 # skip GNU grep not available
Testing Perl 
Comparing /tmp/c3N88MxxKc to t/mailboxes/mailarc-1.txt
Output /tmp/c3N88MxxKc looks good.
ok 13 - Computing differences
Testing Cache implementation
Comparing /tmp/g14sUbQooa to t/mailboxes/mailarc-1.txt
Output /tmp/g14sUbQooa looks good.
ok 14 - Computing differences
ok 15 # skip GNU grep not available
Testing Perl 
Comparing /tmp/OKbKQ5e8kU to t/mailboxes/mailarc-2.txt
Output /tmp/OKbKQ5e8kU looks good.
ok 16 - Computing differences
Testing Cache implementation
Comparing /tmp/b5nU1Atg50 to t/mailboxes/mailarc-2.txt
Output /tmp/b5nU1Atg50 looks good.
ok 17 - Computing differences
ok 18 # skip GNU grep not available
Testing Perl 
Comparing /tmp/h0FDoQFaKh to t/mailboxes/mailarc-3.txt
Output /tmp/h0FDoQFaKh looks good.
ok 19 - Computing differences
Testing Cache implementation
Comparing /tmp/aBOdRinjC4 to t/mailboxes/mailarc-3.txt
Output /tmp/aBOdRinjC4 looks good.
ok 20 - Computing differences
ok 21 # skip GNU grep not available
Testing Perl 
Comparing /tmp/TzimL3iKpa to t/mailboxes/mailseparators.txt
Output /tmp/TzimL3iKpa looks good.
ok 22 - Computing differences
Testing Cache implementation
Comparing /tmp/Kz5fF5b7Ll to t/mailboxes/mailseparators.txt
Output /tmp/Kz5fF5b7Ll looks good.
ok 23 - Computing differences
ok 24 # skip GNU grep not available
Testing Perl 
Comparing /tmp/VxHxgixvif to t/mailboxes/malformed.txt
Output /tmp/VxHxgixvif looks good.
ok 25 - Computing differences
Testing Cache implementation
Comparing /tmp/G19WZILbJc to t/mailboxes/malformed.txt
Output /tmp/G19WZILbJc looks good.
ok 26 - Computing differences
ok 27 # skip GNU grep not available
Testing Perl 
Comparing /tmp/qJBmhKuGwO to t/mailboxes/newlines_at_beginning.txt
Output /tmp/qJBmhKuGwO looks good.
ok 28 - Computing differences
Testing Cache implementation
Comparing /tmp/o5jxnHe2jR to t/mailboxes/newlines_at_beginning.txt
Output /tmp/o5jxnHe2jR looks good.
ok 29 - Computing differences
ok 30 # skip GNU grep not available
Testing Perl 
Comparing /tmp/eH2v6KaIkn to t/mailboxes/vm-emacs.txt
Output /tmp/eH2v6KaIkn looks good.
ok 31 - Computing differences
Testing Cache implementation
Comparing /tmp/F1kXsd7IpC to t/mailboxes/vm-emacs.txt
Output /tmp/F1kXsd7IpC looks good.
ok 32 - Computing differences
ok 33 # skip GNU grep not available
ok
t/xz.t .......................... 
1..1
Running test:
  "/usr/bin/cat" "t/mailboxes/mailarc-2.txt.xz" | "/usr/bin/xz" -cd
Comparing /tmp/HxBU4vHsUo to t/results/mailarc-2.txt
Output /tmp/HxBU4vHsUo looks good.
Comparing /tmp/IdEAS6yQtn to t/results/none
Output /tmp/IdEAS6yQtn looks good.
ok 1 - Computing differences
ok
All tests successful.
Files=25, Tests=382,  5 wallclock secs ( 0.16 usr  0.01 sys +  4.07 cusr  0.55 csys =  4.79 CPU)
Result: PASS

------------------------------
PREREQUISITES
------------------------------

Prerequisite modules loaded:

requires:

    Module              Need  Have    
    ------------------- ----- --------
    FileHandle::Unget   0     0.1634  
    perl                5.005 5.041013
    Storable            0     3.37    

build_requires:

    Module              Need  Have    
    ------------------- ----- --------
    ExtUtils::MakeMaker 6.36  7.76    
    File::Path          2.08  2.18    
    File::Slurper       0     0.014   
    Test::Compile       0     v3.3.3  
    Test::More          0     1.302214
    Text::Diff          0     1.45    
    UNIVERSAL::require  0     0.19    
    URI::Escape         0     5.32    

configure_requires:

    Module              Need  Have    
    ------------------- ----- --------
    ExtUtils::MakeMaker 6.36  7.76    
    URI::Escape         0     5.32    


------------------------------
ENVIRONMENT AND OTHER CONTEXT
------------------------------

Environment variables:

    AUTOMATED_TESTING = 1
    LANG = en_US.UTF-8
    PATH = /home/sand/bin:/usr/local/bin:/usr/local/sbin:/usr/sbin:/usr/bin:/sbin:/bin:/usr/games:/usr/local/games:/snap/bin:/usr/local/perl/bin:/usr/X11/bin
    PERL = /tmp/basesmoker-reloperl-GxvO/bin/perl
    PERL5LIB = /tmp/loop_over_bdir-1042184-X693P3/Net-Async-WebService-lxd-0.03-0/blib/arch:/tmp/loop_over_bdir-1042184-X693P3/Net-Async-WebService-lxd-0.03-0/blib/lib:/tmp/loop_over_bdir-1042184-X693P3/Module-ScanDeps-Static-1.7.6-0/blib/arch:/tmp/loop_over_bdir-1042184-X693P3/Module-ScanDeps-Static-1.7.6-0/blib/lib:/tmp/loop_over_bdir-1042184-X693P3/MP3-PodcastFetch-1.05-0/blib/arch:/tmp/loop_over_bdir-1042184-X693P3/MP3-PodcastFetch-1.05-0/blib/lib:/tmp/loop_over_bdir-1042184-X693P3/CORBA-Python-2.66-0/blib/arch:/tmp/loop_over_bdir-1042184-X693P3/CORBA-Python-2.66-0/blib/lib
    PERL5OPT = 
    PERL5_CPANPLUS_IS_RUNNING = 1042192
    PERL5_CPAN_IS_RUNNING = 1042192
    PERL_CANARY_STABILITY_NOPROMPT = 1
    PERL_MM_USE_DEFAULT = 1
    PERL_USE_UNSAFE_INC = 1
    SHELL = /usr/bin/zsh
    TERM = screen

Perl special variables (and OS-specific diagnostics, for MSWin32):

    $^X = /tmp/basesmoker-reloperl-GxvO/bin/perl
    $UID/$EUID = 1005 / 1005
    $GID = 1005 1005
    $EGID = 1005 1005

Perl module toolchain versions installed:

    Module              Have    
    ------------------- --------
    CPAN                2.38    
    CPAN::Meta          2.150010
    Cwd                 3.94    
    ExtUtils::CBuilder  0.280241
    ExtUtils::Command   7.76    
    ExtUtils::Install   2.22    
    ExtUtils::MakeMaker 7.76    
    ExtUtils::Manifest  1.75    
    ExtUtils::ParseXS   3.57    
    File::Spec          3.94    
    JSON                4.10    
    JSON::PP            4.16    
    Module::Build       0.4234  
    Module::Signature   0.89    
    Parse::CPAN::Meta   2.150010
    Test2               1.302214
    Test::Harness       3.52    
    Test::More          1.302214
    YAML                1.31    
    YAML::Syck          1.34    
    version             0.9933  


--

Summary of my perl5 (revision 5 version 41 subversion 13) configuration:
  Commit id: d2160cfe5bf88d5cf4234c7f8e2896a025383549
  Platform:
    osname=linux
    osvers=5.4.0-208-generic
    archname=x86_64-linux
    uname='linux k93focal 5.4.0-208-generic #228-ubuntu smp fri feb 7 19:41:33 utc 2025 x86_64 x86_64 x86_64 gnulinux '
    config_args='-Dprefix=/home/sand/src/perl/repoperls/installed-perls/host/k93focal/v5.41.13/b254 -Dmyhostname=k93focal -Dinstallusrbinperl=n -Uversiononly -Dusedevel -des -Ui_db -Dlibswanted=cl pthread socket inet nsl gdbm dbm malloc dl ld sun m crypt sec util c cposix posix ucb BSD gdbm_compat -Uuseithreads -Uuselongdouble -DEBUGGING=both'
    hint=recommended
    useposix=true
    d_sigaction=define
    useithreads=undef
    usemultiplicity=undef
    use64bitint=define
    use64bitall=define
    uselongdouble=undef
    usemymalloc=n
    default_inc_excludes_dot=define
  Compiler:
    cc='cc'
    ccflags ='-fwrapv -DDEBUGGING -fno-strict-aliasing -pipe -fstack-protector-strong -I/usr/local/include -D_LARGEFILE_SOURCE -D_FILE_OFFSET_BITS=64'
    optimize='-O2 -g'
    cppflags='-fwrapv -DDEBUGGING -fno-strict-aliasing -pipe -fstack-protector-strong -I/usr/local/include'
    ccversion=''
    gccversion='9.4.0'
    gccosandvers=''
    intsize=4
    longsize=8
    ptrsize=8
    doublesize=8
    byteorder=12345678
    doublekind=3
    d_longlong=define
    longlongsize=8
    d_longdbl=define
    longdblsize=16
    longdblkind=3
    ivtype='long'
    ivsize=8
    nvtype='double'
    nvsize=8
    Off_t='off_t'
    lseeksize=8
    alignbytes=8
    prototype=define
  Linker and Libraries:
    ld='cc'
    ldflags =' -fstack-protector-strong -L/usr/local/lib'
    libpth=/usr/local/lib /usr/lib/x86_64-linux-gnu /usr/lib /usr/lib64
    libs=-lpthread -lnsl -ldl -lm -lcrypt -lutil -lc
    perllibs=-lpthread -lnsl -ldl -lm -lcrypt -lutil -lc
    libc=libc-2.31.so
    so=so
    useshrplib=false
    libperl=libperl.a
    gnulibc_version='2.31'
  Dynamic Linking:
    dlsrc=dl_dlopen.xs
    dlext=so
    d_dlsymun=undef
    ccdlflags='-Wl,-E'
    cccdlflags='-fPIC'
    lddlflags='-shared -O2 -g -L/usr/local/lib -fstack-protector-strong'


Characteristics of this binary (from libperl): 
  Compile-time options:
    DEBUGGING
    HAS_LONG_DOUBLE
    HAS_STRTOLD
    HAS_TIMES
    PERLIO_LAYERS
    PERL_COPY_ON_WRITE
    PERL_DONT_CREATE_GVSV
    PERL_HASH_FUNC_SIPHASH13
    PERL_HASH_USE_SBOX32
    PERL_MALLOC_WRAP
    PERL_OP_PARENT
    PERL_PRESERVE_IVUV
    PERL_USE_DEVEL
    PERL_USE_SAFE_PUTENV
    USE_64_BIT_ALL
    USE_64_BIT_INT
    USE_LARGE_FILES
    USE_LOCALE
    USE_LOCALE_COLLATE
    USE_LOCALE_CTYPE
    USE_LOCALE_NUMERIC
    USE_LOCALE_TIME
    USE_PERLIO
    USE_PERL_ATOF
  Built under linux
  Compiled at May 29 2025 11:45:45
  %ENV:
    PERL="/tmp/basesmoker-reloperl-GxvO/bin/perl"
    PERL5LIB="/tmp/loop_over_bdir-1042184-X693P3/Net-Async-WebService-lxd-0.03-0/blib/arch:/tmp/loop_over_bdir-1042184-X693P3/Net-Async-WebService-lxd-0.03-0/blib/lib:/tmp/loop_over_bdir-1042184-X693P3/Module-ScanDeps-Static-1.7.6-0/blib/arch:/tmp/loop_over_bdir-1042184-X693P3/Module-ScanDeps-Static-1.7.6-0/blib/lib:/tmp/loop_over_bdir-1042184-X693P3/MP3-PodcastFetch-1.05-0/blib/arch:/tmp/loop_over_bdir-1042184-X693P3/MP3-PodcastFetch-1.05-0/blib/lib:/tmp/loop_over_bdir-1042184-X693P3/CORBA-Python-2.66-0/blib/arch:/tmp/loop_over_bdir-1042184-X693P3/CORBA-Python-2.66-0/blib/lib"
    PERL5OPT=""
    PERL5_CPANPLUS_IS_RUNNING="1042192"
    PERL5_CPAN_IS_RUNNING="1042192"
    PERL_CANARY_STABILITY_NOPROMPT="1"
    PERL_MM_USE_DEFAULT="1"
    PERL_USE_UNSAFE_INC="1"
  @INC:
    /tmp/loop_over_bdir-1042184-X693P3/Net-Async-WebService-lxd-0.03-0/blib/arch
    /tmp/loop_over_bdir-1042184-X693P3/Net-Async-WebService-lxd-0.03-0/blib/lib
    /tmp/loop_over_bdir-1042184-X693P3/Module-ScanDeps-Static-1.7.6-0/blib/arch
    /tmp/loop_over_bdir-1042184-X693P3/Module-ScanDeps-Static-1.7.6-0/blib/lib
    /tmp/loop_over_bdir-1042184-X693P3/MP3-PodcastFetch-1.05-0/blib/arch
    /tmp/loop_over_bdir-1042184-X693P3/MP3-PodcastFetch-1.05-0/blib/lib
    /tmp/loop_over_bdir-1042184-X693P3/CORBA-Python-2.66-0/blib/arch
    /tmp/loop_over_bdir-1042184-X693P3/CORBA-Python-2.66-0/blib/lib
    /home/sand/src/perl/repoperls/installed-perls/host/k93focal/v5.41.13/b254/lib/site_perl/5.41.13/x86_64-linux
    /home/sand/src/perl/repoperls/installed-perls/host/k93focal/v5.41.13/b254/lib/site_perl/5.41.13
    /home/sand/src/perl/repoperls/installed-perls/host/k93focal/v5.41.13/b254/lib/5.41.13/x86_64-linux
    /home/sand/src/perl/repoperls/installed-perls/host/k93focal/v5.41.13/b254/lib/5.41.13
    .