Module-Build v0.42_35 Perl 5 v5.26.2 x86_64-linux-thread-multi
- Status
- Pass
- From
- David Cantrell (DCANTRELL)
- Dist
-
Module-Build v0.42_35
- Platform
- Perl 5 v5.26.2 x86_64-linux-thread-multi
- Date
- 2023-05-02 12:58:59
- ID
- 1b152746-e8e9-11ed-a988-991afe4dc7a1
This distribution has been tested as part of the CPAN Testers
project, supporting the Perl programming language. See
http://wiki.cpantesters.org/ for more information or email
questions to cpan-testers-discuss@perl.org
--
Dear Leon Timmermans,
This is a computer-generated report for Module-Build-0.42_35
on perl 5.26.2, created by CPAN-Reporter-1.2018.
Thank you for uploading your work to CPAN. Congratulations!
All tests were successful.
Sections of this report:
* Tester comments
* Program output
* Prerequisites
* Environment and other context
------------------------------
TESTER COMMENTS
------------------------------
Additional comments from tester:
this report is from an automated smoke testing program
and was not reviewed by a human for accuracy
------------------------------
PROGRAM OUTPUT
------------------------------
Output from './Build test':
t/00-compile.t ................. ok
t/PL_files.t ................... ok
t/actions/installdeps.t ........ ok
t/actions/manifest_skip.t ...... ok
t/add_property.t ............... ok
t/add_property_array.t ......... ok
t/add_property_hash.t .......... ok
t/basic.t ...................... ok
t/bundle_inc.t ................. skipped: $ENV{MB_TEST_EXPERIMENTAL} is not set
t/compat.t ..................... ok
t/compat/exit.t ................ ok
t/debug.t ...................... ok
t/destinations.t ............... ok
t/ext.t ........................ ok
t/extend.t ..................... ok
t/files.t ...................... ok
t/help.t ....................... ok
t/install.t .................... ok
t/install_extra_target.t ....... ok
t/manifypods.t ................. ok
t/manifypods_with_utf8.t ....... ok
t/metadata.t ................... ok
t/metadata2.t .................. ok
t/mymeta.t ..................... ok
t/new_from_context.t ........... ok
t/notes.t ...................... ok
t/par.t ........................ skipped: PAR::Dist 0.17 or up not installed to check .par's.
t/parents.t .................... ok
t/perl_mb_opt.t ................ ok
t/pod_parser.t ................. ok
t/ppm.t ........................ ok
t/properties/dist_suffix.t ..... ok
t/properties/license.t ......... ok
t/properties/module_name.t ..... ok
t/properties/needs_compiler.t .. ok
t/properties/release_status.t .. ok
t/properties/requires.t ........ ok
t/properties/share_dir.t ....... ok
t/resume.t ..................... ok
t/runthrough.t ................. ok
t/sample.t ..................... ok
t/script_dist.t ................ ok
t/signature.t .................. ok
t/test_file_exts.t ............. ok
t/test_reqs.t .................. ok
t/test_type.t .................. ok
t/test_types.t ................. ok
t/tilde.t ...................... ok
t/unit_run_test_harness.t ...... ok
t/use_tap_harness.t ............ ok
t/versions.t ................... ok
t/write_default_maniskip.t ..... ok
t/xs.t ......................... ok
All tests successful.
Files=53, Tests=1189, 626 wallclock secs ( 0.77 usr 0.29 sys + 143.70 cusr 30.52 csys = 175.28 CPU)
Result: PASS
------------------------------
PREREQUISITES
------------------------------
Prerequisite modules loaded:
requires:
Module Need Have
---------------------- -------- --------
CPAN::Meta 2.142060 2.150010
Cwd 0 3.67
Data::Dumper 0 2.167
ExtUtils::CBuilder 0.27 0.280236
ExtUtils::Install 0 2.06
ExtUtils::InstallPaths 0.003 0.012
ExtUtils::Manifest 0 1.75
ExtUtils::Mkbootstrap 0 7.70
ExtUtils::ParseXS 2.21 3.34
File::Basename 0 2.85
File::Compare 0 1.1006
File::Copy 0 2.32
File::Find 0 1.34
File::Path 0 2.12_01
File::Spec 0.82 3.67
Getopt::Long 0 2.49
Module::Metadata 1.000002 1.000038
perl 5.006001 5.026002
Perl::OSType 1 1.010
TAP::Harness 3.29 3.38
Text::Abbrev 0 1.02
Text::ParseWords 0 3.30
version 0.87 0.9917
build_requires:
Module Need Have
---------------------- -------- --------
CPAN::Meta::YAML 0.003 0.018
File::Temp 0.15 0.2304
Parse::CPAN::Meta 1.4401 2.150010
TAP::Harness 3.29 3.38
Test::More 0.49 1.302195
configure_requires:
Module Need Have
---------------------- -------- --------
CPAN::Meta 2.142060 2.150010
File::Basename 0 2.85
File::Copy 0 2.32
File::Path 0 2.12_01
File::Spec 0.82 3.67
Module::Metadata 1.000002 1.000038
Perl::OSType 1 1.010
version 0.87 0.9917
------------------------------
ENVIRONMENT AND OTHER CONTEXT
------------------------------
Environment variables:
AUTOMATED_TESTING = 1
LANG = en_GB.UTF-8
LANGUAGE = en_GB:en
LC_TERMINAL = iTerm2
LC_TERMINAL_VERSION = 3.4.19
NONINTERACTIVE_TESTING = 1
PATH = /home/david/.nvm/versions/node/v18.15.0/bin:/home/david/.cargo/bin:/home/david/perl5/perlbrew/bin:/home/david/perl5/perlbrew/perls/perl-5.30.2/bin:/home/david/bin:/usr/local/bin:/usr/bin:/bin:/usr/local/games:/usr/games
PERL = 5.26.2
PERL5LIB =
PERL5OPT =
PERL5_CPANPLUS_IS_RUNNING = 80888
PERL5_CPAN_IS_RUNNING = 80888
PERLBREW_HOME = /home/david/.perlbrew
PERLBREW_MANPATH = /home/david/perl5/perlbrew/perls/perl-5.30.2/man
PERLBREW_PATH = /home/david/perl5/perlbrew/bin:/home/david/perl5/perlbrew/perls/perl-5.30.2/bin
PERLBREW_PERL = perl-5.30.2
PERLBREW_ROOT = /home/david/perl5/perlbrew
PERLBREW_SHELLRC_VERSION = 0.89
PERLBREW_VERSION = 0.89
PERLVER = 5.26.2
PERL_INLINE_DIRECTORY = /home/david/.Inline-5.26.2
PERL_MM_USE_DEFAULT = 1
PERL_USE_UNSAFE_INC = 0
SHELL = /bin/bash
TERM = screen
Perl special variables (and OS-specific diagnostics, for MSWin32):
$^X = /home/david/cpantesting/perl-5.26.2/bin/perl
$UID/$EUID = 1000 / 1000
$GID = 1000 24 25 27 29 30 44 46 109 1000
$EGID = 1000 24 25 27 29 30 44 46 109 1000
Perl module toolchain versions installed:
Module Have
------------------- ----------
CPAN 2.18
CPAN::Meta 2.150010
Cwd 3.67
ExtUtils::CBuilder 0.280236
ExtUtils::Command 7.70
ExtUtils::Install 2.06
ExtUtils::MakeMaker 7.70
ExtUtils::Manifest 1.75
ExtUtils::ParseXS 3.34
File::Spec 3.67
JSON 4.10
JSON::PP 2.27400_02
Module::Build 0.4231
Module::Signature n/a
Parse::CPAN::Meta 2.150010
Test::Harness 3.38
Test::More 1.302195
YAML 1.30
YAML::Syck n/a
version 0.9917
--
Summary of my perl5 (revision 5 version 26 subversion 2) configuration:
Platform:
osname=linux
osvers=5.10.0-11-amd64
archname=x86_64-linux-thread-multi
uname='linux cpantesting-linux-utm 5.10.0-11-amd64 #1 smp debian 5.10.92-1 (2022-01-18) x86_64 gnulinux '
config_args='-de -Dusethreads -Dprefix=/home/david/cpantesting/perl-5.26.2'
hint=recommended
useposix=true
d_sigaction=define
useithreads=define
usemultiplicity=define
use64bitint=define
use64bitall=define
uselongdouble=undef
usemymalloc=n
default_inc_excludes_dot=define
bincompat5005=undef
Compiler:
cc='cc'
ccflags ='-D_REENTRANT -D_GNU_SOURCE -fwrapv -fno-strict-aliasing -pipe -fstack-protector-strong -I/usr/local/include -D_LARGEFILE_SOURCE -D_FILE_OFFSET_BITS=64 -D_FORTIFY_SOURCE=2'
optimize='-O2'
cppflags='-D_REENTRANT -D_GNU_SOURCE -fwrapv -fno-strict-aliasing -pipe -fstack-protector-strong -I/usr/local/include'
ccversion=''
gccversion='10.2.1 20210110'
gccosandvers=''
intsize=4
longsize=8
ptrsize=8
doublesize=8
byteorder=12345678
doublekind=3
d_longlong=define
longlongsize=8
d_longdbl=define
longdblsize=16
longdblkind=3
ivtype='long'
ivsize=8
nvtype='double'
nvsize=8
Off_t='off_t'
lseeksize=8
alignbytes=8
prototype=define
Linker and Libraries:
ld='cc'
ldflags =' -fstack-protector-strong -L/usr/local/lib'
libpth=/usr/local/lib /usr/include/x86_64-linux-gnu /usr/lib /lib/x86_64-linux-gnu /lib/../lib /usr/lib/x86_64-linux-gnu /usr/lib/../lib /lib /lib64 /usr/lib64
libs=-lpthread -lnsl -ldl -lm -lcrypt -lutil -lc
perllibs=-lpthread -lnsl -ldl -lm -lcrypt -lutil -lc
libc=libc-2.31.so
so=so
useshrplib=false
libperl=libperl.a
gnulibc_version='2.31'
Dynamic Linking:
dlsrc=dl_dlopen.xs
dlext=so
d_dlsymun=undef
ccdlflags='-Wl,-E'
cccdlflags='-fPIC'
lddlflags='-shared -O2 -L/usr/local/lib -fstack-protector-strong'
Characteristics of this binary (from libperl):
Compile-time options:
HAS_TIMES
MULTIPLICITY
PERLIO_LAYERS
PERL_COPY_ON_WRITE
PERL_DONT_CREATE_GVSV
PERL_IMPLICIT_CONTEXT
PERL_MALLOC_WRAP
PERL_OP_PARENT
PERL_PRESERVE_IVUV
USE_64_BIT_ALL
USE_64_BIT_INT
USE_ITHREADS
USE_LARGE_FILES
USE_LOCALE
USE_LOCALE_COLLATE
USE_LOCALE_CTYPE
USE_LOCALE_NUMERIC
USE_LOCALE_TIME
USE_PERLIO
USE_PERL_ATOF
USE_REENTRANT_API
Locally applied patches:
Devel::PatchPerl 2.08
Built under linux
Compiled at Feb 5 2022 21:06:00
%ENV:
PERL="5.26.2"
PERL5LIB=""
PERL5OPT=""
PERL5_CPANPLUS_IS_RUNNING="80888"
PERL5_CPAN_IS_RUNNING="80888"
PERLBREW_HOME="/home/david/.perlbrew"
PERLBREW_MANPATH="/home/david/perl5/perlbrew/perls/perl-5.30.2/man"
PERLBREW_PATH="/home/david/perl5/perlbrew/bin:/home/david/perl5/perlbrew/perls/perl-5.30.2/bin"
PERLBREW_PERL="perl-5.30.2"
PERLBREW_ROOT="/home/david/perl5/perlbrew"
PERLBREW_SHELLRC_VERSION="0.89"
PERLBREW_VERSION="0.89"
PERLVER="5.26.2"
PERL_INLINE_DIRECTORY="/home/david/.Inline-5.26.2"
PERL_MM_USE_DEFAULT="1"
PERL_USE_UNSAFE_INC="0"
@INC:
/home/david/cpantesting/perl-5.26.2/lib/site_perl/5.26.2/x86_64-linux-thread-multi
/home/david/cpantesting/perl-5.26.2/lib/site_perl/5.26.2
/home/david/cpantesting/perl-5.26.2/lib/5.26.2/x86_64-linux-thread-multi
/home/david/cpantesting/perl-5.26.2/lib/5.26.2