Report for File-DataClass-0.73.1

Back
From: metabase:user:30f4dfbe-2aae-11df-837a-5e0a49663a4f
Subject: PASS File-DataClass-0.73.1 v5.22.2 Mac OS X
Date: 2017-07-04T11:58:33Z

This distribution has been tested as part of the CPAN Testers
project, supporting the Perl programming language.  See
http://wiki.cpantesters.org/ for more information or email
questions to cpan-testers-discuss@perl.org


--
Dear Peter Flanigan,

This is a computer-generated report for File-DataClass-0.73.1
on perl 5.22.2, created by CPAN-Reporter-1.2018.

Thank you for uploading your work to CPAN.  Congratulations!
All tests were successful.

Sections of this report:

    * Tester comments
    * Program output
    * Prerequisites
    * Environment and other context

------------------------------
TESTER COMMENTS
------------------------------

Additional comments from tester:

this report is from an automated smoke testing program
and was not reviewed by a human for accuracy

------------------------------
PROGRAM OUTPUT
------------------------------

Output from './Build test':


OS: darwin, Host: ncbimac2027

=== Environment variables ===

    $AUTHOR_TESTING                   undef
    $AUTOMATED_TESTING                1
    $EXTENDED_TESTING                 undef
    $NONINTERACTIVE_TESTING           undef
    $PERL_CPAN_REPORTER_CONFIG        undef
    $PERL_CR_SMOKER_CURRENT           undef
    $PERL5_CPAN_IS_RUNNING            38667
    $PERL5_CPANPLUS_IS_VERSION        undef
    $TEST_CRITIC                      undef
    $TEST_SPELLING                    undef

Versions for all modules listed in MYMETA.json (including optional ones):

=== Configure Requires ===

    Module          Want   Have
    ------------- ------ ------
    Module::Build 0.4004 0.4220
    version         0.88 0.9917

=== Build Requires ===

    Module          Want   Have
    ------------- ------ ------
    Module::Build 0.4004 0.4220
    version         0.88 0.9917

=== Test Requires ===

    Module             Want     Have
    ---------------- ------ --------
    Capture::Tiny      0.30     0.44
    File::Spec          any     3.62
    File::pushd        1.00    1.014
    Module::Build    0.4004   0.4220
    Module::Metadata    any 1.000033
    Path::Tiny        0.013    0.100
    Sys::Hostname       any     1.20
    Test::Deep        0.117    1.126
    Test::Requires     0.06     0.10
    Text::Diff         1.37     1.44
    version            0.88   0.9917

=== Test Recommends ===

    Module         Want     Have
    ---------- -------- --------
    CPAN::Meta 2.120900 2.150010

=== Runtime Requires ===

    Module                   Want     Have
    -------------------- -------- --------
    Cache::FastMmap          1.40     1.45
    Class::Null          2.110730 2.110730
    File::Path               2.09     2.12
    File::ReadBackwards      1.05     1.05
    Hash::Merge             0.200    0.200
    JSON::MaybeXS           1.003 1.003008
    Module::Pluggable         5.1      5.2
    Module::Runtime         0.014    0.014
    Moo                  2.000001 2.003000
    Sub::Install            0.928    0.928
    Subclass::Of            0.003    0.007
    Try::Tiny                0.22     0.28
    Type::Tiny           1.000002 1.000005
    Unexpected            v0.39.0   0.46.1
    boolean                  0.45     0.46
    namespace::autoclean     0.26     0.28
    namespace::clean         0.25     0.27

t/00report-metadata.t .. ok
t/02pod.t .............. skipped: POD test only for developers
t/03podcoverage.t ...... skipped: POD coverage test only for developers
t/05kwalitee.t ......... skipped: Kwalitee test only for developers
t/06yaml.t ............. skipped: YAML test only for developers
t/07podspelling.t ...... skipped: POD spelling test only for developers
t/10exception.t ........ ok
t/12types.t ............ ok
t/13functions.t ........ ok
t/15io.t ............... ok
t/17constraints.t ...... ok
t/20data-class.t ....... ok
t/21hash-merge.t ....... ok
t/50json.t ............. ok
All tests successful.
Files=14, Tests=198,  3 wallclock secs ( 0.05 usr  0.03 sys +  2.01 cusr  0.80 csys =  2.89 CPU)
Result: PASS

------------------------------
PREREQUISITES
------------------------------

Prerequisite modules loaded:

requires:

    Module               Need     Have    
    -------------------- -------- --------
    boolean              0.45     0.46    
    Cache::FastMmap      1.40     1.45    
    Class::Null          2.110730 2.110730
    File::Path           2.09     2.12    
    File::ReadBackwards  1.05     1.05    
    Hash::Merge          0.200    0.200   
    JSON::MaybeXS        1.003    1.003008
    Module::Pluggable    5.1      5.2     
    Module::Runtime      0.014    0.014   
    Moo                  2.000001 2.003000
    namespace::autoclean 0.26     0.28    
    namespace::clean     0.25     0.27    
    perl                 5.010001 5.022002
    Sub::Install         0.928    0.928   
    Subclass::Of         0.003    0.007   
    Try::Tiny            0.22     0.28    
    Type::Tiny           1.000002 1.000005
    Unexpected           v0.39.0  0.46.1  

build_requires:

    Module               Need     Have    
    -------------------- -------- --------
    Capture::Tiny        0.30     0.44    
    File::pushd          1.00     1.014   
    File::Spec           0        3.62    
    Module::Build        0.4004   0.4220  
    Module::Metadata     0        1.000033
    Path::Tiny           0.013    0.100   
    Sys::Hostname        0        1.20    
    Test::Deep           0.117    1.126   
    Test::Requires       0.06     0.10    
    Text::Diff           1.37     1.44    
    version              0.88     0.9917  

configure_requires:

    Module               Need     Have    
    -------------------- -------- --------
    Module::Build        0.4004   0.4220  
    version              0.88     0.9917  


------------------------------
ENVIRONMENT AND OTHER CONTEXT
------------------------------

Environment variables:

    AUTOMATED_TESTING = 1
    LANG = en_US.UTF-8
    LC_ALL = POSIX
    LDFLAGS = 
    PATH = /Users/hornenj/perl5/perlbrew/bin:/Users/hornenj/perl5/perlbrew/perls/perl-5.22.2/bin:/Users/hornenj/perl5/perlbrew/bin:/Users/hornenj/bin:/sw/lib/perl5/ExtUtils:/sw/bin:/usr/bin:/bin:/usr/X11R6/bin
    PERL5LIB = /Users/hornenj/.cpan/build/Unexpected-0.46.1-2/blib/arch:/Users/hornenj/.cpan/build/Unexpected-0.46.1-2/blib/lib:/Users/hornenj/.cpan/build/Subclass-Of-0.007-2/blib/arch:/Users/hornenj/.cpan/build/Subclass-Of-0.007-2/blib/lib:/Users/hornenj/.cpan/build/Hash-Merge-0.200-3/blib/arch:/Users/hornenj/.cpan/build/Hash-Merge-0.200-3/blib/lib:/Users/hornenj/.cpan/build/File-ReadBackwards-1.05-2/blib/arch:/Users/hornenj/.cpan/build/File-ReadBackwards-1.05-2/blib/lib:/Users/hornenj/.cpan/build/Cache-FastMmap-1.45-2/blib/arch:/Users/hornenj/.cpan/build/Cache-FastMmap-1.45-2/blib/lib:/Users/hornenj/.cpan/build/DateTime-Format-Epoch-0.16-2/blib/arch:/Users/hornenj/.cpan/build/DateTime-Format-Epoch-0.16-2/blib/lib:/Users/hornenj/.cpan/build/Data-Record-0.02-2/blib/arch:/Users/hornenj/.cpan/build/Data-Record-0.02-2/blib/lib:/Users/hornenj/.cpan/build/Crypt-CBC-2.33-9/blib/arch:/Users/hornenj/.cpan/build/Crypt-CBC-2.33-9/blib/lib:/Users/hornenj/.cpan/build/Class-Null-2.110730-2/blib/arch:/Users/hornenj/.cpan/build/Class-Null-2.110730-2/blib/lib
    PERL5OPT = 
    PERL5_CPANPLUS_IS_RUNNING = 38667
    PERL5_CPAN_IS_RUNNING = 38667
    PERL5_MINISMOKEBOX = 0.68
    PERLBREW_BASHRC_VERSION = 0.77
    PERLBREW_HOME = /Users/hornenj/.perlbrew
    PERLBREW_LIB = 
    PERLBREW_MANPATH = /Users/hornenj/perl5/perlbrew/perls/perl-5.22.2/man
    PERLBREW_PATH = /Users/hornenj/perl5/perlbrew/bin:/Users/hornenj/perl5/perlbrew/perls/perl-5.22.2/bin
    PERLBREW_PERL = perl-5.22.2
    PERLBREW_ROOT = /Users/hornenj/perl5/perlbrew
    PERLBREW_VERSION = 0.77
    PERL_EXTUTILS_AUTOINSTALL = --defaultdeps
    PERL_LOCAL_LIB_ROOT = 
    PERL_MM_USE_DEFAULT = 1
    SHELL = /bin/bash
    TERM = xterm-256color
    TMPDIR = /var/folders/pz/pd7y1qjs6s3cbk170cw50fjc000c61/T/
    ac_cv_path_INTLTOOL_PERL = /usr/bin/perl

Perl special variables (and OS-specific diagnostics, for MSWin32):

    $^X = /Users/hornenj/perl5/perlbrew/perls/perl-5.22.2/bin/perl5.22.2
    $UID/$EUID = 12481 / 12481
    $GID = 14 14 5344 37191 527 37223 241
    $EGID = 14 14 5344 37191 527 37223 241

Perl module toolchain versions installed:

    Module              Have    
    ------------------- --------
    CPAN                2.16    
    CPAN::Meta          2.150010
    Cwd                 3.62    
    ExtUtils::CBuilder  0.280224
    ExtUtils::Command   7.24    
    ExtUtils::Install   2.04    
    ExtUtils::MakeMaker 7.24    
    ExtUtils::Manifest  1.70    
    ExtUtils::ParseXS   3.30    
    File::Spec          3.62    
    JSON                2.93    
    JSON::PP            2.27400 
    Module::Build       0.4220  
    Module::Signature   0.79    
    Parse::CPAN::Meta   2.150010
    Test::Harness       3.36    
    Test::More          1.302086
    YAML                1.23    
    YAML::Syck          1.30    
    version             0.9917  


--

Summary of my perl5 (revision 5 version 22 subversion 2) configuration:
   
  Platform:
    osname=darwin, osvers=14.5.0, archname=darwin-thread-multi-2level
    uname='darwin ncbimac2027 14.5.0 darwin kernel version 14.5.0: mon jan 11 18:48:35 pst 2016; root:xnu-2782.50.2~1release_x86_64 x86_64 '
    config_args='-de -Dprefix=/Users/hornenj/perl5/perlbrew/perls/perl-5.22.2 -Duseithreads -Dusemultiplicity -Dusedevel -Accflags=-O2 -W -Wformat=2 -Wswitch -Wshadow -Wwrite-strings -Wuninitialized -Wall -pipe -mtune=native -march=native -fomit-frame-pointer -msse2 -msse -mmmx -pedantic -D_FORTIFY_SOURCE=2 -Wpointer-arith -Wstrict-prototypes -fstack-protector -Wstack-protector -Wextra -Wbad-function-cast -Wcast-align -Wcast-qual -Wdisabled-optimization -Wendif-labels -Wfloat-equal -Wformat-nonliteral -Winline -Wmissing-declarations -Wmissing-prototypes -Wnested-externs -Wpointer-arith -Wundef -Wformat-security -fassociative-math -Acc=cc -Aeval:scriptdir=/Users/hornenj/perl5/perlbrew/perls/perl-5.22.2/bin'
    hint=recommended, useposix=true, d_sigaction=define
    useithreads=define, usemultiplicity=define
    use64bitint=define, use64bitall=define, uselongdouble=undef
    usemymalloc=n, bincompat5005=undef
  Compiler:
    cc=' cc', ccflags ='-fno-common -DPERL_DARWIN -O2 -W -Wformat=2 -Wswitch -Wshadow -Wwrite-strings -Wuninitialized -Wall -pipe -mtune=native -march=native -fomit-frame-pointer -msse2 -msse -mmmx -pedantic -D_FORTIFY_SOURCE=2 -Wpointer-arith -Wstrict-prototypes -fstack-protector -Wstack-protector -Wextra -Wbad-function-cast -Wcast-align -Wcast-qual -Wdisabled-optimization -Wendif-labels -Wfloat-equal -Wformat-nonliteral -Winline -Wmissing-declarations -Wmissing-prototypes -Wnested-externs -Wpointer-arith -Wundef -Wformat-security -fassociative-math -fno-strict-aliasing -fstack-protector-strong -I/usr/local/include',
    optimize='-O3',
    cppflags='-fno-common -DPERL_DARWIN -O2 -W -Wformat=2 -Wswitch -Wshadow -Wwrite-strings -Wuninitialized -Wall -pipe -mtune=native -march=native -fomit-frame-pointer -msse2 -msse -mmmx -pedantic -D_FORTIFY_SOURCE=2 -Wpointer-arith -Wstrict-prototypes -fstack-protector -Wstack-protector -Wextra -Wbad-function-cast -Wcast-align -Wcast-qual -Wdisabled-optimization -Wendif-labels -Wfloat-equal -Wformat-nonliteral -Winline -Wmissing-declarations -Wmissing-prototypes -Wnested-externs -Wpointer-arith -Wundef -Wformat-security -fassociative-math -fno-strict-aliasing -fstack-protector-strong -I/usr/local/include'
    ccversion='', gccversion='4.2.1 Compatible Apple LLVM 7.0.2 (clang-700.1.81)', gccosandvers=''
    intsize=4, longsize=8, ptrsize=8, doublesize=8, byteorder=12345678, doublekind=3
    d_longlong=define, longlongsize=8, d_longdbl=define, longdblsize=16, longdblkind=3
    ivtype='long', ivsize=8, nvtype='double', nvsize=8, Off_t='off_t', lseeksize=8
    alignbytes=8, prototype=define
  Linker and Libraries:
    ld='env MACOSX_DEPLOYMENT_TARGET=10.3 cc', ldflags =' -fstack-protector-strong -L/usr/local/lib'
    libpth=/usr/local/lib /Applications/Xcode.app/Contents/Developer/Toolchains/XcodeDefault.xctoolchain/usr/bin/../lib/clang/7.0.2/lib /Applications/Xcode.app/Contents/Developer/Toolchains/XcodeDefault.xctoolchain/usr/lib /usr/lib
    libs=-lpthread -ldbm -ldl -lm -lutil -lc
    perllibs=-lpthread -ldl -lm -lutil -lc
    libc=, so=dylib, useshrplib=false, libperl=libperl.a
    gnulibc_version=''
  Dynamic Linking:
    dlsrc=dl_dlopen.xs, dlext=bundle, d_dlsymun=undef, ccdlflags=' '
    cccdlflags=' ', lddlflags=' -bundle -undefined dynamic_lookup -L/usr/local/lib -fstack-protector-strong'


Characteristics of this binary (from libperl): 
  Compile-time options: HAS_TIMES MULTIPLICITY PERLIO_LAYERS
                        PERL_DONT_CREATE_GVSV
                        PERL_HASH_FUNC_ONE_AT_A_TIME_HARD
                        PERL_IMPLICIT_CONTEXT PERL_MALLOC_WRAP
                        PERL_NEW_COPY_ON_WRITE PERL_PRESERVE_IVUV
                        PERL_USE_DEVEL USE_64_BIT_ALL USE_64_BIT_INT
                        USE_ITHREADS USE_LARGE_FILES USE_LOCALE
                        USE_LOCALE_COLLATE USE_LOCALE_CTYPE
                        USE_LOCALE_NUMERIC USE_LOCALE_TIME USE_PERLIO
                        USE_PERL_ATOF USE_REENTRANT_API
  Locally applied patches:
	Devel::PatchPerl 1.30
  Built under darwin
  Compiled at May  2 2016 08:59:06
  %ENV:
    PERL5LIB="/Users/hornenj/.cpan/build/Unexpected-0.46.1-2/blib/arch:/Users/hornenj/.cpan/build/Unexpected-0.46.1-2/blib/lib:/Users/hornenj/.cpan/build/Subclass-Of-0.007-2/blib/arch:/Users/hornenj/.cpan/build/Subclass-Of-0.007-2/blib/lib:/Users/hornenj/.cpan/build/Hash-Merge-0.200-3/blib/arch:/Users/hornenj/.cpan/build/Hash-Merge-0.200-3/blib/lib:/Users/hornenj/.cpan/build/File-ReadBackwards-1.05-2/blib/arch:/Users/hornenj/.cpan/build/File-ReadBackwards-1.05-2/blib/lib:/Users/hornenj/.cpan/build/Cache-FastMmap-1.45-2/blib/arch:/Users/hornenj/.cpan/build/Cache-FastMmap-1.45-2/blib/lib:/Users/hornenj/.cpan/build/DateTime-Format-Epoch-0.16-2/blib/arch:/Users/hornenj/.cpan/build/DateTime-Format-Epoch-0.16-2/blib/lib:/Users/hornenj/.cpan/build/Data-Record-0.02-2/blib/arch:/Users/hornenj/.cpan/build/Data-Record-0.02-2/blib/lib:/Users/hornenj/.cpan/build/Crypt-CBC-2.33-9/blib/arch:/Users/hornenj/.cpan/build/Crypt-CBC-2.33-9/blib/lib:/Users/hornenj/.cpan/build/Class-Null-2.110730-2/blib/arch:/Users/hornenj/.cpan/build/Class-Null-2.110730-2/blib/lib"
    PERL5OPT=""
    PERL5_CPANPLUS_IS_RUNNING="38667"
    PERL5_CPAN_IS_RUNNING="38667"
    PERL5_MINISMOKEBOX="0.68"
    PERLBREW_BASHRC_VERSION="0.77"
    PERLBREW_HOME="/Users/hornenj/.perlbrew"
    PERLBREW_LIB=""
    PERLBREW_MANPATH="/Users/hornenj/perl5/perlbrew/perls/perl-5.22.2/man"
    PERLBREW_PATH="/Users/hornenj/perl5/perlbrew/bin:/Users/hornenj/perl5/perlbrew/perls/perl-5.22.2/bin"
    PERLBREW_PERL="perl-5.22.2"
    PERLBREW_ROOT="/Users/hornenj/perl5/perlbrew"
    PERLBREW_VERSION="0.77"
    PERL_EXTUTILS_AUTOINSTALL="--defaultdeps"
    PERL_LOCAL_LIB_ROOT=""
    PERL_MM_USE_DEFAULT="1"
  @INC:
    /Users/hornenj/.cpan/build/Unexpected-0.46.1-2/blib/arch
    /Users/hornenj/.cpan/build/Unexpected-0.46.1-2/blib/lib
    /Users/hornenj/.cpan/build/Subclass-Of-0.007-2/blib/arch
    /Users/hornenj/.cpan/build/Subclass-Of-0.007-2/blib/lib
    /Users/hornenj/.cpan/build/Hash-Merge-0.200-3/blib/arch
    /Users/hornenj/.cpan/build/Hash-Merge-0.200-3/blib/lib
    /Users/hornenj/.cpan/build/File-ReadBackwards-1.05-2/blib/arch
    /Users/hornenj/.cpan/build/File-ReadBackwards-1.05-2/blib/lib
    /Users/hornenj/.cpan/build/Cache-FastMmap-1.45-2/blib/arch
    /Users/hornenj/.cpan/build/Cache-FastMmap-1.45-2/blib/lib
    /Users/hornenj/.cpan/build/DateTime-Format-Epoch-0.16-2/blib/arch
    /Users/hornenj/.cpan/build/DateTime-Format-Epoch-0.16-2/blib/lib
    /Users/hornenj/.cpan/build/Data-Record-0.02-2/blib/arch
    /Users/hornenj/.cpan/build/Data-Record-0.02-2/blib/lib
    /Users/hornenj/.cpan/build/Crypt-CBC-2.33-9/blib/arch
    /Users/hornenj/.cpan/build/Crypt-CBC-2.33-9/blib/lib
    /Users/hornenj/.cpan/build/Class-Null-2.110730-2/blib/arch
    /Users/hornenj/.cpan/build/Class-Null-2.110730-2/blib/lib
    /Users/hornenj/perl5/perlbrew/perls/perl-5.22.2/lib/site_perl/5.22.2/darwin-thread-multi-2level
    /Users/hornenj/perl5/perlbrew/perls/perl-5.22.2/lib/site_perl/5.22.2
    /Users/hornenj/perl5/perlbrew/perls/perl-5.22.2/lib/5.22.2/darwin-thread-multi-2level
    /Users/hornenj/perl5/perlbrew/perls/perl-5.22.2/lib/5.22.2
    .