Reaction v0.002005 Perl 5 v5.43.3 OpenBSD.amd64-openbsd

Status
Pass
From
Carlos Guevara
Dist
Reaction v0.002005
Platform
Perl 5 v5.43.3 OpenBSD.amd64-openbsd
Date
2025-09-24 04:44:07
ID
1acbc770-9901-11f0-b050-9a78e0e8f507
This distribution has been tested as part of the CPAN Testers
project, supporting the Perl programming language.  See
http://wiki.cpantesters.org/ for more information or email
questions to cpan-testers-discuss@perl.org


--
Dear Justin Hunter,

This is a computer-generated report for Reaction-0.002005
on perl 5.43.3, created by CPAN-Reporter-1.2020.

Thank you for uploading your work to CPAN.  Congratulations!
All tests were successful.

Sections of this report:

    * Tester comments
    * Program output
    * Prerequisites
    * Environment and other context

------------------------------
TESTER COMMENTS
------------------------------

Additional comments from tester:

this report is from an automated smoke testing program
and was not reviewed by a human for accuracy

------------------------------
PROGRAM OUTPUT
------------------------------

Output from '/usr/bin/make test':

PERL_DL_NONLAZY=1 "/home/cpan/bin/perl/bin/perl5.43.3" "-MExtUtils::Command::MM" "-MTest::Harness" "-e" "undef *Test::Harness::Switches; test_harness(0, 'inc', 'blib/lib', 'blib/arch')" t/00componentui_compiles.t t/01app.t t/04load_all.t t/05reflect_attr_from.t t/im_dbic.t t/ui_focus_stack.t t/ui_view.t t/ui_viewport.t t/uncheck_bool_field.t
Attempt to call undefined import method with arguments ("5.80") via package "Catalyst::Runtime" (Perhaps you forgot to load the package?) at /home/cpan/.cpan/build/Reaction-0.002005-0/blib/lib/ComponentUI.pm line 6.
Class::MOP::load_class is deprecated at /home/cpan/bin/perl/lib/site_perl/5.43.3/OpenBSD.amd64-openbsd/Class/MOP.pm line 69.
	Class::MOP::load_class("ComponentUI::TestModel") called at /home/cpan/.cpan/build/Reaction-0.002005-0/blib/lib/Catalyst/Model/Reaction/InterfaceModel/DBIC.pm line 24
	Catalyst::Model::Reaction::InterfaceModel::DBIC::COMPONENT("ComponentUI::Model::TestModel", "ComponentUI", HASH(0x1c2239e6760)) called at /home/cpan/bin/perl/lib/site_perl/5.43.3/Catalyst.pm line 3240
	eval {...} called at /home/cpan/bin/perl/lib/site_perl/5.43.3/Catalyst.pm line 3241
	Catalyst::setup_component("ComponentUI", "ComponentUI::Model::TestModel") called at /home/cpan/bin/perl/lib/site_perl/5.43.3/Catalyst.pm line 3218
	Catalyst::__ANON__() called at /home/cpan/bin/perl/lib/site_perl/5.43.3/Catalyst.pm line 3065
	Catalyst::setup_components("ComponentUI") called at /home/cpan/bin/perl/lib/site_perl/5.43.3/Catalyst.pm line 1438
	Catalyst::setup("ComponentUI") called at /home/cpan/.cpan/build/Reaction-0.002005-0/blib/lib/ComponentUI.pm line 32
	require ComponentUI.pm called at t/00componentui_compiles.t line 7
	main::BEGIN() called at t/00componentui_compiles.t line 7
	eval {...} called at t/00componentui_compiles.t line 7
	eval 'package main;
BEGIN { ${^WARNING_BITS} = $args[-1] if defined $args[-1] }
#line 7 t/00componentui_compiles.t
use ComponentUI @{$args[0]};
1;
' called at /home/cpan/bin/perl/lib/5.43.3/Test/More.pm line 1056
	Test::More::_eval("package main;\x{a}BEGIN { \${^WARNING_BITS} = \$args[-1] if defined"..., ARRAY(0x1c1e1e892b0), "UUUUUUUUUUUUUUUUUUUU") called at /home/cpan/bin/perl/lib/5.43.3/Test/More.pm line 1031
	Test::More::use_ok("ComponentUI") called at t/00componentui_compiles.t line 7
Class::MOP::load_class is deprecated at /home/cpan/bin/perl/lib/site_perl/5.43.3/OpenBSD.amd64-openbsd/Class/MOP.pm line 69.
	Class::MOP::load_class("Reaction::InterfaceModel::Object") called at /home/cpan/.cpan/build/Reaction-0.002005-0/blib/lib/Reaction/InterfaceModel/Reflector/DBIC.pm line 149
	Reaction::InterfaceModel::Reflector::DBIC::reflect_schema(Reaction::InterfaceModel::Reflector::DBIC=HASH(0x1c258f3cbc8), "model_class", "ComponentUI::TestModel", "schema_class", "RTest::TestDB", "sources", ARRAY(0x1c2a6620f88)) called at /home/cpan/.cpan/build/Reaction-0.002005-0/blib/lib/ComponentUI/TestModel.pm line 10
	require ComponentUI/TestModel.pm called at /home/cpan/bin/perl/lib/site_perl/5.43.3/Module/Runtime.pm line 120
	Module::Runtime::require_module("ComponentUI::TestModel") called at /home/cpan/bin/perl/lib/site_perl/5.43.3/Class/Load.pm line 174
	Class::Load::try {...} () called at /home/cpan/bin/perl/lib/site_perl/5.43.3/Try/Tiny.pm line 98
	eval {...} called at /home/cpan/bin/perl/lib/site_perl/5.43.3/Try/Tiny.pm line 93
	Try::Tiny::try(CODE(0x1c21a60be38), Try::Tiny::Catch=REF(0x1c21a568760)) called at /home/cpan/bin/perl/lib/site_perl/5.43.3/Class/Load.pm line 180
	Class::Load::try_load_class("ComponentUI::TestModel", undef) called at /home/cpan/bin/perl/lib/site_perl/5.43.3/Class/Load.pm line 35
	Class::Load::load_class("ComponentUI::TestModel") called at /home/cpan/.cpan/build/Reaction-0.002005-0/blib/lib/Catalyst/Model/Reaction/InterfaceModel/DBIC.pm line 24
	Catalyst::Model::Reaction::InterfaceModel::DBIC::COMPONENT("ComponentUI::Model::TestModel", "ComponentUI", HASH(0x1c2239e6760)) called at /home/cpan/bin/perl/lib/site_perl/5.43.3/Catalyst.pm line 3240
	eval {...} called at /home/cpan/bin/perl/lib/site_perl/5.43.3/Catalyst.pm line 3241
	Catalyst::setup_component("ComponentUI", "ComponentUI::Model::TestModel") called at /home/cpan/bin/perl/lib/site_perl/5.43.3/Catalyst.pm line 3218
	Catalyst::__ANON__() called at /home/cpan/bin/perl/lib/site_perl/5.43.3/Catalyst.pm line 3065
	Catalyst::setup_components("ComponentUI") called at /home/cpan/bin/perl/lib/site_perl/5.43.3/Catalyst.pm line 1438
	Catalyst::setup("ComponentUI") called at /home/cpan/.cpan/build/Reaction-0.002005-0/blib/lib/ComponentUI.pm line 32
	require ComponentUI.pm called at t/00componentui_compiles.t line 7
	main::BEGIN() called at t/00componentui_compiles.t line 7
	eval {...} called at t/00componentui_compiles.t line 7
	eval 'package main;
BEGIN { ${^WARNING_BITS} = $args[-1] if defined $args[-1] }
#line 7 t/00componentui_compiles.t
use ComponentUI @{$args[0]};
1;
' called at /home/cpan/bin/perl/lib/5.43.3/Test/More.pm line 1056
	Test::More::_eval("package main;\x{a}BEGIN { \${^WARNING_BITS} = \$args[-1] if defined"..., ARRAY(0x1c1e1e892b0), "UUUUUUUUUUUUUUUUUUUU") called at /home/cpan/bin/perl/lib/5.43.3/Test/More.pm line 1031
	Test::More::use_ok("ComponentUI") called at t/00componentui_compiles.t line 7
Class::MOP::load_class is deprecated at /home/cpan/bin/perl/lib/site_perl/5.43.3/OpenBSD.amd64-openbsd/Class/MOP.pm line 69.
	Class::MOP::load_class("Reaction::InterfaceModel::Object") called at /home/cpan/.cpan/build/Reaction-0.002005-0/blib/lib/Reaction/Class.pm line 123
	Reaction::Class::do_class_sub("Reaction::Class", "ComponentUI::TestModel::Foo", "ComponentUI::TestModel::Foo", "is", "Reaction::InterfaceModel::Object", "which", CODE(0x1c290068bf8)) called at /home/cpan/.cpan/build/Reaction-0.002005-0/blib/lib/Reaction/Class.pm line 86
	Reaction::Class::("ComponentUI::TestModel::Foo", "is", "Reaction::InterfaceModel::Object", "which", CODE(0x1c290068bf8)) called at /home/cpan/.cpan/build/Reaction-0.002005-0/blib/lib/ComponentUI/TestModel/Foo.pm line 8
	require ComponentUI/TestModel/Foo.pm called at /home/cpan/bin/perl/lib/site_perl/5.43.3/Module/Runtime.pm line 120
	Module::Runtime::require_module("ComponentUI::TestModel::Foo") called at /home/cpan/bin/perl/lib/site_perl/5.43.3/Class/Load.pm line 174
	Class::Load::try {...} () called at /home/cpan/bin/perl/lib/site_perl/5.43.3/Try/Tiny.pm line 98
	eval {...} called at /home/cpan/bin/perl/lib/site_perl/5.43.3/Try/Tiny.pm line 93
	Try::Tiny::try(CODE(0x1c290079c58), Try::Tiny::Catch=REF(0x1c29009a5e0)) called at /home/cpan/bin/perl/lib/site_perl/5.43.3/Class/Load.pm line 180
	Class::Load::try_load_class("ComponentUI::TestModel::Foo", undef) called at /home/cpan/bin/perl/lib/site_perl/5.43.3/Class/Load.pm line 35
	Class::Load::load_class("ComponentUI::TestModel::Foo") called at /home/cpan/.cpan/build/Reaction-0.002005-0/blib/lib/Reaction/InterfaceModel/Reflector/DBIC.pm line 892
	eval {...} called at /home/cpan/.cpan/build/Reaction-0.002005-0/blib/lib/Reaction/InterfaceModel/Reflector/DBIC.pm line 892
	Reaction::InterfaceModel::Reflector::DBIC::_maybe_load_class(Reaction::InterfaceModel::Reflector::DBIC=HASH(0x1c258f3cbc8), "ComponentUI::TestModel::Foo") called at /home/cpan/.cpan/build/Reaction-0.002005-0/blib/lib/Reaction/InterfaceModel/Reflector/DBIC.pm line 876
	Reaction::InterfaceModel::Reflector::DBIC::_load_or_create(Reaction::InterfaceModel::Reflector::DBIC=HASH(0x1c258f3cbc8), "ComponentUI::TestModel::Foo", "superclasses", ARRAY(0x1c29a0f6ce8)) called at /home/cpan/.cpan/build/Reaction-0.002005-0/blib/lib/Reaction/InterfaceModel/Reflector/DBIC.pm line 448
	Reaction::InterfaceModel::Reflector::DBIC::reflect_source_object(Reaction::InterfaceModel::Reflector::DBIC=HASH(0x1c258f3cbc8), "source_name", "Foo", "parent_class", "ComponentUI::TestModel", "schema_class", "RTest::TestDB", "source_class", ...) called at /home/cpan/.cpan/build/Reaction-0.002005-0/blib/lib/Reaction/InterfaceModel/Reflector/DBIC.pm line 323
	Reaction::InterfaceModel::Reflector::DBIC::reflect_source(Reaction::InterfaceModel::Reflector::DBIC=HASH(0x1c258f3cbc8), "source_name", "Foo", "parent_class", "ComponentUI::TestModel", "schema_class", "RTest::TestDB", "source_class", ...) called at /home/cpan/.cpan/build/Reaction-0.002005-0/blib/lib/Reaction/InterfaceModel/Reflector/DBIC.pm line 185
	Reaction::InterfaceModel::Reflector::DBIC::reflect_schema(Reaction::InterfaceModel::Reflector::DBIC=HASH(0x1c258f3cbc8), "model_class", "ComponentUI::TestModel", "schema_class", "RTest::TestDB", "sources", ARRAY(0x1c2a6620f88)) called at /home/cpan/.cpan/build/Reaction-0.002005-0/blib/lib/ComponentUI/TestModel.pm line 10
	require ComponentUI/TestModel.pm called at /home/cpan/bin/perl/lib/site_perl/5.43.3/Module/Runtime.pm line 120
	Module::Runtime::require_module("ComponentUI::TestModel") called at /home/cpan/bin/perl/lib/site_perl/5.43.3/Class/Load.pm line 174
	Class::Load::try {...} () called at /home/cpan/bin/perl/lib/site_perl/5.43.3/Try/Tiny.pm line 98
	eval {...} called at /home/cpan/bin/perl/lib/site_perl/5.43.3/Try/Tiny.pm line 93
	Try::Tiny::try(CODE(0x1c21a60be38), Try::Tiny::Catch=REF(0x1c21a568760)) called at /home/cpan/bin/perl/lib/site_perl/5.43.3/Class/Load.pm line 180
	Class::Load::try_load_class("ComponentUI::TestModel", undef) called at /home/cpan/bin/perl/lib/site_perl/5.43.3/Class/Load.pm line 35
	Class::Load::load_class("ComponentUI::TestModel") called at /home/cpan/.cpan/build/Reaction-0.002005-0/blib/lib/Catalyst/Model/Reaction/InterfaceModel/DBIC.pm line 24
	Catalyst::Model::Reaction::InterfaceModel::DBIC::COMPONENT("ComponentUI::Model::TestModel", "ComponentUI", HASH(0x1c2239e6760)) called at /home/cpan/bin/perl/lib/site_perl/5.43.3/Catalyst.pm line 3240
	eval {...} called at /home/cpan/bin/perl/lib/site_perl/5.43.3/Catalyst.pm line 3241
	Catalyst::setup_component("ComponentUI", "ComponentUI::Model::TestModel") called at /home/cpan/bin/perl/lib/site_perl/5.43.3/Catalyst.pm line 3218
	Catalyst::__ANON__() called at /home/cpan/bin/perl/lib/site_perl/5.43.3/Catalyst.pm line 3065
	Catalyst::setup_components("ComponentUI") called at /home/cpan/bin/perl/lib/site_perl/5.43.3/Catalyst.pm line 1438
	Catalyst::setup("ComponentUI") called at /home/cpan/.cpan/build/Reaction-0.002005-0/blib/lib/ComponentUI.pm line 32
	require ComponentUI.pm called at t/00componentui_compiles.t line 7
	main::BEGIN() called at t/00componentui_compiles.t line 7
	eval {...} called at t/00componentui_compiles.t line 7
	eval 'package main;
BEGIN { ${^WARNING_BITS} = $args[-1] if defined $args[-1] }
#line 7 t/00componentui_compiles.t
use ComponentUI @{$args[0]};
1;
' called at /home/cpan/bin/perl/lib/5.43.3/Test/More.pm line 1056
	Test::More::_eval("package main;\x{a}BEGIN { \${^WARNING_BITS} = \$args[-1] if defined"..., ARRAY(0x1c1e1e892b0), "UUUUUUUUUUUUUUUUUUUU") called at /home/cpan/bin/perl/lib/5.43.3/Test/More.pm line 1031
	Test::More::use_ok("ComponentUI") called at t/00componentui_compiles.t line 7
t/00componentui_compiles.t .. ok
Attempt to call undefined import method with arguments ("5.80") via package "Catalyst::Runtime" (Perhaps you forgot to load the package?) at /home/cpan/.cpan/build/Reaction-0.002005-0/blib/lib/ComponentUI.pm line 6.
Class::MOP::load_class is deprecated at /home/cpan/bin/perl/lib/site_perl/5.43.3/OpenBSD.amd64-openbsd/Class/MOP.pm line 69.
	Class::MOP::load_class("ComponentUI::TestModel") called at /home/cpan/.cpan/build/Reaction-0.002005-0/blib/lib/Catalyst/Model/Reaction/InterfaceModel/DBIC.pm line 24
	Catalyst::Model::Reaction::InterfaceModel::DBIC::COMPONENT("ComponentUI::Model::TestModel", "ComponentUI", HASH(0x9b16f201700)) called at /home/cpan/bin/perl/lib/site_perl/5.43.3/Catalyst.pm line 3240
	eval {...} called at /home/cpan/bin/perl/lib/site_perl/5.43.3/Catalyst.pm line 3241
	Catalyst::setup_component("ComponentUI", "ComponentUI::Model::TestModel") called at /home/cpan/bin/perl/lib/site_perl/5.43.3/Catalyst.pm line 3218
	Catalyst::__ANON__() called at /home/cpan/bin/perl/lib/site_perl/5.43.3/Catalyst.pm line 3065
	Catalyst::setup_components("ComponentUI") called at /home/cpan/bin/perl/lib/site_perl/5.43.3/Catalyst.pm line 1438
	Catalyst::setup("ComponentUI") called at /home/cpan/.cpan/build/Reaction-0.002005-0/blib/lib/ComponentUI.pm line 32
	require ComponentUI.pm called at /home/cpan/bin/perl/lib/site_perl/5.43.3/Module/Runtime.pm line 120
	Module::Runtime::require_module("ComponentUI") called at /home/cpan/bin/perl/lib/site_perl/5.43.3/Class/Load.pm line 174
	Class::Load::try {...} () called at /home/cpan/bin/perl/lib/site_perl/5.43.3/Try/Tiny.pm line 98
	eval {...} called at /home/cpan/bin/perl/lib/site_perl/5.43.3/Try/Tiny.pm line 93
	Try::Tiny::try(CODE(0x9b0fd9d3268), Try::Tiny::Catch=REF(0x9b102254c88)) called at /home/cpan/bin/perl/lib/site_perl/5.43.3/Class/Load.pm line 180
	Class::Load::try_load_class("ComponentUI", undef) called at /home/cpan/bin/perl/lib/site_perl/5.43.3/Class/Load.pm line 35
	Class::Load::load_class("ComponentUI") called at /home/cpan/bin/perl/lib/site_perl/5.43.3/Catalyst/Test.pm line 29
	Catalyst::Test::_build_request_export("Catalyst::Test", HASH(0x9b1467e0f88)) called at /home/cpan/bin/perl/lib/site_perl/5.43.3/Catalyst/Test.pm line 95
	Catalyst::Test::__ANON__("Catalyst::Test", "all", HASH(0x9b1467e0f58), HASH(0x9b169101cb8)) called at /home/cpan/bin/perl/lib/site_perl/5.43.3/Sub/Exporter.pm line 491
	Sub::Exporter::_expand_group("Catalyst::Test", HASH(0x9b1467e04c0), ARRAY(0x9b187917238), HASH(0x9b169101cb8), HASH(0x9b1467e0fb8), HASH(0x9b0fd9e6e38)) called at /home/cpan/bin/perl/lib/site_perl/5.43.3/Sub/Exporter.pm line 422
	Sub::Exporter::_expand_groups("Catalyst::Test", HASH(0x9b1467e04c0), ARRAY(0x9b1467e0928), HASH(0x9b169101cb8)) called at /home/cpan/bin/perl/lib/site_perl/5.43.3/Sub/Exporter.pm line 740
	Sub::Exporter::__ANON__("Catalyst::Test", "-all", HASH(0x9b14c020958)) called at /home/cpan/bin/perl/lib/site_perl/5.43.3/Catalyst/Test.pm line 155
	Catalyst::Test::import("Catalyst::Test", "ComponentUI") called at t/01app.t line 7
	main::BEGIN() called at t/01app.t line 7
	eval {...} called at t/01app.t line 7
	eval 'package main;
BEGIN { ${^WARNING_BITS} = $args[-1] if defined $args[-1] }
#line 7 t/01app.t
use Catalyst::Test @{$args[0]};
1;
' called at /home/cpan/bin/perl/lib/5.43.3/Test/More.pm line 1056
	Test::More::_eval("package main;\x{a}BEGIN { \${^WARNING_BITS} = \$args[-1] if defined"..., ARRAY(0x9b16911b2b0), "UUUUUUUUUUUUUUUUUUUU") called at /home/cpan/bin/perl/lib/5.43.3/Test/More.pm line 1031
	Test::More::use_ok("Catalyst::Test", "ComponentUI") called at t/01app.t line 7
	main::BEGIN() called at t/01app.t line 8
	eval {...} called at t/01app.t line 8
Class::MOP::load_class is deprecated at /home/cpan/bin/perl/lib/site_perl/5.43.3/OpenBSD.amd64-openbsd/Class/MOP.pm line 69.
	Class::MOP::load_class("Reaction::InterfaceModel::Object") called at /home/cpan/.cpan/build/Reaction-0.002005-0/blib/lib/Reaction/InterfaceModel/Reflector/DBIC.pm line 149
	Reaction::InterfaceModel::Reflector::DBIC::reflect_schema(Reaction::InterfaceModel::Reflector::DBIC=HASH(0x9b16977cd60), "model_class", "ComponentUI::TestModel", "schema_class", "RTest::TestDB", "sources", ARRAY(0x9b0bee0bf70)) called at /home/cpan/.cpan/build/Reaction-0.002005-0/blib/lib/ComponentUI/TestModel.pm line 10
	require ComponentUI/TestModel.pm called at /home/cpan/bin/perl/lib/site_perl/5.43.3/Module/Runtime.pm line 120
	Module::Runtime::require_module("ComponentUI::TestModel") called at /home/cpan/bin/perl/lib/site_perl/5.43.3/Class/Load.pm line 174
	Class::Load::try {...} () called at /home/cpan/bin/perl/lib/site_perl/5.43.3/Try/Tiny.pm line 98
	eval {...} called at /home/cpan/bin/perl/lib/site_perl/5.43.3/Try/Tiny.pm line 93
	Try::Tiny::try(CODE(0x9b17520a2b0), Try::Tiny::Catch=REF(0x9b13bdc8718)) called at /home/cpan/bin/perl/lib/site_perl/5.43.3/Class/Load.pm line 180
	Class::Load::try_load_class("ComponentUI::TestModel", undef) called at /home/cpan/bin/perl/lib/site_perl/5.43.3/Class/Load.pm line 35
	Class::Load::load_class("ComponentUI::TestModel") called at /home/cpan/.cpan/build/Reaction-0.002005-0/blib/lib/Catalyst/Model/Reaction/InterfaceModel/DBIC.pm line 24
	Catalyst::Model::Reaction::InterfaceModel::DBIC::COMPONENT("ComponentUI::Model::TestModel", "ComponentUI", HASH(0x9b16f201700)) called at /home/cpan/bin/perl/lib/site_perl/5.43.3/Catalyst.pm line 3240
	eval {...} called at /home/cpan/bin/perl/lib/site_perl/5.43.3/Catalyst.pm line 3241
	Catalyst::setup_component("ComponentUI", "ComponentUI::Model::TestModel") called at /home/cpan/bin/perl/lib/site_perl/5.43.3/Catalyst.pm line 3218
	Catalyst::__ANON__() called at /home/cpan/bin/perl/lib/site_perl/5.43.3/Catalyst.pm line 3065
	Catalyst::setup_components("ComponentUI") called at /home/cpan/bin/perl/lib/site_perl/5.43.3/Catalyst.pm line 1438
	Catalyst::setup("ComponentUI") called at /home/cpan/.cpan/build/Reaction-0.002005-0/blib/lib/ComponentUI.pm line 32
	require ComponentUI.pm called at /home/cpan/bin/perl/lib/site_perl/5.43.3/Module/Runtime.pm line 120
	Module::Runtime::require_module("ComponentUI") called at /home/cpan/bin/perl/lib/site_perl/5.43.3/Class/Load.pm line 174
	Class::Load::try {...} () called at /home/cpan/bin/perl/lib/site_perl/5.43.3/Try/Tiny.pm line 98
	eval {...} called at /home/cpan/bin/perl/lib/site_perl/5.43.3/Try/Tiny.pm line 93
	Try::Tiny::try(CODE(0x9b0fd9d3268), Try::Tiny::Catch=REF(0x9b102254c88)) called at /home/cpan/bin/perl/lib/site_perl/5.43.3/Class/Load.pm line 180
	Class::Load::try_load_class("ComponentUI", undef) called at /home/cpan/bin/perl/lib/site_perl/5.43.3/Class/Load.pm line 35
	Class::Load::load_class("ComponentUI") called at /home/cpan/bin/perl/lib/site_perl/5.43.3/Catalyst/Test.pm line 29
	Catalyst::Test::_build_request_export("Catalyst::Test", HASH(0x9b1467e0f88)) called at /home/cpan/bin/perl/lib/site_perl/5.43.3/Catalyst/Test.pm line 95
	Catalyst::Test::__ANON__("Catalyst::Test", "all", HASH(0x9b1467e0f58), HASH(0x9b169101cb8)) called at /home/cpan/bin/perl/lib/site_perl/5.43.3/Sub/Exporter.pm line 491
	Sub::Exporter::_expand_group("Catalyst::Test", HASH(0x9b1467e04c0), ARRAY(0x9b187917238), HASH(0x9b169101cb8), HASH(0x9b1467e0fb8), HASH(0x9b0fd9e6e38)) called at /home/cpan/bin/perl/lib/site_perl/5.43.3/Sub/Exporter.pm line 422
	Sub::Exporter::_expand_groups("Catalyst::Test", HASH(0x9b1467e04c0), ARRAY(0x9b1467e0928), HASH(0x9b169101cb8)) called at /home/cpan/bin/perl/lib/site_perl/5.43.3/Sub/Exporter.pm line 740
	Sub::Exporter::__ANON__("Catalyst::Test", "-all", HASH(0x9b14c020958)) called at /home/cpan/bin/perl/lib/site_perl/5.43.3/Catalyst/Test.pm line 155
	Catalyst::Test::import("Catalyst::Test", "ComponentUI") called at t/01app.t line 7
	main::BEGIN() called at t/01app.t line 7
	eval {...} called at t/01app.t line 7
	eval 'package main;
BEGIN { ${^WARNING_BITS} = $args[-1] if defined $args[-1] }
#line 7 t/01app.t
use Catalyst::Test @{$args[0]};
1;
' called at /home/cpan/bin/perl/lib/5.43.3/Test/More.pm line 1056
	Test::More::_eval("package main;\x{a}BEGIN { \${^WARNING_BITS} = \$args[-1] if defined"..., ARRAY(0x9b16911b2b0), "UUUUUUUUUUUUUUUUUUUU") called at /home/cpan/bin/perl/lib/5.43.3/Test/More.pm line 1031
	Test::More::use_ok("Catalyst::Test", "ComponentUI") called at t/01app.t line 7
	main::BEGIN() called at t/01app.t line 8
	eval {...} called at t/01app.t line 8
Class::MOP::load_class is deprecated at /home/cpan/bin/perl/lib/site_perl/5.43.3/OpenBSD.amd64-openbsd/Class/MOP.pm line 69.
	Class::MOP::load_class("Reaction::InterfaceModel::Object") called at /home/cpan/.cpan/build/Reaction-0.002005-0/blib/lib/Reaction/Class.pm line 123
	Reaction::Class::do_class_sub("Reaction::Class", "ComponentUI::TestModel::Foo", "ComponentUI::TestModel::Foo", "is", "Reaction::InterfaceModel::Object", "which", CODE(0x9b0bed9e310)) called at /home/cpan/.cpan/build/Reaction-0.002005-0/blib/lib/Reaction/Class.pm line 86
	Reaction::Class::("ComponentUI::TestModel::Foo", "is", "Reaction::InterfaceModel::Object", "which", CODE(0x9b0bed9e310)) called at /home/cpan/.cpan/build/Reaction-0.002005-0/blib/lib/ComponentUI/TestModel/Foo.pm line 8
	require ComponentUI/TestModel/Foo.pm called at /home/cpan/bin/perl/lib/site_perl/5.43.3/Module/Runtime.pm line 120
	Module::Runtime::require_module("ComponentUI::TestModel::Foo") called at /home/cpan/bin/perl/lib/site_perl/5.43.3/Class/Load.pm line 174
	Class::Load::try {...} () called at /home/cpan/bin/perl/lib/site_perl/5.43.3/Try/Tiny.pm line 98
	eval {...} called at /home/cpan/bin/perl/lib/site_perl/5.43.3/Try/Tiny.pm line 93
	Try::Tiny::try(CODE(0x9b1146387f0), Try::Tiny::Catch=REF(0x9b0bedb87c0)) called at /home/cpan/bin/perl/lib/site_perl/5.43.3/Class/Load.pm line 180
	Class::Load::try_load_class("ComponentUI::TestModel::Foo", undef) called at /home/cpan/bin/perl/lib/site_perl/5.43.3/Class/Load.pm line 35
	Class::Load::load_class("ComponentUI::TestModel::Foo") called at /home/cpan/.cpan/build/Reaction-0.002005-0/blib/lib/Reaction/InterfaceModel/Reflector/DBIC.pm line 892
	eval {...} called at /home/cpan/.cpan/build/Reaction-0.002005-0/blib/lib/Reaction/InterfaceModel/Reflector/DBIC.pm line 892
	Reaction::InterfaceModel::Reflector::DBIC::_maybe_load_class(Reaction::InterfaceModel::Reflector::DBIC=HASH(0x9b16977cd60), "ComponentUI::TestModel::Foo") called at /home/cpan/.cpan/build/Reaction-0.002005-0/blib/lib/Reaction/InterfaceModel/Reflector/DBIC.pm line 876
	Reaction::InterfaceModel::Reflector::DBIC::_load_or_create(Reaction::InterfaceModel::Reflector::DBIC=HASH(0x9b16977cd60), "ComponentUI::TestModel::Foo", "superclasses", ARRAY(0x9b0a01ef490)) called at /home/cpan/.cpan/build/Reaction-0.002005-0/blib/lib/Reaction/InterfaceModel/Reflector/DBIC.pm line 448
	Reaction::InterfaceModel::Reflector::DBIC::reflect_source_object(Reaction::InterfaceModel::Reflector::DBIC=HASH(0x9b16977cd60), "parent_domain_model_name", "_rtest_test_db_store", "parent_class", "ComponentUI::TestModel", "source_class", "RTest::TestDB::Foo", "schema_class", ...) called at /home/cpan/.cpan/build/Reaction-0.002005-0/blib/lib/Reaction/InterfaceModel/Reflector/DBIC.pm line 323
	Reaction::InterfaceModel::Reflector::DBIC::reflect_source(Reaction::InterfaceModel::Reflector::DBIC=HASH(0x9b16977cd60), "source_name", "Foo", "parent_class", "ComponentUI::TestModel", "schema_class", "RTest::TestDB", "source_class", ...) called at /home/cpan/.cpan/build/Reaction-0.002005-0/blib/lib/Reaction/InterfaceModel/Reflector/DBIC.pm line 185
	Reaction::InterfaceModel::Reflector::DBIC::reflect_schema(Reaction::InterfaceModel::Reflector::DBIC=HASH(0x9b16977cd60), "model_class", "ComponentUI::TestModel", "schema_class", "RTest::TestDB", "sources", ARRAY(0x9b0bee0bf70)) called at /home/cpan/.cpan/build/Reaction-0.002005-0/blib/lib/ComponentUI/TestModel.pm line 10
	require ComponentUI/TestModel.pm called at /home/cpan/bin/perl/lib/site_perl/5.43.3/Module/Runtime.pm line 120
	Module::Runtime::require_module("ComponentUI::TestModel") called at /home/cpan/bin/perl/lib/site_perl/5.43.3/Class/Load.pm line 174
	Class::Load::try {...} () called at /home/cpan/bin/perl/lib/site_perl/5.43.3/Try/Tiny.pm line 98
	eval {...} called at /home/cpan/bin/perl/lib/site_perl/5.43.3/Try/Tiny.pm line 93
	Try::Tiny::try(CODE(0x9b17520a2b0), Try::Tiny::Catch=REF(0x9b13bdc8718)) called at /home/cpan/bin/perl/lib/site_perl/5.43.3/Class/Load.pm line 180
	Class::Load::try_load_class("ComponentUI::TestModel", undef) called at /home/cpan/bin/perl/lib/site_perl/5.43.3/Class/Load.pm line 35
	Class::Load::load_class("ComponentUI::TestModel") called at /home/cpan/.cpan/build/Reaction-0.002005-0/blib/lib/Catalyst/Model/Reaction/InterfaceModel/DBIC.pm line 24
	Catalyst::Model::Reaction::InterfaceModel::DBIC::COMPONENT("ComponentUI::Model::TestModel", "ComponentUI", HASH(0x9b16f201700)) called at /home/cpan/bin/perl/lib/site_perl/5.43.3/Catalyst.pm line 3240
	eval {...} called at /home/cpan/bin/perl/lib/site_perl/5.43.3/Catalyst.pm line 3241
	Catalyst::setup_component("ComponentUI", "ComponentUI::Model::TestModel") called at /home/cpan/bin/perl/lib/site_perl/5.43.3/Catalyst.pm line 3218
	Catalyst::__ANON__() called at /home/cpan/bin/perl/lib/site_perl/5.43.3/Catalyst.pm line 3065
	Catalyst::setup_components("ComponentUI") called at /home/cpan/bin/perl/lib/site_perl/5.43.3/Catalyst.pm line 1438
	Catalyst::setup("ComponentUI") called at /home/cpan/.cpan/build/Reaction-0.002005-0/blib/lib/ComponentUI.pm line 32
	require ComponentUI.pm called at /home/cpan/bin/perl/lib/site_perl/5.43.3/Module/Runtime.pm line 120
	Module::Runtime::require_module("ComponentUI") called at /home/cpan/bin/perl/lib/site_perl/5.43.3/Class/Load.pm line 174
	Class::Load::try {...} () called at /home/cpan/bin/perl/lib/site_perl/5.43.3/Try/Tiny.pm line 98
	eval {...} called at /home/cpan/bin/perl/lib/site_perl/5.43.3/Try/Tiny.pm line 93
	Try::Tiny::try(CODE(0x9b0fd9d3268), Try::Tiny::Catch=REF(0x9b102254c88)) called at /home/cpan/bin/perl/lib/site_perl/5.43.3/Class/Load.pm line 180
	Class::Load::try_load_class("ComponentUI", undef) called at /home/cpan/bin/perl/lib/site_perl/5.43.3/Class/Load.pm line 35
	Class::Load::load_class("ComponentUI") called at /home/cpan/bin/perl/lib/site_perl/5.43.3/Catalyst/Test.pm line 29
	Catalyst::Test::_build_request_export("Catalyst::Test", HASH(0x9b1467e0f88)) called at /home/cpan/bin/perl/lib/site_perl/5.43.3/Catalyst/Test.pm line 95
	Catalyst::Test::__ANON__("Catalyst::Test", "all", HASH(0x9b1467e0f58), HASH(0x9b169101cb8)) called at /home/cpan/bin/perl/lib/site_perl/5.43.3/Sub/Exporter.pm line 491
	Sub::Exporter::_expand_group("Catalyst::Test", HASH(0x9b1467e04c0), ARRAY(0x9b187917238), HASH(0x9b169101cb8), HASH(0x9b1467e0fb8), HASH(0x9b0fd9e6e38)) called at /home/cpan/bin/perl/lib/site_perl/5.43.3/Sub/Exporter.pm line 422
	Sub::Exporter::_expand_groups("Catalyst::Test", HASH(0x9b1467e04c0), ARRAY(0x9b1467e0928), HASH(0x9b169101cb8)) called at /home/cpan/bin/perl/lib/site_perl/5.43.3/Sub/Exporter.pm line 740
	Sub::Exporter::__ANON__("Catalyst::Test", "-all", HASH(0x9b14c020958)) called at /home/cpan/bin/perl/lib/site_perl/5.43.3/Catalyst/Test.pm line 155
	Catalyst::Test::import("Catalyst::Test", "ComponentUI") called at t/01app.t line 7
	main::BEGIN() called at t/01app.t line 7
	eval {...} called at t/01app.t line 7
	eval 'package main;
BEGIN { ${^WARNING_BITS} = $args[-1] if defined $args[-1] }
#line 7 t/01app.t
use Catalyst::Test @{$args[0]};
1;
' called at /home/cpan/bin/perl/lib/5.43.3/Test/More.pm line 1056
	Test::More::_eval("package main;\x{a}BEGIN { \${^WARNING_BITS} = \$args[-1] if defined"..., ARRAY(0x9b16911b2b0), "UUUUUUUUUUUUUUUUUUUU") called at /home/cpan/bin/perl/lib/5.43.3/Test/More.pm line 1031
	Test::More::use_ok("Catalyst::Test", "ComponentUI") called at t/01app.t line 7
	main::BEGIN() called at t/01app.t line 8
	eval {...} called at t/01app.t line 8
Class::MOP::load_class is deprecated at /home/cpan/bin/perl/lib/site_perl/5.43.3/OpenBSD.amd64-openbsd/Class/MOP.pm line 69.
	Class::MOP::load_class("ComponentUI::RenderingContext::Site") called at /home/cpan/.cpan/build/Reaction-0.002005-0/blib/lib/Reaction/UI/View.pm line 125
	eval {...} called at /home/cpan/.cpan/build/Reaction-0.002005-0/blib/lib/Reaction/UI/View.pm line 125
	Reaction::UI::View::find_related_class(ComponentUI::View::Site=HASH(0x9b0e488d2f8), "RenderingContext") called at /home/cpan/.cpan/build/Reaction-0.002005-0/blib/lib/Reaction/UI/View.pm line 43
	Reaction::UI::View::_build_rendering_context_class(ComponentUI::View::Site=HASH(0x9b0e488d2f8)) called at reader Reaction::UI::View::rendering_context_class (defined at /home/cpan/.cpan/build/Reaction-0.002005-0/blib/lib/Reaction/UI/View.pm line 29) line 8
	Reaction::UI::View::rendering_context_class(ComponentUI::View::Site=HASH(0x9b0e488d2f8)) called at /home/cpan/.cpan/build/Reaction-0.002005-0/blib/lib/Reaction/UI/View.pm line 134
	Reaction::UI::View::create_rendering_context(ComponentUI::View::Site=HASH(0x9b0e488d2f8)) called at /home/cpan/.cpan/build/Reaction-0.002005-0/blib/lib/Reaction/UI/View.pm line 60
	Reaction::UI::View::render_window(ComponentUI::View::Site=HASH(0x9b0e488d2f8), Reaction::UI::Window=HASH(0x9b18e3eec88)) called at /home/cpan/.cpan/build/Reaction-0.002005-0/blib/lib/Reaction/UI/Window.pm line 74
	Reaction::UI::Window::flush_view(Reaction::UI::Window=HASH(0x9b18e3eec88)) called at /home/cpan/.cpan/build/Reaction-0.002005-0/blib/lib/Reaction/UI/Window.pm line 36
	Reaction::UI::Window::flush(Reaction::UI::Window=HASH(0x9b18e3eec88)) called at /home/cpan/.cpan/build/Reaction-0.002005-0/blib/lib/Reaction/UI/Controller/Root.pm line 38
	Reaction::UI::Controller::Root::end(ComponentUI::Controller::Root=HASH(0x9b18e40f250), ComponentUI=HASH(0x9b18e3d5388)) called at /home/cpan/bin/perl/lib/site_perl/5.43.3/Catalyst/Action.pm line 374
	Catalyst::Action::execute(Catalyst::Action=HASH(0x9b14dd674d8), ComponentUI::Controller::Root=HASH(0x9b18e40f250), ComponentUI=HASH(0x9b18e3d5388)) called at /home/cpan/bin/perl/lib/site_perl/5.43.3/Catalyst.pm line 2067
	eval {...} called at /home/cpan/bin/perl/lib/site_perl/5.43.3/Catalyst.pm line 2067
	Catalyst::execute(ComponentUI=HASH(0x9b18e3d5388), "ComponentUI::Controller::Root", Catalyst::Action=HASH(0x9b14dd674d8)) called at /home/cpan/bin/perl/lib/site_perl/5.43.3/Catalyst/Action.pm line 368
	Catalyst::Action::dispatch(Catalyst::Action=HASH(0x9b14dd674d8), ComponentUI=HASH(0x9b18e3d5388)) called at /home/cpan/bin/perl/lib/site_perl/5.43.3/Catalyst/Controller.pm line 188
	Catalyst::Controller::_END(ComponentUI::Controller::Root=HASH(0x9b18e40f250), ComponentUI=HASH(0x9b18e3d5388)) called at /home/cpan/bin/perl/lib/site_perl/5.43.3/Catalyst/Action.pm line 374
	Catalyst::Action::execute(Catalyst::Action=HASH(0x9b14dd67178), ComponentUI::Controller::Root=HASH(0x9b18e40f250), ComponentUI=HASH(0x9b18e3d5388)) called at /home/cpan/bin/perl/lib/site_perl/5.43.3/Catalyst.pm line 2067
	eval {...} called at /home/cpan/bin/perl/lib/site_perl/5.43.3/Catalyst.pm line 2067
	Catalyst::execute(ComponentUI=HASH(0x9b18e3d5388), "ComponentUI::Controller::Root", Catalyst::Action=HASH(0x9b14dd67178)) called at /home/cpan/bin/perl/lib/site_perl/5.43.3/Catalyst/Action.pm line 368
	Catalyst::Action::dispatch(Catalyst::Action=HASH(0x9b14dd67178), ComponentUI=HASH(0x9b18e3d5388)) called at /home/cpan/bin/perl/lib/site_perl/5.43.3/Catalyst/Dispatcher.pm line 261
	Catalyst::Dispatcher::_do_forward(Catalyst::Dispatcher=HASH(0x9b1614c8aa8), "forward", ComponentUI=HASH(0x9b18e3d5388), "_END") called at /home/cpan/bin/perl/lib/site_perl/5.43.3/Catalyst/Dispatcher.pm line 241
	Catalyst::Dispatcher::forward(Catalyst::Dispatcher=HASH(0x9b1614c8aa8), ComponentUI=HASH(0x9b18e3d5388), "_END") called at /home/cpan/bin/perl/lib/site_perl/5.43.3/Catalyst.pm line 489
	Catalyst::forward(ComponentUI=HASH(0x9b18e3d5388), "_END") called at /home/cpan/bin/perl/lib/site_perl/5.43.3/Catalyst/Controller.pm line 137
	Catalyst::Controller::_DISPATCH(ComponentUI::Controller::Root=HASH(0x9b18e40f250), ComponentUI=HASH(0x9b18e3d5388)) called at /home/cpan/bin/perl/lib/site_perl/5.43.3/Catalyst/Action.pm line 374
	Catalyst::Action::execute(Catalyst::Action=HASH(0x9b14dd67370), ComponentUI::Controller::Root=HASH(0x9b18e40f250), ComponentUI=HASH(0x9b18e3d5388)) called at /home/cpan/bin/perl/lib/site_perl/5.43.3/Catalyst.pm line 2067
	eval {...} called at /home/cpan/bin/perl/lib/site_perl/5.43.3/Catalyst.pm line 2067
	Catalyst::execute(ComponentUI=HASH(0x9b18e3d5388), "ComponentUI::Controller::Root", Catalyst::Action=HASH(0x9b14dd67370)) called at /home/cpan/bin/perl/lib/site_perl/5.43.3/Catalyst/Action.pm line 368
	Catalyst::Action::dispatch(Catalyst::Action=HASH(0x9b14dd67370), ComponentUI=HASH(0x9b18e3d5388)) called at /home/cpan/bin/perl/lib/site_perl/5.43.3/Catalyst/Dispatcher.pm line 261
	Catalyst::Dispatcher::_do_forward(Catalyst::Dispatcher=HASH(0x9b1614c8aa8), "forward", ComponentUI=HASH(0x9b18e3d5388), "//_DISPATCH") called at /home/cpan/bin/perl/lib/site_perl/5.43.3/Catalyst/Dispatcher.pm line 241
	Catalyst::Dispatcher::forward(Catalyst::Dispatcher=HASH(0x9b1614c8aa8), ComponentUI=HASH(0x9b18e3d5388), "//_DISPATCH") called at /home/cpan/bin/perl/lib/site_perl/5.43.3/Catalyst.pm line 489
	Catalyst::forward(ComponentUI=HASH(0x9b18e3d5388), "//_DISPATCH") called at /home/cpan/bin/perl/lib/site_perl/5.43.3/Catalyst/Dispatcher.pm line 107
	Catalyst::Dispatcher::dispatch(Catalyst::Dispatcher=HASH(0x9b1614c8aa8), ComponentUI=HASH(0x9b18e3d5388)) called at /home/cpan/bin/perl/lib/site_perl/5.43.3/Catalyst.pm line 2013
	Catalyst::dispatch(ComponentUI=HASH(0x9b18e3d5388)) called at /home/cpan/bin/perl/lib/site_perl/5.43.3/Catalyst/Plugin/Static/Simple.pm line 85
	Class::MOP::Class:::around(CODE(0x9b138c0d688), ComponentUI=HASH(0x9b18e3d5388)) called at /home/cpan/bin/perl/lib/site_perl/5.43.3/OpenBSD.amd64-openbsd/Class/MOP/Method/Wrapped.pm line 166
	ComponentUI::_wrapped_dispatch(ComponentUI=HASH(0x9b18e3d5388)) called at /home/cpan/bin/perl/lib/site_perl/5.43.3/OpenBSD.amd64-openbsd/Class/MOP/Method/Wrapped.pm line 97
	ComponentUI::dispatch(ComponentUI=HASH(0x9b18e3d5388)) called at /home/cpan/bin/perl/lib/site_perl/5.43.3/Catalyst.pm line 2419
	Catalyst::try {...} () called at /home/cpan/bin/perl/lib/site_perl/5.43.3/Try/Tiny.pm line 102
	eval {...} called at /home/cpan/bin/perl/lib/site_perl/5.43.3/Try/Tiny.pm line 93
	Try::Tiny::try(CODE(0x9b18e3f0cb8), Try::Tiny::Catch=REF(0x9b18e3f0ac0)) called at /home/cpan/bin/perl/lib/site_perl/5.43.3/Catalyst.pm line 2428
	Catalyst::handle_request("ComponentUI", "env", HASH(0x9b18e4025c8), "response_cb", CODE(0x9b18e3f0b20)) called at /home/cpan/bin/perl/lib/site_perl/5.43.3/Catalyst/Engine.pm line 808
	Catalyst::Engine::__ANON__(CODE(0x9b18e3f0b20)) called at /home/cpan/bin/perl/lib/site_perl/5.43.3/Plack/Middleware/HTTPExceptions.pm line 32
	Plack::Middleware::HTTPExceptions::try {...} () called at /home/cpan/bin/perl/lib/site_perl/5.43.3/Try/Tiny.pm line 102
	eval {...} called at /home/cpan/bin/perl/lib/site_perl/5.43.3/Try/Tiny.pm line 93
	Try::Tiny::try(CODE(0x9b18e3f0958), Try::Tiny::Catch=REF(0x9b18e3f0178)) called at /home/cpan/bin/perl/lib/site_perl/5.43.3/Plack/Middleware/HTTPExceptions.pm line 41
	Plack::Middleware::HTTPExceptions::__ANON__(CODE(0x9b18e402f10)) called at /home/cpan/bin/perl/lib/site_perl/5.43.3/Plack/Util.pm line 339
	Plack::Util::__ANON__(CODE(0x9b18e402550)) called at /home/cpan/bin/perl/lib/site_perl/5.43.3/Plack/Util.pm line 339
	Plack::Util::__ANON__(CODE(0x9b18e402460)) called at /home/cpan/bin/perl/lib/site_perl/5.43.3/Plack/Util.pm line 339
	Plack::Util::__ANON__(CODE(0x9b18e4023e8)) called at /home/cpan/bin/perl/lib/site_perl/5.43.3/HTTP/Message/PSGI.pm line 100
	HTTP::Message::PSGI::res_from_psgi(CODE(0x9b18e3f06d0)) called at /home/cpan/bin/perl/lib/site_perl/5.43.3/HTTP/Message/PSGI.pm line 157
	HTTP::Response::from_psgi("HTTP::Response", CODE(0x9b18e3f06d0)) called at /home/cpan/bin/perl/lib/site_perl/5.43.3/Plack/Test/MockHTTP.pm line 24
	Plack::Test::MockHTTP::try {...} () called at /home/cpan/bin/perl/lib/site_perl/5.43.3/Try/Tiny.pm line 100
	eval {...} called at /home/cpan/bin/perl/lib/site_perl/5.43.3/Try/Tiny.pm line 93
	Try::Tiny::try(CODE(0x9b0e2931850), Try::Tiny::Catch=REF(0x9b0b63821c0)) called at /home/cpan/bin/perl/lib/site_perl/5.43.3/Plack/Test/MockHTTP.pm line 27
	Plack::Test::MockHTTP::request(Plack::Test::MockHTTP=HASH(0x9b0e2901b50), HTTP::Request=HASH(0x9b0e2901760)) called at /home/cpan/bin/perl/lib/site_perl/5.43.3/Plack/Test.pm line 38
	Plack::Test::__ANON__(HTTP::Request=HASH(0x9b0e2901760)) called at /home/cpan/bin/perl/lib/site_perl/5.43.3/Catalyst/Test.pm line 290
	Catalyst::Test::__ANON__(CODE(0x9b0e2901ad8)) called at /home/cpan/bin/perl/lib/site_perl/5.43.3/Plack/Test.pm line 38
	Plack::Test::test_psgi("app", CODE(0x9b0e2901310), "mangle_response", CODE(0x9b1467f4718), "app", CODE(0x9b1130b1550), "client", CODE(0x9b0e2901970)) called at /home/cpan/bin/perl/lib/site_perl/5.43.3/Catalyst/Test.pm line 293
	Catalyst::Test::_request(HASH(0x9b14c020a60), "/") called at /home/cpan/bin/perl/lib/site_perl/5.43.3/Catalyst/Test.pm line 336
	Catalyst::Test::_local_request("ComponentUI", "/") called at /home/cpan/bin/perl/lib/site_perl/5.43.3/Catalyst/Test.pm line 32
	Catalyst::Test::__ANON__("/") called at t/01app.t line 10
Class::MOP::is_class_loaded is deprecated at /home/cpan/bin/perl/lib/site_perl/5.43.3/OpenBSD.amd64-openbsd/Class/MOP.pm line 87.
	Class::MOP::is_class_loaded("ComponentUI::UI::Widget::SiteLayout") called at /home/cpan/.cpan/build/Reaction-0.002005-0/blib/lib/Reaction/UI/Skin.pm line 178
	Reaction::UI::Skin::widget_class_for(Reaction::UI::Skin=HASH(0x9b0c6a65aa8), Reaction::UI::LayoutSet::TT=HASH(0x9b0c6a83eb0)) called at /home/cpan/.cpan/build/Reaction-0.002005-0/blib/lib/Reaction/UI/LayoutSet.pm line 29
	Reaction::UI::LayoutSet::BUILD(Reaction::UI::LayoutSet::TT=HASH(0x9b0c6a83eb0), HASH(0x9b0c6a83e98)) called at constructor Reaction::UI::LayoutSet::TT::new (defined at /home/cpan/.cpan/build/Reaction-0.002005-0/blib/lib/Reaction/UI/LayoutSet/TT.pm line 43) line 80
	Reaction::UI::LayoutSet::TT::new("Reaction::UI::LayoutSet::TT", "name", "site_layout", "skin", Reaction::UI::Skin=HASH(0x9b0c6a65aa8), "tt_object", Template=HASH(0x9b16f1e52e0), "source_file", ...) called at /home/cpan/.cpan/build/Reaction-0.002005-0/blib/lib/Reaction/UI/Skin.pm line 115
	Reaction::UI::Skin::_create_layout_set(Reaction::UI::Skin=HASH(0x9b0c6a65aa8), "site_layout", ARRAY(0x9b0c6a7c4d8), Reaction::UI::Skin=HASH(0x9b0c6a65aa8)) called at /home/cpan/.cpan/build/Reaction-0.002005-0/blib/lib/Reaction/UI/Skin.pm line 110
	Reaction::UI::Skin::create_layout_set(Reaction::UI::Skin=HASH(0x9b0c6a65aa8), "site_layout") called at /home/cpan/.cpan/build/Reaction-0.002005-0/blib/lib/Reaction/UI/LayoutSet.pm line 83
	Reaction::UI::LayoutSet::_load_file(Reaction::UI::LayoutSet::TT=HASH(0x9b0c6a87d30), Path::Class::File=HASH(0x9b0c6a590d0), HASH(0x9b18e3d4ef8)) called at /home/cpan/.cpan/build/Reaction-0.002005-0/blib/lib/Reaction/UI/LayoutSet.pm line 27
	Reaction::UI::LayoutSet::BUILD(Reaction::UI::LayoutSet::TT=HASH(0x9b0c6a87d30), HASH(0x9b18e3d4ef8)) called at constructor Reaction::UI::LayoutSet::TT::new (defined at /home/cpan/.cpan/build/Reaction-0.002005-0/blib/lib/Reaction/UI/LayoutSet/TT.pm line 43) line 80
	Reaction::UI::LayoutSet::TT::new("Reaction::UI::LayoutSet::TT", "name", "site_layout", "skin", Reaction::UI::Skin=HASH(0x9b18e3d57a8), "next_skin", Reaction::UI::Skin=HASH(0x9b0c6a65aa8), "tt_object", ...) called at /home/cpan/.cpan/build/Reaction-0.002005-0/blib/lib/Reaction/UI/Skin.pm line 115
	Reaction::UI::Skin::_create_layout_set(Reaction::UI::Skin=HASH(0x9b18e3d57a8), "site_layout", ARRAY(0x9b0c6a591f0), Reaction::UI::Skin=HASH(0x9b18e3d57a8)) called at /home/cpan/.cpan/build/Reaction-0.002005-0/blib/lib/Reaction/UI/Skin.pm line 110
	Reaction::UI::Skin::create_layout_set(Reaction::UI::Skin=HASH(0x9b18e3d57a8), "site_layout") called at /home/cpan/.cpan/build/Reaction-0.002005-0/blib/lib/Reaction/UI/LayoutSet.pm line 83
	Reaction::UI::LayoutSet::_load_file(Reaction::UI::LayoutSet::TT=HASH(0x9b0c6a65268), Path::Class::File=HASH(0x9b18e4057a8), HASH(0x9b18e3d4778)) called at /home/cpan/.cpan/build/Reaction-0.002005-0/blib/lib/Reaction/UI/LayoutSet.pm line 27
	Reaction::UI::LayoutSet::BUILD(Reaction::UI::LayoutSet::TT=HASH(0x9b0c6a65268), HASH(0x9b18e3d4778)) called at constructor Reaction::UI::LayoutSet::TT::new (defined at /home/cpan/.cpan/build/Reaction-0.002005-0/blib/lib/Reaction/UI/LayoutSet/TT.pm line 43) line 80
	Reaction::UI::LayoutSet::TT::new("Reaction::UI::LayoutSet::TT", "name", "site_layout", "skin", Reaction::UI::Skin=HASH(0x9b1467e01d8), "next_skin", Reaction::UI::Skin=HASH(0x9b18e3d57a8), "tt_object", ...) called at /home/cpan/.cpan/build/Reaction-0.002005-0/blib/lib/Reaction/UI/Skin.pm line 115
	Reaction::UI::Skin::_create_layout_set(Reaction::UI::Skin=HASH(0x9b1467e01d8), "site_layout", ARRAY(0x9b0c6a8ab50), Reaction::UI::Skin=HASH(0x9b1467e01d8)) called at /home/cpan/.cpan/build/Reaction-0.002005-0/blib/lib/Reaction/UI/Skin.pm line 110
	Reaction::UI::Skin::create_layout_set(Reaction::UI::Skin=HASH(0x9b1467e01d8), "site_layout") called at inline delegation in Reaction::UI::View for skin->create_layout_set (attribute declared in /home/cpan/.cpan/build/Reaction-0.002005-0/blib/lib/Reaction/UI/View.pm at line 22) line 18
	Reaction::UI::View::create_layout_set(ComponentUI::View::Site=HASH(0x9b0e488d2f8), "site_layout") called at /home/cpan/.cpan/build/Reaction-0.002005-0/blib/lib/Reaction/UI/View.pm line 99
	Reaction::UI::View::layout_set_for(ComponentUI::View::Site=HASH(0x9b0e488d2f8), Reaction::UI::ViewPort::SiteLayout=HASH(0x9b18e3f7340)) called at /home/cpan/.cpan/build/Reaction-0.002005-0/blib/lib/Reaction/UI/View.pm line 78
	Reaction::UI::View::render_viewport_args(ComponentUI::View::Site=HASH(0x9b0e488d2f8), Reaction::UI::ViewPort::SiteLayout=HASH(0x9b18e3f7340)) called at /home/cpan/.cpan/build/Reaction-0.002005-0/blib/lib/Reaction/UI/View.pm line 61
	Reaction::UI::View::render_window(ComponentUI::View::Site=HASH(0x9b0e488d2f8), Reaction::UI::Window=HASH(0x9b18e3eec88)) called at /home/cpan/.cpan/build/Reaction-0.002005-0/blib/lib/Reaction/UI/Window.pm line 74
	Reaction::UI::Window::flush_view(Reaction::UI::Window=HASH(0x9b18e3eec88)) called at /home/cpan/.cpan/build/Reaction-0.002005-0/blib/lib/Reaction/UI/Window.pm line 36
	Reaction::UI::Window::flush(Reaction::UI::Window=HASH(0x9b18e3eec88)) called at /home/cpan/.cpan/build/Reaction-0.002005-0/blib/lib/Reaction/UI/Controller/Root.pm line 38
	Reaction::UI::Controller::Root::end(ComponentUI::Controller::Root=HASH(0x9b18e40f250), ComponentUI=HASH(0x9b18e3d5388)) called at /home/cpan/bin/perl/lib/site_perl/5.43.3/Catalyst/Action.pm line 374
	Catalyst::Action::execute(Catalyst::Action=HASH(0x9b14dd674d8), ComponentUI::Controller::Root=HASH(0x9b18e40f250), ComponentUI=HASH(0x9b18e3d5388)) called at /home/cpan/bin/perl/lib/site_perl/5.43.3/Catalyst.pm line 2067
	eval {...} called at /home/cpan/bin/perl/lib/site_perl/5.43.3/Catalyst.pm line 2067
	Catalyst::execute(ComponentUI=HASH(0x9b18e3d5388), "ComponentUI::Controller::Root", Catalyst::Action=HASH(0x9b14dd674d8)) called at /home/cpan/bin/perl/lib/site_perl/5.43.3/Catalyst/Action.pm line 368
	Catalyst::Action::dispatch(Catalyst::Action=HASH(0x9b14dd674d8), ComponentUI=HASH(0x9b18e3d5388)) called at /home/cpan/bin/perl/lib/site_perl/5.43.3/Catalyst/Controller.pm line 188
	Catalyst::Controller::_END(ComponentUI::Controller::Root=HASH(0x9b18e40f250), ComponentUI=HASH(0x9b18e3d5388)) called at /home/cpan/bin/perl/lib/site_perl/5.43.3/Catalyst/Action.pm line 374
	Catalyst::Action::execute(Catalyst::Action=HASH(0x9b14dd67178), ComponentUI::Controller::Root=HASH(0x9b18e40f250), ComponentUI=HASH(0x9b18e3d5388)) called at /home/cpan/bin/perl/lib/site_perl/5.43.3/Catalyst.pm line 2067
	eval {...} called at /home/cpan/bin/perl/lib/site_perl/5.43.3/Catalyst.pm line 2067
	Catalyst::execute(ComponentUI=HASH(0x9b18e3d5388), "ComponentUI::Controller::Root", Catalyst::Action=HASH(0x9b14dd67178)) called at /home/cpan/bin/perl/lib/site_perl/5.43.3/Catalyst/Action.pm line 368
	Catalyst::Action::dispatch(Catalyst::Action=HASH(0x9b14dd67178), ComponentUI=HASH(0x9b18e3d5388)) called at /home/cpan/bin/perl/lib/site_perl/5.43.3/Catalyst/Dispatcher.pm line 261
	Catalyst::Dispatcher::_do_forward(Catalyst::Dispatcher=HASH(0x9b1614c8aa8), "forward", ComponentUI=HASH(0x9b18e3d5388), "_END") called at /home/cpan/bin/perl/lib/site_perl/5.43.3/Catalyst/Dispatcher.pm line 241
	Catalyst::Dispatcher::forward(Catalyst::Dispatcher=HASH(0x9b1614c8aa8), ComponentUI=HASH(0x9b18e3d5388), "_END") called at /home/cpan/bin/perl/lib/site_perl/5.43.3/Catalyst.pm line 489
	Catalyst::forward(ComponentUI=HASH(0x9b18e3d5388), "_END") called at /home/cpan/bin/perl/lib/site_perl/5.43.3/Catalyst/Controller.pm line 137
	Catalyst::Controller::_DISPATCH(ComponentUI::Controller::Root=HASH(0x9b18e40f250), ComponentUI=HASH(0x9b18e3d5388)) called at /home/cpan/bin/perl/lib/site_perl/5.43.3/Catalyst/Action.pm line 374
	Catalyst::Action::execute(Catalyst::Action=HASH(0x9b14dd67370), ComponentUI::Controller::Root=HASH(0x9b18e40f250), ComponentUI=HASH(0x9b18e3d5388)) called at /home/cpan/bin/perl/lib/site_perl/5.43.3/Catalyst.pm line 2067
	eval {...} called at /home/cpan/bin/perl/lib/site_perl/5.43.3/Catalyst.pm line 2067
	Catalyst::execute(ComponentUI=HASH(0x9b18e3d5388), "ComponentUI::Controller::Root", Catalyst::Action=HASH(0x9b14dd67370)) called at /home/cpan/bin/perl/lib/site_perl/5.43.3/Catalyst/Action.pm line 368
	Catalyst::Action::dispatch(Catalyst::Action=HASH(0x9b14dd67370), ComponentUI=HASH(0x9b18e3d5388)) called at /home/cpan/bin/perl/lib/site_perl/5.43.3/Catalyst/Dispatcher.pm line 261
	Catalyst::Dispatcher::_do_forward(Catalyst::Dispatcher=HASH(0x9b1614c8aa8), "forward", ComponentUI=HASH(0x9b18e3d5388), "//_DISPATCH") called at /home/cpan/bin/perl/lib/site_perl/5.43.3/Catalyst/Dispatcher.pm line 241
	Catalyst::Dispatcher::forward(Catalyst::Dispatcher=HASH(0x9b1614c8aa8), ComponentUI=HASH(0x9b18e3d5388), "//_DISPATCH") called at /home/cpan/bin/perl/lib/site_perl/5.43.3/Catalyst.pm line 489
	Catalyst::forward(ComponentUI=HASH(0x9b18e3d5388), "//_DISPATCH") called at /home/cpan/bin/perl/lib/site_perl/5.43.3/Catalyst/Dispatcher.pm line 107
	Catalyst::Dispatcher::dispatch(Catalyst::Dispatcher=HASH(0x9b1614c8aa8), ComponentUI=HASH(0x9b18e3d5388)) called at /home/cpan/bin/perl/lib/site_perl/5.43.3/Catalyst.pm line 2013
	Catalyst::dispatch(ComponentUI=HASH(0x9b18e3d5388)) called at /home/cpan/bin/perl/lib/site_perl/5.43.3/Catalyst/Plugin/Static/Simple.pm line 85
	Class::MOP::Class:::around(CODE(0x9b138c0d688), ComponentUI=HASH(0x9b18e3d5388)) called at /home/cpan/bin/perl/lib/site_perl/5.43.3/OpenBSD.amd64-openbsd/Class/MOP/Method/Wrapped.pm line 166
	ComponentUI::_wrapped_dispatch(ComponentUI=HASH(0x9b18e3d5388)) called at /home/cpan/bin/perl/lib/site_perl/5.43.3/OpenBSD.amd64-openbsd/Class/MOP/Method/Wrapped.pm line 97
	ComponentUI::dispatch(ComponentUI=HASH(0x9b18e3d5388)) called at /home/cpan/bin/perl/lib/site_perl/5.43.3/Catalyst.pm line 2419
	Catalyst::try {...} () called at /home/cpan/bin/perl/lib/site_perl/5.43.3/Try/Tiny.pm line 102
	eval {...} called at /home/cpan/bin/perl/lib/site_perl/5.43.3/Try/Tiny.pm line 93
	Try::Tiny::try(CODE(0x9b18e3f0cb8), Try::Tiny::Catch=REF(0x9b18e3f0ac0)) called at /home/cpan/bin/perl/lib/site_perl/5.43.3/Catalyst.pm line 2428
	Catalyst::handle_request("ComponentUI", "env", HASH(0x9b18e4025c8), "response_cb", CODE(0x9b18e3f0b20)) called at /home/cpan/bin/perl/lib/site_perl/5.43.3/Catalyst/Engine.pm line 808
	Catalyst::Engine::__ANON__(CODE(0x9b18e3f0b20)) called at /home/cpan/bin/perl/lib/site_perl/5.43.3/Plack/Middleware/HTTPExceptions.pm line 32
	Plack::Middleware::HTTPExceptions::try {...} () called at /home/cpan/bin/perl/lib/site_perl/5.43.3/Try/Tiny.pm line 102
	eval {...} called at /home/cpan/bin/perl/lib/site_perl/5.43.3/Try/Tiny.pm line 93
	Try::Tiny::try(CODE(0x9b18e3f0958), Try::Tiny::Catch=REF(0x9b18e3f0178)) called at /home/cpan/bin/perl/lib/site_perl/5.43.3/Plack/Middleware/HTTPExceptions.pm line 41
	Plack::Middleware::HTTPExceptions::__ANON__(CODE(0x9b18e402f10)) called at /home/cpan/bin/perl/lib/site_perl/5.43.3/Plack/Util.pm line 339
	Plack::Util::__ANON__(CODE(0x9b18e402550)) called at /home/cpan/bin/perl/lib/site_perl/5.43.3/Plack/Util.pm line 339
	Plack::Util::__ANON__(CODE(0x9b18e402460)) called at /home/cpan/bin/perl/lib/site_perl/5.43.3/Plack/Util.pm line 339
	Plack::Util::__ANON__(CODE(0x9b18e4023e8)) called at /home/cpan/bin/perl/lib/site_perl/5.43.3/HTTP/Message/PSGI.pm line 100
	HTTP::Message::PSGI::res_from_psgi(CODE(0x9b18e3f06d0)) called at /home/cpan/bin/perl/lib/site_perl/5.43.3/HTTP/Message/PSGI.pm line 157
	HTTP::Response::from_psgi("HTTP::Response", CODE(0x9b18e3f06d0)) called at /home/cpan/bin/perl/lib/site_perl/5.43.3/Plack/Test/MockHTTP.pm line 24
	Plack::Test::MockHTTP::try {...} () called at /home/cpan/bin/perl/lib/site_perl/5.43.3/Try/Tiny.pm line 100
	eval {...} called at /home/cpan/bin/perl/lib/site_perl/5.43.3/Try/Tiny.pm line 93
	Try::Tiny::try(CODE(0x9b0e2931850), Try::Tiny::Catch=REF(0x9b0b63821c0)) called at /home/cpan/bin/perl/lib/site_perl/5.43.3/Plack/Test/MockHTTP.pm line 27
	Plack::Test::MockHTTP::request(Plack::Test::MockHTTP=HASH(0x9b0e2901b50), HTTP::Request=HASH(0x9b0e2901760)) called at /home/cpan/bin/perl/lib/site_perl/5.43.3/Plack/Test.pm line 38
	Plack::Test::__ANON__(HTTP::Request=HASH(0x9b0e2901760)) called at /home/cpan/bin/perl/lib/site_perl/5.43.3/Catalyst/Test.pm line 290
	Catalyst::Test::__ANON__(CODE(0x9b0e2901ad8)) called at /home/cpan/bin/perl/lib/site_perl/5.43.3/Plack/Test.pm line 38
	Plack::Test::test_psgi("app", CODE(0x9b0e2901310), "mangle_response", CODE(0x9b1467f4718), "app", CODE(0x9b1130b1550), "client", CODE(0x9b0e2901970)) called at /home/cpan/bin/perl/lib/site_perl/5.43.3/Catalyst/Test.pm line 293
	Catalyst::Test::_request(HASH(0x9b14c020a60), "/") called at /home/cpan/bin/perl/lib/site_perl/5.43.3/Catalyst/Test.pm line 336
	Catalyst::Test::_local_request("ComponentUI", "/") called at /home/cpan/bin/perl/lib/site_perl/5.43.3/Catalyst/Test.pm line 32
	Catalyst::Test::__ANON__("/") called at t/01app.t line 10
Class::MOP::load_class is deprecated at /home/cpan/bin/perl/lib/site_perl/5.43.3/OpenBSD.amd64-openbsd/Class/MOP.pm line 69.
	Class::MOP::load_class("Reaction::UI::Widget::SiteLayout") called at /home/cpan/.cpan/build/Reaction-0.002005-0/blib/lib/Reaction/UI/Skin.pm line 181
	eval {...} called at /home/cpan/.cpan/build/Reaction-0.002005-0/blib/lib/Reaction/UI/Skin.pm line 181
	Reaction::UI::Skin::widget_class_for(Reaction::UI::Skin=HASH(0x9b0c6a65aa8), Reaction::UI::LayoutSet::TT=HASH(0x9b0c6a83eb0)) called at /home/cpan/.cpan/build/Reaction-0.002005-0/blib/lib/Reaction/UI/LayoutSet.pm line 29
	Reaction::UI::LayoutSet::BUILD(Reaction::UI::LayoutSet::TT=HASH(0x9b0c6a83eb0), HASH(0x9b0c6a83e98)) called at constructor Reaction::UI::LayoutSet::TT::new (defined at /home/cpan/.cpan/build/Reaction-0.002005-0/blib/lib/Reaction/UI/LayoutSet/TT.pm line 43) line 80
	Reaction::UI::LayoutSet::TT::new("Reaction::UI::LayoutSet::TT", "name", "site_layout", "skin", Reaction::UI::Skin=HASH(0x9b0c6a65aa8), "tt_object", Template=HASH(0x9b16f1e52e0), "source_file", ...) called at /home/cpan/.cpan/build/Reaction-0.002005-0/blib/lib/Reaction/UI/Skin.pm line 115
	Reaction::UI::Skin::_create_layout_set(Reaction::UI::Skin=HASH(0x9b0c6a65aa8), "site_layout", ARRAY(0x9b0c6a7c4d8), Reaction::UI::Skin=HASH(0x9b0c6a65aa8)) called at /home/cpan/.cpan/build/Reaction-0.002005-0/blib/lib/Reaction/UI/Skin.pm line 110
	Reaction::UI::Skin::create_layout_set(Reaction::UI::Skin=HASH(0x9b0c6a65aa8), "site_layout") called at /home/cpan/.cpan/build/Reaction-0.002005-0/blib/lib/Reaction/UI/LayoutSet.pm line 83
	Reaction::UI::LayoutSet::_load_file(Reaction::UI::LayoutSet::TT=HASH(0x9b0c6a87d30), Path::Class::File=HASH(0x9b0c6a590d0), HASH(0x9b18e3d4ef8)) called at /home/cpan/.cpan/build/Reaction-0.002005-0/blib/lib/Reaction/UI/LayoutSet.pm line 27
	Reaction::UI::LayoutSet::BUILD(Reaction::UI::LayoutSet::TT=HASH(0x9b0c6a87d30), HASH(0x9b18e3d4ef8)) called at constructor Reaction::UI::LayoutSet::TT::new (defined at /home/cpan/.cpan/build/Reaction-0.002005-0/blib/lib/Reaction/UI/LayoutSet/TT.pm line 43) line 80
	Reaction::UI::LayoutSet::TT::new("Reaction::UI::LayoutSet::TT", "name", "site_layout", "skin", Reaction::UI::Skin=HASH(0x9b18e3d57a8), "next_skin", Reaction::UI::Skin=HASH(0x9b0c6a65aa8), "tt_object", ...) called at /home/cpan/.cpan/build/Reaction-0.002005-0/blib/lib/Reaction/UI/Skin.pm line 115
	Reaction::UI::Skin::_create_layout_set(Reaction::UI::Skin=HASH(0x9b18e3d57a8), "site_layout", ARRAY(0x9b0c6a591f0), Reaction::UI::Skin=HASH(0x9b18e3d57a8)) called at /home/cpan/.cpan/build/Reaction-0.002005-0/blib/lib/Reaction/UI/Skin.pm line 110
	Reaction::UI::Skin::create_layout_set(Reaction::UI::Skin=HASH(0x9b18e3d57a8), "site_layout") called at /home/cpan/.cpan/build/Reaction-0.002005-0/blib/lib/Reaction/UI/LayoutSet.pm line 83
	Reaction::UI::LayoutSet::_load_file(Reaction::UI::LayoutSet::TT=HASH(0x9b0c6a65268), Path::Class::File=HASH(0x9b18e4057a8), HASH(0x9b18e3d4778)) called at /home/cpan/.cpan/build/Reaction-0.002005-0/blib/lib/Reaction/UI/LayoutSet.pm line 27
	Reaction::UI::LayoutSet::BUILD(Reaction::UI::LayoutSet::TT=HASH(0x9b0c6a65268), HASH(0x9b18e3d4778)) called at constructor Reaction::UI::LayoutSet::TT::new (defined at /home/cpan/.cpan/build/Reaction-0.002005-0/blib/lib/Reaction/UI/LayoutSet/TT.pm line 43) line 80
	Reaction::UI::LayoutSet::TT::new("Reaction::UI::LayoutSet::TT", "name", "site_layout", "skin", Reaction::UI::Skin=HASH(0x9b1467e01d8), "next_skin", Reaction::UI::Skin=HASH(0x9b18e3d57a8), "tt_object", ...) called at /home/cpan/.cpan/build/Reaction-0.002005-0/blib/lib/Reaction/UI/Skin.pm line 115
	Reaction::UI::Skin::_create_layout_set(Reaction::UI::Skin=HASH(0x9b1467e01d8), "site_layout", ARRAY(0x9b0c6a8ab50), Reaction::UI::Skin=HASH(0x9b1467e01d8)) called at /home/cpan/.cpan/build/Reaction-0.002005-0/blib/lib/Reaction/UI/Skin.pm line 110
	Reaction::UI::Skin::create_layout_set(Reaction::UI::Skin=HASH(0x9b1467e01d8), "site_layout") called at inline delegation in Reaction::UI::View for skin->create_layout_set (attribute declared in /home/cpan/.cpan/build/Reaction-0.002005-0/blib/lib/Reaction/UI/View.pm at line 22) line 18
	Reaction::UI::View::create_layout_set(ComponentUI::View::Site=HASH(0x9b0e488d2f8), "site_layout") called at /home/cpan/.cpan/build/Reaction-0.002005-0/blib/lib/Reaction/UI/View.pm line 99
	Reaction::UI::View::layout_set_for(ComponentUI::View::Site=HASH(0x9b0e488d2f8), Reaction::UI::ViewPort::SiteLayout=HASH(0x9b18e3f7340)) called at /home/cpan/.cpan/build/Reaction-0.002005-0/blib/lib/Reaction/UI/View.pm line 78
	Reaction::UI::View::render_viewport_args(ComponentUI::View::Site=HASH(0x9b0e488d2f8), Reaction::UI::ViewPort::SiteLayout=HASH(0x9b18e3f7340)) called at /home/cpan/.cpan/build/Reaction-0.002005-0/blib/lib/Reaction/UI/View.pm line 61
	Reaction::UI::View::render_window(ComponentUI::View::Site=HASH(0x9b0e488d2f8), Reaction::UI::Window=HASH(0x9b18e3eec88)) called at /home/cpan/.cpan/build/Reaction-0.002005-0/blib/lib/Reaction/UI/Window.pm line 74
	Reaction::UI::Window::flush_view(Reaction::UI::Window=HASH(0x9b18e3eec88)) called at /home/cpan/.cpan/build/Reaction-0.002005-0/blib/lib/Reaction/UI/Window.pm line 36
	Reaction::UI::Window::flush(Reaction::UI::Window=HASH(0x9b18e3eec88)) called at /home/cpan/.cpan/build/Reaction-0.002005-0/blib/lib/Reaction/UI/Controller/Root.pm line 38
	Reaction::UI::Controller::Root::end(ComponentUI::Controller::Root=HASH(0x9b18e40f250), ComponentUI=HASH(0x9b18e3d5388)) called at /home/cpan/bin/perl/lib/site_perl/5.43.3/Catalyst/Action.pm line 374
	Catalyst::Action::execute(Catalyst::Action=HASH(0x9b14dd674d8), ComponentUI::Controller::Root=HASH(0x9b18e40f250), ComponentUI=HASH(0x9b18e3d5388)) called at /home/cpan/bin/perl/lib/site_perl/5.43.3/Catalyst.pm line 2067
	eval {...} called at /home/cpan/bin/perl/lib/site_perl/5.43.3/Catalyst.pm line 2067
	Catalyst::execute(ComponentUI=HASH(0x9b18e3d5388), "ComponentUI::Controller::Root", Catalyst::Action=HASH(0x9b14dd674d8)) called at /home/cpan/bin/perl/lib/site_perl/5.43.3/Catalyst/Action.pm line 368
	Catalyst::Action::dispatch(Catalyst::Action=HASH(0x9b14dd674d8), ComponentUI=HASH(0x9b18e3d5388)) called at /home/cpan/bin/perl/lib/site_perl/5.43.3/Catalyst/Controller.pm line 188
	Catalyst::Controller::_END(ComponentUI::Controller::Root=HASH(0x9b18e40f250), ComponentUI=HASH(0x9b18e3d5388)) called at /home/cpan/bin/perl/lib/site_perl/5.43.3/Catalyst/Action.pm line 374
	Catalyst::Action::execute(Catalyst::Action=HASH(0x9b14dd67178), ComponentUI::Controller::Root=HASH(0x9b18e40f250), ComponentUI=HASH(0x9b18e3d5388)) called at /home/cpan/bin/perl/lib/site_perl/5.43.3/Catalyst.pm line 2067
	eval {...} called at /home/cpan/bin/perl/lib/site_perl/5.43.3/Catalyst.pm line 2067
	Catalyst::execute(ComponentUI=HASH(0x9b18e3d5388), "ComponentUI::Controller::Root", Catalyst::Action=HASH(0x9b14dd67178)) called at /home/cpan/bin/perl/lib/site_perl/5.43.3/Catalyst/Action.pm line 368
	Catalyst::Action::dispatch(Catalyst::Action=HASH(0x9b14dd67178), ComponentUI=HASH(0x9b18e3d5388)) called at /home/cpan/bin/perl/lib/site_perl/5.43.3/Catalyst/Dispatcher.pm line 261
	Catalyst::Dispatcher::_do_forward(Catalyst::Dispatcher=HASH(0x9b1614c8aa8), "forward", ComponentUI=HASH(0x9b18e3d5388), "_END") called at /home/cpan/bin/perl/lib/site_perl/5.43.3/Catalyst/Dispatcher.pm line 241
	Catalyst::Dispatcher::forward(Catalyst::Dispatcher=HASH(0x9b1614c8aa8), ComponentUI=HASH(0x9b18e3d5388), "_END") called at /home/cpan/bin/perl/lib/site_perl/5.43.3/Catalyst.pm line 489
	Catalyst::forward(ComponentUI=HASH(0x9b18e3d5388), "_END") called at /home/cpan/bin/perl/lib/site_perl/5.43.3/Catalyst/Controller.pm line 137
	Catalyst::Controller::_DISPATCH(ComponentUI::Controller::Root=HASH(0x9b18e40f250), ComponentUI=HASH(0x9b18e3d5388)) called at /home/cpan/bin/perl/lib/site_perl/5.43.3/Catalyst/Action.pm line 374
	Catalyst::Action::execute(Catalyst::Action=HASH(0x9b14dd67370), ComponentUI::Controller::Root=HASH(0x9b18e40f250), ComponentUI=HASH(0x9b18e3d5388)) called at /home/cpan/bin/perl/lib/site_perl/5.43.3/Catalyst.pm line 2067
	eval {...} called at /home/cpan/bin/perl/lib/site_perl/5.43.3/Catalyst.pm line 2067
	Catalyst::execute(ComponentUI=HASH(0x9b18e3d5388), "ComponentUI::Controller::Root", Catalyst::Action=HASH(0x9b14dd67370)) called at /home/cpan/bin/perl/lib/site_perl/5.43.3/Catalyst/Action.pm line 368
	Catalyst::Action::dispatch(Catalyst::Action=HASH(0x9b14dd67370), ComponentUI=HASH(0x9b18e3d5388)) called at /home/cpan/bin/perl/lib/site_perl/5.43.3/Catalyst/Dispatcher.pm line 261
	Catalyst::Dispatcher::_do_forward(Catalyst::Dispatcher=HASH(0x9b1614c8aa8), "forward", ComponentUI=HASH(0x9b18e3d5388), "//_DISPATCH") called at /home/cpan/bin/perl/lib/site_perl/5.43.3/Catalyst/Dispatcher.pm line 241
	Catalyst::Dispatcher::forward(Catalyst::Dispatcher=HASH(0x9b1614c8aa8), ComponentUI=HASH(0x9b18e3d5388), "//_DISPATCH") called at /home/cpan/bin/perl/lib/site_perl/5.43.3/Catalyst.pm line 489
	Catalyst::forward(ComponentUI=HASH(0x9b18e3d5388), "//_DISPATCH") called at /home/cpan/bin/perl/lib/site_perl/5.43.3/Catalyst/Dispatcher.pm line 107
	Catalyst::Dispatcher::dispatch(Catalyst::Dispatcher=HASH(0x9b1614c8aa8), ComponentUI=HASH(0x9b18e3d5388)) called at /home/cpan/bin/perl/lib/site_perl/5.43.3/Catalyst.pm line 2013
	Catalyst::dispatch(ComponentUI=HASH(0x9b18e3d5388)) called at /home/cpan/bin/perl/lib/site_perl/5.43.3/Catalyst/Plugin/Static/Simple.pm line 85
	Class::MOP::Class:::around(CODE(0x9b138c0d688), ComponentUI=HASH(0x9b18e3d5388)) called at /home/cpan/bin/perl/lib/site_perl/5.43.3/OpenBSD.amd64-openbsd/Class/MOP/Method/Wrapped.pm line 166
	ComponentUI::_wrapped_dispatch(ComponentUI=HASH(0x9b18e3d5388)) called at /home/cpan/bin/perl/lib/site_perl/5.43.3/OpenBSD.amd64-openbsd/Class/MOP/Method/Wrapped.pm line 97
	ComponentUI::dispatch(ComponentUI=HASH(0x9b18e3d5388)) called at /home/cpan/bin/perl/lib/site_perl/5.43.3/Catalyst.pm line 2419
	Catalyst::try {...} () called at /home/cpan/bin/perl/lib/site_perl/5.43.3/Try/Tiny.pm line 102
	eval {...} called at /home/cpan/bin/perl/lib/site_perl/5.43.3/Try/Tiny.pm line 93
	Try::Tiny::try(CODE(0x9b18e3f0cb8), Try::Tiny::Catch=REF(0x9b18e3f0ac0)) called at /home/cpan/bin/perl/lib/site_perl/5.43.3/Catalyst.pm line 2428
	Catalyst::handle_request("ComponentUI", "env", HASH(0x9b18e4025c8), "response_cb", CODE(0x9b18e3f0b20)) called at /home/cpan/bin/perl/lib/site_perl/5.43.3/Catalyst/Engine.pm line 808
	Catalyst::Engine::__ANON__(CODE(0x9b18e3f0b20)) called at /home/cpan/bin/perl/lib/site_perl/5.43.3/Plack/Middleware/HTTPExceptions.pm line 32
	Plack::Middleware::HTTPExceptions::try {...} () called at /home/cpan/bin/perl/lib/site_perl/5.43.3/Try/Tiny.pm line 102
	eval {...} called at /home/cpan/bin/perl/lib/site_perl/5.43.3/Try/Tiny.pm line 93
	Try::Tiny::try(CODE(0x9b18e3f0958), Try::Tiny::Catch=REF(0x9b18e3f0178)) called at /home/cpan/bin/perl/lib/site_perl/5.43.3/Plack/Middleware/HTTPExceptions.pm line 41
	Plack::Middleware::HTTPExceptions::__ANON__(CODE(0x9b18e402f10)) called at /home/cpan/bin/perl/lib/site_perl/5.43.3/Plack/Util.pm line 339
	Plack::Util::__ANON__(CODE(0x9b18e402550)) called at /home/cpan/bin/perl/lib/site_perl/5.43.3/Plack/Util.pm line 339
	Plack::Util::__ANON__(CODE(0x9b18e402460)) called at /home/cpan/bin/perl/lib/site_perl/5.43.3/Plack/Util.pm line 339
	Plack::Util::__ANON__(CODE(0x9b18e4023e8)) called at /home/cpan/bin/perl/lib/site_perl/5.43.3/HTTP/Message/PSGI.pm line 100
	HTTP::Message::PSGI::res_from_psgi(CODE(0x9b18e3f06d0)) called at /home/cpan/bin/perl/lib/site_perl/5.43.3/HTTP/Message/PSGI.pm line 157
	HTTP::Response::from_psgi("HTTP::Response", CODE(0x9b18e3f06d0)) called at /home/cpan/bin/perl/lib/site_perl/5.43.3/Plack/Test/MockHTTP.pm line 24
	Plack::Test::MockHTTP::try {...} () called at /home/cpan/bin/perl/lib/site_perl/5.43.3/Try/Tiny.pm line 100
	eval {...} called at /home/cpan/bin/perl/lib/site_perl/5.43.3/Try/Tiny.pm line 93
	Try::Tiny::try(CODE(0x9b0e2931850), Try::Tiny::Catch=REF(0x9b0b63821c0)) called at /home/cpan/bin/perl/lib/site_perl/5.43.3/Plack/Test/MockHTTP.pm line 27
	Plack::Test::MockHTTP::request(Plack::Test::MockHTTP=HASH(0x9b0e2901b50), HTTP::Request=HASH(0x9b0e2901760)) called at /home/cpan/bin/perl/lib/site_perl/5.43.3/Plack/Test.pm line 38
	Plack::Test::__ANON__(HTTP::Request=HASH(0x9b0e2901760)) called at /home/cpan/bin/perl/lib/site_perl/5.43.3/Catalyst/Test.pm line 290
	Catalyst::Test::__ANON__(CODE(0x9b0e2901ad8)) called at /home/cpan/bin/perl/lib/site_perl/5.43.3/Plack/Test.pm line 38
	Plack::Test::test_psgi("app", CODE(0x9b0e2901310), "mangle_response", CODE(0x9b1467f4718), "app", CODE(0x9b1130b1550), "client", CODE(0x9b0e2901970)) called at /home/cpan/bin/perl/lib/site_perl/5.43.3/Catalyst/Test.pm line 293
	Catalyst::Test::_request(HASH(0x9b14c020a60), "/") called at /home/cpan/bin/perl/lib/site_perl/5.43.3/Catalyst/Test.pm line 336
	Catalyst::Test::_local_request("ComponentUI", "/") called at /home/cpan/bin/perl/lib/site_perl/5.43.3/Catalyst/Test.pm line 32
	Catalyst::Test::__ANON__("/") called at t/01app.t line 10
[debug] remote
t/01app.t ................... ok
t/04load_all.t .............. ok
t/05reflect_attr_from.t ..... ok
Class::MOP::load_class is deprecated at /home/cpan/bin/perl/lib/site_perl/5.43.3/OpenBSD.amd64-openbsd/Class/MOP.pm line 69.
	Class::MOP::load_class("Reaction::InterfaceModel::Object") called at /home/cpan/.cpan/build/Reaction-0.002005-0/blib/lib/Reaction/InterfaceModel/Reflector/DBIC.pm line 149
	Reaction::InterfaceModel::Reflector::DBIC::reflect_schema(Reaction::InterfaceModel::Reflector::DBIC=HASH(0x312b22b3190), "model_class", "ComponentUI::TestModel", "schema_class", "RTest::TestDB", "sources", ARRAY(0x3134c1c6058)) called at /home/cpan/.cpan/build/Reaction-0.002005-0/blib/lib/ComponentUI/TestModel.pm line 10
	require ComponentUI/TestModel.pm called at t/lib/RTest/InterfaceModel/Reflector/DBIC.pm line 6
	RTest::InterfaceModel::Reflector::DBIC::BEGIN() called at t/lib/RTest/InterfaceModel/Reflector/DBIC.pm line 6
	eval {...} called at t/lib/RTest/InterfaceModel/Reflector/DBIC.pm line 6
	require RTest/InterfaceModel/Reflector/DBIC.pm called at t/im_dbic.t line 7
	main::BEGIN() called at t/im_dbic.t line 7
	eval {...} called at t/im_dbic.t line 7
Class::MOP::load_class is deprecated at /home/cpan/bin/perl/lib/site_perl/5.43.3/OpenBSD.amd64-openbsd/Class/MOP.pm line 69.
	Class::MOP::load_class("Reaction::InterfaceModel::Object") called at /home/cpan/.cpan/build/Reaction-0.002005-0/blib/lib/Reaction/Class.pm line 123
	Reaction::Class::do_class_sub("Reaction::Class", "ComponentUI::TestModel::Foo", "ComponentUI::TestModel::Foo", "is", "Reaction::InterfaceModel::Object", "which", CODE(0x31373f9a130)) called at /home/cpan/.cpan/build/Reaction-0.002005-0/blib/lib/Reaction/Class.pm line 86
	Reaction::Class::("ComponentUI::TestModel::Foo", "is", "Reaction::InterfaceModel::Object", "which", CODE(0x31373f9a130)) called at /home/cpan/.cpan/build/Reaction-0.002005-0/blib/lib/ComponentUI/TestModel/Foo.pm line 8
	require ComponentUI/TestModel/Foo.pm called at /home/cpan/bin/perl/lib/site_perl/5.43.3/Module/Runtime.pm line 120
	Module::Runtime::require_module("ComponentUI::TestModel::Foo") called at /home/cpan/bin/perl/lib/site_perl/5.43.3/Class/Load.pm line 174
	Class::Load::try {...} () called at /home/cpan/bin/perl/lib/site_perl/5.43.3/Try/Tiny.pm line 98
	eval {...} called at /home/cpan/bin/perl/lib/site_perl/5.43.3/Try/Tiny.pm line 93
	Try::Tiny::try(CODE(0x31373f69ad8), Try::Tiny::Catch=REF(0x31373f69e68)) called at /home/cpan/bin/perl/lib/site_perl/5.43.3/Class/Load.pm line 180
	Class::Load::try_load_class("ComponentUI::TestModel::Foo", undef) called at /home/cpan/bin/perl/lib/site_perl/5.43.3/Class/Load.pm line 35
	Class::Load::load_class("ComponentUI::TestModel::Foo") called at /home/cpan/.cpan/build/Reaction-0.002005-0/blib/lib/Reaction/InterfaceModel/Reflector/DBIC.pm line 892
	eval {...} called at /home/cpan/.cpan/build/Reaction-0.002005-0/blib/lib/Reaction/InterfaceModel/Reflector/DBIC.pm line 892
	Reaction::InterfaceModel::Reflector::DBIC::_maybe_load_class(Reaction::InterfaceModel::Reflector::DBIC=HASH(0x312b22b3190), "ComponentUI::TestModel::Foo") called at /home/cpan/.cpan/build/Reaction-0.002005-0/blib/lib/Reaction/InterfaceModel/Reflector/DBIC.pm line 876
	Reaction::InterfaceModel::Reflector::DBIC::_load_or_create(Reaction::InterfaceModel::Reflector::DBIC=HASH(0x312b22b3190), "ComponentUI::TestModel::Foo", "superclasses", ARRAY(0x31373f69b08)) called at /home/cpan/.cpan/build/Reaction-0.002005-0/blib/lib/Reaction/InterfaceModel/Reflector/DBIC.pm line 448
	Reaction::InterfaceModel::Reflector::DBIC::reflect_source_object(Reaction::InterfaceModel::Reflector::DBIC=HASH(0x312b22b3190), "parent_domain_model_name", "_rtest_test_db_store", "source_class", "RTest::TestDB::Foo", "source_name", "Foo", "parent_class", ...) called at /home/cpan/.cpan/build/Reaction-0.002005-0/blib/lib/Reaction/InterfaceModel/Reflector/DBIC.pm line 323
	Reaction::InterfaceModel::Reflector::DBIC::reflect_source(Reaction::InterfaceModel::Reflector::DBIC=HASH(0x312b22b3190), "source_name", "Foo", "parent_class", "ComponentUI::TestModel", "schema_class", "RTest::TestDB", "source_class", ...) called at /home/cpan/.cpan/build/Reaction-0.002005-0/blib/lib/Reaction/InterfaceModel/Reflector/DBIC.pm line 185
	Reaction::InterfaceModel::Reflector::DBIC::reflect_schema(Reaction::InterfaceModel::Reflector::DBIC=HASH(0x312b22b3190), "model_class", "ComponentUI::TestModel", "schema_class", "RTest::TestDB", "sources", ARRAY(0x3134c1c6058)) called at /home/cpan/.cpan/build/Reaction-0.002005-0/blib/lib/ComponentUI/TestModel.pm line 10
	require ComponentUI/TestModel.pm called at t/lib/RTest/InterfaceModel/Reflector/DBIC.pm line 6
	RTest::InterfaceModel::Reflector::DBIC::BEGIN() called at t/lib/RTest/InterfaceModel/Reflector/DBIC.pm line 6
	eval {...} called at t/lib/RTest/InterfaceModel/Reflector/DBIC.pm line 6
	require RTest/InterfaceModel/Reflector/DBIC.pm called at t/im_dbic.t line 7
	main::BEGIN() called at t/im_dbic.t line 7
	eval {...} called at t/im_dbic.t line 7
Class::MOP::is_class_loaded is deprecated at /home/cpan/bin/perl/lib/site_perl/5.43.3/OpenBSD.amd64-openbsd/Class/MOP.pm line 87.
	Class::MOP::is_class_loaded("RTest::TestIM::Foo") called at t/lib/RTest/InterfaceModel/Reflector/DBIC.pm line 74
	RTest::InterfaceModel::Reflector::DBIC::test_reflect_schema(RTest::InterfaceModel::Reflector::DBIC=HASH(0x312e25d8418)) called at /home/cpan/bin/perl/lib/site_perl/5.43.3/Test/Class.pm line 293
	Test::Class::try {...} () called at /home/cpan/bin/perl/lib/site_perl/5.43.3/Try/Tiny.pm line 100
	eval {...} called at /home/cpan/bin/perl/lib/site_perl/5.43.3/Try/Tiny.pm line 93
	Try::Tiny::try(CODE(0x3134be18988), Try::Tiny::Catch=REF(0x3134be48778)) called at /home/cpan/bin/perl/lib/site_perl/5.43.3/Test/Class.pm line 293
	Test::Class::_run_method(RTest::InterfaceModel::Reflector::DBIC=HASH(0x312e25d8418), "test_reflect_schema", ARRAY(0x312fe929a78)) called at /home/cpan/bin/perl/lib/site_perl/5.43.3/Test/Class.pm line 402
	Test::Class::runtests("Test::Class", RTest::InterfaceModel::Reflector::DBIC=HASH(0x312e25d8418)) called at t/im_dbic.t line 10
t/im_dbic.t ................. ok
t/ui_focus_stack.t .......... ok
t/ui_view.t ................. ok
t/ui_viewport.t ............. ok
Attempt to call undefined import method with arguments ("5.80") via package "Catalyst::Runtime" (Perhaps you forgot to load the package?) at /home/cpan/.cpan/build/Reaction-0.002005-0/blib/lib/ComponentUI.pm line 6.
Class::MOP::load_class is deprecated at /home/cpan/bin/perl/lib/site_perl/5.43.3/OpenBSD.amd64-openbsd/Class/MOP.pm line 69.
	Class::MOP::load_class("ComponentUI::TestModel") called at /home/cpan/.cpan/build/Reaction-0.002005-0/blib/lib/Catalyst/Model/Reaction/InterfaceModel/DBIC.pm line 24
	Catalyst::Model::Reaction::InterfaceModel::DBIC::COMPONENT("ComponentUI::Model::TestModel", "ComponentUI", HASH(0x39b57c8fe38)) called at /home/cpan/bin/perl/lib/site_perl/5.43.3/Catalyst.pm line 3240
	eval {...} called at /home/cpan/bin/perl/lib/site_perl/5.43.3/Catalyst.pm line 3241
	Catalyst::setup_component("ComponentUI", "ComponentUI::Model::TestModel") called at /home/cpan/bin/perl/lib/site_perl/5.43.3/Catalyst.pm line 3218
	Catalyst::__ANON__() called at /home/cpan/bin/perl/lib/site_perl/5.43.3/Catalyst.pm line 3065
	Catalyst::setup_components("ComponentUI") called at /home/cpan/bin/perl/lib/site_perl/5.43.3/Catalyst.pm line 1438
	Catalyst::setup("ComponentUI") called at /home/cpan/.cpan/build/Reaction-0.002005-0/blib/lib/ComponentUI.pm line 32
	require ComponentUI.pm called at /home/cpan/bin/perl/lib/site_perl/5.43.3/Module/Runtime.pm line 120
	Module::Runtime::require_module("ComponentUI") called at /home/cpan/bin/perl/lib/site_perl/5.43.3/Class/Load.pm line 174
	Class::Load::try {...} () called at /home/cpan/bin/perl/lib/site_perl/5.43.3/Try/Tiny.pm line 98
	eval {...} called at /home/cpan/bin/perl/lib/site_perl/5.43.3/Try/Tiny.pm line 93
	Try::Tiny::try(CODE(0x39bb9da7958), Try::Tiny::Catch=REF(0x39ba278f298)) called at /home/cpan/bin/perl/lib/site_perl/5.43.3/Class/Load.pm line 180
	Class::Load::try_load_class("ComponentUI", undef) called at /home/cpan/bin/perl/lib/site_perl/5.43.3/Class/Load.pm line 35
	Class::Load::load_class("ComponentUI") called at /home/cpan/bin/perl/lib/site_perl/5.43.3/Test/WWW/Mechanize/Catalyst.pm line 245
	Test::WWW::Mechanize::Catalyst::import("Test::WWW::Mechanize::Catalyst", "ComponentUI") called at t/uncheck_bool_field.t line 6
	main::BEGIN() called at t/uncheck_bool_field.t line 6
	eval {...} called at t/uncheck_bool_field.t line 6
Class::MOP::load_class is deprecated at /home/cpan/bin/perl/lib/site_perl/5.43.3/OpenBSD.amd64-openbsd/Class/MOP.pm line 69.
	Class::MOP::load_class("Reaction::InterfaceModel::Object") called at /home/cpan/.cpan/build/Reaction-0.002005-0/blib/lib/Reaction/InterfaceModel/Reflector/DBIC.pm line 149
	Reaction::InterfaceModel::Reflector::DBIC::reflect_schema(Reaction::InterfaceModel::Reflector::DBIC=HASH(0x39aff3cb6b8), "model_class", "ComponentUI::TestModel", "schema_class", "RTest::TestDB", "sources", ARRAY(0x39aff3cb670)) called at /home/cpan/.cpan/build/Reaction-0.002005-0/blib/lib/ComponentUI/TestModel.pm line 10
	require ComponentUI/TestModel.pm called at /home/cpan/bin/perl/lib/site_perl/5.43.3/Module/Runtime.pm line 120
	Module::Runtime::require_module("ComponentUI::TestModel") called at /home/cpan/bin/perl/lib/site_perl/5.43.3/Class/Load.pm line 174
	Class::Load::try {...} () called at /home/cpan/bin/perl/lib/site_perl/5.43.3/Try/Tiny.pm line 98
	eval {...} called at /home/cpan/bin/perl/lib/site_perl/5.43.3/Try/Tiny.pm line 93
	Try::Tiny::try(CODE(0x39afcaf9d60), Try::Tiny::Catch=REF(0x39b6ef78fa0)) called at /home/cpan/bin/perl/lib/site_perl/5.43.3/Class/Load.pm line 180
	Class::Load::try_load_class("ComponentUI::TestModel", undef) called at /home/cpan/bin/perl/lib/site_perl/5.43.3/Class/Load.pm line 35
	Class::Load::load_class("ComponentUI::TestModel") called at /home/cpan/.cpan/build/Reaction-0.002005-0/blib/lib/Catalyst/Model/Reaction/InterfaceModel/DBIC.pm line 24
	Catalyst::Model::Reaction::InterfaceModel::DBIC::COMPONENT("ComponentUI::Model::TestModel", "ComponentUI", HASH(0x39b57c8fe38)) called at /home/cpan/bin/perl/lib/site_perl/5.43.3/Catalyst.pm line 3240
	eval {...} called at /home/cpan/bin/perl/lib/site_perl/5.43.3/Catalyst.pm line 3241
	Catalyst::setup_component("ComponentUI", "ComponentUI::Model::TestModel") called at /home/cpan/bin/perl/lib/site_perl/5.43.3/Catalyst.pm line 3218
	Catalyst::__ANON__() called at /home/cpan/bin/perl/lib/site_perl/5.43.3/Catalyst.pm line 3065
	Catalyst::setup_components("ComponentUI") called at /home/cpan/bin/perl/lib/site_perl/5.43.3/Catalyst.pm line 1438
	Catalyst::setup("ComponentUI") called at /home/cpan/.cpan/build/Reaction-0.002005-0/blib/lib/ComponentUI.pm line 32
	require ComponentUI.pm called at /home/cpan/bin/perl/lib/site_perl/5.43.3/Module/Runtime.pm line 120
	Module::Runtime::require_module("ComponentUI") called at /home/cpan/bin/perl/lib/site_perl/5.43.3/Class/Load.pm line 174
	Class::Load::try {...} () called at /home/cpan/bin/perl/lib/site_perl/5.43.3/Try/Tiny.pm line 98
	eval {...} called at /home/cpan/bin/perl/lib/site_perl/5.43.3/Try/Tiny.pm line 93
	Try::Tiny::try(CODE(0x39bb9da7958), Try::Tiny::Catch=REF(0x39ba278f298)) called at /home/cpan/bin/perl/lib/site_perl/5.43.3/Class/Load.pm line 180
	Class::Load::try_load_class("ComponentUI", undef) called at /home/cpan/bin/perl/lib/site_perl/5.43.3/Class/Load.pm line 35
	Class::Load::load_class("ComponentUI") called at /home/cpan/bin/perl/lib/site_perl/5.43.3/Test/WWW/Mechanize/Catalyst.pm line 245
	Test::WWW::Mechanize::Catalyst::import("Test::WWW::Mechanize::Catalyst", "ComponentUI") called at t/uncheck_bool_field.t line 6
	main::BEGIN() called at t/uncheck_bool_field.t line 6
	eval {...} called at t/uncheck_bool_field.t line 6
Class::MOP::load_class is deprecated at /home/cpan/bin/perl/lib/site_perl/5.43.3/OpenBSD.amd64-openbsd/Class/MOP.pm line 69.
	Class::MOP::load_class("Reaction::InterfaceModel::Object") called at /home/cpan/.cpan/build/Reaction-0.002005-0/blib/lib/Reaction/Class.pm line 123
	Reaction::Class::do_class_sub("Reaction::Class", "ComponentUI::TestModel::Foo", "ComponentUI::TestModel::Foo", "is", "Reaction::InterfaceModel::Object", "which", CODE(0x39b1428f9e8)) called at /home/cpan/.cpan/build/Reaction-0.002005-0/blib/lib/Reaction/Class.pm line 86
	Reaction::Class::("ComponentUI::TestModel::Foo", "is", "Reaction::InterfaceModel::Object", "which", CODE(0x39b1428f9e8)) called at /home/cpan/.cpan/build/Reaction-0.002005-0/blib/lib/ComponentUI/TestModel/Foo.pm line 8
	require ComponentUI/TestModel/Foo.pm called at /home/cpan/bin/perl/lib/site_perl/5.43.3/Module/Runtime.pm line 120
	Module::Runtime::require_module("ComponentUI::TestModel::Foo") called at /home/cpan/bin/perl/lib/site_perl/5.43.3/Class/Load.pm line 174
	Class::Load::try {...} () called at /home/cpan/bin/perl/lib/site_perl/5.43.3/Try/Tiny.pm line 98
	eval {...} called at /home/cpan/bin/perl/lib/site_perl/5.43.3/Try/Tiny.pm line 93
	Try::Tiny::try(CODE(0x39b1429adc0), Try::Tiny::Catch=REF(0x39b14297e50)) called at /home/cpan/bin/perl/lib/site_perl/5.43.3/Class/Load.pm line 180
	Class::Load::try_load_class("ComponentUI::TestModel::Foo", undef) called at /home/cpan/bin/perl/lib/site_perl/5.43.3/Class/Load.pm line 35
	Class::Load::load_class("ComponentUI::TestModel::Foo") called at /home/cpan/.cpan/build/Reaction-0.002005-0/blib/lib/Reaction/InterfaceModel/Reflector/DBIC.pm line 892
	eval {...} called at /home/cpan/.cpan/build/Reaction-0.002005-0/blib/lib/Reaction/InterfaceModel/Reflector/DBIC.pm line 892
	Reaction::InterfaceModel::Reflector::DBIC::_maybe_load_class(Reaction::InterfaceModel::Reflector::DBIC=HASH(0x39aff3cb6b8), "ComponentUI::TestModel::Foo") called at /home/cpan/.cpan/build/Reaction-0.002005-0/blib/lib/Reaction/InterfaceModel/Reflector/DBIC.pm line 876
	Reaction::InterfaceModel::Reflector::DBIC::_load_or_create(Reaction::InterfaceModel::Reflector::DBIC=HASH(0x39aff3cb6b8), "ComponentUI::TestModel::Foo", "superclasses", ARRAY(0x39adf3db0d0)) called at /home/cpan/.cpan/build/Reaction-0.002005-0/blib/lib/Reaction/InterfaceModel/Reflector/DBIC.pm line 448
	Reaction::InterfaceModel::Reflector::DBIC::reflect_source_object(Reaction::InterfaceModel::Reflector::DBIC=HASH(0x39aff3cb6b8), "parent_domain_model_name", "_rtest_test_db_store", "parent_class", "ComponentUI::TestModel", "schema_class", "RTest::TestDB", "source_name", ...) called at /home/cpan/.cpan/build/Reaction-0.002005-0/blib/lib/Reaction/InterfaceModel/Reflector/DBIC.pm line 323
	Reaction::InterfaceModel::Reflector::DBIC::reflect_source(Reaction::InterfaceModel::Reflector::DBIC=HASH(0x39aff3cb6b8), "source_name", "Foo", "parent_class", "ComponentUI::TestModel", "schema_class", "RTest::TestDB", "source_class", ...) called at /home/cpan/.cpan/build/Reaction-0.002005-0/blib/lib/Reaction/InterfaceModel/Reflector/DBIC.pm line 185
	Reaction::InterfaceModel::Reflector::DBIC::reflect_schema(Reaction::InterfaceModel::Reflector::DBIC=HASH(0x39aff3cb6b8), "model_class", "ComponentUI::TestModel", "schema_class", "RTest::TestDB", "sources", ARRAY(0x39aff3cb670)) called at /home/cpan/.cpan/build/Reaction-0.002005-0/blib/lib/ComponentUI/TestModel.pm line 10
	require ComponentUI/TestModel.pm called at /home/cpan/bin/perl/lib/site_perl/5.43.3/Module/Runtime.pm line 120
	Module::Runtime::require_module("ComponentUI::TestModel") called at /home/cpan/bin/perl/lib/site_perl/5.43.3/Class/Load.pm line 174
	Class::Load::try {...} () called at /home/cpan/bin/perl/lib/site_perl/5.43.3/Try/Tiny.pm line 98
	eval {...} called at /home/cpan/bin/perl/lib/site_perl/5.43.3/Try/Tiny.pm line 93
	Try::Tiny::try(CODE(0x39afcaf9d60), Try::Tiny::Catch=REF(0x39b6ef78fa0)) called at /home/cpan/bin/perl/lib/site_perl/5.43.3/Class/Load.pm line 180
	Class::Load::try_load_class("ComponentUI::TestModel", undef) called at /home/cpan/bin/perl/lib/site_perl/5.43.3/Class/Load.pm line 35
	Class::Load::load_class("ComponentUI::TestModel") called at /home/cpan/.cpan/build/Reaction-0.002005-0/blib/lib/Catalyst/Model/Reaction/InterfaceModel/DBIC.pm line 24
	Catalyst::Model::Reaction::InterfaceModel::DBIC::COMPONENT("ComponentUI::Model::TestModel", "ComponentUI", HASH(0x39b57c8fe38)) called at /home/cpan/bin/perl/lib/site_perl/5.43.3/Catalyst.pm line 3240
	eval {...} called at /home/cpan/bin/perl/lib/site_perl/5.43.3/Catalyst.pm line 3241
	Catalyst::setup_component("ComponentUI", "ComponentUI::Model::TestModel") called at /home/cpan/bin/perl/lib/site_perl/5.43.3/Catalyst.pm line 3218
	Catalyst::__ANON__() called at /home/cpan/bin/perl/lib/site_perl/5.43.3/Catalyst.pm line 3065
	Catalyst::setup_components("ComponentUI") called at /home/cpan/bin/perl/lib/site_perl/5.43.3/Catalyst.pm line 1438
	Catalyst::setup("ComponentUI") called at /home/cpan/.cpan/build/Reaction-0.002005-0/blib/lib/ComponentUI.pm line 32
	require ComponentUI.pm called at /home/cpan/bin/perl/lib/site_perl/5.43.3/Module/Runtime.pm line 120
	Module::Runtime::require_module("ComponentUI") called at /home/cpan/bin/perl/lib/site_perl/5.43.3/Class/Load.pm line 174
	Class::Load::try {...} () called at /home/cpan/bin/perl/lib/site_perl/5.43.3/Try/Tiny.pm line 98
	eval {...} called at /home/cpan/bin/perl/lib/site_perl/5.43.3/Try/Tiny.pm line 93
	Try::Tiny::try(CODE(0x39bb9da7958), Try::Tiny::Catch=REF(0x39ba278f298)) called at /home/cpan/bin/perl/lib/site_perl/5.43.3/Class/Load.pm line 180
	Class::Load::try_load_class("ComponentUI", undef) called at /home/cpan/bin/perl/lib/site_perl/5.43.3/Class/Load.pm line 35
	Class::Load::load_class("ComponentUI") called at /home/cpan/bin/perl/lib/site_perl/5.43.3/Test/WWW/Mechanize/Catalyst.pm line 245
	Test::WWW::Mechanize::Catalyst::import("Test::WWW::Mechanize::Catalyst", "ComponentUI") called at t/uncheck_bool_field.t line 6
	main::BEGIN() called at t/uncheck_bool_field.t line 6
	eval {...} called at t/uncheck_bool_field.t line 6
Class::MOP::load_class is deprecated at /home/cpan/bin/perl/lib/site_perl/5.43.3/OpenBSD.amd64-openbsd/Class/MOP.pm line 69.
	Class::MOP::load_class("ComponentUI::RenderingContext::Site") called at /home/cpan/.cpan/build/Reaction-0.002005-0/blib/lib/Reaction/UI/View.pm line 125
	eval {...} called at /home/cpan/.cpan/build/Reaction-0.002005-0/blib/lib/Reaction/UI/View.pm line 125
	Reaction::UI::View::find_related_class(ComponentUI::View::Site=HASH(0x39b35f94c88), "RenderingContext") called at /home/cpan/.cpan/build/Reaction-0.002005-0/blib/lib/Reaction/UI/View.pm line 43
	Reaction::UI::View::_build_rendering_context_class(ComponentUI::View::Site=HASH(0x39b35f94c88)) called at reader Reaction::UI::View::rendering_context_class (defined at /home/cpan/.cpan/build/Reaction-0.002005-0/blib/lib/Reaction/UI/View.pm line 29) line 8
	Reaction::UI::View::rendering_context_class(ComponentUI::View::Site=HASH(0x39b35f94c88)) called at /home/cpan/.cpan/build/Reaction-0.002005-0/blib/lib/Reaction/UI/View.pm line 134
	Reaction::UI::View::create_rendering_context(ComponentUI::View::Site=HASH(0x39b35f94c88)) called at /home/cpan/.cpan/build/Reaction-0.002005-0/blib/lib/Reaction/UI/View.pm line 60
	Reaction::UI::View::render_window(ComponentUI::View::Site=HASH(0x39b35f94c88), Reaction::UI::Window=HASH(0x39ad9eaf190)) called at /home/cpan/.cpan/build/Reaction-0.002005-0/blib/lib/Reaction/UI/Window.pm line 74
	Reaction::UI::Window::flush_view(Reaction::UI::Window=HASH(0x39ad9eaf190)) called at /home/cpan/.cpan/build/Reaction-0.002005-0/blib/lib/Reaction/UI/Window.pm line 36
	Reaction::UI::Window::flush(Reaction::UI::Window=HASH(0x39ad9eaf190)) called at /home/cpan/.cpan/build/Reaction-0.002005-0/blib/lib/Reaction/UI/Controller/Root.pm line 38
	Reaction::UI::Controller::Root::end(ComponentUI::Controller::Root=HASH(0x39ad9eaf1f0), ComponentUI=HASH(0x39b92c24568)) called at /home/cpan/bin/perl/lib/site_perl/5.43.3/Catalyst/Action.pm line 374
	Catalyst::Action::execute(Catalyst::Action=HASH(0x39b6a76ba78), ComponentUI::Controller::Root=HASH(0x39ad9eaf1f0), ComponentUI=HASH(0x39b92c24568)) called at /home/cpan/bin/perl/lib/site_perl/5.43.3/Catalyst.pm line 2067
	eval {...} called at /home/cpan/bin/perl/lib/site_perl/5.43.3/Catalyst.pm line 2067
	Catalyst::execute(ComponentUI=HASH(0x39b92c24568), "ComponentUI::Controller::Root", Catalyst::Action=HASH(0x39b6a76ba78)) called at /home/cpan/bin/perl/lib/site_perl/5.43.3/Catalyst/Action.pm line 368
	Catalyst::Action::dispatch(Catalyst::Action=HASH(0x39b6a76ba78), ComponentUI=HASH(0x39b92c24568)) called at /home/cpan/bin/perl/lib/site_perl/5.43.3/Catalyst/Controller.pm line 188
	Catalyst::Controller::_END(ComponentUI::Controller::TestModel::Baz=HASH(0x39ad9ecd9a0), ComponentUI=HASH(0x39b92c24568)) called at /home/cpan/bin/perl/lib/site_perl/5.43.3/Catalyst/Action.pm line 374
	Catalyst::Action::execute(Catalyst::Action=HASH(0x39b267fb760), ComponentUI::Controller::TestModel::Baz=HASH(0x39ad9ecd9a0), ComponentUI=HASH(0x39b92c24568)) called at /home/cpan/bin/perl/lib/site_perl/5.43.3/Catalyst.pm line 2067
	eval {...} called at /home/cpan/bin/perl/lib/site_perl/5.43.3/Catalyst.pm line 2067
	Catalyst::execute(ComponentUI=HASH(0x39b92c24568), "ComponentUI::Controller::TestModel::Baz", Catalyst::Action=HASH(0x39b267fb760)) called at /home/cpan/bin/perl/lib/site_perl/5.43.3/Catalyst/Action.pm line 368
	Catalyst::Action::dispatch(Catalyst::Action=HASH(0x39b267fb760), ComponentUI=HASH(0x39b92c24568)) called at /home/cpan/bin/perl/lib/site_perl/5.43.3/Catalyst/Dispatcher.pm line 261
	Catalyst::Dispatcher::_do_forward(Catalyst::Dispatcher=HASH(0x39b9e4ed9b8), "forward", ComponentUI=HASH(0x39b92c24568), "_END") called at /home/cpan/bin/perl/lib/site_perl/5.43.3/Catalyst/Dispatcher.pm line 241
	Catalyst::Dispatcher::forward(Catalyst::Dispatcher=HASH(0x39b9e4ed9b8), ComponentUI=HASH(0x39b92c24568), "_END") called at /home/cpan/bin/perl/lib/site_perl/5.43.3/Catalyst.pm line 489
	Catalyst::forward(ComponentUI=HASH(0x39b92c24568), "_END") called at /home/cpan/bin/perl/lib/site_perl/5.43.3/Catalyst/Controller.pm line 137
	Catalyst::Controller::_DISPATCH(ComponentUI::Controller::TestModel::Baz=HASH(0x39ad9ecd9a0), ComponentUI=HASH(0x39b92c24568)) called at /home/cpan/bin/perl/lib/site_perl/5.43.3/Catalyst/Action.pm line 374
	Catalyst::Action::execute(Catalyst::Action=HASH(0x39b267fc700), ComponentUI::Controller::TestModel::Baz=HASH(0x39ad9ecd9a0), ComponentUI=HASH(0x39b92c24568)) called at /home/cpan/bin/perl/lib/site_perl/5.43.3/Catalyst.pm line 2067
	eval {...} called at /home/cpan/bin/perl/lib/site_perl/5.43.3/Catalyst.pm line 2067
	Catalyst::execute(ComponentUI=HASH(0x39b92c24568), "ComponentUI::Controller::TestModel::Baz", Catalyst::Action=HASH(0x39b267fc700)) called at /home/cpan/bin/perl/lib/site_perl/5.43.3/Catalyst/Action.pm line 368
	Catalyst::Action::dispatch(Catalyst::Action=HASH(0x39b267fc700), ComponentUI=HASH(0x39b92c24568)) called at /home/cpan/bin/perl/lib/site_perl/5.43.3/Catalyst/Dispatcher.pm line 261
	Catalyst::Dispatcher::_do_forward(Catalyst::Dispatcher=HASH(0x39b9e4ed9b8), "forward", ComponentUI=HASH(0x39b92c24568), "/testmodel/baz/_DISPATCH") called at /home/cpan/bin/perl/lib/site_perl/5.43.3/Catalyst/Dispatcher.pm line 241
	Catalyst::Dispatcher::forward(Catalyst::Dispatcher=HASH(0x39b9e4ed9b8), ComponentUI=HASH(0x39b92c24568), "/testmodel/baz/_DISPATCH") called at /home/cpan/bin/perl/lib/site_perl/5.43.3/Catalyst.pm line 489
	Catalyst::forward(ComponentUI=HASH(0x39b92c24568), "/testmodel/baz/_DISPATCH") called at /home/cpan/bin/perl/lib/site_perl/5.43.3/Catalyst/Dispatcher.pm line 107
	Catalyst::Dispatcher::dispatch(Catalyst::Dispatcher=HASH(0x39b9e4ed9b8), ComponentUI=HASH(0x39b92c24568)) called at /home/cpan/bin/perl/lib/site_perl/5.43.3/Catalyst.pm line 2013
	Catalyst::dispatch(ComponentUI=HASH(0x39b92c24568)) called at /home/cpan/bin/perl/lib/site_perl/5.43.3/Catalyst/Plugin/Static/Simple.pm line 85
	Class::MOP::Class:::around(CODE(0x39b63d42448), ComponentUI=HASH(0x39b92c24568)) called at /home/cpan/bin/perl/lib/site_perl/5.43.3/OpenBSD.amd64-openbsd/Class/MOP/Method/Wrapped.pm line 166
	ComponentUI::_wrapped_dispatch(ComponentUI=HASH(0x39b92c24568)) called at /home/cpan/bin/perl/lib/site_perl/5.43.3/OpenBSD.amd64-openbsd/Class/MOP/Method/Wrapped.pm line 97
	ComponentUI::dispatch(ComponentUI=HASH(0x39b92c24568)) called at /home/cpan/bin/perl/lib/site_perl/5.43.3/Catalyst.pm line 2419
	Catalyst::try {...} () called at /home/cpan/bin/perl/lib/site_perl/5.43.3/Try/Tiny.pm line 102
	eval {...} called at /home/cpan/bin/perl/lib/site_perl/5.43.3/Try/Tiny.pm line 93
	Try::Tiny::try(CODE(0x39b92c5be80), Try::Tiny::Catch=REF(0x39b92c5bc88)) called at /home/cpan/bin/perl/lib/site_perl/5.43.3/Catalyst.pm line 2428
	Catalyst::handle_request("ComponentUI", "env", HASH(0x39b92c2f790), "response_cb", CODE(0x39b92c5bce8)) called at /home/cpan/bin/perl/lib/site_perl/5.43.3/Catalyst/Engine.pm line 808
	Catalyst::Engine::__ANON__(CODE(0x39b92c5bce8)) called at /home/cpan/bin/perl/lib/site_perl/5.43.3/Plack/Middleware/HTTPExceptions.pm line 32
	Plack::Middleware::HTTPExceptions::try {...} () called at /home/cpan/bin/perl/lib/site_perl/5.43.3/Try/Tiny.pm line 102
	eval {...} called at /home/cpan/bin/perl/lib/site_perl/5.43.3/Try/Tiny.pm line 93
	Try::Tiny::try(CODE(0x39b92c5bb20), Try::Tiny::Catch=REF(0x39b92c5b370)) called at /home/cpan/bin/perl/lib/site_perl/5.43.3/Plack/Middleware/HTTPExceptions.pm line 41
	Plack::Middleware::HTTPExceptions::__ANON__(CODE(0x39b92c2ff10)) called at /home/cpan/bin/perl/lib/site_perl/5.43.3/Plack/Util.pm line 339
	Plack::Util::__ANON__(CODE(0x39b92c2f6b8)) called at /home/cpan/bin/perl/lib/site_perl/5.43.3/Plack/Util.pm line 339
	Plack::Util::__ANON__(CODE(0x39b92c2fb08)) called at /home/cpan/bin/perl/lib/site_perl/5.43.3/Plack/Util.pm line 339
	Plack::Util::__ANON__(CODE(0x39b92c53208)) called at /home/cpan/bin/perl/lib/site_perl/5.43.3/HTTP/Message/PSGI.pm line 100
	HTTP::Message::PSGI::res_from_psgi(CODE(0x39b92c5b8c8)) called at /home/cpan/bin/perl/lib/site_perl/5.43.3/HTTP/Message/PSGI.pm line 157
	HTTP::Response::from_psgi("HTTP::Response", CODE(0x39b92c5b8c8)) called at /home/cpan/bin/perl/lib/site_perl/5.43.3/Plack/Test/MockHTTP.pm line 24
	Plack::Test::MockHTTP::try {...} () called at /home/cpan/bin/perl/lib/site_perl/5.43.3/Try/Tiny.pm line 100
	eval {...} called at /home/cpan/bin/perl/lib/site_perl/5.43.3/Try/Tiny.pm line 93
	Try::Tiny::try(CODE(0x39b92c49880), Try::Tiny::Catch=REF(0x39ba81a7bc8)) called at /home/cpan/bin/perl/lib/site_perl/5.43.3/Plack/Test/MockHTTP.pm line 27
	Plack::Test::MockHTTP::request(Plack::Test::MockHTTP=HASH(0x39b92c30b98), HTTP::Request=HASH(0x39b275f4700)) called at /home/cpan/bin/perl/lib/site_perl/5.43.3/Plack/Test.pm line 38
	Plack::Test::__ANON__(HTTP::Request=HASH(0x39b275f4700)) called at /home/cpan/bin/perl/lib/site_perl/5.43.3/Catalyst/Test.pm line 290
	Catalyst::Test::__ANON__(CODE(0x39b92c30b20)) called at /home/cpan/bin/perl/lib/site_perl/5.43.3/Plack/Test.pm line 38
	Plack::Test::test_psgi("app", CODE(0x39b92c306e8), "mangle_response", CODE(0x39adc240f70), "app", CODE(0x39b92c306b8), "client", CODE(0x39b92c309b8)) called at /home/cpan/bin/perl/lib/site_perl/5.43.3/Catalyst/Test.pm line 293
	Catalyst::Test::_request(HASH(0x39b92c49418), HTTP::Request=HASH(0x39b275f4700)) called at /home/cpan/bin/perl/lib/site_perl/5.43.3/Catalyst/Test.pm line 336
	Catalyst::Test::_local_request("ComponentUI", HTTP::Request=HASH(0x39b275f4700)) called at /home/cpan/bin/perl/lib/site_perl/5.43.3/Test/WWW/Mechanize/Catalyst.pm line 176
	Test::WWW::Mechanize::Catalyst::_do_catalyst_request(Test::WWW::Mechanize::Catalyst=HASH(0x39bb9dabb08), HTTP::Request=HASH(0x39b275f4700)) called at /home/cpan/bin/perl/lib/site_perl/5.43.3/Test/WWW/Mechanize/Catalyst.pm line 78
	Test::WWW::Mechanize::Catalyst::_make_request(Test::WWW::Mechanize::Catalyst=HASH(0x39bb9dabb08), HTTP::Request=HASH(0x39b275f4700)) called at /home/cpan/bin/perl/lib/site_perl/5.43.3/WWW/Mechanize.pm line 1534
	WWW::Mechanize::request(Test::WWW::Mechanize::Catalyst=HASH(0x39bb9dabb08), HTTP::Request=HASH(0x39b275f4700)) called at /home/cpan/bin/perl/lib/site_perl/5.43.3/LWP/UserAgent.pm line 454
	LWP::UserAgent::get(Test::WWW::Mechanize::Catalyst=HASH(0x39bb9dabb08), "http://localhost/testmodel/baz/id/1/update") called at /home/cpan/bin/perl/lib/site_perl/5.43.3/WWW/Mechanize.pm line 124
	WWW::Mechanize::get(Test::WWW::Mechanize::Catalyst=HASH(0x39bb9dabb08), "http://localhost/testmodel/baz/id/1/update") called at /home/cpan/bin/perl/lib/site_perl/5.43.3/Test/WWW/Mechanize.pm line 192
	Test::WWW::Mechanize::get_ok(Test::WWW::Mechanize::Catalyst=HASH(0x39bb9dabb08), "http://localhost/testmodel/baz/id/1/update") called at t/uncheck_bool_field.t line 9
Class::MOP::is_class_loaded is deprecated at /home/cpan/bin/perl/lib/site_perl/5.43.3/OpenBSD.amd64-openbsd/Class/MOP.pm line 87.
	Class::MOP::is_class_loaded("ComponentUI::UI::Widget::SiteLayout") called at /home/cpan/.cpan/build/Reaction-0.002005-0/blib/lib/Reaction/UI/Skin.pm line 178
	Reaction::UI::Skin::widget_class_for(Reaction::UI::Skin=HASH(0x39ba0bc6940), Reaction::UI::LayoutSet::TT=HASH(0x39ba0be0d30)) called at /home/cpan/.cpan/build/Reaction-0.002005-0/blib/lib/Reaction/UI/LayoutSet.pm line 29
	Reaction::UI::LayoutSet::BUILD(Reaction::UI::LayoutSet::TT=HASH(0x39ba0be0d30), HASH(0x39ba0be0d18)) called at constructor Reaction::UI::LayoutSet::TT::new (defined at /home/cpan/.cpan/build/Reaction-0.002005-0/blib/lib/Reaction/UI/LayoutSet/TT.pm line 43) line 80
	Reaction::UI::LayoutSet::TT::new("Reaction::UI::LayoutSet::TT", "name", "site_layout", "skin", Reaction::UI::Skin=HASH(0x39ba0bc6940), "tt_object", Template=HASH(0x39b19fc5838), "source_file", ...) called at /home/cpan/.cpan/build/Reaction-0.002005-0/blib/lib/Reaction/UI/Skin.pm line 115
	Reaction::UI::Skin::_create_layout_set(Reaction::UI::Skin=HASH(0x39ba0bc6940), "site_layout", ARRAY(0x39ba0beb238), Reaction::UI::Skin=HASH(0x39ba0bc6940)) called at /home/cpan/.cpan/build/Reaction-0.002005-0/blib/lib/Reaction/UI/Skin.pm line 110
	Reaction::UI::Skin::create_layout_set(Reaction::UI::Skin=HASH(0x39ba0bc6940), "site_layout") called at /home/cpan/.cpan/build/Reaction-0.002005-0/blib/lib/Reaction/UI/LayoutSet.pm line 83
	Reaction::UI::LayoutSet::_load_file(Reaction::UI::LayoutSet::TT=HASH(0x39ba0bd6370), Path::Class::File=HASH(0x39ba0bb9610), HASH(0x39ba0bed3e8)) called at /home/cpan/.cpan/build/Reaction-0.002005-0/blib/lib/Reaction/UI/LayoutSet.pm line 27
	Reaction::UI::LayoutSet::BUILD(Reaction::UI::LayoutSet::TT=HASH(0x39ba0bd6370), HASH(0x39ba0bed3e8)) called at constructor Reaction::UI::LayoutSet::TT::new (defined at /home/cpan/.cpan/build/Reaction-0.002005-0/blib/lib/Reaction/UI/LayoutSet/TT.pm line 43) line 80
	Reaction::UI::LayoutSet::TT::new("Reaction::UI::LayoutSet::TT", "name", "site_layout", "skin", Reaction::UI::Skin=HASH(0x39b0ae7bd90), "next_skin", Reaction::UI::Skin=HASH(0x39ba0bc6940), "tt_object", ...) called at /home/cpan/.cpan/build/Reaction-0.002005-0/blib/lib/Reaction/UI/Skin.pm line 115
	Reaction::UI::Skin::_create_layout_set(Reaction::UI::Skin=HASH(0x39b0ae7bd90), "site_layout", ARRAY(0x39b05995d60), Reaction::UI::Skin=HASH(0x39b0ae7bd90)) called at /home/cpan/.cpan/build/Reaction-0.002005-0/blib/lib/Reaction/UI/Skin.pm line 110
	Reaction::UI::Skin::create_layout_set(Reaction::UI::Skin=HASH(0x39b0ae7bd90), "site_layout") called at /home/cpan/.cpan/build/Reaction-0.002005-0/blib/lib/Reaction/UI/LayoutSet.pm line 83
	Reaction::UI::LayoutSet::_load_file(Reaction::UI::LayoutSet::TT=HASH(0x39ad9ecd988), Path::Class::File=HASH(0x39b059b1070), HASH(0x39b059793d0)) called at /home/cpan/.cpan/build/Reaction-0.002005-0/blib/lib/Reaction/UI/LayoutSet.pm line 27
	Reaction::UI::LayoutSet::BUILD(Reaction::UI::LayoutSet::TT=HASH(0x39ad9ecd988), HASH(0x39b059793d0)) called at constructor Reaction::UI::LayoutSet::TT::new (defined at /home/cpan/.cpan/build/Reaction-0.002005-0/blib/lib/Reaction/UI/LayoutSet/TT.pm line 43) line 80
	Reaction::UI::LayoutSet::TT::new("Reaction::UI::LayoutSet::TT", "name", "site_layout", "skin", Reaction::UI::Skin=HASH(0x39b0599f0e8), "next_skin", Reaction::UI::Skin=HASH(0x39b0ae7bd90), "tt_object", ...) called at /home/cpan/.cpan/build/Reaction-0.002005-0/blib/lib/Reaction/UI/Skin.pm line 115
	Reaction::UI::Skin::_create_layout_set(Reaction::UI::Skin=HASH(0x39b0599f0e8), "site_layout", ARRAY(0x39b05979f58), Reaction::UI::Skin=HASH(0x39b0599f0e8)) called at /home/cpan/.cpan/build/Reaction-0.002005-0/blib/lib/Reaction/UI/Skin.pm line 110
	Reaction::UI::Skin::create_layout_set(Reaction::UI::Skin=HASH(0x39b0599f0e8), "site_layout") called at inline delegation in Reaction::UI::View for skin->create_layout_set (attribute declared in /home/cpan/.cpan/build/Reaction-0.002005-0/blib/lib/Reaction/UI/View.pm at line 22) line 18
	Reaction::UI::View::create_layout_set(ComponentUI::View::Site=HASH(0x39b35f94c88), "site_layout") called at /home/cpan/.cpan/build/Reaction-0.002005-0/blib/lib/Reaction/UI/View.pm line 99
	Reaction::UI::View::layout_set_for(ComponentUI::View::Site=HASH(0x39b35f94c88), Reaction::UI::ViewPort::SiteLayout=HASH(0x39ad9eaf940)) called at /home/cpan/.cpan/build/Reaction-0.002005-0/blib/lib/Reaction/UI/View.pm line 78
	Reaction::UI::View::render_viewport_args(ComponentUI::View::Site=HASH(0x39b35f94c88), Reaction::UI::ViewPort::SiteLayout=HASH(0x39ad9eaf940)) called at /home/cpan/.cpan/build/Reaction-0.002005-0/blib/lib/Reaction/UI/View.pm line 61
	Reaction::UI::View::render_window(ComponentUI::View::Site=HASH(0x39b35f94c88), Reaction::UI::Window=HASH(0x39ad9eaf190)) called at /home/cpan/.cpan/build/Reaction-0.002005-0/blib/lib/Reaction/UI/Window.pm line 74
	Reaction::UI::Window::flush_view(Reaction::UI::Window=HASH(0x39ad9eaf190)) called at /home/cpan/.cpan/build/Reaction-0.002005-0/blib/lib/Reaction/UI/Window.pm line 36
	Reaction::UI::Window::flush(Reaction::UI::Window=HASH(0x39ad9eaf190)) called at /home/cpan/.cpan/build/Reaction-0.002005-0/blib/lib/Reaction/UI/Controller/Root.pm line 38
	Reaction::UI::Controller::Root::end(ComponentUI::Controller::Root=HASH(0x39ad9eaf1f0), ComponentUI=HASH(0x39b92c24568)) called at /home/cpan/bin/perl/lib/site_perl/5.43.3/Catalyst/Action.pm line 374
	Catalyst::Action::execute(Catalyst::Action=HASH(0x39b6a76ba78), ComponentUI::Controller::Root=HASH(0x39ad9eaf1f0), ComponentUI=HASH(0x39b92c24568)) called at /home/cpan/bin/perl/lib/site_perl/5.43.3/Catalyst.pm line 2067
	eval {...} called at /home/cpan/bin/perl/lib/site_perl/5.43.3/Catalyst.pm line 2067
	Catalyst::execute(ComponentUI=HASH(0x39b92c24568), "ComponentUI::Controller::Root", Catalyst::Action=HASH(0x39b6a76ba78)) called at /home/cpan/bin/perl/lib/site_perl/5.43.3/Catalyst/Action.pm line 368
	Catalyst::Action::dispatch(Catalyst::Action=HASH(0x39b6a76ba78), ComponentUI=HASH(0x39b92c24568)) called at /home/cpan/bin/perl/lib/site_perl/5.43.3/Catalyst/Controller.pm line 188
	Catalyst::Controller::_END(ComponentUI::Controller::TestModel::Baz=HASH(0x39ad9ecd9a0), ComponentUI=HASH(0x39b92c24568)) called at /home/cpan/bin/perl/lib/site_perl/5.43.3/Catalyst/Action.pm line 374
	Catalyst::Action::execute(Catalyst::Action=HASH(0x39b267fb760), ComponentUI::Controller::TestModel::Baz=HASH(0x39ad9ecd9a0), ComponentUI=HASH(0x39b92c24568)) called at /home/cpan/bin/perl/lib/site_perl/5.43.3/Catalyst.pm line 2067
	eval {...} called at /home/cpan/bin/perl/lib/site_perl/5.43.3/Catalyst.pm line 2067
	Catalyst::execute(ComponentUI=HASH(0x39b92c24568), "ComponentUI::Controller::TestModel::Baz", Catalyst::Action=HASH(0x39b267fb760)) called at /home/cpan/bin/perl/lib/site_perl/5.43.3/Catalyst/Action.pm line 368
	Catalyst::Action::dispatch(Catalyst::Action=HASH(0x39b267fb760), ComponentUI=HASH(0x39b92c24568)) called at /home/cpan/bin/perl/lib/site_perl/5.43.3/Catalyst/Dispatcher.pm line 261
	Catalyst::Dispatcher::_do_forward(Catalyst::Dispatcher=HASH(0x39b9e4ed9b8), "forward", ComponentUI=HASH(0x39b92c24568), "_END") called at /home/cpan/bin/perl/lib/site_perl/5.43.3/Catalyst/Dispatcher.pm line 241
	Catalyst::Dispatcher::forward(Catalyst::Dispatcher=HASH(0x39b9e4ed9b8), ComponentUI=HASH(0x39b92c24568), "_END") called at /home/cpan/bin/perl/lib/site_perl/5.43.3/Catalyst.pm line 489
	Catalyst::forward(ComponentUI=HASH(0x39b92c24568), "_END") called at /home/cpan/bin/perl/lib/site_perl/5.43.3/Catalyst/Controller.pm line 137
	Catalyst::Controller::_DISPATCH(ComponentUI::Controller::TestModel::Baz=HASH(0x39ad9ecd9a0), ComponentUI=HASH(0x39b92c24568)) called at /home/cpan/bin/perl/lib/site_perl/5.43.3/Catalyst/Action.pm line 374
	Catalyst::Action::execute(Catalyst::Action=HASH(0x39b267fc700), ComponentUI::Controller::TestModel::Baz=HASH(0x39ad9ecd9a0), ComponentUI=HASH(0x39b92c24568)) called at /home/cpan/bin/perl/lib/site_perl/5.43.3/Catalyst.pm line 2067
	eval {...} called at /home/cpan/bin/perl/lib/site_perl/5.43.3/Catalyst.pm line 2067
	Catalyst::execute(ComponentUI=HASH(0x39b92c24568), "ComponentUI::Controller::TestModel::Baz", Catalyst::Action=HASH(0x39b267fc700)) called at /home/cpan/bin/perl/lib/site_perl/5.43.3/Catalyst/Action.pm line 368
	Catalyst::Action::dispatch(Catalyst::Action=HASH(0x39b267fc700), ComponentUI=HASH(0x39b92c24568)) called at /home/cpan/bin/perl/lib/site_perl/5.43.3/Catalyst/Dispatcher.pm line 261
	Catalyst::Dispatcher::_do_forward(Catalyst::Dispatcher=HASH(0x39b9e4ed9b8), "forward", ComponentUI=HASH(0x39b92c24568), "/testmodel/baz/_DISPATCH") called at /home/cpan/bin/perl/lib/site_perl/5.43.3/Catalyst/Dispatcher.pm line 241
	Catalyst::Dispatcher::forward(Catalyst::Dispatcher=HASH(0x39b9e4ed9b8), ComponentUI=HASH(0x39b92c24568), "/testmodel/baz/_DISPATCH") called at /home/cpan/bin/perl/lib/site_perl/5.43.3/Catalyst.pm line 489
	Catalyst::forward(ComponentUI=HASH(0x39b92c24568), "/testmodel/baz/_DISPATCH") called at /home/cpan/bin/perl/lib/site_perl/5.43.3/Catalyst/Dispatcher.pm line 107
	Catalyst::Dispatcher::dispatch(Catalyst::Dispatcher=HASH(0x39b9e4ed9b8), ComponentUI=HASH(0x39b92c24568)) called at /home/cpan/bin/perl/lib/site_perl/5.43.3/Catalyst.pm line 2013
	Catalyst::dispatch(ComponentUI=HASH(0x39b92c24568)) called at /home/cpan/bin/perl/lib/site_perl/5.43.3/Catalyst/Plugin/Static/Simple.pm line 85
	Class::MOP::Class:::around(CODE(0x39b63d42448), ComponentUI=HASH(0x39b92c24568)) called at /home/cpan/bin/perl/lib/site_perl/5.43.3/OpenBSD.amd64-openbsd/Class/MOP/Method/Wrapped.pm line 166
	ComponentUI::_wrapped_dispatch(ComponentUI=HASH(0x39b92c24568)) called at /home/cpan/bin/perl/lib/site_perl/5.43.3/OpenBSD.amd64-openbsd/Class/MOP/Method/Wrapped.pm line 97
	ComponentUI::dispatch(ComponentUI=HASH(0x39b92c24568)) called at /home/cpan/bin/perl/lib/site_perl/5.43.3/Catalyst.pm line 2419
	Catalyst::try {...} () called at /home/cpan/bin/perl/lib/site_perl/5.43.3/Try/Tiny.pm line 102
	eval {...} called at /home/cpan/bin/perl/lib/site_perl/5.43.3/Try/Tiny.pm line 93
	Try::Tiny::try(CODE(0x39b92c5be80), Try::Tiny::Catch=REF(0x39b92c5bc88)) called at /home/cpan/bin/perl/lib/site_perl/5.43.3/Catalyst.pm line 2428
	Catalyst::handle_request("ComponentUI", "env", HASH(0x39b92c2f790), "response_cb", CODE(0x39b92c5bce8)) called at /home/cpan/bin/perl/lib/site_perl/5.43.3/Catalyst/Engine.pm line 808
	Catalyst::Engine::__ANON__(CODE(0x39b92c5bce8)) called at /home/cpan/bin/perl/lib/site_perl/5.43.3/Plack/Middleware/HTTPExceptions.pm line 32
	Plack::Middleware::HTTPExceptions::try {...} () called at /home/cpan/bin/perl/lib/site_perl/5.43.3/Try/Tiny.pm line 102
	eval {...} called at /home/cpan/bin/perl/lib/site_perl/5.43.3/Try/Tiny.pm line 93
	Try::Tiny::try(CODE(0x39b92c5bb20), Try::Tiny::Catch=REF(0x39b92c5b370)) called at /home/cpan/bin/perl/lib/site_perl/5.43.3/Plack/Middleware/HTTPExceptions.pm line 41
	Plack::Middleware::HTTPExceptions::__ANON__(CODE(0x39b92c2ff10)) called at /home/cpan/bin/perl/lib/site_perl/5.43.3/Plack/Util.pm line 339
	Plack::Util::__ANON__(CODE(0x39b92c2f6b8)) called at /home/cpan/bin/perl/lib/site_perl/5.43.3/Plack/Util.pm line 339
	Plack::Util::__ANON__(CODE(0x39b92c2fb08)) called at /home/cpan/bin/perl/lib/site_perl/5.43.3/Plack/Util.pm line 339
	Plack::Util::__ANON__(CODE(0x39b92c53208)) called at /home/cpan/bin/perl/lib/site_perl/5.43.3/HTTP/Message/PSGI.pm line 100
	HTTP::Message::PSGI::res_from_psgi(CODE(0x39b92c5b8c8)) called at /home/cpan/bin/perl/lib/site_perl/5.43.3/HTTP/Message/PSGI.pm line 157
	HTTP::Response::from_psgi("HTTP::Response", CODE(0x39b92c5b8c8)) called at /home/cpan/bin/perl/lib/site_perl/5.43.3/Plack/Test/MockHTTP.pm line 24
	Plack::Test::MockHTTP::try {...} () called at /home/cpan/bin/perl/lib/site_perl/5.43.3/Try/Tiny.pm line 100
	eval {...} called at /home/cpan/bin/perl/lib/site_perl/5.43.3/Try/Tiny.pm line 93
	Try::Tiny::try(CODE(0x39b92c49880), Try::Tiny::Catch=REF(0x39ba81a7bc8)) called at /home/cpan/bin/perl/lib/site_perl/5.43.3/Plack/Test/MockHTTP.pm line 27
	Plack::Test::MockHTTP::request(Plack::Test::MockHTTP=HASH(0x39b92c30b98), HTTP::Request=HASH(0x39b275f4700)) called at /home/cpan/bin/perl/lib/site_perl/5.43.3/Plack/Test.pm line 38
	Plack::Test::__ANON__(HTTP::Request=HASH(0x39b275f4700)) called at /home/cpan/bin/perl/lib/site_perl/5.43.3/Catalyst/Test.pm line 290
	Catalyst::Test::__ANON__(CODE(0x39b92c30b20)) called at /home/cpan/bin/perl/lib/site_perl/5.43.3/Plack/Test.pm line 38
	Plack::Test::test_psgi("app", CODE(0x39b92c306e8), "mangle_response", CODE(0x39adc240f70), "app", CODE(0x39b92c306b8), "client", CODE(0x39b92c309b8)) called at /home/cpan/bin/perl/lib/site_perl/5.43.3/Catalyst/Test.pm line 293
	Catalyst::Test::_request(HASH(0x39b92c49418), HTTP::Request=HASH(0x39b275f4700)) called at /home/cpan/bin/perl/lib/site_perl/5.43.3/Catalyst/Test.pm line 336
	Catalyst::Test::_local_request("ComponentUI", HTTP::Request=HASH(0x39b275f4700)) called at /home/cpan/bin/perl/lib/site_perl/5.43.3/Test/WWW/Mechanize/Catalyst.pm line 176
	Test::WWW::Mechanize::Catalyst::_do_catalyst_request(Test::WWW::Mechanize::Catalyst=HASH(0x39bb9dabb08), HTTP::Request=HASH(0x39b275f4700)) called at /home/cpan/bin/perl/lib/site_perl/5.43.3/Test/WWW/Mechanize/Catalyst.pm line 78
	Test::WWW::Mechanize::Catalyst::_make_request(Test::WWW::Mechanize::Catalyst=HASH(0x39bb9dabb08), HTTP::Request=HASH(0x39b275f4700)) called at /home/cpan/bin/perl/lib/site_perl/5.43.3/WWW/Mechanize.pm line 1534
	WWW::Mechanize::request(Test::WWW::Mechanize::Catalyst=HASH(0x39bb9dabb08), HTTP::Request=HASH(0x39b275f4700)) called at /home/cpan/bin/perl/lib/site_perl/5.43.3/LWP/UserAgent.pm line 454
	LWP::UserAgent::get(Test::WWW::Mechanize::Catalyst=HASH(0x39bb9dabb08), "http://localhost/testmodel/baz/id/1/update") called at /home/cpan/bin/perl/lib/site_perl/5.43.3/WWW/Mechanize.pm line 124
	WWW::Mechanize::get(Test::WWW::Mechanize::Catalyst=HASH(0x39bb9dabb08), "http://localhost/testmodel/baz/id/1/update") called at /home/cpan/bin/perl/lib/site_perl/5.43.3/Test/WWW/Mechanize.pm line 192
	Test::WWW::Mechanize::get_ok(Test::WWW::Mechanize::Catalyst=HASH(0x39bb9dabb08), "http://localhost/testmodel/baz/id/1/update") called at t/uncheck_bool_field.t line 9
Class::MOP::load_class is deprecated at /home/cpan/bin/perl/lib/site_perl/5.43.3/OpenBSD.amd64-openbsd/Class/MOP.pm line 69.
	Class::MOP::load_class("Reaction::UI::Widget::SiteLayout") called at /home/cpan/.cpan/build/Reaction-0.002005-0/blib/lib/Reaction/UI/Skin.pm line 181
	eval {...} called at /home/cpan/.cpan/build/Reaction-0.002005-0/blib/lib/Reaction/UI/Skin.pm line 181
	Reaction::UI::Skin::widget_class_for(Reaction::UI::Skin=HASH(0x39ba0bc6940), Reaction::UI::LayoutSet::TT=HASH(0x39ba0be0d30)) called at /home/cpan/.cpan/build/Reaction-0.002005-0/blib/lib/Reaction/UI/LayoutSet.pm line 29
	Reaction::UI::LayoutSet::BUILD(Reaction::UI::LayoutSet::TT=HASH(0x39ba0be0d30), HASH(0x39ba0be0d18)) called at constructor Reaction::UI::LayoutSet::TT::new (defined at /home/cpan/.cpan/build/Reaction-0.002005-0/blib/lib/Reaction/UI/LayoutSet/TT.pm line 43) line 80
	Reaction::UI::LayoutSet::TT::new("Reaction::UI::LayoutSet::TT", "name", "site_layout", "skin", Reaction::UI::Skin=HASH(0x39ba0bc6940), "tt_object", Template=HASH(0x39b19fc5838), "source_file", ...) called at /home/cpan/.cpan/build/Reaction-0.002005-0/blib/lib/Reaction/UI/Skin.pm line 115
	Reaction::UI::Skin::_create_layout_set(Reaction::UI::Skin=HASH(0x39ba0bc6940), "site_layout", ARRAY(0x39ba0beb238), Reaction::UI::Skin=HASH(0x39ba0bc6940)) called at /home/cpan/.cpan/build/Reaction-0.002005-0/blib/lib/Reaction/UI/Skin.pm line 110
	Reaction::UI::Skin::create_layout_set(Reaction::UI::Skin=HASH(0x39ba0bc6940), "site_layout") called at /home/cpan/.cpan/build/Reaction-0.002005-0/blib/lib/Reaction/UI/LayoutSet.pm line 83
	Reaction::UI::LayoutSet::_load_file(Reaction::UI::LayoutSet::TT=HASH(0x39ba0bd6370), Path::Class::File=HASH(0x39ba0bb9610), HASH(0x39ba0bed3e8)) called at /home/cpan/.cpan/build/Reaction-0.002005-0/blib/lib/Reaction/UI/LayoutSet.pm line 27
	Reaction::UI::LayoutSet::BUILD(Reaction::UI::LayoutSet::TT=HASH(0x39ba0bd6370), HASH(0x39ba0bed3e8)) called at constructor Reaction::UI::LayoutSet::TT::new (defined at /home/cpan/.cpan/build/Reaction-0.002005-0/blib/lib/Reaction/UI/LayoutSet/TT.pm line 43) line 80
	Reaction::UI::LayoutSet::TT::new("Reaction::UI::LayoutSet::TT", "name", "site_layout", "skin", Reaction::UI::Skin=HASH(0x39b0ae7bd90), "next_skin", Reaction::UI::Skin=HASH(0x39ba0bc6940), "tt_object", ...) called at /home/cpan/.cpan/build/Reaction-0.002005-0/blib/lib/Reaction/UI/Skin.pm line 115
	Reaction::UI::Skin::_create_layout_set(Reaction::UI::Skin=HASH(0x39b0ae7bd90), "site_layout", ARRAY(0x39b05995d60), Reaction::UI::Skin=HASH(0x39b0ae7bd90)) called at /home/cpan/.cpan/build/Reaction-0.002005-0/blib/lib/Reaction/UI/Skin.pm line 110
	Reaction::UI::Skin::create_layout_set(Reaction::UI::Skin=HASH(0x39b0ae7bd90), "site_layout") called at /home/cpan/.cpan/build/Reaction-0.002005-0/blib/lib/Reaction/UI/LayoutSet.pm line 83
	Reaction::UI::LayoutSet::_load_file(Reaction::UI::LayoutSet::TT=HASH(0x39ad9ecd988), Path::Class::File=HASH(0x39b059b1070), HASH(0x39b059793d0)) called at /home/cpan/.cpan/build/Reaction-0.002005-0/blib/lib/Reaction/UI/LayoutSet.pm line 27
	Reaction::UI::LayoutSet::BUILD(Reaction::UI::LayoutSet::TT=HASH(0x39ad9ecd988), HASH(0x39b059793d0)) called at constructor Reaction::UI::LayoutSet::TT::new (defined at /home/cpan/.cpan/build/Reaction-0.002005-0/blib/lib/Reaction/UI/LayoutSet/TT.pm line 43) line 80
	Reaction::UI::LayoutSet::TT::new("Reaction::UI::LayoutSet::TT", "name", "site_layout", "skin", Reaction::UI::Skin=HASH(0x39b0599f0e8), "next_skin", Reaction::UI::Skin=HASH(0x39b0ae7bd90), "tt_object", ...) called at /home/cpan/.cpan/build/Reaction-0.002005-0/blib/lib/Reaction/UI/Skin.pm line 115
	Reaction::UI::Skin::_create_layout_set(Reaction::UI::Skin=HASH(0x39b0599f0e8), "site_layout", ARRAY(0x39b05979f58), Reaction::UI::Skin=HASH(0x39b0599f0e8)) called at /home/cpan/.cpan/build/Reaction-0.002005-0/blib/lib/Reaction/UI/Skin.pm line 110
	Reaction::UI::Skin::create_layout_set(Reaction::UI::Skin=HASH(0x39b0599f0e8), "site_layout") called at inline delegation in Reaction::UI::View for skin->create_layout_set (attribute declared in /home/cpan/.cpan/build/Reaction-0.002005-0/blib/lib/Reaction/UI/View.pm at line 22) line 18
	Reaction::UI::View::create_layout_set(ComponentUI::View::Site=HASH(0x39b35f94c88), "site_layout") called at /home/cpan/.cpan/build/Reaction-0.002005-0/blib/lib/Reaction/UI/View.pm line 99
	Reaction::UI::View::layout_set_for(ComponentUI::View::Site=HASH(0x39b35f94c88), Reaction::UI::ViewPort::SiteLayout=HASH(0x39ad9eaf940)) called at /home/cpan/.cpan/build/Reaction-0.002005-0/blib/lib/Reaction/UI/View.pm line 78
	Reaction::UI::View::render_viewport_args(ComponentUI::View::Site=HASH(0x39b35f94c88), Reaction::UI::ViewPort::SiteLayout=HASH(0x39ad9eaf940)) called at /home/cpan/.cpan/build/Reaction-0.002005-0/blib/lib/Reaction/UI/View.pm line 61
	Reaction::UI::View::render_window(ComponentUI::View::Site=HASH(0x39b35f94c88), Reaction::UI::Window=HASH(0x39ad9eaf190)) called at /home/cpan/.cpan/build/Reaction-0.002005-0/blib/lib/Reaction/UI/Window.pm line 74
	Reaction::UI::Window::flush_view(Reaction::UI::Window=HASH(0x39ad9eaf190)) called at /home/cpan/.cpan/build/Reaction-0.002005-0/blib/lib/Reaction/UI/Window.pm line 36
	Reaction::UI::Window::flush(Reaction::UI::Window=HASH(0x39ad9eaf190)) called at /home/cpan/.cpan/build/Reaction-0.002005-0/blib/lib/Reaction/UI/Controller/Root.pm line 38
	Reaction::UI::Controller::Root::end(ComponentUI::Controller::Root=HASH(0x39ad9eaf1f0), ComponentUI=HASH(0x39b92c24568)) called at /home/cpan/bin/perl/lib/site_perl/5.43.3/Catalyst/Action.pm line 374
	Catalyst::Action::execute(Catalyst::Action=HASH(0x39b6a76ba78), ComponentUI::Controller::Root=HASH(0x39ad9eaf1f0), ComponentUI=HASH(0x39b92c24568)) called at /home/cpan/bin/perl/lib/site_perl/5.43.3/Catalyst.pm line 2067
	eval {...} called at /home/cpan/bin/perl/lib/site_perl/5.43.3/Catalyst.pm line 2067
	Catalyst::execute(ComponentUI=HASH(0x39b92c24568), "ComponentUI::Controller::Root", Catalyst::Action=HASH(0x39b6a76ba78)) called at /home/cpan/bin/perl/lib/site_perl/5.43.3/Catalyst/Action.pm line 368
	Catalyst::Action::dispatch(Catalyst::Action=HASH(0x39b6a76ba78), ComponentUI=HASH(0x39b92c24568)) called at /home/cpan/bin/perl/lib/site_perl/5.43.3/Catalyst/Controller.pm line 188
	Catalyst::Controller::_END(ComponentUI::Controller::TestModel::Baz=HASH(0x39ad9ecd9a0), ComponentUI=HASH(0x39b92c24568)) called at /home/cpan/bin/perl/lib/site_perl/5.43.3/Catalyst/Action.pm line 374
	Catalyst::Action::execute(Catalyst::Action=HASH(0x39b267fb760), ComponentUI::Controller::TestModel::Baz=HASH(0x39ad9ecd9a0), ComponentUI=HASH(0x39b92c24568)) called at /home/cpan/bin/perl/lib/site_perl/5.43.3/Catalyst.pm line 2067
	eval {...} called at /home/cpan/bin/perl/lib/site_perl/5.43.3/Catalyst.pm line 2067
	Catalyst::execute(ComponentUI=HASH(0x39b92c24568), "ComponentUI::Controller::TestModel::Baz", Catalyst::Action=HASH(0x39b267fb760)) called at /home/cpan/bin/perl/lib/site_perl/5.43.3/Catalyst/Action.pm line 368
	Catalyst::Action::dispatch(Catalyst::Action=HASH(0x39b267fb760), ComponentUI=HASH(0x39b92c24568)) called at /home/cpan/bin/perl/lib/site_perl/5.43.3/Catalyst/Dispatcher.pm line 261
	Catalyst::Dispatcher::_do_forward(Catalyst::Dispatcher=HASH(0x39b9e4ed9b8), "forward", ComponentUI=HASH(0x39b92c24568), "_END") called at /home/cpan/bin/perl/lib/site_perl/5.43.3/Catalyst/Dispatcher.pm line 241
	Catalyst::Dispatcher::forward(Catalyst::Dispatcher=HASH(0x39b9e4ed9b8), ComponentUI=HASH(0x39b92c24568), "_END") called at /home/cpan/bin/perl/lib/site_perl/5.43.3/Catalyst.pm line 489
	Catalyst::forward(ComponentUI=HASH(0x39b92c24568), "_END") called at /home/cpan/bin/perl/lib/site_perl/5.43.3/Catalyst/Controller.pm line 137
	Catalyst::Controller::_DISPATCH(ComponentUI::Controller::TestModel::Baz=HASH(0x39ad9ecd9a0), ComponentUI=HASH(0x39b92c24568)) called at /home/cpan/bin/perl/lib/site_perl/5.43.3/Catalyst/Action.pm line 374
	Catalyst::Action::execute(Catalyst::Action=HASH(0x39b267fc700), ComponentUI::Controller::TestModel::Baz=HASH(0x39ad9ecd9a0), ComponentUI=HASH(0x39b92c24568)) called at /home/cpan/bin/perl/lib/site_perl/5.43.3/Catalyst.pm line 2067
	eval {...} called at /home/cpan/bin/perl/lib/site_perl/5.43.3/Catalyst.pm line 2067
	Catalyst::execute(ComponentUI=HASH(0x39b92c24568), "ComponentUI::Controller::TestModel::Baz", Catalyst::Action=HASH(0x39b267fc700)) called at /home/cpan/bin/perl/lib/site_perl/5.43.3/Catalyst/Action.pm line 368
	Catalyst::Action::dispatch(Catalyst::Action=HASH(0x39b267fc700), ComponentUI=HASH(0x39b92c24568)) called at /home/cpan/bin/perl/lib/site_perl/5.43.3/Catalyst/Dispatcher.pm line 261
	Catalyst::Dispatcher::_do_forward(Catalyst::Dispatcher=HASH(0x39b9e4ed9b8), "forward", ComponentUI=HASH(0x39b92c24568), "/testmodel/baz/_DISPATCH") called at /home/cpan/bin/perl/lib/site_perl/5.43.3/Catalyst/Dispatcher.pm line 241
	Catalyst::Dispatcher::forward(Catalyst::Dispatcher=HASH(0x39b9e4ed9b8), ComponentUI=HASH(0x39b92c24568), "/testmodel/baz/_DISPATCH") called at /home/cpan/bin/perl/lib/site_perl/5.43.3/Catalyst.pm line 489
	Catalyst::forward(ComponentUI=HASH(0x39b92c24568), "/testmodel/baz/_DISPATCH") called at /home/cpan/bin/perl/lib/site_perl/5.43.3/Catalyst/Dispatcher.pm line 107
	Catalyst::Dispatcher::dispatch(Catalyst::Dispatcher=HASH(0x39b9e4ed9b8), ComponentUI=HASH(0x39b92c24568)) called at /home/cpan/bin/perl/lib/site_perl/5.43.3/Catalyst.pm line 2013
	Catalyst::dispatch(ComponentUI=HASH(0x39b92c24568)) called at /home/cpan/bin/perl/lib/site_perl/5.43.3/Catalyst/Plugin/Static/Simple.pm line 85
	Class::MOP::Class:::around(CODE(0x39b63d42448), ComponentUI=HASH(0x39b92c24568)) called at /home/cpan/bin/perl/lib/site_perl/5.43.3/OpenBSD.amd64-openbsd/Class/MOP/Method/Wrapped.pm line 166
	ComponentUI::_wrapped_dispatch(ComponentUI=HASH(0x39b92c24568)) called at /home/cpan/bin/perl/lib/site_perl/5.43.3/OpenBSD.amd64-openbsd/Class/MOP/Method/Wrapped.pm line 97
	ComponentUI::dispatch(ComponentUI=HASH(0x39b92c24568)) called at /home/cpan/bin/perl/lib/site_perl/5.43.3/Catalyst.pm line 2419
	Catalyst::try {...} () called at /home/cpan/bin/perl/lib/site_perl/5.43.3/Try/Tiny.pm line 102
	eval {...} called at /home/cpan/bin/perl/lib/site_perl/5.43.3/Try/Tiny.pm line 93
	Try::Tiny::try(CODE(0x39b92c5be80), Try::Tiny::Catch=REF(0x39b92c5bc88)) called at /home/cpan/bin/perl/lib/site_perl/5.43.3/Catalyst.pm line 2428
	Catalyst::handle_request("ComponentUI", "env", HASH(0x39b92c2f790), "response_cb", CODE(0x39b92c5bce8)) called at /home/cpan/bin/perl/lib/site_perl/5.43.3/Catalyst/Engine.pm line 808
	Catalyst::Engine::__ANON__(CODE(0x39b92c5bce8)) called at /home/cpan/bin/perl/lib/site_perl/5.43.3/Plack/Middleware/HTTPExceptions.pm line 32
	Plack::Middleware::HTTPExceptions::try {...} () called at /home/cpan/bin/perl/lib/site_perl/5.43.3/Try/Tiny.pm line 102
	eval {...} called at /home/cpan/bin/perl/lib/site_perl/5.43.3/Try/Tiny.pm line 93
	Try::Tiny::try(CODE(0x39b92c5bb20), Try::Tiny::Catch=REF(0x39b92c5b370)) called at /home/cpan/bin/perl/lib/site_perl/5.43.3/Plack/Middleware/HTTPExceptions.pm line 41
	Plack::Middleware::HTTPExceptions::__ANON__(CODE(0x39b92c2ff10)) called at /home/cpan/bin/perl/lib/site_perl/5.43.3/Plack/Util.pm line 339
	Plack::Util::__ANON__(CODE(0x39b92c2f6b8)) called at /home/cpan/bin/perl/lib/site_perl/5.43.3/Plack/Util.pm line 339
	Plack::Util::__ANON__(CODE(0x39b92c2fb08)) called at /home/cpan/bin/perl/lib/site_perl/5.43.3/Plack/Util.pm line 339
	Plack::Util::__ANON__(CODE(0x39b92c53208)) called at /home/cpan/bin/perl/lib/site_perl/5.43.3/HTTP/Message/PSGI.pm line 100
	HTTP::Message::PSGI::res_from_psgi(CODE(0x39b92c5b8c8)) called at /home/cpan/bin/perl/lib/site_perl/5.43.3/HTTP/Message/PSGI.pm line 157
	HTTP::Response::from_psgi("HTTP::Response", CODE(0x39b92c5b8c8)) called at /home/cpan/bin/perl/lib/site_perl/5.43.3/Plack/Test/MockHTTP.pm line 24
	Plack::Test::MockHTTP::try {...} () called at /home/cpan/bin/perl/lib/site_perl/5.43.3/Try/Tiny.pm line 100
	eval {...} called at /home/cpan/bin/perl/lib/site_perl/5.43.3/Try/Tiny.pm line 93
	Try::Tiny::try(CODE(0x39b92c49880), Try::Tiny::Catch=REF(0x39ba81a7bc8)) called at /home/cpan/bin/perl/lib/site_perl/5.43.3/Plack/Test/MockHTTP.pm line 27
	Plack::Test::MockHTTP::request(Plack::Test::MockHTTP=HASH(0x39b92c30b98), HTTP::Request=HASH(0x39b275f4700)) called at /home/cpan/bin/perl/lib/site_perl/5.43.3/Plack/Test.pm line 38
	Plack::Test::__ANON__(HTTP::Request=HASH(0x39b275f4700)) called at /home/cpan/bin/perl/lib/site_perl/5.43.3/Catalyst/Test.pm line 290
	Catalyst::Test::__ANON__(CODE(0x39b92c30b20)) called at /home/cpan/bin/perl/lib/site_perl/5.43.3/Plack/Test.pm line 38
	Plack::Test::test_psgi("app", CODE(0x39b92c306e8), "mangle_response", CODE(0x39adc240f70), "app", CODE(0x39b92c306b8), "client", CODE(0x39b92c309b8)) called at /home/cpan/bin/perl/lib/site_perl/5.43.3/Catalyst/Test.pm line 293
	Catalyst::Test::_request(HASH(0x39b92c49418), HTTP::Request=HASH(0x39b275f4700)) called at /home/cpan/bin/perl/lib/site_perl/5.43.3/Catalyst/Test.pm line 336
	Catalyst::Test::_local_request("ComponentUI", HTTP::Request=HASH(0x39b275f4700)) called at /home/cpan/bin/perl/lib/site_perl/5.43.3/Test/WWW/Mechanize/Catalyst.pm line 176
	Test::WWW::Mechanize::Catalyst::_do_catalyst_request(Test::WWW::Mechanize::Catalyst=HASH(0x39bb9dabb08), HTTP::Request=HASH(0x39b275f4700)) called at /home/cpan/bin/perl/lib/site_perl/5.43.3/Test/WWW/Mechanize/Catalyst.pm line 78
	Test::WWW::Mechanize::Catalyst::_make_request(Test::WWW::Mechanize::Catalyst=HASH(0x39bb9dabb08), HTTP::Request=HASH(0x39b275f4700)) called at /home/cpan/bin/perl/lib/site_perl/5.43.3/WWW/Mechanize.pm line 1534
	WWW::Mechanize::request(Test::WWW::Mechanize::Catalyst=HASH(0x39bb9dabb08), HTTP::Request=HASH(0x39b275f4700)) called at /home/cpan/bin/perl/lib/site_perl/5.43.3/LWP/UserAgent.pm line 454
	LWP::UserAgent::get(Test::WWW::Mechanize::Catalyst=HASH(0x39bb9dabb08), "http://localhost/testmodel/baz/id/1/update") called at /home/cpan/bin/perl/lib/site_perl/5.43.3/WWW/Mechanize.pm line 124
	WWW::Mechanize::get(Test::WWW::Mechanize::Catalyst=HASH(0x39bb9dabb08), "http://localhost/testmodel/baz/id/1/update") called at /home/cpan/bin/perl/lib/site_perl/5.43.3/Test/WWW/Mechanize.pm line 192
	Test::WWW::Mechanize::get_ok(Test::WWW::Mechanize::Catalyst=HASH(0x39bb9dabb08), "http://localhost/testmodel/baz/id/1/update") called at t/uncheck_bool_field.t line 9
t/uncheck_bool_field.t ...... ok
All tests successful.
Files=9, Tests=604, 13 wallclock secs ( 0.11 usr  0.02 sys + 11.11 cusr  1.12 csys = 12.36 CPU)
Result: PASS

------------------------------
PREREQUISITES
------------------------------

Prerequisite modules loaded:

requires:

    Module                                  Need      Have    
    --------------------------------------- --------- --------
    aliased                                 0.22      0.34    
    Catalyst                                5.80002   5.90132 
    Catalyst::Component::ACCEPT_CONTEXT     0.05      0.07    
    Catalyst::Component::InstancePerContext 0.001001  0.001001
    Catalyst::Model::DBIC::Schema           0.23      0.66    
    Catalyst::Plugin::ConfigLoader          0.23      0.35    
    Catalyst::Plugin::I18N                  0.09      0.10    
    Catalyst::Plugin::Static::Simple        0.21      0.37    
    Catalyst::View::TT                      0.29      0.46    
    Class::MOP                              0.81      2.4000  
    Config::General                         2.42      2.67    
    Crypt::Eksblowfish::Bcrypt              0.005     0.009   
    DateTime                                0.47      1.66    
    DateTime::Event::Recurrence             0.16      0.19    
    DateTime::Span                          0         0.3900  
    DBIx::Class                             0.08100   0.082844
    DBIx::Class::IntrospectableM2M          0.001001  0.001002
    Devel::Declare                          0.005000  0.006022
    Email::Valid                            0.181     1.204   
    ExtUtils::MakeMaker                     6.11      7.76    
    File::ShareDir                          1.00      1.118   
    File::Spec                              3.29      3.94    
    JSON                                    0         4.10    
    metaclass                               0.81      2.4000  
    Method::Signatures::Simple              0.03      1.07    
    Moose                                   0.74      2.4000  
    MooseX::MethodAttributes                0.18      0.32    
    MooseX::Role::Parameterized             0.24      1.11    
    MooseX::Types                           0.10      0.51    
    MooseX::Types::Common                   0.001000  0.001015
    MooseX::Types::DateTime                 0.03      0.13    
    MooseX::Types::URI                      0.02      0.10    
    namespace::clean                        0.11      0.27    
    Path::Class::Dir                        0         0.37    
    Path::Class::File                       0         0.37    
    perl                                    5.008001  5.043003
    Scalar::Util                            1.19      1.70    
    signatures                              0.05      0.14    
    SQL::Translator                         0.11002   1.66    
    Sub::Exporter                           0.982     0.991   
    Sub::Name                               0.04      0.28    
    Template                                2.20      3.102   
    Test::Class                             0.31      0.52    
    Test::Memory::Cycle                     1.04      1.06    
    Test::WWW::Mechanize::Catalyst          0.51      0.62    
    Time::ParseDate                         2006.0814 2015.103
    URI                                     1.37      5.34    

build_requires:

    Module                                  Need      Have    
    --------------------------------------- --------- --------
    ExtUtils::MakeMaker                     6.42      7.76    
    SQL::Translator                         0.11002   1.66    
    Test::Class                             0.31      0.52    
    Test::Memory::Cycle                     1.04      1.06    
    Test::WWW::Mechanize::Catalyst          0.51      0.62    

configure_requires:

    Module                                  Need      Have    
    --------------------------------------- --------- --------
    ExtUtils::MakeMaker                     6.42      7.76    


------------------------------
ENVIRONMENT AND OTHER CONTEXT
------------------------------

Environment variables:

    AUTOMATED_TESTING = 1
    DATE_MANIP_TEST_DM5 = 1
    LC_ALL = C
    NONINTERACTIVE_TESTING = 1
    NO_NETWORK_TESTING = 1
    PATH = /home/cpan/bin/perl/bin:/home/cpan/bin:/home/cpan/bin:/bin:/sbin:/usr/bin:/usr/sbin:/usr/X11R6/bin:/usr/local/bin:/usr/local/sbin
    PERL5LIB = 
    PERL5OPT = 
    PERL5_CPANPLUS_IS_RUNNING = 1487
    PERL5_CPAN_IS_RUNNING = 1487
    PERL_MM_USE_DEFAULT = 1
    PERL_PERTURB_KEYS = 0
    PERL_USE_UNSAFE_INC = 1
    SHELL = /usr/local/bin/bash
    TERM = screen
    TMPDIR = /home/cpan/tmp

Perl special variables (and OS-specific diagnostics, for MSWin32):

    $^X = /home/cpan/bin/perl/bin/perl5.43.3
    $UID/$EUID = 1001 / 1001
    $GID = 1001 1001
    $EGID = 1001 1001

Perl module toolchain versions installed:

    Module              Have    
    ------------------- --------
    CPAN                2.38    
    CPAN::Meta          2.150010
    Cwd                 3.94    
    ExtUtils::CBuilder  0.280242
    ExtUtils::Command   7.76    
    ExtUtils::Install   2.22    
    ExtUtils::MakeMaker 7.76    
    ExtUtils::Manifest  1.75    
    ExtUtils::ParseXS   3.60    
    File::Spec          3.94    
    JSON                4.10    
    JSON::PP            4.16    
    Module::Build       0.4234  
    Module::Signature   n/a     
    Parse::CPAN::Meta   2.150010
    Test2               1.302214
    Test::Harness       3.52    
    Test::More          1.302214
    YAML                1.31    
    YAML::Syck          1.34    
    version             0.9933  


--

Summary of my perl5 (revision 5 version 43 subversion 3) configuration:
  Commit id: 765f0a6432589bba058315e9d9c8b69f86161635
  Platform:
    osname=openbsd
    osvers=7.7
    archname=OpenBSD.amd64-openbsd
    uname='openbsd cjg-openbsd7 7.7 generic#2 amd64 '
    config_args='-des -Dprefix=/home/cpan/bin/perl -Dscriptdir=/home/cpan/bin/perl/bin -Dusedevel -Duse64bitall'
    hint=recommended
    useposix=true
    d_sigaction=define
    useithreads=undef
    usemultiplicity=undef
    use64bitint=define
    use64bitall=define
    uselongdouble=undef
    usemymalloc=n
    default_inc_excludes_dot=define
  Compiler:
    cc='cc'
    ccflags ='-DNO_LOCALE_NUMERIC -DNO_LOCALE_COLLATE -DNO_LOCALE_MONETARY -DNO_LOCALE_TIME -DNO_LOCALE_MESSAGES -DLIBC_HANDLES_MISMATCHED_CTYPE -fno-strict-aliasing -pipe -fstack-protector-strong -I/usr/local/include'
    optimize='-O2'
    cppflags='-DNO_LOCALE_NUMERIC -DNO_LOCALE_COLLATE -DNO_LOCALE_MONETARY -DNO_LOCALE_TIME -DNO_LOCALE_MESSAGES -DLIBC_HANDLES_MISMATCHED_CTYPE -fno-strict-aliasing -pipe -fstack-protector-strong -I/usr/local/include'
    ccversion=''
    gccversion='OpenBSD Clang 16.0.6'
    gccosandvers=''
    intsize=4
    longsize=8
    ptrsize=8
    doublesize=8
    byteorder=12345678
    doublekind=3
    d_longlong=define
    longlongsize=8
    d_longdbl=define
    longdblsize=16
    longdblkind=3
    ivtype='long'
    ivsize=8
    nvtype='double'
    nvsize=8
    Off_t='off_t'
    lseeksize=8
    alignbytes=8
    prototype=define
  Linker and Libraries:
    ld='cc'
    ldflags ='-Wl,-E  -fstack-protector-strong -L/usr/local/lib'
    libpth=/usr/lib/clang/16/lib /usr/lib /usr/local/lib
    libs=-lpthread -lm -lutil -lc
    perllibs=-lpthread -lm -lutil -lc
    libc=/usr/lib/libc.so.100.3
    so=so
    useshrplib=false
    libperl=libperl.a
    gnulibc_version=''
  Dynamic Linking:
    dlsrc=dl_dlopen.xs
    dlext=so
    d_dlsymun=undef
    ccdlflags=' '
    cccdlflags='-DPIC -fPIC '
    lddlflags='-shared -fPIC  -L/usr/local/lib -fstack-protector-strong'


Characteristics of this binary (from libperl): 
  Compile-time options:
    HAS_LONG_DOUBLE
    HAS_STRTOLD
    HAS_TIMES
    PERLIO_LAYERS
    PERL_COPY_ON_WRITE
    PERL_DONT_CREATE_GVSV
    PERL_HASH_FUNC_SIPHASH13
    PERL_HASH_USE_SBOX32
    PERL_MALLOC_WRAP
    PERL_OP_PARENT
    PERL_PRESERVE_IVUV
    PERL_USE_DEVEL
    PERL_USE_SAFE_PUTENV
    USE_64_BIT_ALL
    USE_64_BIT_INT
    USE_LARGE_FILES
    USE_LOCALE
    USE_LOCALE_CTYPE
    USE_PERLIO
    USE_PERL_ATOF
  Built under openbsd
  Compiled at Sep 22 2025 22:19:41
  %ENV:
    PERL5LIB=""
    PERL5OPT=""
    PERL5_CPANPLUS_IS_RUNNING="1487"
    PERL5_CPAN_IS_RUNNING="1487"
    PERL_MM_USE_DEFAULT="1"
    PERL_PERTURB_KEYS="0"
    PERL_USE_UNSAFE_INC="1"
  @INC:
    /home/cpan/bin/perl/lib/site_perl/5.43.3/OpenBSD.amd64-openbsd
    /home/cpan/bin/perl/lib/site_perl/5.43.3
    /home/cpan/bin/perl/lib/5.43.3/OpenBSD.amd64-openbsd
    /home/cpan/bin/perl/lib/5.43.3
    .