IO-Iron v0.14 Perl 5 v5.36.0 x86_64-linux-ld
- Status
- Pass
- From
- Andreas J. König (ANDK)
- Dist
-
IO-Iron v0.14
- Platform
- Perl 5 v5.36.0 x86_64-linux-ld
- Date
- 2023-10-14 03:59:42
- ID
- 1ab7731a-6a46-11ee-bd4c-b09c9802b2c9
This distribution has been tested as part of the CPAN Testers
project, supporting the Perl programming language. See
http://wiki.cpantesters.org/ for more information or email
questions to cpan-testers-discuss@perl.org
--
Dear Mikko Koivunalho,
This is a computer-generated report for IO-Iron-0.14
on perl 5.36.0, created by CPAN-Reporter-1.2019.
Thank you for uploading your work to CPAN. Congratulations!
All tests were successful.
Sections of this report:
* Tester comments
* Program output
* Prerequisites
* Environment and other context
------------------------------
TESTER COMMENTS
------------------------------
Additional comments from tester:
this report is from an automated smoke testing program
and was not reviewed by a human for accuracy
------------------------------
PROGRAM OUTPUT
------------------------------
Output from '/usr/bin/make test':
PERL_DL_NONLAZY=1 "/home/sand/src/perl/repoperls/installed-perls/host/k93msid/v5.36.0/fc43/bin/perl" "-MExtUtils::Command::MM" "-MTest::Harness" "-e" "undef *Test::Harness::Switches; test_harness(0, 'blib/lib', 'blib/arch')" t/Iron/*.t t/IronCache/*.t t/IronMQ/*.t t/IronWorker/*.t
# Testing IO::Iron::IronWorker::Client (0.14), Perl 5.036000, /home/sand/src/perl/repoperls/installed-perls/host/k93msid/v5.36.0/fc43/bin/perl
# test ReadIronMQConfig
# Current dir config filename: ./iron.json
# Extra config filename: t/.IronMQTestConfig.json
t/Iron/client_readconfig.t ... ok
# Testing IO::Iron::Common (0.14), Perl 5.036000, /home/sand/src/perl/repoperls/installed-perls/host/k93msid/v5.36.0/fc43/bin/perl
t/Iron/common.t .............. ok
# Testing IO::Iron (0.14), Perl 5.036000, /home/sand/src/perl/repoperls/installed-perls/host/k93msid/v5.36.0/fc43/bin/perl
t/Iron/load.t ................ ok
# Testing IO::Iron::IronCache::Client (0.14) with policies, Perl 5.036000, /home/sand/src/perl/repoperls/installed-perls/host/k93msid/v5.36.0/fc43/bin/perl
t/IronCache/cache_policy.t ... ok
# Testing IO::Iron::IronCache::Client (0.14), Perl 5.036000, /home/sand/src/perl/repoperls/installed-perls/host/k93msid/v5.36.0/fc43/bin/perl
t/IronCache/cache_policy2.t .. ok
# Testing IO::Iron::IronCache::Client (0.14), Perl 5.036000, /home/sand/src/perl/repoperls/installed-perls/host/k93msid/v5.36.0/fc43/bin/perl
t/IronCache/load.t ........... ok
# Testing IO::Iron::IronMQ::Client (0.14), Perl 5.036000, /home/sand/src/perl/repoperls/installed-perls/host/k93msid/v5.36.0/fc43/bin/perl
t/IronMQ/load.t .............. ok
# Testing IO::Iron::IronCache::Client (0.14), Perl 5.036000, /home/sand/src/perl/repoperls/installed-perls/host/k93msid/v5.36.0/fc43/bin/perl
t/IronWorker/load.t .......... ok
All tests successful.
Files=8, Tests=103, 2 wallclock secs ( 0.06 usr 0.02 sys + 1.20 cusr 0.27 csys = 1.55 CPU)
Result: PASS
------------------------------
PREREQUISITES
------------------------------
Prerequisite modules loaded:
requires:
Module Need Have
------------------- --------- --------
Carp 0 1.52
Carp::Assert 0 0.21
Carp::Assert::More 0 2.2.0
Const::Fast 0 0.014
Data::UUID 0 1.226
English 0 1.11
Exception::Class 0 1.45
Exporter 0 5.77
File::HomeDir 0 1.006
File::Spec 0 3.84
Hash::Util 0.06 0.28
JSON::MaybeXS 0 1.004003
Log::Any 0 1.713
Params::Validate 0 1.30
parent 0 0.238
Path::Tiny 0 0.144
perl 5.010 5.036000
REST::Client 0 281
Scalar::Util 0 1.63
strict 0 1.12
Try::Tiny 0 0.31
URI::Escape 0 5.19
warnings 0 1.58
build_requires:
Module Need Have
------------------- --------- --------
Data::Dumper 0 2.184
ExtUtils::MakeMaker 0 7.70
File::Copy 0 2.39
File::Remove 0 1.60
FindBin 1.51 1.53
lib 0 0.65
Log::Any::Test 0 1.713
Test::Exception 0 0.43
Test::More 0 1.302195
configure_requires:
Module Need Have
------------------- --------- --------
ExtUtils::MakeMaker 0 7.70
perl 5.010_000 5.036000
------------------------------
ENVIRONMENT AND OTHER CONTEXT
------------------------------
Environment variables:
AUTOMATED_TESTING = 1
LANG = en_US.UTF-8
LANGUAGE = en_US:en
PATH = /home/sand/bin:/usr/local/bin:/usr/bin:/bin:/usr/games:/usr/local/perl/bin:/usr/X11/bin:/sbin:/usr/sbin
PERL5LIB =
PERL5OPT =
PERL5_CPANPLUS_IS_RUNNING = 3011142
PERL5_CPAN_IS_RUNNING = 3011142
PERL_CANARY_STABILITY_NOPROMPT = 1
PERL_MM_USE_DEFAULT = 1
PERL_USE_UNSAFE_INC = 1
SHELL = /usr/bin/zsh
TERM = screen
Perl special variables (and OS-specific diagnostics, for MSWin32):
$^X = /home/sand/src/perl/repoperls/installed-perls/host/k93msid/v5.36.0/fc43/bin/perl
$UID/$EUID = 1005 / 1005
$GID = 1005 1005
$EGID = 1005 1005
Perl module toolchain versions installed:
Module Have
------------------- --------
CPAN 2.34
CPAN::Meta 2.150010
Cwd 3.84
ExtUtils::CBuilder 0.280236
ExtUtils::Command 7.70
ExtUtils::Install 2.22
ExtUtils::MakeMaker 7.70
ExtUtils::Manifest 1.73
ExtUtils::ParseXS 3.45
File::Spec 3.84
JSON 4.10
JSON::PP 4.17_01
Module::Build 0.4232
Module::Signature 0.88
Parse::CPAN::Meta 2.150010
Test2 1.302195
Test::Harness 3.47
Test::More 1.302195
YAML 1.30
YAML::Syck 1.34
version 0.9929
--
Summary of my perl5 (revision 5 version 36 subversion 0) configuration:
Commit id: b3c502b607191da0e743a4fa34501a05442305b3
Platform:
osname=linux
osvers=5.10.0-14-amd64
archname=x86_64-linux-ld
uname='linux k93msid 5.10.0-14-amd64 #1 smp debian 5.10.113-1 (2022-04-29) x86_64 gnulinux '
config_args='-Dprefix=/home/sand/src/perl/repoperls/installed-perls/host/k93msid/v5.36.0/fc43 -Dmyhostname=k93msid -Dinstallusrbinperl=n -Uversiononly -Dusedevel -des -Ui_db -Dlibswanted=cl pthread socket inet nsl gdbm dbm malloc dl ld sun m crypt sec util c cposix posix ucb BSD gdbm_compat -Uuseithreads -Duselongdouble -DEBUGGING=both'
hint=recommended
useposix=true
d_sigaction=define
useithreads=undef
usemultiplicity=undef
use64bitint=define
use64bitall=define
uselongdouble=define
usemymalloc=n
default_inc_excludes_dot=define
Compiler:
cc='cc'
ccflags ='-fwrapv -DDEBUGGING -fno-strict-aliasing -pipe -fstack-protector-strong -I/usr/local/include -D_LARGEFILE_SOURCE -D_FILE_OFFSET_BITS=64 -D_FORTIFY_SOURCE=2'
optimize='-O2 -g'
cppflags='-fwrapv -DDEBUGGING -fno-strict-aliasing -pipe -fstack-protector-strong -I/usr/local/include'
ccversion=''
gccversion='11.3.0'
gccosandvers=''
intsize=4
longsize=8
ptrsize=8
doublesize=8
byteorder=12345678
doublekind=3
d_longlong=define
longlongsize=8
d_longdbl=define
longdblsize=16
longdblkind=3
ivtype='long'
ivsize=8
nvtype='long double'
nvsize=16
Off_t='off_t'
lseeksize=8
alignbytes=16
prototype=define
Linker and Libraries:
ld='cc'
ldflags =' -fstack-protector-strong -L/usr/local/lib'
libpth=/usr/local/lib /usr/lib/x86_64-linux-gnu /usr/lib /usr/lib64
libs=-lpthread -lnsl -ldl -lm -lcrypt -lutil -lc
perllibs=-lpthread -lnsl -ldl -lm -lcrypt -lutil -lc
libc=libc-2.33.so
so=so
useshrplib=false
libperl=libperl.a
gnulibc_version='2.33'
Dynamic Linking:
dlsrc=dl_dlopen.xs
dlext=so
d_dlsymun=undef
ccdlflags='-Wl,-E'
cccdlflags='-fPIC'
lddlflags='-shared -O2 -g -L/usr/local/lib -fstack-protector-strong'
Characteristics of this binary (from libperl):
Compile-time options:
DEBUGGING
HAS_TIMES
PERLIO_LAYERS
PERL_COPY_ON_WRITE
PERL_DONT_CREATE_GVSV
PERL_MALLOC_WRAP
PERL_OP_PARENT
PERL_PRESERVE_IVUV
PERL_USE_DEVEL
USE_64_BIT_ALL
USE_64_BIT_INT
USE_LARGE_FILES
USE_LOCALE
USE_LOCALE_COLLATE
USE_LOCALE_CTYPE
USE_LOCALE_NUMERIC
USE_LOCALE_TIME
USE_LONG_DOUBLE
USE_PERLIO
USE_PERL_ATOF
Built under linux
Compiled at May 30 2022 03:21:44
%ENV:
PERL5LIB=""
PERL5OPT=""
PERL5_CPANPLUS_IS_RUNNING="3011142"
PERL5_CPAN_IS_RUNNING="3011142"
PERL_CANARY_STABILITY_NOPROMPT="1"
PERL_MM_USE_DEFAULT="1"
PERL_USE_UNSAFE_INC="1"
@INC:
/home/sand/src/perl/repoperls/installed-perls/host/k93msid/v5.36.0/fc43/lib/site_perl/5.36.0/x86_64-linux-ld
/home/sand/src/perl/repoperls/installed-perls/host/k93msid/v5.36.0/fc43/lib/site_perl/5.36.0
/home/sand/src/perl/repoperls/installed-perls/host/k93msid/v5.36.0/fc43/lib/5.36.0/x86_64-linux-ld
/home/sand/src/perl/repoperls/installed-perls/host/k93msid/v5.36.0/fc43/lib/5.36.0
.