Report for Dist-Zilla-PluginBundle-Author-DBR-1.2.5

Back
From: metabase:user:320bfe00-2aae-11df-837a-5e0a49663a4f
Subject: PASS Dist-Zilla-PluginBundle-Author-DBR-1.2.5 v5.16.3 GNU/Linux
Date: 2014-01-07T16:38:14Z

This distribution has been tested as part of the CPAN Testers
project, supporting the Perl programming language.  See
http://wiki.cpantesters.org/ for more information or email
questions to cpan-testers-discuss@perl.org


--
Dear Daniel,

This is a computer-generated report for Dist-Zilla-PluginBundle-Author-DBR-1.2.5
on perl 5.16.3, created by CPAN-Reporter-1.2010.

Thank you for uploading your work to CPAN.  Congratulations!
All tests were successful.

Sections of this report:

    * Tester comments
    * Program output
    * Prerequisites
    * Environment and other context

------------------------------
TESTER COMMENTS
------------------------------

Additional comments from tester:

this report is from an automated smoke testing program
and was not reviewed by a human for accuracy

------------------------------
PROGRAM OUTPUT
------------------------------

Output from './Build test':

t/00-check-deps.t ........ ok
Class::MOP::load_class is deprecated at /home/sand/src/perl/repoperls/installed-perls/perl/v5.16.3/127e/lib/site_perl/5.16.3/x86_64-linux-ld/Class/MOP.pm line 76.
	Class::MOP::load_class('Parse::Method::Signatures::Sig') called at /home/sand/src/perl/repoperls/installed-perls/perl/v5.16.3/127e/lib/site_perl/5.16.3/Parse/Method/Signatures.pm line 90
	Parse::Method::Signatures::BUILD('Parse::Method::Signatures=HASH(0x4140468)', 'HASH(0x41403d8)') called at constructor Parse::Method::Signatures::new (defined at /home/sand/src/perl/repoperls/installed-perls/perl/v5.16.3/127e/lib/site_perl/5.16.3/Parse/Method/Signatures.pm line 825) line 104
	Parse::Method::Signatures::new('Parse::Method::Signatures', 'input', '(@)', 'from_namespace', 'Dist::Zilla::PluginBundle::Author::DBR') called at /home/sand/src/perl/repoperls/installed-perls/perl/v5.16.3/127e/lib/site_perl/5.16.3/Parse/Method/Signatures.pm line 241
	Parse::Method::Signatures::signature('Parse::Method::Signatures', 'input', '(@)', 'from_namespace', 'Dist::Zilla::PluginBundle::Author::DBR') called at /home/sand/src/perl/repoperls/installed-perls/perl/v5.16.3/127e/lib/site_perl/5.16.3/MooseX/Method/Signatures/Meta/Method.pm line 200
	MooseX::Method::Signatures::Meta::Method::_build_parsed_signature('MooseX::Method::Signatures::Meta::Method=HASH(0x41403c0)') called at reader MooseX::Method::Signatures::Meta::Method::parsed_signature (defined at /home/sand/src/perl/repoperls/installed-perls/perl/v5.16.3/127e/lib/site_perl/5.16.3/MooseX/Method/Signatures/Meta/Method.pm line 37) line 7
	MooseX::Method::Signatures::Meta::Method::parsed_signature('MooseX::Method::Signatures::Meta::Method=HASH(0x41403c0)') called at /home/sand/src/perl/repoperls/installed-perls/perl/v5.16.3/127e/lib/site_perl/5.16.3/MooseX/Method/Signatures/Meta/Method.pm line 320
	MooseX::Method::Signatures::Meta::Method::_build__positional_args('MooseX::Method::Signatures::Meta::Method=HASH(0x41403c0)') called at reader MooseX::Method::Signatures::Meta::Method::_positional_args (defined at /home/sand/src/perl/repoperls/installed-perls/perl/v5.16.3/127e/lib/site_perl/5.16.3/MooseX/Method/Signatures/Meta/Method.pm line 63) line 7
	MooseX::Method::Signatures::Meta::Method::_positional_args('MooseX::Method::Signatures::Meta::Method=HASH(0x41403c0)') called at /home/sand/src/perl/repoperls/installed-perls/perl/v5.16.3/127e/lib/site_perl/5.16.3/MooseX/Method/Signatures/Meta/Method.pm line 370
	MooseX::Method::Signatures::Meta::Method::_build_type_constraint('MooseX::Method::Signatures::Meta::Method=HASH(0x41403c0)') called at reader MooseX::Method::Signatures::Meta::Method::type_constraint (defined at /home/sand/src/perl/repoperls/installed-perls/perl/v5.16.3/127e/lib/site_perl/5.16.3/MooseX/Method/Signatures/Meta/Method.pm line 82) line 7
	MooseX::Method::Signatures::Meta::Method::type_constraint('MooseX::Method::Signatures::Meta::Method=HASH(0x41403c0)') called at /home/sand/src/perl/repoperls/installed-perls/perl/v5.16.3/127e/lib/site_perl/5.16.3/MooseX/Method/Signatures/Meta/Method.pm line 175
	Class::MOP::Class:::around('CODE(0x2bb33c0)', 'MooseX::Method::Signatures::Meta::Method', 'CODE(0x3eb5358)', 'name', 'configure', 'package_name', 'Dist::Zilla::PluginBundle::Author::DBR') called at /home/sand/src/perl/repoperls/installed-perls/perl/v5.16.3/127e/lib/site_perl/5.16.3/x86_64-linux-ld/Class/MOP/Method/Wrapped.pm line 166
	Class::MOP::Method::Wrapped::__ANON__('MooseX::Method::Signatures::Meta::Method', 'CODE(0x3eb5358)', 'name', 'configure', 'package_name', 'Dist::Zilla::PluginBundle::Author::DBR') called at /home/sand/src/perl/repoperls/installed-perls/perl/v5.16.3/127e/lib/site_perl/5.16.3/x86_64-linux-ld/Class/MOP/Method/Wrapped.pm line 95
	MooseX::Method::Signatures::Meta::Method::wrap('MooseX::Method::Signatures::Meta::Method', 'CODE(0x3eb5358)', 'name', 'configure', 'package_name', 'Dist::Zilla::PluginBundle::Author::DBR') called at /home/sand/src/perl/repoperls/installed-perls/perl/v5.16.3/127e/lib/site_perl/5.16.3/MooseX/Method/Signatures.pm line 263
	MooseX::Method::Signatures::_parser('MooseX::Method::Signatures=HASH(0x413fe08)') called at /home/sand/src/perl/repoperls/installed-perls/perl/v5.16.3/127e/lib/site_perl/5.16.3/MooseX/Method/Signatures.pm line 204
	eval {...} called at /home/sand/src/perl/repoperls/installed-perls/perl/v5.16.3/127e/lib/site_perl/5.16.3/MooseX/Method/Signatures.pm line 204
	MooseX::Method::Signatures::parser('MooseX::Method::Signatures=HASH(0x413fe08)') called at /home/sand/src/perl/repoperls/installed-perls/perl/v5.16.3/127e/lib/site_perl/5.16.3/MooseX/Declare/Syntax/MethodDeclaration.pm line 51
	MooseX::Declare::Syntax::MethodDeclaration::parse('MooseX::Declare::Syntax::Keyword::Method=HASH(0x2a10b10)', 'MooseX::Declare::Context=HASH(0x4054818)') called at /home/sand/src/perl/repoperls/installed-perls/perl/v5.16.3/127e/lib/site_perl/5.16.3/MooseX/Declare/Syntax/KeywordHandling.pm line 98
	MooseX::Declare::Syntax::KeywordHandling::parse_declaration('MooseX::Declare::Syntax::Keyword::Method=HASH(0x2a10b10)', 'lib/Dist/Zilla/PluginBundle/Author/DBR.pm', 'HASH(0x4128970)', 'method', 4) called at /home/sand/src/perl/repoperls/installed-perls/perl/v5.16.3/127e/lib/site_perl/5.16.3/MooseX/Declare/Syntax/KeywordHandling.pm line 52
	MooseX::Declare::Syntax::KeywordHandling::__ANON__('method', 4) called at /home/sand/src/perl/repoperls/installed-perls/perl/v5.16.3/127e/lib/site_perl/5.16.3/x86_64-linux-ld/Devel/Declare.pm line 277
	Devel::Declare::linestr_callback('const', 'method', 4) called at lib/Dist/Zilla/PluginBundle/Author/DBR.pm line 19
	require Dist/Zilla/PluginBundle/Author/DBR.pm called at /home/sand/src/perl/repoperls/installed-perls/perl/v5.16.3/127e/lib/site_perl/5.16.3/Test/UseAllModules.pm line 77
	Test::UseAllModules::BEGIN() called at lib/Dist/Zilla/PluginBundle/Author/DBR.pm line 19
	eval {...} called at lib/Dist/Zilla/PluginBundle/Author/DBR.pm line 19
	eval 'package Test::UseAllModules;

#line 77 /home/sand/src/perl/repoperls/installed-perls/perl/v5.16.3/127e/lib/site_perl/5.16.3/Test/UseAllModules.pm
use Dist::Zilla::PluginBundle::Author::DBR @{$args[0]};
1;

;' called at /home/sand/src/perl/repoperls/installed-perls/perl/v5.16.3/127e/lib/5.16.3/Test/More.pm line 992
	Test::More::_eval('package Test::UseAllModules;\x{a}\x{a}#line 77 /home/sand/src/perl/re...', 'ARRAY(0x29b30b8)') called at /home/sand/src/perl/repoperls/installed-perls/perl/v5.16.3/127e/lib/5.16.3/Test/More.pm line 967
	Test::More::use_ok('Dist::Zilla::PluginBundle::Author::DBR') called at /home/sand/src/perl/repoperls/installed-perls/perl/v5.16.3/127e/lib/site_perl/5.16.3/Test/UseAllModules.pm line 77
	Test::UseAllModules::all_uses_ok() called at t/00-load.t line 4
	main::BEGIN() called at lib/Dist/Zilla/PluginBundle/Author/DBR.pm line 19
	eval {...} called at lib/Dist/Zilla/PluginBundle/Author/DBR.pm line 19
t/00-load.t .............. ok
# Prerequisite Report:
#      Version Module                                          
#   ---------- ------------------------------------------------
#         1.26 Carp                                            
#        5.008 Dist::Zilla                                     
#        1.006 Dist::Zilla::Plugin::Authority                  
#        5.008 Dist::Zilla::Plugin::AutoPrereqs                
#         0.01 Dist::Zilla::Plugin::CheckChangeLog             
#        0.006 Dist::Zilla::Plugin::CheckChangesHasContent     
#        0.016 Dist::Zilla::Plugin::CheckExtraTests            
#        0.009 Dist::Zilla::Plugin::CheckPrereqsIndexed        
#     0.121750 Dist::Zilla::Plugin::CheckVersionIncrement      
#        5.008 Dist::Zilla::Plugin::ConfirmRelease             
#         0.02 Dist::Zilla::Plugin::EOLTests                   
#         0.42 Dist::Zilla::Plugin::GithubMeta                 
#     1.101420 Dist::Zilla::Plugin::HasVersionTests            
#     1.200002 Dist::Zilla::Plugin::InstallGuide               
#        0.008 Dist::Zilla::Plugin::InstallRelease             
#        5.008 Dist::Zilla::Plugin::MetaJSON                   
#   1.14000001 Dist::Zilla::Plugin::MetaProvides::Class        
#   1.15000001 Dist::Zilla::Plugin::MetaProvides::Package      
#        5.008 Dist::Zilla::Plugin::MetaTests                  
#        5.008 Dist::Zilla::Plugin::MetaYAML                   
#        1.003 Dist::Zilla::Plugin::MinimumPerl                
#        5.008 Dist::Zilla::Plugin::ModuleBuild                
#        5.008 Dist::Zilla::Plugin::NextRelease                
#         0.06 Dist::Zilla::Plugin::NoTabsTests                
#        5.008 Dist::Zilla::Plugin::PkgVersion                 
#        5.008 Dist::Zilla::Plugin::PodCoverageTests           
#        5.008 Dist::Zilla::Plugin::PodSyntaxTests             
#        4.004 Dist::Zilla::Plugin::PodWeaver                  
#         0.21 Dist::Zilla::Plugin::ReadmeFromPod              
#        undef Dist::Zilla::Plugin::ReportPhase                
#     1.110730 Dist::Zilla::Plugin::ReportVersions             
#        0.020 Dist::Zilla::Plugin::Run::Release               
#        0.016 Dist::Zilla::Plugin::RunExtraTests              
#        0.2.0 Dist::Zilla::Plugin::SchwartzRatio              
#        0.4.2 Dist::Zilla::Plugin::ShareDir::Tarball          
#     1.001000 Dist::Zilla::Plugin::SpellingCommonMistakesTests
#     0.101626 Dist::Zilla::Plugin::TaskWeaver                 
#        0.008 Dist::Zilla::Plugin::Test::CPAN::Changes        
#        0.006 Dist::Zilla::Plugin::Test::ChangesHasContent    
#        0.012 Dist::Zilla::Plugin::Test::CheckDeps            
#         0.04 Dist::Zilla::Plugin::Test::CheckManifest        
#        2.039 Dist::Zilla::Plugin::Test::Compile              
#         0.01 Dist::Zilla::Plugin::Test::Legal                
#     2.000005 Dist::Zilla::Plugin::Test::MinimumVersion       
#     2.112410 Dist::Zilla::Plugin::Test::Perl::Critic         
#     2.000005 Dist::Zilla::Plugin::Test::Portability          
#        0.010 Dist::Zilla::Plugin::Test::ReportPrereqs        
#        0.002 Dist::Zilla::Plugin::Test::UseAllModules        
#        5.008 Dist::Zilla::Plugin::TestRelease                
#        2.019 Dist::Zilla::PluginBundle::Git                  
#         1.00 Dist::Zilla::Role::PluginBundle::Merged         
#         6.86 ExtUtils::MakeMaker                             
#         3.40 File::Spec::Functions                           
#         1.35 List::Util                                      
#       0.4203 Module::Build                                   
#         0.38 MooseX::Declare                                 
#     0.093003 Pod::Weaver::Plugin::WikiDoc                    
#        1.005 Pod::Weaver::Section::Support                   
#         1.35 Scalar::Util                                    
#         0.23 Test::CPAN::Meta                                
#        0.010 Test::CheckDeps                                 
#     1.001002 Test::More                                      
#         0.14 Test::UseAllModules                             
#         1.07 strict                                          
#         0.18 true                                            
#         1.13 warnings                                        
t/00-report-prereqs.t .... ok
# Testing with Perl 5.016003, /home/sand/src/perl/repoperls/installed-perls/perl/v5.16.3/127e/bin/perl
#     Carp version is 1.26
#     Dist::Zilla version is 5.008
#     Dist::Zilla::Plugin::Authority version is 1.006
#     Dist::Zilla::Plugin::AutoPrereqs version is 5.008
#     Dist::Zilla::Plugin::CheckChangeLog version is 0.01
#     Dist::Zilla::Plugin::CheckChangesHasContent version is 0.006
#     Dist::Zilla::Plugin::CheckExtraTests version is 0.016
#     Dist::Zilla::Plugin::CheckPrereqsIndexed version is 0.009
#     Dist::Zilla::Plugin::CheckVersionIncrement version is 0.121750
#     Dist::Zilla::Plugin::ConfirmRelease version is 5.008
#     Dist::Zilla::Plugin::EOLTests version is 0.02
#     Dist::Zilla::Plugin::GithubMeta version is 0.42
#     Dist::Zilla::Plugin::HasVersionTests version is 1.101420
#     Dist::Zilla::Plugin::InstallGuide version is 1.200002
#     Dist::Zilla::Plugin::InstallRelease version is 0.008
#     Dist::Zilla::Plugin::MetaJSON version is 5.008
#     Dist::Zilla::Plugin::MetaProvides::Class version is 1.14000001
#     Dist::Zilla::Plugin::MetaProvides::Package version is 1.15000001
#     Dist::Zilla::Plugin::MetaTests version is 5.008
#     Dist::Zilla::Plugin::MetaYAML version is 5.008
#     Dist::Zilla::Plugin::MinimumPerl version is 1.003
#     Dist::Zilla::Plugin::ModuleBuild version is 5.008
#     Dist::Zilla::Plugin::NextRelease version is 5.008
#     Dist::Zilla::Plugin::NoTabsTests version is 0.06
#     Dist::Zilla::Plugin::PkgVersion version is 5.008
#     Dist::Zilla::Plugin::PodCoverageTests version is 5.008
#     Dist::Zilla::Plugin::PodSyntaxTests version is 5.008
#     Dist::Zilla::Plugin::PodWeaver version is 4.004
#     Dist::Zilla::Plugin::ReadmeFromPod version is 0.21
#     Dist::Zilla::Plugin::ReportPhase version is 0.03
#     Dist::Zilla::Plugin::ReportVersions version is 1.110730
#     Dist::Zilla::Plugin::Run::Release version is 0.020
#     Dist::Zilla::Plugin::RunExtraTests version is 0.016
#     Dist::Zilla::Plugin::SchwartzRatio version is 0.2.0
#     Dist::Zilla::Plugin::ShareDir::Tarball version is 0.4.2
#     Dist::Zilla::Plugin::SpellingCommonMistakesTests version is 1.001000
#     Dist::Zilla::Plugin::TaskWeaver version is 0.101626
#     Dist::Zilla::Plugin::Test::CPAN::Changes version is 0.008
#     Dist::Zilla::Plugin::Test::ChangesHasContent version is 0.006
#     Dist::Zilla::Plugin::Test::CheckDeps version is 0.012
#     Dist::Zilla::Plugin::Test::CheckManifest version is 0.04
#     Dist::Zilla::Plugin::Test::Compile version is 2.039
#     Dist::Zilla::Plugin::Test::Legal version is 0.01
#     Dist::Zilla::Plugin::Test::MinimumVersion version is 2.000005
#     Dist::Zilla::Plugin::Test::Perl::Critic version is 2.112410
#     Dist::Zilla::Plugin::Test::Portability version is 2.000005
#     Dist::Zilla::Plugin::Test::ReportPrereqs version is 0.010
#     Dist::Zilla::Plugin::Test::UseAllModules version is 0.002
#     Dist::Zilla::Plugin::TestRelease version is 5.008
#     Dist::Zilla::PluginBundle::Git version is 2.019
#     Dist::Zilla::Role::PluginBundle::Merged version is 1.00
#     ExtUtils::MakeMaker version is 6.86
#     File::Spec::Functions version is 3.40
#     List::Util version is 1.35
#     Module::Build version is 0.4203
#     MooseX::Declare version is 0.38
#     Pod::Weaver::Plugin::WikiDoc version is 0.093003
#     Pod::Weaver::Section::Support version is 1.005
#     Scalar::Util version is 1.35
#     Test::CPAN::Meta version is 0.23
#     Test::CheckDeps version is 0.010
#     Test::More version is 1.001002
#     Test::UseAllModules version is 0.14
#     strict version is 1.07
#     true version is 0.18
#     warnings version is 1.13
t/000-report-versions.t .. ok
All tests successful.
Files=4, Tests=138,  8 wallclock secs ( 0.04 usr  0.01 sys +  4.34 cusr  0.25 csys =  4.64 CPU)
Result: PASS

------------------------------
PREREQUISITES
------------------------------

Prerequisite modules loaded:

requires:

    Module                                           Need   Have      
    ------------------------------------------------ ------ ----------
    Dist::Zilla                                      0      5.008     
    Dist::Zilla::Plugin::Authority                   0      1.006     
    Dist::Zilla::Plugin::AutoPrereqs                 0      5.008     
    Dist::Zilla::Plugin::CheckChangeLog              0      0.01      
    Dist::Zilla::Plugin::CheckChangesHasContent      0      0.006     
    Dist::Zilla::Plugin::CheckExtraTests             0      0.016     
    Dist::Zilla::Plugin::CheckPrereqsIndexed         0      0.009     
    Dist::Zilla::Plugin::CheckVersionIncrement       0      0.121750  
    Dist::Zilla::Plugin::ConfirmRelease              0      5.008     
    Dist::Zilla::Plugin::EOLTests                    0      0.02      
    Dist::Zilla::Plugin::GithubMeta                  0      0.42      
    Dist::Zilla::Plugin::HasVersionTests             0      1.101420  
    Dist::Zilla::Plugin::InstallGuide                0      1.200002  
    Dist::Zilla::Plugin::InstallRelease              0      0.008     
    Dist::Zilla::Plugin::MetaJSON                    0      5.008     
    Dist::Zilla::Plugin::MetaProvides::Class         0      1.14000001
    Dist::Zilla::Plugin::MetaProvides::Package       0      1.15000001
    Dist::Zilla::Plugin::MetaTests                   0      5.008     
    Dist::Zilla::Plugin::MetaYAML                    0      5.008     
    Dist::Zilla::Plugin::MinimumPerl                 0      1.003     
    Dist::Zilla::Plugin::ModuleBuild                 0      5.008     
    Dist::Zilla::Plugin::NextRelease                 0      5.008     
    Dist::Zilla::Plugin::NoTabsTests                 0      0.06      
    Dist::Zilla::Plugin::PkgVersion                  0      5.008     
    Dist::Zilla::Plugin::PodCoverageTests            0      5.008     
    Dist::Zilla::Plugin::PodSyntaxTests              0      5.008     
    Dist::Zilla::Plugin::PodWeaver                   0      4.004     
    Dist::Zilla::Plugin::ReadmeFromPod               0      0.21      
    Dist::Zilla::Plugin::ReportPhase                 0      0         
    Dist::Zilla::Plugin::ReportVersions              0      1.110730  
    Dist::Zilla::Plugin::Run::Release                0      0.020     
    Dist::Zilla::Plugin::RunExtraTests               0      0.016     
    Dist::Zilla::Plugin::SchwartzRatio               0      0.2.0     
    Dist::Zilla::Plugin::ShareDir::Tarball           0      0.4.2     
    Dist::Zilla::Plugin::SpellingCommonMistakesTests 0      1.001000  
    Dist::Zilla::Plugin::TaskWeaver                  0      0.101626  
    Dist::Zilla::Plugin::Test::ChangesHasContent     0      0.006     
    Dist::Zilla::Plugin::Test::CheckDeps             0      0.012     
    Dist::Zilla::Plugin::Test::CheckManifest         0      0.04      
    Dist::Zilla::Plugin::Test::Compile               0      2.039     
    Dist::Zilla::Plugin::Test::CPAN::Changes         0      0.008     
    Dist::Zilla::Plugin::Test::Legal                 0      0.01      
    Dist::Zilla::Plugin::Test::MinimumVersion        0      2.000005  
    Dist::Zilla::Plugin::Test::Perl::Critic          0      2.112410  
    Dist::Zilla::Plugin::Test::Portability           0      2.000005  
    Dist::Zilla::Plugin::Test::ReportPrereqs         0      0.010     
    Dist::Zilla::Plugin::Test::UseAllModules         0      0.002     
    Dist::Zilla::Plugin::TestRelease                 0      5.008     
    Dist::Zilla::PluginBundle::Git                   0      2.019     
    Dist::Zilla::Role::PluginBundle::Merged          0      1.00      
    MooseX::Declare                                  0      0.38      
    Pod::Weaver::Plugin::WikiDoc                     0      0.093003  
    Pod::Weaver::Section::Support                    0      1.005     
    Test::CPAN::Meta                                 0      0.23      
    Test::UseAllModules                              0      0.14      
    true                                             0      0.18      

build_requires:

    Module                                           Need   Have      
    ------------------------------------------------ ------ ----------
    Carp                                             0      1.26      
    ExtUtils::MakeMaker                              0      6.86      
    File::Spec::Functions                            0      3.40      
    List::Util                                       0      1.35      
    Module::Build                                    0.3601 0.4203    
    perl                                             5.004  5.016003  
    Scalar::Util                                     0      1.35      
    strict                                           0      1.07      
    Test::CheckDeps                                  0.006  0.010     
    Test::More                                       0.94   1.001002  
    Test::UseAllModules                              0      0.14      
    warnings                                         0      1.13      

configure_requires:

    Module                                           Need   Have      
    ------------------------------------------------ ------ ----------
    ExtUtils::MakeMaker                              6.30   6.86      
    Module::Build                                    0.3601 0.4203    


------------------------------
ENVIRONMENT AND OTHER CONTEXT
------------------------------

Environment variables:

    AUTOMATED_TESTING = 1
    LANG = en_US.UTF-8
    LANGUAGE = en_US:en
    PATH = /usr/lib/ccache:/home/sand/bin:/usr/local/bin:/usr/bin:/bin:/usr/bin/X11:/usr/games:/usr/local/perl/bin:/usr/X11/bin:/sbin:/usr/sbin
    PERL5LIB = 
    PERL5OPT = 
    PERL5_CPANPLUS_IS_RUNNING = 22498
    PERL5_CPAN_IS_RUNNING = 22498
    PERL_MM_USE_DEFAULT = 1
    SHELL = /usr/bin/zsh
    TERM = screen

Perl special variables (and OS-specific diagnostics, for MSWin32):

    $^X = /home/sand/src/perl/repoperls/installed-perls/perl/v5.16.3/127e/bin/perl
    $UID/$EUID = 1005 / 1005
    $GID = 1005 1005
    $EGID = 1005 1005

Perl module toolchain versions installed:

    Module              Have    
    ------------------- --------
    CPAN                2.00    
    CPAN::Meta          2.133380
    Cwd                 3.40    
    ExtUtils::CBuilder  0.280212
    ExtUtils::Command   1.17    
    ExtUtils::Install   1.58    
    ExtUtils::MakeMaker 6.86    
    ExtUtils::Manifest  1.61    
    ExtUtils::ParseXS   3.22    
    File::Spec          3.40    
    JSON                2.90    
    JSON::PP            2.27203 
    Module::Build       0.4203  
    Module::Signature   0.73    
    Parse::CPAN::Meta   1.4409  
    Test::Harness       3.30    
    Test::More          1.001002
    YAML                0.88    
    YAML::Syck          1.27    
    version             0.9906  


--

Summary of my perl5 (revision 5 version 16 subversion 3) configuration:
  Commit id: fd04d42d38f4751b981eb6e9213ee1ab8ef11ea6
  Platform:
    osname=linux, osvers=3.11-2-amd64, archname=x86_64-linux-ld
    uname='linux k83 3.11-2-amd64 #1 smp debian 3.11.10-1 (2013-12-04) x86_64 gnulinux '
    config_args='-Dprefix=/home/sand/src/perl/repoperls/installed-perls/perl/v5.16.3/127e -Dmyhostname=k83 -Dinstallusrbinperl=n -Uversiononly -Dusedevel -des -Ui_db -Uuseithreads -Duselongdouble -DDEBUGGING=-g'
    hint=recommended, useposix=true, d_sigaction=define
    useithreads=undef, usemultiplicity=undef
    useperlio=define, d_sfio=undef, uselargefiles=define, usesocks=undef
    use64bitint=define, use64bitall=define, uselongdouble=define
    usemymalloc=n, bincompat5005=undef
  Compiler:
    cc='cc', ccflags ='-fno-strict-aliasing -pipe -fstack-protector -I/usr/local/include -D_LARGEFILE_SOURCE -D_FILE_OFFSET_BITS=64',
    optimize='-O2 -g',
    cppflags='-fno-strict-aliasing -pipe -fstack-protector -I/usr/local/include'
    ccversion='', gccversion='4.8.2', gccosandvers=''
    intsize=4, longsize=8, ptrsize=8, doublesize=8, byteorder=12345678
    d_longlong=define, longlongsize=8, d_longdbl=define, longdblsize=16
    ivtype='long', ivsize=8, nvtype='long double', nvsize=16, Off_t='off_t', lseeksize=8
    alignbytes=16, prototype=define
  Linker and Libraries:
    ld='cc', ldflags =' -fstack-protector -L/usr/local/lib'
    libpth=/usr/local/lib /lib/x86_64-linux-gnu /lib/../lib /usr/lib/x86_64-linux-gnu /usr/lib/../lib /lib /usr/lib
    libs=-lnsl -lgdbm -ldb -ldl -lm -lcrypt -lutil -lc -lgdbm_compat
    perllibs=-lnsl -ldl -lm -lcrypt -lutil -lc
    libc=, so=so, useshrplib=false, libperl=libperl.a
    gnulibc_version='2.17'
  Dynamic Linking:
    dlsrc=dl_dlopen.xs, dlext=so, d_dlsymun=undef, ccdlflags='-Wl,-E'
    cccdlflags='-fPIC', lddlflags='-shared -O2 -g -L/usr/local/lib -fstack-protector'


Characteristics of this binary (from libperl): 
  Compile-time options: HAS_TIMES PERLIO_LAYERS PERL_DONT_CREATE_GVSV
                        PERL_MALLOC_WRAP PERL_PRESERVE_IVUV PERL_USE_DEVEL
                        USE_64_BIT_ALL USE_64_BIT_INT USE_LARGE_FILES
                        USE_LOCALE USE_LOCALE_COLLATE USE_LOCALE_CTYPE
                        USE_LOCALE_NUMERIC USE_LONG_DOUBLE USE_PERLIO
                        USE_PERL_ATOF
  Built under linux
  Compiled at Dec 12 2013 02:07:54
  %ENV:
    PERL5LIB=""
    PERL5OPT=""
    PERL5_CPANPLUS_IS_RUNNING="22498"
    PERL5_CPAN_IS_RUNNING="22498"
    PERL_MM_USE_DEFAULT="1"
  @INC:
    /home/sand/src/perl/repoperls/installed-perls/perl/v5.16.3/127e/lib/site_perl/5.16.3/x86_64-linux-ld
    /home/sand/src/perl/repoperls/installed-perls/perl/v5.16.3/127e/lib/site_perl/5.16.3
    /home/sand/src/perl/repoperls/installed-perls/perl/v5.16.3/127e/lib/5.16.3/x86_64-linux-ld
    /home/sand/src/perl/repoperls/installed-perls/perl/v5.16.3/127e/lib/5.16.3
    .