Text-Amuse-Preprocessor v0.62 Perl 5 v5.20.0 i686-linux

Status
Pass
From
Chris Williams (BINGOS)
Dist
Text-Amuse-Preprocessor v0.62
Platform
Perl 5 v5.20.0 i686-linux
Date
2020-05-27 05:44:17
ID
1aa0b95e-9fdd-11ea-9066-e374b0ba08e8
This distribution has been tested as part of the CPAN Testers
project, supporting the Perl programming language.  See
http://wiki.cpantesters.org/ for more information or email
questions to cpan-testers-discuss@perl.org


--

Dear MELMOTHX,

This is a computer-generated error report created automatically by
CPANPLUS, version 0.9906. Testers personal comments may appear
at the end of this report.


Thank you for uploading your work to CPAN.  Congratulations!
All tests were successful.

TEST RESULTS:

Below is the error stack from stage 'make test':

PERL_DL_NONLAZY=1 "/home/cpan/pit/bare/perl-5.20.0/bin/perl" "-MExtUtils::Command::MM" "-MTest::Harness" "-e" "undef *Test::Harness::Switches; test_harness(0, 'blib/lib', 'blib/arch')" t/*.t
# Testing Text::Amuse::Preprocessor 0.62, Perl 5.020000, /home/cpan/pit/bare/perl-5.20.0/bin/perl
t/00-load.t ........... ok
t/changes.t ........... skipped: Changes testing not required (or Test::CPAN::Changes not found)
t/chars.t ............. ok
# Using /tmp/35QPUJ2Yef for ligatures
# Using /tmp/2xe9IESOB4 for missing_nl
# Using /tmp/XZK4qF7n75 for garbage
# Using /tmp/PErBQOktyq for ellipsis_no_fix
# Using /tmp/XZy71003UD for ellipsis
# Using /tmp/fZkaYGKpRL for links
# Using /tmp/zos8wz_bgX for en
# Using /tmp/9dVSIFCwrv for fi
# Using /tmp/OBq2Tw7OB9 for es
# Using /tmp/K8qmsrzYto for sr
# Using /tmp/qlTg_1mWZk for hr
# Using /tmp/2SKfftslJH for ru
# Using /tmp/_6M1ncH7Yu for it
# Using /tmp/5peJ2MO6VW for mk
# Using /tmp/gBVPndCfuB for sv
# Using /tmp/WmEQOn1t40 for de
# Using /tmp/NpxtAzy4h3 for pl
# Using /tmp/h5b7ESiWuI for fr
# Using /tmp/dkznPD2Ds0 for pt
# Using /tmp/NZ5GlDD3CK for sq
# Using /tmp/y6NwGU0C2v for da
# Using /tmp/7JDdprHrPH for nl
# Using /tmp/IC9Tp1DYgo for id
# Using /tmp/HMjaSLKMbl for Full example
# Using /tmp/ddytjVPrJ_ for Quote
# Using /tmp/5snKzxhQ2M for Quote
# Using /tmp/e9IA5C_Ztv for Nl quotation
t/common.t ............ ok
t/crash-on-verb.t ..... ok
# $VAR1 = "#title Test
# #lang en
# 
# 0
# 
# \x{201c}0\x{201d}
# 
# 0
# ";
# $VAR1 = "#title Test
# #lang en
# 
# 0
# 
# \x{201c}0\x{201d}
# 
# 0
# ";
t/crash_on_loop.t ..... ok
# /tmp/2vvpcHFAgW/verbatim-in.muse
# /tmp/2vvpcHFAgW
t/exclude-verbatim.t .. ok
# Testing t/footnotes/good.in => t/footnotes/good.out
# Testing t/footnotes/good2.in => t/footnotes/good2.out
# Testing t/footnotes/good3.in => t/footnotes/good3.out
# Testing t/footnotes/mixed.in => t/footnotes/mixed.out
# Testing t/footnotes/indentation.in => t/footnotes/indentation.out
# Testing t/footnotes/sec-good.in => t/footnotes/sec-good.out
# Testing t/footnotes/sec-good2.in => t/footnotes/sec-good2.out
# Testing t/footnotes/sec-good3.in => t/footnotes/sec-good3.out
# Testing t/footnotes/sec-bad.in => t/footnotes/sec-bad.out
# @@ -1 +1,2 @@
# -{4}
# +{3}
# +{3}
# Testing t/footnotes/sec-bad2.in => t/footnotes/sec-bad2.out
# @@ -1,3 +1,2 @@
# -{4}
# +{3}
# -{5}
# +{3}
# -{6}
# Testing t/footnotes/bad.in => t/footnotes/bad.out
# @@ -1,2 +1,3 @@
#  [1]
# -[1]
# +[2]
# +[4]
# Testing t/footnotes/bad2.in => t/footnotes/bad2.out
# @@ -1,4 +1,3 @@
#  [1]
# -[1]
# +[2]
#  [4]
# -[5]
t/footnotes.t ......... ok
tagpile mismatch: root, p
t/html-2.t ............ ok
# Using /tmp/x5WzQxzrwK.html
# Using /tmp/kw8hUeHtAD.html
# Using /tmp/_3_HYXT6BV.html
# Using /tmp/AfnsgpEblO.html
# Using /tmp/wig_yEdhbz.html
# Using /tmp/g6K0pQGsP1.html
# Using /tmp/pKOy1xXtoQ.html
# Using /tmp/D7O_xK2tEl.html
# Using /tmp/gUeLo7kq9z.html
# Using /tmp/eWoVRQjeQh.html
# Using /tmp/9maSIfP_Tw.html
# Using /tmp/Cm95qWgu6B.html
# Using /tmp/bg3nxiH8Vh.html
# Using /tmp/s2aqk07Lfc.html
# Using /tmp/ueX08h6F42.html
# Using /tmp/aewNqxKdUH.html
# Using /tmp/FJJxuonEHe.html
t/html.t .............. ok
t/manifest.t .......... skipped: Author tests not required for installation
t/memory-cycles.t ..... skipped: Test::Memory::Cycle required for testing memory cycles
t/nbsp.t .............. ok
# Infile is /tmp/ODrInFDzMl/input.txt
# Using /tmp/byed9jPvPU as temporary dir
t/object.t ............ ok
t/pod-coverage.t ...... skipped: Pod coverage not required for installation
t/pod.t ............... skipped: Pod test not required for installation
t/russian.t ........... ok
t/subs.t .............. ok
t/typography.t ........ ok
All tests successful.
Files=19, Tests=420,  2 wallclock secs ( 0.07 usr  0.00 sys +  1.40 cusr  0.13 csys =  1.60 CPU)
Result: PASS


PREREQUISITES:

Here is a list of prerequisites you specified and versions we
managed to load:

	  Module Name                        Have     Want
	  HTML::PullParser                   3.57        0
	  IO::HTML                          1.001        1
	  Pod::Simple::Wiki                  0.20     0.19
	  Test::More                     1.302172        0
	  Text::Amuse                        1.51     0.95
	  Text::Diff                         1.45        0

Perl module toolchain versions installed:
	Module Name                        Have
	CPANPLUS                         0.9906
	CPANPLUS::Dist::Build              0.90
	Cwd                                3.75
	ExtUtils::CBuilder             0.280234
	ExtUtils::Command                  7.44
	ExtUtils::Install                  2.14
	ExtUtils::MakeMaker                7.44
	ExtUtils::Manifest                 1.72
	ExtUtils::ParseXS                  3.35
	File::Spec                         3.75
	Module::Build                    0.4231
	Pod::Parser                        1.62
	Pod::Simple                        3.28
	Test2                          1.302172
	Test::Harness                      3.42
	Test::More                     1.302172
	version                          0.9924

******************************** NOTE ********************************
The comments above are created mechanically, possibly without manual
checking by the sender.  As there are many people performing automatic
tests on each upload to CPAN, it is likely that you will receive
identical messages about the same problem.

If you believe that the message is mistaken, please reply to the first
one with correction and/or additional informations, and do not take
it personally.  We appreciate your patience. :)
**********************************************************************

Additional comments:


This report was machine-generated by CPANPLUS::Dist::YACSmoke 1.08.
Powered by minismokebox version 0.68

CPANPLUS is prefering Build.PL

------------------------------
ENVIRONMENT AND OTHER CONTEXT
------------------------------

Environment variables:

    AUTOMATED_TESTING = 1
    LANG = en_GB.UTF-8
    LANGUAGE = en_GB:en
    NONINTERACTIVE_TESTING = 1
    PATH = /home/cpan/pit/bare/conf/perl-5.20.0/.cpanplus/5.20.0/build/2kAgQoStpQ/Text-Amuse-Preprocessor-0.62/blib/script:/usr/local/bin:/usr/bin:/bin:/usr/local/games:/usr/games
    PERL5LIB = /home/cpan/pit/jail/6n1UZC7clo/lib/perl5:/home/cpan/pit/bare/conf/perl-5.20.0/.cpanplus/5.20.0/build/2kAgQoStpQ/Text-Amuse-Preprocessor-0.62/blib/lib:/home/cpan/pit/bare/conf/perl-5.20.0/.cpanplus/5.20.0/build/2kAgQoStpQ/Text-Amuse-Preprocessor-0.62/blib/arch
    PERL5_CPANPLUS_IS_RUNNING = 14589
    PERL5_CPANPLUS_IS_VERSION = 0.9906
    PERL5_MINISMOKEBOX = 0.68
    PERL5_YACSMOKE_BASE = /home/cpan/pit/bare/conf/perl-5.20.0
    PERL_EXTUTILS_AUTOINSTALL = --defaultdeps
    PERL_LOCAL_LIB_ROOT = /home/cpan/pit/jail/6n1UZC7clo
    PERL_MB_OPT = --install_base "/home/cpan/pit/jail/6n1UZC7clo"
    PERL_MM_OPT = INSTALL_BASE=/home/cpan/pit/jail/6n1UZC7clo
    PERL_MM_USE_DEFAULT = 1
    SHELL = /bin/bash
    TERM = screen

Perl special variables (and OS-specific diagnostics, for MSWin32):

    Perl: $^X = /home/cpan/pit/bare/perl-5.20.0/bin/perl
    UID:  $<  = 1001
    EUID: $>  = 1001
    GID:  $(  = 1001 1001
    EGID: $)  = 1001 1001


-------------------------------


--

Summary of my perl5 (revision 5 version 20 subversion 0) configuration:
   
  Platform:
    osname=linux, osvers=4.19.0-6-686, archname=i686-linux
    uname='linux dagobah 4.19.0-6-686 #1 smp debian 4.19.67-2+deb10u2 (2019-11-11) i686 gnulinux '
    config_args='-des -Dprefix=/home/cpan/pit/bare/perl-5.20.0'
    hint=recommended, useposix=true, d_sigaction=define
    useithreads=undef, usemultiplicity=undef
    use64bitint=undef, use64bitall=undef, uselongdouble=undef
    usemymalloc=n, bincompat5005=undef
  Compiler:
    cc='cc', ccflags ='-fwrapv -fno-strict-aliasing -pipe -fstack-protector -I/usr/local/include -D_LARGEFILE_SOURCE -D_FILE_OFFSET_BITS=64',
    optimize='-O2',
    cppflags='-fwrapv -fno-strict-aliasing -pipe -fstack-protector -I/usr/local/include'
    ccversion='', gccversion='8.3.0', gccosandvers=''
    intsize=4, longsize=4, ptrsize=4, doublesize=8, byteorder=1234
    d_longlong=define, longlongsize=8, d_longdbl=define, longdblsize=12
    ivtype='long', ivsize=4, nvtype='double', nvsize=8, Off_t='off_t', lseeksize=8
    alignbytes=4, prototype=define
  Linker and Libraries:
    ld='cc', ldflags =' -fstack-protector -L/usr/local/lib'
    libpth=/usr/local/lib /usr/lib/gcc/i686-linux-gnu/8/include-fixed /usr/include/i386-linux-gnu /usr/lib /lib/i386-linux-gnu /lib/../lib /usr/lib/i386-linux-gnu /usr/lib/../lib /lib /lib64 /usr/lib64
    libs=-lnsl -lgdbm -ldl -lm -lcrypt -lutil -lc
    perllibs=-lnsl -ldl -lm -lcrypt -lutil -lc
    libc=libc-2.28.so, so=so, useshrplib=false, libperl=libperl.a
    gnulibc_version='2.28'
  Dynamic Linking:
    dlsrc=dl_dlopen.xs, dlext=so, d_dlsymun=undef, ccdlflags='-Wl,-E'
    cccdlflags='-fPIC', lddlflags='-shared -O2 -L/usr/local/lib -fstack-protector'


Characteristics of this binary (from libperl): 
  Compile-time options: HAS_TIMES PERLIO_LAYERS PERL_DONT_CREATE_GVSV
                        PERL_HASH_FUNC_ONE_AT_A_TIME_HARD PERL_MALLOC_WRAP
                        PERL_NEW_COPY_ON_WRITE PERL_PRESERVE_IVUV
                        USE_LARGE_FILES USE_LOCALE USE_LOCALE_COLLATE
                        USE_LOCALE_CTYPE USE_LOCALE_NUMERIC USE_PERLIO
                        USE_PERL_ATOF
  Locally applied patches:
	Devel::PatchPerl 1.80
  Built under linux
  Compiled at Nov 28 2019 15:23:27
  %ENV:
    PERL5LIB="/home/cpan/pit/jail/6n1UZC7clo/lib/perl5:/home/cpan/pit/bare/conf/perl-5.20.0/.cpanplus/5.20.0/build/2kAgQoStpQ/Text-Amuse-Preprocessor-0.62/blib/lib:/home/cpan/pit/bare/conf/perl-5.20.0/.cpanplus/5.20.0/build/2kAgQoStpQ/Text-Amuse-Preprocessor-0.62/blib/arch"
    PERL5_CPANPLUS_IS_RUNNING="14589"
    PERL5_CPANPLUS_IS_VERSION="0.9906"
    PERL5_MINISMOKEBOX="0.68"
    PERL5_YACSMOKE_BASE="/home/cpan/pit/bare/conf/perl-5.20.0"
    PERL_EXTUTILS_AUTOINSTALL="--defaultdeps"
    PERL_LOCAL_LIB_ROOT="/home/cpan/pit/jail/6n1UZC7clo"
    PERL_MB_OPT="--install_base "/home/cpan/pit/jail/6n1UZC7clo""
    PERL_MM_OPT="INSTALL_BASE=/home/cpan/pit/jail/6n1UZC7clo"
    PERL_MM_USE_DEFAULT="1"
  @INC:
    /home/cpan/pit/jail/6n1UZC7clo/lib/perl5/5.20.0/i686-linux
    /home/cpan/pit/jail/6n1UZC7clo/lib/perl5/5.20.0
    /home/cpan/pit/jail/6n1UZC7clo/lib/perl5/i686-linux
    /home/cpan/pit/jail/6n1UZC7clo/lib/perl5
    /home/cpan/pit/bare/conf/perl-5.20.0/.cpanplus/5.20.0/build/2kAgQoStpQ/Text-Amuse-Preprocessor-0.62/blib/lib
    /home/cpan/pit/bare/conf/perl-5.20.0/.cpanplus/5.20.0/build/2kAgQoStpQ/Text-Amuse-Preprocessor-0.62/blib/arch
    /home/cpan/pit/bare/perl-5.20.0/lib/site_perl/5.20.0/i686-linux
    /home/cpan/pit/bare/perl-5.20.0/lib/site_perl/5.20.0
    /home/cpan/pit/bare/perl-5.20.0/lib/5.20.0/i686-linux
    /home/cpan/pit/bare/perl-5.20.0/lib/5.20.0
    .