Report for Class-AutoClass-1.55

Back
From: metabase:user:3143a46e-bb30-11e0-8dd5-45d7e6fb0a34
Subject: PASS Class-AutoClass-1.55 v5.16.0 GNU/Linux
Date: 2012-12-17T17:06:31Z

This distribution has been tested as part of the CPAN Testers
project, supporting the Perl programming language.  See
http://wiki.cpantesters.org/ for more information or email
questions to cpan-testers-discuss@perl.org


--
Dear Nathan Goodman,

This is a computer-generated report for Class-AutoClass-1.55
on perl 5.16.0, created by CPAN-Reporter-1.2007.

Thank you for uploading your work to CPAN.  Congratulations!
All tests were successful.

Sections of this report:

    * Tester comments
    * Program output
    * Prerequisites
    * Environment and other context

------------------------------
TESTER COMMENTS
------------------------------

Additional comments from tester:

this report is from an automated smoke testing program
and was not reviewed by a human for accuracy

------------------------------
PROGRAM OUTPUT
------------------------------

Output from './Build test':

# Testing Class::AutoClass 1.55, Perl 5.016000, /usr/bin/perl
t/autoclass.000.code_exists.t ........ ok
t/autoclass.001.boilerplate.t ........ ok
t/autoclass.002.pod.t ................ ok
t/autoclass.010.basics.t ............. ok
t/autoclass.011.class_attributes.t ... ok
t/autoclass.011.inconsistent.t ....... ok
t/autoclass.011.nullify.t ............ ok
t/autoclass.011.override.t ........... ok
t/autoclass.020.attributes.t ......... ok
t/autoclass.025.root.t ............... ok
t/autoclass.030._ref_.t .............. ok
t/autoclass.030.init_self.t .......... ok
t/autoclass.031._ref_.t .............. ok
t/autoclass.031.super_new.t .......... ok
t/autoclass.032._ref_.t .............. ok
t/autoclass.032.init_self_ac.t ....... ok
t/autoclass.033._ref_.t .............. ok
t/autoclass.033.super_new_ac.t ....... ok
t/autoclass.034._ref_.t .............. ok
t/autoclass.034.external_one.t ....... ok
t/autoclass.035._ref_.t .............. ok
t/autoclass.035.external_all.t ....... ok
t/autoclass.036._ref_.t .............. ok
t/autoclass.036.declare.t ............ ok
t/autoclass.037._ref_.t .............. ok
t/autoclass.037.declare_pkg.t ........ ok
t/autoclass.038._ref_.t .............. ok
t/autoclass.038.init_self_inherit.t .. ok
t/autoclass.039._ref_.t .............. ok
t/autoclass.039.attribute_order.t .... ok
t/autoclass.099.docs.t ............... ok
t/autoclass.100.no_autoclass.t ....... ok
t/autoclass.101.no_use_parent.t ...... ok
t/autoclass.102.use_order.t .......... ok
t/autoclass.103.defaults.t ........... ok
t/autoclass.104.syn_defaults.t ....... ok
t/autoclass.105.synonyms.t ........... ok
t/autoclass.106.synonyms.t ........... ok
t/autoclass.107.code_refs.t .......... ok
t/autoclass.108.override.t ........... ok
All tests successful.
Files=40, Tests=772,  2 wallclock secs ( 0.44 usr  0.16 sys +  2.04 cusr  0.31 csys =  2.95 CPU)
Result: PASS

------------------------------
PREREQUISITES
------------------------------

Prerequisite modules loaded:

requires:

    Module               Need  Have  
    -------------------- ----- ------
    Carp                 0     1.26  
    Hash::AutoHash::Args 1.1   1.16  
    Storable             2.16  2.34  

build_requires:

    Module               Need  Have  
    -------------------- ----- ------
    Exporter             0     5.66  
    IO::Scalar           2.1   2.110 
    Scalar::Util         1.01  1.25  
    Test::Deep           0.098 0.110 
    Test::More           0.88  0.98  

configure_requires:

    Module               Need  Have  
    -------------------- ----- ------
    Module::Build        0.4   0.4003


------------------------------
ENVIRONMENT AND OTHER CONTEXT
------------------------------

Environment variables:

    AUTOMATED_TESTING = 1
    LANG = POSIX
    LC_CTYPE = en_US.UTF-8
    PATH = /sbin:/usr/sbin:/usr/local/sbin:/usr/local/bin:/usr/bin:/bin:/usr/bin/X11:/usr/X11R6/bin:/usr/games
    PERL5LIB = /root/.cpan/build/Tie-Hash-MultiValue-1.02-nQrTk6/blib/arch:/root/.cpan/build/Tie-Hash-MultiValue-1.02-nQrTk6/blib/lib:/root/.cpan/build/Hash-AutoHash-Args-1.16-3bv4WX/blib/arch:/root/.cpan/build/Hash-AutoHash-Args-1.16-3bv4WX/blib/lib:/root/.cpan/build/Hash-AutoHash-1.16-HUjyOH/blib/arch:/root/.cpan/build/Hash-AutoHash-1.16-HUjyOH/blib/lib
    PERL5OPT = 
    PERL5_CPANPLUS_IS_RUNNING = 19102
    PERL5_CPAN_IS_RUNNING = 19102
    PERL5_CPAN_IS_RUNNING_IN_RECURSION = 11345,19102
    PERL_CR_SMOKER_CURRENT = Class-AutoClass-1.55
    PERL_EXTUTILS_AUTOINSTALL = --defaultdeps
    PERL_MM_USE_DEFAULT = 1
    SHELL = /bin/bash
    TERM = xterm
    TMPDIR = /tmp

Perl special variables (and OS-specific diagnostics, for MSWin32):

    $^X = /usr/bin/perl
    $UID/$EUID = 0 / 0
    $GID = 0 0
    $EGID = 0 0

Perl module toolchain versions installed:

    Module              Have    
    ------------------- --------
    CPAN                1.9800  
    CPAN::Meta          2.120921
    Cwd                 3.39_02 
    ExtUtils::CBuilder  0.280206
    ExtUtils::Command   1.17    
    ExtUtils::Install   1.58    
    ExtUtils::MakeMaker 6.63_02 
    ExtUtils::Manifest  1.61    
    ExtUtils::ParseXS   3.16    
    File::Spec          3.39_02 
    JSON                2.53    
    JSON::PP            2.27200 
    Module::Build       0.4003  
    Module::Signature   n/a     
    Parse::CPAN::Meta   1.4404  
    Test::Harness       3.23    
    Test::More          0.98    
    YAML                0.84    
    YAML::Syck          1.21    
    version             0.9901  


--

Summary of my perl5 (revision 5 version 16 subversion 0) configuration:
   
  Platform:
    osname=linux, osvers=3.1.10-1.9-default, archname=x86_64-linux-thread-multi
    uname='linux build33 3.1.10-1.9-default #1 smp thu apr 5 18:48:38 utc 2012 (4a97ec8) x86_64 x86_64 x86_64 gnulinux '
    config_args='-ds -e -Dprefix=/usr -Dvendorprefix=/usr -Dinstallusrbinperl -Dusethreads -Di_db -Di_dbm -Di_ndbm -Di_gdbm -Dd_dbm_open -Duseshrplib=true -Doptimize=-fmessage-length=0 -O2 -Wall -D_FORTIFY_SOURCE=2 -fstack-protector -funwind-tables -fasynchronous-unwind-tables -g -Wall -pipe -Accflags=-DPERL_USE_SAFE_PUTENV -Dotherlibdirs=/usr/lib/perl5/site_perl'
    hint=recommended, useposix=true, d_sigaction=define
    useithreads=define, usemultiplicity=define
    useperlio=define, d_sfio=undef, uselargefiles=define, usesocks=undef
    use64bitint=define, use64bitall=define, uselongdouble=undef
    usemymalloc=n, bincompat5005=undef
  Compiler:
    cc='cc', ccflags ='-D_REENTRANT -D_GNU_SOURCE -DPERL_USE_SAFE_PUTENV -fno-strict-aliasing -pipe -fstack-protector -D_LARGEFILE_SOURCE -D_FILE_OFFSET_BITS=64',
    optimize='-fmessage-length=0 -O2 -Wall -D_FORTIFY_SOURCE=2 -fstack-protector -funwind-tables -fasynchronous-unwind-tables -g -Wall -pipe',
    cppflags='-D_REENTRANT -D_GNU_SOURCE -DPERL_USE_SAFE_PUTENV -fno-strict-aliasing -pipe -fstack-protector'
    ccversion='', gccversion='4.7.1 20120713 [gcc-4_7-branch revision 189457]', gccosandvers=''
    intsize=4, longsize=8, ptrsize=8, doublesize=8, byteorder=12345678
    d_longlong=define, longlongsize=8, d_longdbl=define, longdblsize=16
    ivtype='long', ivsize=8, nvtype='double', nvsize=8, Off_t='off_t', lseeksize=8
    alignbytes=8, prototype=define
  Linker and Libraries:
    ld='cc', ldflags =' -L/usr/local/lib64 -fstack-protector'
    libpth=/lib64 /usr/lib64 /usr/local/lib64
    libs=-lm -ldl -lcrypt -lpthread
    perllibs=-lm -ldl -lcrypt -lpthread
    libc=/lib64/libc-2.15.so, so=so, useshrplib=true, libperl=libperl.so
    gnulibc_version='2.15'
  Dynamic Linking:
    dlsrc=dl_dlopen.xs, dlext=so, d_dlsymun=undef, ccdlflags='-Wl,-E -Wl,-rpath,/usr/lib/perl5/5.16.0/x86_64-linux-thread-multi/CORE'
    cccdlflags='-fPIC', lddlflags='-shared -L/usr/local/lib64 -fstack-protector'


Characteristics of this binary (from libperl): 
  Compile-time options: HAS_TIMES MULTIPLICITY PERLIO_LAYERS
                        PERL_DONT_CREATE_GVSV PERL_IMPLICIT_CONTEXT
                        PERL_MALLOC_WRAP PERL_PRESERVE_IVUV
                        PERL_USE_SAFE_PUTENV USE_64_BIT_ALL USE_64_BIT_INT
                        USE_ITHREADS USE_LARGE_FILES USE_LOCALE
                        USE_LOCALE_COLLATE USE_LOCALE_CTYPE
                        USE_LOCALE_NUMERIC USE_PERLIO USE_PERL_ATOF
                        USE_REENTRANT_API
  Built under linux
  Compiled at Jul 16 2012 08:51:58
  %ENV:
    PERL5LIB="/root/.cpan/build/Tie-Hash-MultiValue-1.02-nQrTk6/blib/arch:/root/.cpan/build/Tie-Hash-MultiValue-1.02-nQrTk6/blib/lib:/root/.cpan/build/Hash-AutoHash-Args-1.16-3bv4WX/blib/arch:/root/.cpan/build/Hash-AutoHash-Args-1.16-3bv4WX/blib/lib:/root/.cpan/build/Hash-AutoHash-1.16-HUjyOH/blib/arch:/root/.cpan/build/Hash-AutoHash-1.16-HUjyOH/blib/lib"
    PERL5OPT=""
    PERL5_CPANPLUS_IS_RUNNING="19102"
    PERL5_CPAN_IS_RUNNING="19102"
    PERL5_CPAN_IS_RUNNING_IN_RECURSION="11345,19102"
    PERL_CR_SMOKER_CURRENT="Class-AutoClass-1.55"
    PERL_EXTUTILS_AUTOINSTALL="--defaultdeps"
    PERL_MM_USE_DEFAULT="1"
  @INC:
    /root/.cpan/build/Tie-Hash-MultiValue-1.02-nQrTk6/blib/arch
    /root/.cpan/build/Tie-Hash-MultiValue-1.02-nQrTk6/blib/lib
    /root/.cpan/build/Hash-AutoHash-Args-1.16-3bv4WX/blib/arch
    /root/.cpan/build/Hash-AutoHash-Args-1.16-3bv4WX/blib/lib
    /root/.cpan/build/Hash-AutoHash-1.16-HUjyOH/blib/arch
    /root/.cpan/build/Hash-AutoHash-1.16-HUjyOH/blib/lib
    /usr/lib/perl5/site_perl/5.16.0/x86_64-linux-thread-multi
    /usr/lib/perl5/site_perl/5.16.0
    /usr/lib/perl5/vendor_perl/5.16.0/x86_64-linux-thread-multi
    /usr/lib/perl5/vendor_perl/5.16.0
    /usr/lib/perl5/5.16.0/x86_64-linux-thread-multi
    /usr/lib/perl5/5.16.0
    /usr/lib/perl5/site_perl/5.16.0/x86_64-linux-thread-multi
    /usr/lib/perl5/site_perl/5.16.0
    /usr/lib/perl5/site_perl
    .