Back
From: metabase:user:314402c4-2aae-11df-837a-5e0a49663a4f
Subject: PASS HPC-Runner-Command-Plugin-Logger-Sqlite-0.0.4 v5.24.1 GNU/Linux
Date: 2017-05-01T07:52:19Z
This distribution has been tested as part of the CPAN Testers
project, supporting the Perl programming language. See
http://wiki.cpantesters.org/ for more information or email
questions to cpan-testers-discuss@perl.org
--
Dear Jillian Rowe,
This is a computer-generated report for HPC-Runner-Command-Plugin-Logger-Sqlite-0.0.4
on perl 5.24.1, created by CPAN-Reporter-1.2018.
Thank you for uploading your work to CPAN. Congratulations!
All tests were successful.
Sections of this report:
* Tester comments
* Program output
* Prerequisites
* Environment and other context
------------------------------
TESTER COMMENTS
------------------------------
Additional comments from tester:
none provided
------------------------------
PROGRAM OUTPUT
------------------------------
Output from './Build test':
t/author-pod-syntax.t .. skipped: these tests are for testing by the author
t/basic.t .............. ok
[32m[2017/05/01 05:28:41] Loaded plugin Dummy [0m
[32m[2017/05/01 05:28:41] Loaded plugin Logger::Sqlite [0m
[32m[2017/05/01 05:28:41] Saving to sqlite db as submission id : 1 [0m
[32m[2017/05/01 05:28:41] Here is your tabular dependency list in alphabetical order [0m
[32m[2017/05/01 05:28:41] [0m
[32m.--------------------------------.[0m
[32m| JobName | Deps | Task Count |[0m
[32m+------------+------+------------+[0m
[32m| hpcjob_001 | | 4 |[0m
[32m'------------+------+------------'[0m
[32m [0m
[32m[2017/05/01 05:28:41] Beginning to submit jobs to the scheduler [0m
[32m[2017/05/01 05:28:41] Schedule is hpcjob_001[0m
[32m [0m
[32m[2017/05/01 05:28:41] Submitting all hpcjob_001 job types [0m
[34m[2017/05/01 05:28:41] SUBMITTING DUMMY JOB /tmp/hpcrunner/l8Z3FaFZ/hpc-runner/0.01/scratch/001_hpcjob_001.sh[0m
[34m With dummy jobid 1234 [0m
[32m[2017/05/01 05:28:41] There are 4 tasks for job type hpcjob_001 [0m
[32m[2017/05/01 05:28:41] Submitted in 1 job arrays.[0m
[32m [0m
[32m[2017/05/01 05:28:41] Job Summary [0m
[32m[2017/05/01 05:28:41] [0m
[32m.--------------------------------------------------------.[0m
[32m| Job Name | Scheduler ID | Task Indices | Total Tasks |[0m
[32m+------------+--------------+--------------+-------------+[0m
[32m| hpcjob_001 | 1234 | 1-4 | 4 |[0m
[32m'------------+--------------+--------------+-------------'[0m
[32m [0m
[32m[2017/05/01 05:28:42] Loaded plugin Logger::Sqlite [0m
t/test_class_tests.t ... ok
All tests successful.
Files=3, Tests=2, 21 wallclock secs ( 0.03 usr 0.01 sys + 3.86 cusr 0.82 csys = 4.72 CPU)
Result: PASS
------------------------------
PREREQUISITES
------------------------------
Prerequisite modules loaded:
requires:
Module Need Have
-------------------------- ----- --------
base 0 2.23
Cwd 0 3.63_01
Data::Dumper 0 2.161
DateTime 0 1.42
DBIx::Class::Core 0 0
DBIx::Class::Schema 0 0
HPC::Runner::Command 0 3.1.5
JSON 0 2.90
JSON::XS 0 3.03
Log::Log4perl 0 1.48
Moose::Role 0 2.2004
MooseX::App::Command 0 0
strict 0 1.11
Text::ASCIITable 0 0.22
utf8 0 1.19
warnings 0 1.36
build_requires:
Module Need Have
-------------------------- ----- --------
Capture::Tiny 0 0.46
File::Path 0 2.12
File::Slurp 0 9999.19
File::Spec::Functions 0 3.63_01
FindBin 0 1.51
IPC::Cmd 0 0.96
Slurp 0 0.4
Test::Class::Moose 0 0.81
Test::Class::Moose::Load 0 0.81
Test::Class::Moose::Runner 0 0.81
Test::More 0 1.302083
configure_requires:
Module Need Have
-------------------------- ----- --------
Module::Build::Tiny 0.034 0.039
------------------------------
ENVIRONMENT AND OTHER CONTEXT
------------------------------
Environment variables:
LANG = en_US.UTF-8
LANGUAGE = en_US:en
PATH = /usr/local/bin:/usr/bin:/bin:/usr/local/sbin:/usr/sbin:/sbin:/home/cpansand/bin/linux-gnu:/home/cpansand/bin/sh:/home/cpansand/bin:/usr/games:/home/cpansand/devel:/home/eserte/src/srezic-misc/scripts
PERL5LIB = /home/cpansand/.cpan/build/2017050103/HPC-Runner-Command-3.1.5-2/blib/arch:/home/cpansand/.cpan/build/2017050103/HPC-Runner-Command-3.1.5-2/blib/lib
PERL5OPT =
PERL5_CPANPLUS_IS_RUNNING = 29585
PERL5_CPAN_IS_RUNNING = 29585
PERL5_CPAN_IS_RUNNING_IN_RECURSION = 29485,29585
PERLDOC = -MPod::Perldoc::ToTextOverstrike
PERL_BATCH = yes
PERL_CANARY_STABILITY_NOPROMPT = 1
PERL_CPAN_REPORTER_CONFIG = /var/tmp/cpansmoker-1002/2017050103/cpanreporter_000_config.ini
PERL_EXTUTILS_AUTOINSTALL = --defaultdeps
PERL_USE_UNSAFE_INC = 1
SHELL = /bin/zsh
TERM = screen
TMPDIR = /var/tmp/cpansmoker-1002/2017050103
Perl special variables (and OS-specific diagnostics, for MSWin32):
$^X = /opt/perl-5.24.1/bin/perl5.24.1
$UID/$EUID = 1002 / 1002
$GID = 1002 1002
$EGID = 1002 1002
Perl module toolchain versions installed:
Module Have
------------------- --------
CPAN 2.16
CPAN::Meta 2.150010
Cwd 3.63_01
ExtUtils::CBuilder 0.280224
ExtUtils::Command 7.24
ExtUtils::Install 2.04
ExtUtils::MakeMaker 7.24
ExtUtils::Manifest 1.70
ExtUtils::ParseXS 3.30
File::Spec 3.63_01
JSON 2.90
JSON::PP 2.27400
Module::Build 0.4220
Module::Signature 0.81
Parse::CPAN::Meta 2.150010
Test::Harness 3.38
Test::More 1.302083
YAML 1.22
YAML::Syck 1.29
version 0.9917
--
Summary of my perl5 (revision 5 version 24 subversion 1) configuration:
Platform:
osname=linux, osvers=4.8.0-2-amd64, archname=x86_64-linux
uname='linux prod4 4.8.0-2-amd64 #1 smp debian 4.8.15-2 (2017-01-04) x86_64 gnulinux '
config_args='-ds -e -Dprefix=/opt/perl-5.24.1 -Dcf_email=srezic@cpan.org'
hint=recommended, useposix=true, d_sigaction=define
useithreads=undef, usemultiplicity=undef
use64bitint=define, use64bitall=define, uselongdouble=undef
usemymalloc=n, bincompat5005=undef
Compiler:
cc='cc', ccflags ='-fwrapv -fno-strict-aliasing -pipe -fstack-protector-strong -I/usr/local/include -D_LARGEFILE_SOURCE -D_FILE_OFFSET_BITS=64',
optimize='-O2',
cppflags='-fwrapv -fno-strict-aliasing -pipe -fstack-protector-strong -I/usr/local/include'
ccversion='', gccversion='6.2.1 20161124', gccosandvers=''
intsize=4, longsize=8, ptrsize=8, doublesize=8, byteorder=12345678, doublekind=3
d_longlong=define, longlongsize=8, d_longdbl=define, longdblsize=16, longdblkind=3
ivtype='long', ivsize=8, nvtype='double', nvsize=8, Off_t='off_t', lseeksize=8
alignbytes=8, prototype=define
Linker and Libraries:
ld='cc', ldflags =' -fstack-protector-strong -L/usr/local/lib'
libpth=/usr/local/lib /usr/lib/gcc/x86_64-linux-gnu/6/include-fixed /usr/include/x86_64-linux-gnu /usr/lib /lib/x86_64-linux-gnu /lib/../lib /usr/lib/x86_64-linux-gnu /usr/lib/../lib /lib
libs=-lpthread -lnsl -lgdbm -ldb -ldl -lm -lcrypt -lutil -lc -lgdbm_compat
perllibs=-lpthread -lnsl -ldl -lm -lcrypt -lutil -lc
libc=libc-2.24.so, so=so, useshrplib=false, libperl=libperl.a
gnulibc_version='2.24'
Dynamic Linking:
dlsrc=dl_dlopen.xs, dlext=so, d_dlsymun=undef, ccdlflags='-Wl,-E'
cccdlflags='-fPIC', lddlflags='-shared -O2 -L/usr/local/lib -fstack-protector-strong'
Characteristics of this binary (from libperl):
Compile-time options: HAS_TIMES PERLIO_LAYERS PERL_COPY_ON_WRITE
PERL_DONT_CREATE_GVSV
PERL_HASH_FUNC_ONE_AT_A_TIME_HARD PERL_MALLOC_WRAP
PERL_PRESERVE_IVUV USE_64_BIT_ALL USE_64_BIT_INT
USE_LARGE_FILES USE_LOCALE USE_LOCALE_COLLATE
USE_LOCALE_CTYPE USE_LOCALE_NUMERIC USE_LOCALE_TIME
USE_PERLIO USE_PERL_ATOF
Built under linux
Compiled at Jan 22 2017 18:06:53
%ENV:
PERL5LIB="/home/cpansand/.cpan/build/2017050103/HPC-Runner-Command-3.1.5-2/blib/arch:/home/cpansand/.cpan/build/2017050103/HPC-Runner-Command-3.1.5-2/blib/lib"
PERL5OPT=""
PERL5_CPANPLUS_IS_RUNNING="29585"
PERL5_CPAN_IS_RUNNING="29585"
PERL5_CPAN_IS_RUNNING_IN_RECURSION="29485,29585"
PERLDOC="-MPod::Perldoc::ToTextOverstrike"
PERL_BATCH="yes"
PERL_CANARY_STABILITY_NOPROMPT="1"
PERL_CPAN_REPORTER_CONFIG="/var/tmp/cpansmoker-1002/2017050103/cpanreporter_000_config.ini"
PERL_EXTUTILS_AUTOINSTALL="--defaultdeps"
PERL_USE_UNSAFE_INC="1"
@INC:
/home/cpansand/.cpan/build/2017050103/HPC-Runner-Command-3.1.5-2/blib/arch
/home/cpansand/.cpan/build/2017050103/HPC-Runner-Command-3.1.5-2/blib/lib
/opt/perl-5.24.1/lib/site_perl/5.24.1/x86_64-linux
/opt/perl-5.24.1/lib/site_perl/5.24.1
/opt/perl-5.24.1/lib/5.24.1/x86_64-linux
/opt/perl-5.24.1/lib/5.24.1
.