Acme-TLDR v0.004 Perl 5 v5.43.4 x86_64-linux-thread-multi

Status
Pass
From
Carlos Guevara
Dist
Acme-TLDR v0.004
Platform
Perl 5 v5.43.4 x86_64-linux-thread-multi
Date
2025-10-20 10:11:11
ID
1a705eb6-ad9d-11f0-8a80-e2d0c09eee56
This distribution has been tested as part of the CPAN Testers
project, supporting the Perl programming language.  See
http://wiki.cpantesters.org/ for more information or email
questions to cpan-testers-discuss@perl.org


--
Dear Stanislaw Pusep,

This is a computer-generated report for Acme-TLDR-0.004
on perl 5.43.4, created by CPAN-Reporter-1.2020.

Thank you for uploading your work to CPAN.  Congratulations!
All tests were successful.

Sections of this report:

    * Tester comments
    * Program output
    * Prerequisites
    * Environment and other context

------------------------------
TESTER COMMENTS
------------------------------

Additional comments from tester:

this report is from an automated smoke testing program
and was not reviewed by a human for accuracy

------------------------------
PROGRAM OUTPUT
------------------------------

Output from '/usr/bin/make test':

PERL_DL_NONLAZY=1 "/home/cpan/bin/perl/bin/perl5.43.4" "-MExtUtils::Command::MM" "-MTest::Harness" "-e" "undef *Test::Harness::Switches; test_harness(0, 'blib/lib', 'blib/arch')" t/*.t
t/00-compile.t ............... ok
# Acme::TLDR v0.004, Perl 5.043004, /home/cpan/bin/perl/bin/perl5.43.4
t/00-load.t .................. ok
ExtUtils::Installed cache: /home/cpan/.Acme-TLDR-e89519dfab9913f8505c692859eb7b0a.cache
no cache found; generating
AI::NeuralNet::Simple                                            => AI::NNet::S
Acme::Bleach                                                     => A::B
Acme::CPANAuthors                                                => A::CPANA
Acme::CPANAuthors::Chinese                                       => A::CPANA::C
Acme::CPANAuthors::MetaSyntactic                                 => A::CPANA::MS
Acme::CPANModules::CLI::PasswordManager                          => A::CPANM::CLI::PM
Acme::CPANModulesUtil::Bencher                                   => A::CPANMU::B
Acme::Damn                                                       => A::D
Acme::Songmu                                                     => A::S
Acme::Study::SREZIC                                              => A::S::SREZIC
Adapter::Async                                                   => A::A
Algorithm::BIT::XS                                               => A::BIT::XS
Algorithm::Backoff                                               => *undef*
Algorithm::C3                                                    => A::C3
Algorithm::Combinatorics                                         => A::C
Algorithm::Diff                                                  => *undef*
Algorithm::Diff::HTMLTable                                       => A::D::HTMLT
Algorithm::Diff::XS                                              => A::D::XS
Algorithm::Numerical::Shuffle                                    => A::N::S
Algorithm::RectanglesContainingDot                               => A::RCDot
Algorithm::RectanglesContainingDot_XS                            => A::RCDXS
Algorithm::SpatialIndex                                          => A::SI
Alien::Build                                                     => *undef*
Alien::Build::Plugin::Download::GitLab                           => A::B::P::D::GitLab
Alien::CFITSIO                                                   => A::CFITSIO
Alien::Libxml2                                                   => A::L2
Alien::cmake3                                                    => A::c3
Alien::curl                                                      => A::c
Alien::libtickit                                                 => A::l
Alien::libvas                                                    => *undef*
Alien::patch                                                     => A::p
Alien::unibilium                                                 => A::u
Alien::zlib                                                      => A::z
Amiga::ARexx                                                     => A::AR
Amiga::Exec                                                      => A::E
Amon2::DBI                                                       => A2::DBI
Anonymous::Object                                                => A::O
Any::Moose                                                       => Any::M
Any::URI::Escape                                                 => Any::URI::E
AnyDBM_File                                                      => AnyDBM_F
AnyEvent                                                         => AnyE
AnyEvent::Run                                                    => AnyE::Run
Apache2::AuthzCaps                                               => A2::AC
Apache::AuthTkt                                                  => A::ATkt
Apache::Dir                                                      => A::Dir
Apache::FakeCookie                                               => A::FC
Apache::LogFormat::Compiler                                      => A::LogF::C
App::Cpan                                                        => App::C
App::FatPacker                                                   => App::FatP
App::Git::SitePerl                                               => App::Git::SP
App::Greple                                                      => App::G
App::Greple::charcode                                            => App::G::c
App::Greple::stripe                                              => App::G::s
App::Prove                                                       => App::P
App::Prove::State                                                => App::P::S
App::Prove::State::Result                                        => App::P::S::R
App::Prove::State::Result::Test                                  => App::P::S::R::T
App::Relate                                                      => App::R
App::RewriteVersion                                              => App::RV
App::ShellCompleter::cpanm                                       => App::SC::c
App::Stash                                                       => App::S
App::ThisDist                                                    => App::TD
App::ansicolumn                                                  => App::a
App::ccdiff                                                      => App::c
App::cpanm::script                                               => App::c::s
App::cpanminus                                                   => *undef*
App::csvtool                                                     => *undef*
App::perlbrew                                                    => App::p
AppConfig                                                        => AppC
Archive::Any                                                     => A::Any
Archive::Any::Lite                                               => A::Any::L
Archive::Any::Plugin::Bzip2                                      => A::Any::P::B2
Archive::Extract                                                 => *undef*
Archive::Tar                                                     => A::Tar
Archive::Tar::Constant                                           => A::Tar::C
Archive::Tar::File                                               => A::Tar::F
Archive::Tar::Wrapper                                            => A::Tar::W
Archive::Zip                                                     => A::Zip
Array::Diff                                                      => *undef*
Array::Heap                                                      => A::H
Array::Merge::Unique                                             => A::M::U
Array::Objectify                                                 => *undef*
Astro::FITS::CFITSIO                                             => A::FITS::CFITSIO
Astro::FITS::Header                                              => A::FITS::H
Astro::WaveBand                                                  => A::WB
Async::Interrupt                                                 => A::I
Attribute::Handlers                                              => *undef*
Attribute::Lexical                                               => A::L
Attribute::Property                                              => A::P
Attribute::TieClasses                                            => A::TieC
Attribute::Util                                                  => A::U
Authen::NTLM                                                     => A::NTLM
Authen::SASL                                                     => A::SASL
Authen::Simple                                                   => *undef*
Authen::Simple::Passwd                                           => A::S::P
AutoLoader                                                       => AL
AutoSplit                                                        => AS
B::Concise                                                       => B::C
B::Debug                                                         => B::D
B::Deparse                                                       => *undef*
B::Flags                                                         => B::F
B::Hooks::AtRuntime                                              => B::H::AtR
B::Hooks::EndOfScope                                             => B::H::EndOfS
B::Hooks::OP::Annotation                                         => B::H::OP::A
B::Hooks::OP::Check                                              => B::H::OP::C
B::Hooks::Parser                                                 => B::H::P
B::Keywords                                                      => B::K
B::OPCheck                                                       => B::OPC
B::Op_private                                                    => B::O
B::Showlex                                                       => B::S
B::Terse                                                         => B::T
B::Utils                                                         => B::U
B::Utils1                                                        => B::U1
B::Xref                                                          => B::X
BSD::Resource                                                    => BSD::R
Baal::Parser                                                     => B::P
Badge::Depot                                                     => *undef*
Badge::Depot::Plugin::Gratipay                                   => B::D::P::G
Bash::Completion                                                 => *undef*
Bash::Completion::Plugin::Test                                   => B::C::P::T
Bash::Completion::Plugins::App::Cmd                              => B::C::P::App::Cmd
Beam::Emitter                                                    => B::E
Beam::Minion                                                     => B::M
Beam::Runner                                                     => B::R
Beam::Service                                                    => *undef*
Beam::Wire                                                       => B::W
Bit::Util                                                        => Bit::U
Bit::Vector                                                      => Bit::V
Bitcoin::BIP39                                                   => B::BIP39
BorderStyle                                                      => BS
BorderStyles::Standard                                           => BS::S
Browser::Open                                                    => *undef*
Build-Daily                                                      => B-D
Business::GL::Postalcode                                         => B::GL::P
Business::ISBN                                                   => B::ISBN
Business::ISBN::Data                                             => B::ISBN::D
Bytes::Random::Secure                                            => B::R::S
CGI::Application                                                 => CGI::A
CGI::Compile                                                     => CGI::C
CGI::Deurl::XS                                                   => CGI::D::XS
CGI::Easy                                                        => CGI::E
CGI::Easy::SendFile                                              => CGI::E::SF
CGI::Emulate::PSGI                                               => CGI::E::PSGI
CGI::ExtDirect                                                   => CGI::ExtD
CGI::Simple                                                      => CGI::S
CGI::Struct                                                      => *undef*
CGI::Test                                                        => CGI::T
CGI::Untaint                                                     => CGI::U
CLI::Osprey                                                      => CLI::O
CPAN::Author                                                     => CPAN::A
CPAN::Bundle                                                     => CPAN::B
CPAN::CacheMgr                                                   => CPAN::CMgr
CPAN::Changes                                                    => CPAN::C
CPAN::Checksums                                                  => *undef*
CPAN::Command                                                    => *undef*
CPAN::Common::Index                                              => CPAN::C::I
CPAN::Complete                                                   => *undef*
CPAN::Debug                                                      => CPAN::D
CPAN::DeferredCode                                               => CPAN::DC
CPAN::DistnameInfo                                               => CPAN::DI
CPAN::Distribution                                               => *undef*
CPAN::Distroprefs                                                => *undef*
CPAN::Distrostatus                                               => *undef*
CPAN::Exception::RecursiveDependency                             => CPAN::E::RD
CPAN::Exception::blocked_urllist                                 => CPAN::E::b
CPAN::Exception::yaml_not_installed                              => CPAN::E::y
CPAN::Exception::yaml_process_error                              => *undef*
CPAN::FTP::netrc                                                 => CPAN::FTP::n
CPAN::FirstTime                                                  => CPAN::FT
CPAN::HTTP::Client                                               => CPAN::HTTP::C
CPAN::HTTP::Credentials                                          => *undef*
CPAN::HandleConfig                                               => CPAN::HC
CPAN::Index                                                      => CPAN::I
CPAN::Info::FromRepoName                                         => CPAN::I::FRN
CPAN::Info::FromURL                                              => CPAN::I::FURL
CPAN::InfoObj                                                    => CPAN::IObj
CPAN::Kwalify                                                    => CPAN::K
CPAN::LWP::UserAgent                                             => CPAN::LWP::UA
CPAN::Meta                                                       => CPAN::M
CPAN::Meta::Check                                                => CPAN::M::C
CPAN::Meta::Converter                                            => *undef*
CPAN::Meta::Feature                                              => CPAN::M::F
CPAN::Meta::History                                              => CPAN::M::H
CPAN::Meta::Merge                                                => CPAN::M::M
CPAN::Meta::Prereqs                                              => CPAN::M::P
CPAN::Meta::Requirements                                         => CPAN::M::R
CPAN::Meta::Requirements::Range                                  => CPAN::M::R::R
CPAN::Meta::Spec                                                 => CPAN::M::S
CPAN::Meta::Validator                                            => CPAN::M::V
CPAN::Meta::YAML                                                 => CPAN::M::YAML
CPAN::Mirror::Finder                                             => *undef*
CPAN::Mirrors                                                    => *undef*
CPAN::Module                                                     => *undef*
CPAN::ParseDistribution                                          => CPAN::PD
CPAN::Perl::Releases                                             => CPAN::P::R
CPAN::Plugin                                                     => CPAN::P
CPAN::Plugin::Specfile                                           => CPAN::P::S
CPAN::Prompt                                                     => *undef*
CPAN::Queue                                                      => CPAN::Q
CPAN::Reporter                                                   => CPAN::R
CPAN::Requirements::Dynamic                                      => CPAN::R::D
CPAN::Shell                                                      => CPAN::S
CPAN::Tarzip                                                     => CPAN::T
CPAN::Testers::Common::Client                                    => CPAN::T::C::C
CPAN::Testers::Common::Utils                                     => CPAN::T::C::U
CPAN::Testers::Report                                            => CPAN::T::R
CPAN::Version                                                    => CPAN::V
CSS::Compressor                                                  => CSS::C
CSS::Selector::Parser                                            => CSS::S::P
CSS::Tiny                                                        => CSS::T
Cache::Bounded                                                   => C::B
Cache::Cache                                                     => C::C
Cache::LRU                                                       => C::LRU
Cache::Memcached::Turnstile                                      => C::M::T
Cache::Memory::Simple                                            => C::M::S
CairoX::Sweet                                                    => CX::S
Canary::Stability                                                => C::S
Capture::Tiny                                                    => C::T
Capture::Tiny::Extended                                          => C::T::E
Carp::Always                                                     => C::A
Carp::Always::SyntaxHighlightSource                              => C::A::SHS
Carp::Assert                                                     => *undef*
Carp::Assert::More                                               => C::A::M
Carp::Clan                                                       => *undef*
Carp::Heavy                                                      => C::H
Chart::Gnuplot                                                   => C::G
Chart::Timecard                                                  => *undef*
Check::UnitCheck                                                 => C::UC
Chemistry::Elements                                              => C::E
Class::Accessor                                                  => *undef*
Class::Accessor::Array                                           => C::A::A
Class::Accessor::Array::Glob                                     => C::A::A::G
Class::Accessor::Chained                                         => C::A::C
Class::Accessor::Class                                           => *undef*
Class::Accessor::Complex                                         => *undef*
Class::Accessor::Constructor                                     => *undef*
Class::Accessor::Grouped                                         => C::A::G
Class::Accessor::Installer                                       => C::A::I
Class::Accessor::Lite                                            => C::A::L
Class::Accessor::Lite::Lazy                                      => C::A::L::L
Class::Accessor::Lvalue                                          => *undef*
Class::ActsLike                                                  => C::AL
Class::C3                                                        => C::C3
Class::C3::Adopt::NEXT                                           => C::C3::A::NEXT
Class::C3::Componentised                                         => C::C3::C
Class::Container                                                 => *undef*
Class::DBI                                                       => C::DBI
Class::DBI::Plugin::PseudoColumns                                => C::DBI::P::PC
Class::Data::Inheritable                                         => C::D::I
Class::Default                                                   => C::D
Class::GenSource                                                 => C::GenS
Class::ISA                                                       => C::ISA
Class::InsideOut                                                 => C::IOut
Class::Inspector                                                 => C::I
Class::Load                                                      => C::L
Class::Load::XS                                                  => C::L::XS
Class::Measure                                                   => C::M
Class::Method::Modifiers                                         => C::M::M
Class::Method::ModifiersX::Override                              => C::M::MX::O
Class::MethodMaker                                               => C::MM
Class::Null                                                      => C::N
Class::Refresh                                                   => C::R
Class::Roles                                                     => *undef*
Class::Singleton                                                 => *undef*
Class::Struct                                                    => *undef*
Class::Tiny                                                      => *undef*
Class::Tiny::Chained                                             => C::T::C
Class::Trigger                                                   => *undef*
Class::Unload                                                    => C::U
Class::Utils                                                     => *undef*
Class::XPath                                                     => C::XP
Class::XSAccessor                                                => C::XSA
Clone::Choose                                                    => *undef*
Clone::PP                                                        => C::PP
Clone::Util                                                      => *undef*
Collision::Util                                                  => *undef*
Color::ANSI::Util                                                => C::ANSI::U
Color::RGB::Util                                                 => C::RGB::U
ColorThemeBase::Static                                           => CTB::S
ColorThemeRole::ANSI                                             => CTR::ANSI
ColorThemeUtil::ANSI                                             => CTU::ANSI
ColorThemes::Standard                                            => CT::S
Colouring::In                                                    => C::In
Command::Runner                                                  => *undef*
Compiler::Lexer                                                  => *undef*
Complete::Bash                                                   => *undef*
Complete::Common                                                 => *undef*
Complete::Dist                                                   => *undef*
Complete::Env                                                    => C::Env
Complete::File                                                   => C::F
Complete::Fish                                                   => *undef*
Complete::Getopt::Long                                           => C::G::L
Complete::Module                                                 => *undef*
Complete::Path                                                   => C::P
Complete::Sah                                                    => C::Sah
Complete::Sequence                                               => *undef*
Complete::Tcsh                                                   => *undef*
Complete::Util                                                   => *undef*
Complete::Zsh                                                    => C::Zsh
Compress::Bzip2                                                  => C::B2
Compress::Raw::Bzip2                                             => C::Raw::B2
Compress::Raw::Lzma                                              => C::Raw::L
Compress::Raw::Zlib                                              => C::Raw::Z
Compress::Stream::Zstd                                           => C::S::Z
Compress::Zlib                                                   => C::Z
Config-Checker                                                   => C-C
Config::Ant                                                      => C::Ant
Config::Any                                                      => C::Any
Config::Auto                                                     => *undef*
Config::AutoConf                                                 => C::AC
Config::Basic                                                    => *undef*
Config::Extensions                                               => *undef*
Config::General                                                  => *undef*
Config::INI                                                      => C::INI
Config::INI::Reader::Ordered                                     => C::INI::R::O
Config::IOD::Reader                                              => C::IOD::R
Config::IniFiles                                                 => C::IniF
Config::MVP                                                      => C::MVP
Config::MVP::Reader::INI                                         => C::MVP::R::INI
Config::MVP::Slicer                                              => C::MVP::S
Config::Perl::V                                                  => C::P::V
Config::Properties                                               => *undef*
Config::Settings                                                 => *undef*
Config::Tiny                                                     => *undef*
Config::ZOMG                                                     => C::ZOMG
ConfigReader::Simple                                             => CR::S
Const::Exporter                                                  => *undef*
Const::Fast                                                      => *undef*
Constant::FromGlobal                                             => C::FG
Context::Preserve                                                => *undef*
Convert::Base32                                                  => C::B32
Convert::Base32::Crockford                                       => C::B32::C
Convert::Bencode                                                 => *undef*
Convert::Bencode_XS                                              => C::BXS
Convert::BinHex                                                  => C::BinHex
Convert::Color                                                   => *undef*
Convert::Color::XTerm                                            => C::C::XT
Convert::Context                                                 => *undef*
Convert::NLS_DATE_FORMAT                                         => C::NLS_DATE_FORMAT
Cookie::Baker                                                    => *undef*
Cookie::Baker::XS                                                => C::B::XS
Cpanel::JSON::XS                                                 => C::JSON::XS
Crypt::Bcrypt                                                    => *undef*
Crypt::Blowfish                                                  => *undef*
Crypt::CAST5                                                     => C::CAST5
Crypt::CBC                                                       => C::CBC
Crypt::Cisco                                                     => *undef*
Crypt::DH::GMP                                                   => C::DH::GMP
Crypt::Komihash                                                  => C::K
Crypt::OpenSSL::Bignum                                           => C::OSSL::B
Crypt::OpenSSL::Guess                                            => C::OSSL::G
Crypt::OpenSSL::RSA                                              => C::OSSL::RSA
Crypt::OpenSSL::Random                                           => C::OSSL::R
Crypt::PBKDF2                                                    => C::PBKDF2
Crypt::Passphrase                                                => *undef*
Crypt::Passphrase::Bcrypt                                        => C::P::B
Crypt::Passwd::XS                                                => C::P::XS
Crypt::PasswdMD5                                                 => C::PMD5
Crypt::Password::Util                                            => C::P::U
Crypt::RC4                                                       => C::RC4
Crypt::Random::Seed                                              => C::R::S
Crypt::Random::TESHA2                                            => C::R::TESHA2
Crypt::SysRandom                                                 => C::SysR
Crypt::SysRandom::XS                                             => C::SysR::XS
Crypt::URandom                                                   => C::UR
Crypt::URandom::Token                                            => C::UR::T
CryptX                                                           => CX
Cwd::Guard                                                       => Cwd::G
DBD::Mock                                                        => DBD::M
DBD::SQLite                                                      => DBD::SQL
DBIx::Admin::CreateTable                                         => DBIx::A::CT
DBIx::CSSQuery                                                   => DBIx::CSSQ
DBIx::Class                                                      => DBIx::C
DBIx::Class::EasyFixture                                         => DBIx::C::EF
DBIx::Class::InflateColumn::Serializer                           => DBIx::C::IC::S
DBIx::Class::InflateColumn::Serializer::Hstore                   => DBIx::C::IC::S::H
DBIx::Class::InflateColumn::TimePiece                            => DBIx::C::IC::TP
DBIx::Class::Schema::Loader                                      => DBIx::C::S::L
DBIx::Class::Schema::PopulateMore                                => DBIx::C::S::PM
DBIx::Connector                                                  => *undef*
DBIx::ContextualFetch                                            => DBIx::CF
DBIx::Diff::Schema                                               => DBIx::D::S
DBIx::HTML::PopupRadio                                           => DBIx::HTML::PR
DBIx::ShowCaller                                                 => DBIx::SC
DBIx::Simple                                                     => DBIx::S
DBIx::Table2Hash                                                 => DBIx::T2H
DBIx::TableLoader                                                => DBIx::TL
DBIx::TableLoader::CSV                                           => DBIx::TL::CSV
DBIx::TransactionManager                                         => DBIx::TM
DBIx::UpdateTable::FromHoH                                       => DBIx::UT::FHoH
DBIx::Util::Schema                                               => DBIx::U::S
DBM_Filter                                                       => DBM_F
DBM_Filter::compress                                             => DBM_F::c
DBM_Filter::encode                                               => DBM_F::e
DBM_Filter::int32                                                => DBM_F::int32
DBM_Filter::null                                                 => DBM_F::n
DBM_Filter::utf8                                                 => DBM_F::utf8
DB_File                                                          => DB_F
DOCSIS::ConfigFile                                               => DOCSIS::CF
Dancer2                                                          => D2
Dancer2::Plugin::Showterm                                        => D2::P::S
Dancer::Plugin::MobileDevice                                     => D::P::MD
Dancer::Plugin::TimeRequests                                     => D::P::TR
Danga::Socket::AnyEvent                                          => D::S::AnyE
Data::Alias                                                      => D::A
Data::Binary                                                     => D::B
Data::COW                                                        => D::COW
Data::Censor                                                     => D::C
Data::Check::Structure                                           => D::C::S
Data::Clean                                                      => *undef*
Data::Clean::ForJSON                                             => D::C::ForJSON
Data::Clean::JSON                                                => D::C::JSON
Data::Clone                                                      => *undef*
Data::Cmp                                                        => D::Cmp
Data::Compare                                                    => *undef*
Data::Container                                                  => *undef*
Data::DPath                                                      => D::DP
Data::Denter                                                     => D::D
Data::Dict                                                       => *undef*
Data::Dmp                                                        => D::Dmp
Data::Dump                                                       => *undef*
Data::Dump::Color                                                => D::D::C
Data::Dump::OneLine                                              => D::D::OneL
Data::Dump::Partial                                              => D::D::P
Data::Dump::Patch::ReplaceWithDataDmp                            => D::D::P::RWDDmp
Data::Dumper                                                     => *undef*
Data::Dumper::Compact                                            => *undef*
Data::Dumper::Concise                                            => *undef*
Data::Dumper::Names                                              => D::D::N
Data::FormValidator                                              => D::FV
Data::FormValidator::URI                                         => D::FV::URI
Data::Format::Pretty                                             => D::F::P
Data::Format::Pretty::Console                                    => D::F::P::C
Data::Format::Pretty::HTML                                       => D::F::P::HTML
Data::Format::Pretty::JSON                                       => D::F::P::JSON
Data::Format::Pretty::PHPSerialization                           => D::F::P::PHPS
Data::Format::Pretty::Perl                                       => D::F::P::P
Data::Format::Pretty::YAML                                       => D::F::P::YAML
Data::GUID                                                       => D::GUID
Data::Handle                                                     => D::H
Data::Inherited                                                  => D::I
Data::JavaScript::Anon                                           => D::JS::A
Data::Lazy                                                       => D::L
Data::MARC::Field008                                             => D::MARC::F008
Data::MARC::Leader                                               => D::MARC::L
Data::MessagePack                                                => D::MP
Data::Miscellany                                                 => D::M
Data::ModeMerge                                                  => D::MM
Data::OptList                                                    => D::OptL
Data::Page                                                       => D::P
Data::Perl                                                       => *undef*
Data::PerlSurvey2007                                             => D::PS2007
Data::Phrasebook                                                 => *undef*
Data::Phrasebook::Loader::YAML                                   => D::P::L::YAML
Data::Pond                                                       => *undef*
Data::Printer                                                    => *undef*
Data::Record                                                     => D::R
Data::Reuse                                                      => *undef*
Data::SExpression                                                => D::SE
Data::Sah::DefaultValue                                          => D::Sah::DV
Data::Sah::Filter                                                => D::Sah::F
Data::Sah::Normalize                                             => D::Sah::N
Data::Sah::Resolve                                               => D::Sah::R
Data::Sah::Terse                                                 => D::Sah::T
Data::Sah::Util::Type                                            => D::Sah::U::T
Data::Save::S3                                                   => D::S::S3
Data::Section                                                    => D::S
Data::Section::Seekable                                          => D::S::S
Data::Section::Simple                                            => *undef*
Data::Serializer                                                 => *undef*
Data::Session                                                    => *undef*
Data::Storage                                                    => *undef*
Data::Structure::Util                                            => D::S::U
Data::Table::Text                                                => D::T::T
Data::TableData::Object                                          => D::TD::O
Data::TableData::Rank                                            => D::TD::R
Data::Taxi                                                       => D::T
Data::UUID                                                       => D::UUID
Data::Uniqid                                                     => D::U
Data::Unixish                                                    => *undef*
Data::Unixish::ANSI                                              => D::U::ANSI
Data::Visitor                                                    => D::V
Data::Walk                                                       => D::W
Date::Calc                                                       => *undef*
Date::Calc::XS                                                   => D::C::XS
Date::Exception                                                  => D::E
Date::Format::ISO8601                                            => D::F::ISO8601
Date::Holidays::NYSE                                             => D::H::NYSE
Date::Japanese::Era                                              => D::J::Era
Date::Manip                                                      => *undef*
Date::Parse                                                      => *undef*
Date::Persian::Simple                                            => D::P::S
Date::Range                                                      => *undef*
Date::Simple                                                     => *undef*
Date::TimeOfDay                                                  => D::TOfDay
Date::Tolkien::Shire                                             => D::T::S
Date::Tolkien::Shire::Data                                       => D::T::S::D
Date::Utils                                                      => *undef*
DateTime                                                         => DT
DateTime::Event::ICal                                            => DT::E::ICal
DateTime::Event::Recurrence                                      => DT::E::R
DateTime::Fiction::JRRTolkien::Shire                             => DT::F::JRRT::S
DateTime::Format::Builder                                        => DT::F::B
DateTime::Format::DB2                                            => DT::F::DB2
DateTime::Format::DateManip                                      => DT::F::DM
DateTime::Format::Duration::ISO8601                              => DT::F::D::ISO8601
DateTime::Format::Epoch                                          => DT::F::E
DateTime::Format::Excel                                          => *undef*
DateTime::Format::Flexible                                       => DT::F::F
DateTime::Format::ICal                                           => DT::F::ICal
DateTime::Format::ISO8601                                        => DT::F::ISO8601
DateTime::Format::MySQL                                          => DT::F::MySQL
DateTime::Format::Natural                                        => DT::F::N
DateTime::Format::Oracle                                         => DT::F::O
DateTime::Format::Pg                                             => DT::F::Pg
DateTime::Format::SQLite                                         => DT::F::SQL
DateTime::Format::Strptime                                       => DT::F::S
DateTime::Format::W3CDTF                                         => DT::F::W3CDTF
DateTime::HiRes                                                  => DT::HiRes
DateTime::Locale                                                 => DT::L
DateTime::Locale::FromCLDR                                       => DT::L::FCLDR
DateTime::Set                                                    => DT::Set
DateTime::TimeZone                                               => DT::TZ
DateTimeX::Easy                                                  => DTX::E
DateTimeX::ISO8601::Interval                                     => DTX::ISO8601::I
Debug::ShowStuff                                                 => D::SS
Declare::Constraints::Simple                                     => *undef*
Devel::Autoflush                                                 => *undef*
Devel::CallChecker                                               => D::CC
Devel::Caller                                                    => *undef*
Devel::Caller::Util                                              => D::C::U
Devel::CheckBin                                                  => D::CBin
Devel::CheckCompiler                                             => *undef*
Devel::CheckLib                                                  => D::CLib
Devel::CheckOS                                                   => D::COS
Devel::Confess                                                   => *undef*
Devel::Cycle                                                     => *undef*
Devel::Declare                                                   => *undef*
Devel::FindPerl                                                  => D::FP
Devel::GlobalDestruction                                         => D::GD
Devel::GlobalPhase                                               => D::GP
Devel::Hide                                                      => *undef*
Devel::Hook                                                      => *undef*
Devel::Isa::Explainer                                            => D::Isa::E
Devel::Leak                                                      => *undef*
Devel::LexAlias                                                  => D::LexA
Devel::MAT::Dumper                                               => D::MAT::D
Devel::Modlist                                                   => *undef*
Devel::OverloadInfo                                              => D::OI
Devel::OverrideGlobalRequire                                     => D::OGR
Devel::PPPort                                                    => D::PPP
Devel::PartialDump                                               => D::PD
Devel::PatchPerl                                                 => D::PP
Devel::Peek                                                      => *undef*
Devel::Platform::Info                                            => D::P::I
Devel::Quick                                                     => D::Q
Devel::Refcount                                                  => *undef*
Devel::SelfStubber                                               => *undef*
Devel::StackTrace                                                => D::ST
Devel::StackTrace::AsHTML                                        => D::ST::AsHTML
Devel::StrictMode                                                => D::SM
Devel::Symdump                                                   => *undef*
Devel::Todo::Find                                                => D::T::F
Devel::Trace::Subs                                               => *undef*
Digest::BubbleBabble                                             => D::BB
Digest::CRC                                                      => D::CRC
Digest::DJB32                                                    => D::DJB32
Digest::HMAC                                                     => D::HMAC
Digest::JHash                                                    => D::JH
Digest::MD5                                                      => D::MD5
Digest::Perl::MD5                                                => D::P::MD5
Digest::SHA                                                      => D::SHA
Digest::SHA1                                                     => D::SHA1
Digest::SHA3                                                     => D::SHA3
Digest::base                                                     => D::b
Digest::file                                                     => D::f
DirHandle                                                        => DirH
Disassemble::X86                                                 => D::X86
Dist::Build                                                      => *undef*
Dist::CheckConflicts                                             => *undef*
Dist::Metadata                                                   => *undef*
Dist::Util                                                       => *undef*
DynaLoader                                                       => DL
DynaLoader::Functions                                            => DL::F
Email::Abstract                                                  => E::A
Email::Address                                                   => *undef*
Email::Date                                                      => E::D
Email::Date::Format                                              => E::D::F
Email::MessageID                                                 => E::MID
Email::Simple                                                    => E::S
Email::Valid                                                     => E::V
Encode::Alias                                                    => *undef*
Encode::Byte                                                     => E::B
Encode::CJKConstants                                             => E::CJKC
Encode::CN                                                       => E::CN
Encode::CN::HZ                                                   => E::CN::HZ
Encode::Config                                                   => E::C
Encode::Detect::CJK                                              => E::D::CJK
Encode::EBCDIC                                                   => E::EBCDIC
Encode::Encoder                                                  => E::E
Encode::Encoding                                                 => *undef*
Encode::GSM0338                                                  => E::GSM0338
Encode::Guess                                                    => E::G
Encode::JP                                                       => E::JP
Encode::JP::H2Z                                                  => E::JP::H2Z
Encode::JP::JIS7                                                 => E::JP::JIS7
Encode::KR                                                       => E::KR
Encode::KR::2022_KR                                              => E::KR::2022_KR
Encode::Locale                                                   => E::L
Encode::MIME::Header                                             => E::MIME::H
Encode::MIME::Header::ISO_2022_JP                                => E::MIME::H::ISO_2022_JP
Encode::MIME::Name                                               => E::MIME::N
Encode::Symbol                                                   => *undef*
Encode::TW                                                       => E::TW
Encode::Unicode                                                  => E::U
Encode::Unicode::UTF7                                            => E::U::UTF7
Env::ShellWords                                                  => Env::SW
Eponymous::Hash                                                  => E::H
Error::Hierarchy                                                 => *undef*
Error::Pure                                                      => E::P
Error::Pure::Output::Text                                        => E::P::O::T
Error::Show                                                      => *undef*
Eval::Closure                                                    => *undef*
Eval::LineNumbers                                                => E::LN
Event::Notify                                                    => E::N
Excel::Writer::XLSX                                              => E::W::XLSX
Exception::Class                                                 => *undef*
Exception::Class::TryCatch                                       => E::C::TryC
Export::Attrs                                                    => *undef*
Exporter::Extensible                                             => *undef*
Exporter::Heavy                                                  => *undef*
Exporter::Lite                                                   => *undef*
Exporter::Rinci                                                  => E::R
Exporter::Tidy                                                   => E::T
Exporter::Tiny                                                   => *undef*
ExtUtils::Builder                                                => ExtU::B
ExtUtils::Builder::Compiler                                      => ExtU::B::C
ExtUtils::CBuilder                                               => ExtU::CB
ExtUtils::CBuilder::Base                                         => ExtU::CB::B
ExtUtils::CBuilder::Platform::Unix                               => ExtU::CB::P::U
ExtUtils::CBuilder::Platform::VMS                                => ExtU::CB::P::VMS
ExtUtils::CBuilder::Platform::Windows                            => ExtU::CB::P::W
ExtUtils::CBuilder::Platform::Windows::BCC                       => ExtU::CB::P::W::BCC
ExtUtils::CBuilder::Platform::Windows::GCC                       => ExtU::CB::P::W::GCC
ExtUtils::CBuilder::Platform::Windows::MSVC                      => ExtU::CB::P::W::MSVC
ExtUtils::CBuilder::Platform::aix                                => ExtU::CB::P::aix
ExtUtils::CBuilder::Platform::android                            => ExtU::CB::P::a
ExtUtils::CBuilder::Platform::cygwin                             => ExtU::CB::P::c
ExtUtils::CBuilder::Platform::darwin                             => ExtU::CB::P::d
ExtUtils::CBuilder::Platform::dec_osf                            => *undef*
ExtUtils::CBuilder::Platform::os2                                => ExtU::CB::P::os2
ExtUtils::CChecker                                               => ExtU::CC
ExtUtils::Command                                                => ExtU::C
ExtUtils::Command::MM                                            => ExtU::C::MM
ExtUtils::Config                                                 => *undef*
ExtUtils::Constant                                               => *undef*
ExtUtils::Constant::Base                                         => ExtU::C::B
ExtUtils::Constant::ProxySubs                                    => ExtU::C::PS
ExtUtils::Constant::Utils                                        => ExtU::C::U
ExtUtils::Constant::XS                                           => ExtU::C::XS
ExtUtils::CppGuess                                               => ExtU::CppG
ExtUtils::Depends                                                => ExtU::D
ExtUtils::Embed                                                  => ExtU::E
ExtUtils::HasCompiler                                            => ExtU::HasC
ExtUtils::Helpers                                                => ExtU::H
ExtUtils::Install                                                => ExtU::I
ExtUtils::InstallPaths                                           => ExtU::IP
ExtUtils::Installed                                              => *undef*
ExtUtils::Liblist                                                => ExtU::L
ExtUtils::Liblist::Kid                                           => ExtU::L::Kid
ExtUtils::MM                                                     => ExtU::MM
ExtUtils::MM_AIX                                                 => ExtU::MM_AIX
ExtUtils::MM_Any                                                 => ExtU::MM_Any
ExtUtils::MM_BeOS                                                => ExtU::MM_BeOS
ExtUtils::MM_Cygwin                                              => ExtU::MM_C
ExtUtils::MM_DOS                                                 => ExtU::MM_DOS
ExtUtils::MM_Darwin                                              => ExtU::MM_D
ExtUtils::MM_MacOS                                               => ExtU::MM_MacOS
ExtUtils::MM_NW5                                                 => ExtU::MM_NW5
ExtUtils::MM_OS2                                                 => ExtU::MM_OS2
ExtUtils::MM_OS390                                               => ExtU::MM_OS390
ExtUtils::MM_QNX                                                 => ExtU::MM_QNX
ExtUtils::MM_UWIN                                                => ExtU::MM_UWIN
ExtUtils::MM_Unix                                                => ExtU::MM_U
ExtUtils::MM_VMS                                                 => ExtU::MM_VMS
ExtUtils::MM_VOS                                                 => ExtU::MM_VOS
ExtUtils::MM_Win32                                               => ExtU::MM_Win32
ExtUtils::MM_Win95                                               => ExtU::MM_Win95
ExtUtils::MY                                                     => ExtU::MY
ExtUtils::MakeMaker                                              => *undef*
ExtUtils::MakeMaker::CPANfile                                    => ExtU::MM::CPAN
ExtUtils::MakeMaker::Config                                      => ExtU::MM::C
ExtUtils::MakeMaker::Dist::Zilla::Develop                        => ExtU::MM::D::Z::D
ExtUtils::MakeMaker::Locale                                      => ExtU::MM::L
ExtUtils::MakeMaker::version                                     => ExtU::MM::v
ExtUtils::MakeMaker::version::regex                              => ExtU::MM::v::r
ExtUtils::Manifest                                               => ExtU::M
ExtUtils::Miniperl                                               => *undef*
ExtUtils::Mkbootstrap                                            => *undef*
ExtUtils::Mksymlists                                             => *undef*
ExtUtils::PL2Bat                                                 => ExtU::PL2Bat
ExtUtils::Packlist                                               => ExtU::P
ExtUtils::ParseXS                                                => ExtU::PXS
ExtUtils::ParseXS::Constants                                     => ExtU::PXS::C
ExtUtils::ParseXS::CountLines                                    => ExtU::PXS::CL
ExtUtils::ParseXS::Eval                                          => ExtU::PXS::E
ExtUtils::ParseXS::Node                                          => ExtU::PXS::N
ExtUtils::ParseXS::Utilities                                     => ExtU::PXS::U
ExtUtils::PkgConfig                                              => ExtU::PkgC
ExtUtils::Typemaps                                               => ExtU::T
ExtUtils::Typemaps::Cmd                                          => ExtU::T::Cmd
ExtUtils::Typemaps::InputMap                                     => ExtU::T::IMap
ExtUtils::Typemaps::OutputMap                                    => ExtU::T::OMap
ExtUtils::Typemaps::Type                                         => ExtU::T::T
ExtUtils::XSSymSet                                               => ExtU::XSSymSet
ExtUtils::testlib                                                => ExtU::t
FCGI::Client                                                     => FCGI::C
FCGI::ProcManager                                                => FCGI::PM
FFI::CheckLib                                                    => FFI::CLib
FFI::Platypus                                                    => FFI::P
FFI::Platypus::Lang::CPP::Demangle::XS                           => FFI::P::L::CPP::D::XS
Feature::Compat::Try                                             => F::C::Try
File::BaseDir                                                    => F::BDir
File::Basename                                                   => F::B
File::Binary                                                     => *undef*
File::CheckTree                                                  => F::CT
File::Compare                                                    => F::C
File::ConfigDir                                                  => F::CDir
File::Copy                                                       => *undef*
File::Copy::Link                                                 => F::C::L
File::Copy::Recursive                                            => F::C::R
File::Copy::Recursive::Reduced                                   => F::C::R::R
File::DesktopEntry                                               => F::DE
File::DosGlob                                                    => F::DosG
File::Fetch                                                      => F::F
File::Find                                                       => *undef*
File::Find::CaseCollide                                          => F::F::CC
File::Find::Object                                               => F::F::O
File::Find::Rule                                                 => F::F::R
File::Find::Rule::Perl                                           => F::F::R::P
File::Find::Upwards                                              => F::F::U
File::Flock::Retry                                               => *undef*
File::FnMatch                                                    => F::FnM
File::Glob                                                       => F::G
File::GlobMapper                                                 => F::GM
File::HomeDir                                                    => F::HDir
File::IgnoreReadonly                                             => F::IR
File::Listing                                                    => F::L
File::LocalizeNewlines                                           => F::LN
File::MMagic                                                     => F::MM
File::Map                                                        => F::Map
File::MimeInfo                                                   => F::MI
File::MoreUtil                                                   => F::MU
File::Object                                                     => F::O
File::Path                                                       => F::P
File::Path::Tiny                                                 => F::P::T
File::ReadBackwards                                              => F::RB
File::Remove                                                     => F::R
File::Serialize                                                  => F::S
File::Share                                                      => *undef*
File::ShareDir                                                   => F::SDir
File::ShareDir::Install                                          => F::SDir::I
File::ShareDir::ProjectDistDir                                   => F::SDir::PDDir
File::ShareDir::Tarball                                          => F::SDir::T
File::ShareDir::Tiny                                             => *undef*
File::Slurp                                                      => *undef*
File::Slurper                                                    => *undef*
File::Spec                                                       => *undef*
File::Spec::AmigaOS                                              => F::S::AOS
File::Spec::Cygwin                                               => F::S::C
File::Spec::Epoc                                                 => F::S::E
File::Spec::Functions                                            => F::S::F
File::Spec::Mac                                                  => F::S::Mac
File::Spec::Native                                               => F::S::N
File::Spec::OS2                                                  => F::S::OS2
File::Spec::Unix                                                 => F::S::U
File::Spec::VMS                                                  => F::S::VMS
File::Spec::Win32                                                => F::S::Win32
File::Temp                                                       => F::T
File::Trash::FreeDesktop                                         => F::T::FD
File::TreeCreate                                                 => F::TC
File::Type                                                       => *undef*
File::Util::Rename                                               => F::U::R
File::Util::Sort                                                 => F::U::S
File::Util::Tempdir                                              => F::U::T
File::Util::Test                                                 => *undef*
File::Which                                                      => F::W
File::Zglob                                                      => F::Z
File::chdir                                                      => F::c
File::chmod                                                      => *undef*
File::pfopen                                                     => F::p
File::pushd                                                      => *undef*
File::stat                                                       => F::s
FileCache                                                        => FC
FileHandle                                                       => FH
Filename::Archive                                                => F::A
Filename::Compressed                                             => *undef*
Filename::Timestamp                                              => *undef*
Filename::Type::Archive                                          => F::T::A
Filename::Type::Backup                                           => F::T::B
Filename::Type::Compressed                                       => F::T::C
Filename::Type::Perl::Release                                    => F::T::P::R
Filename::Video                                                  => F::V
Filesys::Cap                                                     => F::Cap
Filesys::Notify::Simple                                          => F::N::S
Filter::NumberLines                                              => F::NL
Filter::Simple                                                   => *undef*
Filter::Util::Call                                               => F::U::C
Finance::BitFlip                                                 => F::BitF
FindBin                                                          => FBin
Font::AFM                                                        => F::AFM
Font::TTF                                                        => F::TTF
Format::Human::Bytes                                             => F::H::B
Freecell::Deal::MS                                               => F::D::MS
FreezeThaw                                                       => FT
Function::Fallback::CoreOrPP                                     => F::F::COrPP
Function::Parameters                                             => *undef*
Future::AsyncAwait                                               => F::AA
Future::AsyncAwait::Hooks                                        => F::AA::H
GD::Graph                                                        => GD::G
GD::Graph::Hooks                                                 => GD::G::H
GD::Text                                                         => GD::T
GDBM_File                                                        => GDBM_F
GIS::Distance                                                    => GIS::D
GIS::Distance::Fast                                              => GIS::D::F
Gcis::Client                                                     => G::C
Gen::Test::Rinci::FuncResult                                     => Gen::T::R::FR
Geo::Distance                                                    => Geo::D
Geo::Lookup::ByTime                                              => Geo::L::ByT
Getopt::EX                                                       => G::EX
Getopt::EX::Config                                               => G::EX::C
Getopt::EX::Hashed                                               => G::EX::H
Getopt::EX::RPN                                                  => G::EX::RPN
Getopt::Long                                                     => G::L
Getopt::Long::Complete                                           => G::L::C
Getopt::Long::Descriptive                                        => G::L::D
Getopt::Long::EvenLess                                           => G::L::EL
Getopt::Long::Modern                                             => G::L::M
Getopt::Long::Negate::EN                                         => G::L::N::EN
Getopt::Long::Parser                                             => G::L::P
Getopt::Long::Subcommand                                         => G::L::S
Getopt::Long::Util                                               => G::L::U
Getopt::Lucid                                                    => *undef*
Getopt::Simple                                                   => G::S
Getopt::Std                                                      => G::Std
Getopt::Std::Strict                                              => G::Std::S
Git::Version::Compare                                            => Git::V::C
Git::Wrapper                                                     => Git::W
Git::Wrapper::Plus                                               => Git::W::P
Graphics::ColorNames                                             => G::CN
Graphics::ColorNames::HTML                                       => G::CN::HTML
Graphics::ColorNames::Netscape                                   => G::CN::N
Graphics::ColorNames::Windows                                    => G::CN::W
Graphics::ColorNamesLite::WWW                                    => G::CNL::WWW
Graphics::ColorObject                                            => G::CO
Gravatar::URL                                                    => G::URL
Gzip::Faster                                                     => G::F
HTML::Builder                                                    => HTML::B
HTML::CalendarMonthSimple                                        => HTML::CMS
HTML::CallJS                                                     => HTML::CJS
HTML::Entities::Interpolate                                      => HTML::E::I
HTML::Escape                                                     => HTML::E
HTML::Formatter                                                  => HTML::F
HTML::HTML5::Entities                                            => HTML::HTML5::E
HTML::LinkAdd                                                    => HTML::LAdd
HTML::Make                                                       => HTML::M
HTML::Mason                                                      => *undef*
HTML::Parser                                                     => HTML::P
HTML::Table                                                      => HTML::T
HTML::Tagset                                                     => *undef*
HTML::Template                                                   => *undef*
HTML::Tiny                                                       => *undef*
HTML::Tree                                                       => *undef*
HTML::Trim                                                       => *undef*
HTML::Valid                                                      => HTML::V
HTTP::Body                                                       => HTTP::B
HTTP::CookieJar                                                  => HTTP::CJar
HTTP::Cookies                                                    => HTTP::C
HTTP::Daemon                                                     => HTTP::D
HTTP::Date                                                       => *undef*
HTTP::Entity::Parser                                             => HTTP::E::P
HTTP::Headers::Fast                                              => HTTP::H::F
HTTP::Link::Parser                                               => HTTP::L::P
HTTP::Message                                                    => HTTP::M
HTTP::MultiPartParser                                            => HTTP::MPP
HTTP::Negotiate                                                  => HTTP::N
HTTP::Parser::XS                                                 => HTTP::P::XS
HTTP::Request::AsCGI                                             => HTTP::R::AsCGI
HTTP::SecureHeaders                                              => HTTP::SH
HTTP::Server::Simple                                             => HTTP::S::S
HTTP::Server::Simple::PSGI                                       => HTTP::S::S::PSGI
HTTP::Thin                                                       => HTTP::T
HTTP::Tiny                                                       => *undef*
HTTP::Tiny::Multipart                                            => HTTP::T::M
HTTP::Tiny::Patch::Retry                                         => HTTP::T::P::R
HTTP::Tiny::UNIX                                                 => HTTP::T::UNIX
HTTP::XSCookies                                                  => HTTP::XSC
HTTP::XSHeaders                                                  => HTTP::XSH
Hash::FieldHash                                                  => H::FH
Hash::Merge                                                      => H::M
Hash::Merge::Simple                                              => H::M::S
Hash::MoreUtils                                                  => H::MU
Hash::MultiValue                                                 => H::MV
Hash::Objectify                                                  => H::O
Hash::Param                                                      => H::P
Hash::Slice                                                      => H::S
Hash::Subset                                                     => *undef*
Hash::Util                                                       => H::U
Hash::Util::FieldHash                                            => H::U::FH
HashData                                                         => HD
HashDataRoles::Standard                                          => HDR::S
Hook::LexWrap                                                    => H::LexW
I18N::Collate                                                    => I18N::C
I18N::LangTags                                                   => I18N::LT
I18N::LangTags::Detect                                           => I18N::LT::D
I18N::LangTags::List                                             => I18N::LT::L
I18N::Langinfo                                                   => I18N::L
I18N::String                                                     => I18N::S
IO::Async                                                        => IO::A
IO::Barf                                                         => IO::B
IO::CaptureOutput                                                => IO::CO
IO::Compress                                                     => IO::C
IO::Compress::Adapter::Bzip2                                     => IO::C::A::B2
IO::Compress::Adapter::Deflate                                   => IO::C::A::D
IO::Compress::Adapter::Identity                                  => IO::C::A::I
IO::Compress::Base                                               => IO::C::B
IO::Compress::Base::Common                                       => IO::C::B::C
IO::Compress::Brotli                                             => *undef*
IO::Compress::Bzip2                                              => IO::C::B2
IO::Compress::Deflate                                            => IO::C::D
IO::Compress::Gzip                                               => IO::C::G
IO::Compress::Gzip::Constants                                    => IO::C::G::C
IO::Compress::Lzma                                               => IO::C::L
IO::Compress::RawDeflate                                         => IO::C::RawD
IO::Compress::Zip                                                => IO::C::Zip
IO::Compress::Zip::Constants                                     => IO::C::Zip::C
IO::Compress::Zlib::Constants                                    => IO::C::Z::C
IO::Compress::Zlib::Extra                                        => IO::C::Z::E
IO::File                                                         => IO::F
IO::Handle                                                       => IO::H
IO::Handle::Util                                                 => IO::H::U
IO::Interactive                                                  => IO::I
IO::Interface                                                    => *undef*
IO::Pager                                                        => IO::P
IO::Pipe                                                         => *undef*
IO::Pipely                                                       => *undef*
IO::Poll                                                         => *undef*
IO::Prompt                                                       => *undef*
IO::Prompt::I18N                                                 => IO::P::I18N
IO::Prompt::Tiny                                                 => IO::P::T
IO::Seekable                                                     => IO::S
IO::Select                                                       => *undef*
IO::Socket                                                       => *undef*
IO::Socket::INET                                                 => IO::S::INET
IO::Socket::INET6                                                => IO::S::INET6
IO::Socket::IP                                                   => IO::S::IP
IO::Socket::PortState                                            => IO::S::PS
IO::Socket::PortState::cPanel                                    => IO::S::PS::cP
IO::Socket::SSL                                                  => IO::S::SSL
IO::Socket::UNIX                                                 => IO::S::UNIX
IO::String                                                       => *undef*
IO::Stringy                                                      => *undef*
IO::TieCombine                                                   => IO::TieC
IO::Uncompress::Adapter::Bunzip2                                 => IO::U::A::B2
IO::Uncompress::Adapter::Identity                                => IO::U::A::I
IO::Uncompress::Adapter::Inflate                                 => *undef*
IO::Uncompress::AnyInflate                                       => IO::U::AnyI
IO::Uncompress::AnyUncompress                                    => IO::U::AnyU
IO::Uncompress::Base                                             => IO::U::B
IO::Uncompress::Bunzip2                                          => IO::U::B2
IO::Uncompress::Gunzip                                           => IO::U::G
IO::Uncompress::Inflate                                          => IO::U::I
IO::Uncompress::RawInflate                                       => IO::U::RawI
IO::Uncompress::Unzip                                            => IO::U::U
IO::Zlib                                                         => IO::Z
IOD::Examples                                                    => IOD::E
IPC::Open2                                                       => IPC::O2
IPC::Open3                                                       => IPC::O3
IPC::Semaphore                                                   => IPC::S
IPC::SharedMem                                                   => IPC::SMem
IPC::System::Options                                             => IPC::S::O
IPC::System::Simple                                              => IPC::S::S
Image::ExifTool                                                  => I::ET
Image::PNG::Libpng                                               => I::PNG::L
Image::Size                                                      => I::S
Import::Export                                                   => I::E
Import::Into                                                     => I::I
Inline::C                                                        => I::C
Inline::CPP                                                      => I::CPP
InlineX::CPP2XS                                                  => IX::CPP2XS
Insight::Scriptures                                              => *undef*
Iterator::Util                                                   => I::U
JSON::Color                                                      => JSON::C
JSON::Feed                                                       => JSON::F
JSON::Lines                                                      => JSON::L
JSON::MaybeXS                                                    => JSON::MXS
JSON::MultiValueOrdered                                          => JSON::MVO
JSON::PP::Boolean                                                => JSON::PP::B
JSON::Parse                                                      => JSON::P
JSON::Pointer::Marpa                                             => JSON::P::M
JSON::Typist                                                     => JSON::T
JSON::Util                                                       => JSON::U
JSON::XS::VersionOneAndTwo                                       => JSON::XS::VOneAndTwo
JavaScript::QuickJS                                              => JS::QJS
Kwiki::CachedDisplay                                             => K::CD
Kwiki::DB                                                        => K::DB
Kwiki::UserName                                                  => K::UN
Kwiki::UserPreferences                                           => K::UP
LWP::MediaTypes                                                  => LWP::MT
LWP::UserAgent::Plugin::Retry                                    => LWP::UA::P::R
Language::Expr                                                   => L::E
Lexical::SealRequireHints                                        => L::SRH
Lingua::Alphabet::Phonetic                                       => L::A::P
Lingua::Alphabet::Phonetic::LAPD                                 => L::A::P::LAPD
Lingua::EN::FindNumber                                           => L::EN::FN
Lingua::EN::GivenNames                                           => L::EN::GN
Lingua::EN::Inflect                                              => L::EN::I
Lingua::EN::Inflect::Number                                      => L::EN::I::N
Lingua::EN::Inflect::Phrase                                      => L::EN::I::P
Lingua::EN::Number::IsOrdinal                                    => L::EN::N::IsO
Lingua::EN::Numbers                                              => L::EN::N
Lingua::EN::Numbers::Ordinate                                    => L::EN::N::O
Lingua::EN::PluralToSingular                                     => L::EN::PToS
Lingua::EN::StopWordList                                         => L::EN::SWL
Lingua::EN::Tagger                                               => L::EN::T
Lingua::EN::Words2Nums                                           => L::EN::W2N
Lingua::Flags                                                    => L::F
Lingua::Han::PinYin                                              => L::Han::PinYin
Lingua::Han::Utils                                               => L::Han::U
Lingua::IND::Numbers                                             => L::IND::N
Lingua::Ispell                                                   => L::I
Lingua::JA::Numbers                                              => L::JA::N
Lingua::KO::TypoCorrector                                        => L::KO::TC
Lingua::PT::Stemmer                                              => L::PT::S
Lingua::PTD                                                      => L::PTD
Lingua::StarDict::Gen                                            => L::SD::Gen
Lingua::Stem                                                     => L::S
Lingua::Stem::Fr                                                 => L::S::Fr
Lingua::Stem::It                                                 => L::S::It
Lingua::Stem::Ru                                                 => L::S::Ru
Lingua::Stem::Snowball::Da                                       => L::S::S::Da
Lingua::Stem::Snowball::No                                       => L::S::S::No
Lingua::Stem::Snowball::Se                                       => L::S::S::Se
List::AllUtils                                                   => L::AllU
List::BinarySearch                                               => L::BS
List::BinarySearch::XS                                           => L::BS::XS
List::Compare                                                    => L::C
List::MoreUtils                                                  => L::MU
List::MoreUtils::XS                                              => L::MU::XS
List::Rank                                                       => L::R
List::SomeUtils                                                  => L::SU
List::SomeUtils::XS                                              => L::SU::XS
List::Util                                                       => L::U
List::Util::Uniq                                                 => L::U::U
List::Util::XS                                                   => L::U::XS
List::UtilsBy                                                    => L::UBy
Locale::Intl                                                     => *undef*
Locale::MO::File                                                 => L::MO::F
Locale::Maketext                                                 => L::M
Locale::Maketext::Guts                                           => L::M::G
Locale::Maketext::GutsLoader                                     => L::M::GL
Locale::Maketext::Simple                                         => L::M::S
Locale::PO                                                       => L::PO
Locale::Set                                                      => L::Set
Locale::TextDomain::OO                                           => L::TD::OO
Locale::TextDomain::OO::Util                                     => L::TD::OO::U
Locale::TextDomain::UTF8                                         => L::TD::UTF8
Locale::US                                                       => L::US
Locale::Unicode                                                  => *undef*
Locale::Unicode::Data                                            => L::U::D
Locale::Utils::PlaceholderBabelFish                              => L::U::PBF
Locale::Utils::PlaceholderMaketext                               => L::U::PM
Locale::Utils::PlaceholderNamed                                  => L::U::PN
Log::Agent                                                       => Log::A
Log::Any::Adapter::Callback                                      => Log::Any::A::C
Log::Contextual                                                  => Log::C
Log::Defer                                                       => Log::D
Log::Dispatch                                                    => *undef*
Log::Dispatch::Array                                             => Log::D::A
Log::Dispatch::Config                                            => Log::D::C
Log::Dispatch::Dir                                               => Log::D::Dir
Log::Dispatch::FileRotate                                        => Log::D::FR
Log::Dispatchouli                                                => *undef*
Log::Fast                                                        => Log::F
Log::Handler                                                     => Log::H
Log::Log4perl                                                    => Log::Log4
Log::Message                                                     => Log::M
Log::Message::Simple                                             => Log::M::S
Log::Minimal                                                     => *undef*
Log::Report                                                      => Log::R
Log::Report::Optional                                            => Log::R::O
Log::Stack                                                       => Log::S
Log::ger::Layout::Pattern                                        => Log::ger::L::P
Log::ger::Level::FromEnv                                         => Log::ger::L::FEnv
Log::ger::Level::FromVar                                         => Log::ger::L::FVar
Log::ger::Output::Composite                                      => Log::ger::O::C
Log::ger::Output::File                                           => Log::ger::O::F
Log::ger::Output::Screen                                         => Log::ger::O::S
Log::ger::Output::SimpleFile                                     => Log::ger::O::SF
Log::ger::Output::Syslog                                         => *undef*
Log::ger::Screen                                                 => Log::ger::S
Logfile::Rotate                                                  => *undef*
MARC::Field008                                                   => MARC::F008
MARC::Leader                                                     => MARC::L
MIDI-Perl                                                        => MIDI-P
MIDI::Pitch                                                      => MIDI::P
MIDI::Util                                                       => MIDI::U
MIME::Base32                                                     => MIME::B32
MIME::Base64                                                     => MIME::B64
MIME::Base64::URLSafe                                            => MIME::B64::URLS
MIME::Charset                                                    => MIME::C
MIME::QuotedPrint                                                => MIME::QP
MIME::Tools                                                      => MIME::T
MIME::Types                                                      => *undef*
MP3::Info                                                        => MP3::I
MRO::Compat                                                      => MRO::C
Mail::Builder                                                    => M::B
Mail::Sendmail                                                   => M::S
Mail::Simple::DKIM::Signer                                       => M::S::DKIM::S
MailTools                                                        => MT
Map::Tube::Exception                                             => Map::T::E
Markdown::To::POD                                                => M::To::POD
Markua::Parser                                                   => M::P
Marpa::R2                                                        => M::R2
MasonX::Resolver::Multiplex                                      => MX::R::M
Math::Base::Convert                                              => M::B::C
Math::BaseCalc                                                   => M::BC
Math::BigFloat                                                   => M::BigF
Math::BigFloat::Trace                                            => M::BigF::T
Math::BigInt                                                     => M::BigInt
Math::BigInt::Calc                                               => M::BigInt::C
Math::BigInt::FastCalc                                           => M::BigInt::FC
Math::BigInt::Lib                                                => M::BigInt::Lib
Math::BigInt::Trace                                              => M::BigInt::T
Math::BigRat                                                     => M::BigRat
Math::BigRat::Trace                                              => M::BigRat::T
Math::Cartesian::Product                                         => M::C::P
Math::Combinatorics                                              => M::C
Math::Complex                                                    => *undef*
Math::ErrorPropagation                                           => M::EP
Math::Libm                                                       => M::L
Math::LinearCombination                                          => M::LC
Math::MPFR                                                       => M::MPFR
Math::NV                                                         => M::NV
Math::NumOnly                                                    => M::NumO
Math::NumberCruncher                                             => M::NC
Math::PRSG                                                       => M::PRSG
Math::Polygon                                                    => *undef*
Math::RNG::Microsoft                                             => M::RNG::M
Math::RPN                                                        => M::RPN
Math::Random                                                     => M::R
Math::Random::ISAAC                                              => M::R::ISAAC
Math::Random::ISAAC::XS                                          => M::R::ISAAC::XS
Math::Round                                                      => *undef*
Math::ScientificNotation::Util                                   => M::SN::U
Math::SimpleVariable                                             => M::SV
Math::Symbolic                                                   => *undef*
Math::Symbolic::Custom::Contains                                 => M::S::C::C
Math::Trig                                                       => M::T
Math::VarRate                                                    => M::VarR
Memoize::AnyDBM_File                                             => M::AnyDBM_F
Memoize::Expire                                                  => M::E
Memoize::ExpireLRU                                               => M::ELRU
Memoize::NDBM_File                                               => M::NDBM_F
Memoize::SDBM_File                                               => M::SDBM_F
Memoize::Storable                                                => *undef*
Metabase::Client::Simple                                         => M::C::S
Metabase::Fact                                                   => M::F
Method::Utils                                                    => M::U
Metrics::Any                                                     => M::Any
Minion::Backend::SQLite                                          => M::B::SQL
Mixin::Event::Dispatch                                           => M::E::D
Mixin::Linewise                                                  => *undef*
Mo::utils                                                        => Mo::u
Mo::utils::Email                                                 => Mo::u::E
Mock::Config                                                     => *undef*
Mock::Data                                                       => M::D
Mock::MonkeyPatch                                                => M::MP
Mock::Sub                                                        => M::Sub
Modern::Perl                                                     => *undef*
Module::Build                                                    => *undef*
Module::Build::Convert                                           => *undef*
Module::Build::Deprecated                                        => M::B::D
Module::Build::Pluggable                                         => M::B::P
Module::Build::Pluggable::PPPort                                 => M::B::P::PPP
Module::Build::Tiny                                              => M::B::T
Module::Build::Using::PkgConfig                                  => M::B::U::PkgC
Module::Build::XSUtil                                            => M::B::XSU
Module::CPANTS::Analyse                                          => M::CPANTS::A
Module::CPANfile                                                 => M::CPAN
Module::CoreList                                                 => M::CL
Module::CoreList::More                                           => M::CL::M
Module::CoreList::Utils                                          => M::CL::U
Module::DataPack                                                 => M::DP
Module::FatPack                                                  => M::FatP
Module::Find                                                     => *undef*
Module::Generate                                                 => M::G
Module::Generate::Hash                                           => M::G::H
Module::Implementation                                           => M::I
Module::Info                                                     => *undef*
Module::Info::File                                               => M::I::F
Module::Install                                                  => *undef*
Module::Install::Template                                        => M::I::T
Module::Installed::Tiny                                          => *undef*
Module::List                                                     => *undef*
Module::List::Tiny                                               => M::L::T
Module::Load                                                     => *undef*
Module::Load::Conditional                                        => M::L::C
Module::Load::Util                                               => M::L::U
Module::Loaded                                                   => *undef*
Module::Manifest                                                 => M::M
Module::Mask                                                     => *undef*
Module::Metadata                                                 => *undef*
Module::Patch                                                    => *undef*
Module::Path                                                     => *undef*
Module::Path::More                                               => M::P::M
Module::Pluggable                                                => *undef*
Module::Pluggable::Fast                                          => M::P::F
Module::Refresh                                                  => *undef*
Module::Release::Select                                          => M::R::S
Module::Runtime                                                  => *undef*
Module::Runtime::Conflicts                                       => M::R::C
Module::ScanDeps                                                 => M::SD
Module::Starter                                                  => *undef*
Module::Util                                                     => *undef*
Module::Want                                                     => M::W
Module::XSOrPP                                                   => M::XSOrPP
Mojo::JSON::MaybeXS                                              => M::JSON::MXS
Mojo::SQLite                                                     => M::SQL
Mojolicious::Plugin::SetUserGroup                                => M::P::SetUG
Monkey::Patch::Action                                            => M::P::A
MooX::ConfigFromFile                                             => MooX::CFF
MooX::File::ConfigDir                                            => MooX::F::CDir
MooX::HandlesVia                                                 => MooX::HVia
MooX::Locale::Passthrough                                        => MooX::L::P
MooX::Locale::TextDomain::OO                                     => MooX::L::TD::OO
MooX::Options                                                    => MooX::O
MooX::Singleton                                                  => MooX::S
MooX::StrictConstructor                                          => MooX::SC
MooX::Struct                                                     => *undef*
MooX::Traits                                                     => MooX::T
MooX::TypeTiny                                                   => MooX::TT
MooX::Types::MooseLike                                           => MooX::T::ML
MooX::Types::MooseLike::Numeric                                  => MooX::T::ML::N
MooX::late                                                       => MooX::l
MooseX::ArrayRef                                                 => MX::ARef
MooseX::AttributeShortcuts                                       => MX::AS
MooseX::Attributes::Curried                                      => MX::A::C
MooseX::ConfigFromFile                                           => MX::CFF
MooseX::Constructor::AllErrors                                   => MX::C::AllE
MooseX::CurriedDelegation                                        => MX::CD
MooseX::Declare                                                  => MX::D
MooseX::Emulate::Class::Accessor::Fast                           => MX::E::C::A::F
MooseX::Extended                                                 => MX::E
MooseX::Getopt                                                   => MX::G
MooseX::Has::Sugar                                               => MX::Has::S
MooseX::LazyRequire                                              => MX::LR
MooseX::MakeImmutable                                            => MX::MI
MooseX::MarkAsMethods                                            => MX::MAsM
MooseX::Meta::TypeConstraint::ForceCoercion                      => MX::M::TC::FC
MooseX::Meta::TypeConstraint::Mooish                             => MX::M::TC::M
MooseX::Method::Signatures                                       => MX::M::S
MooseX::MethodAttributes                                         => MX::MA
MooseX::OneArgNew                                                => MX::OneArgNew
MooseX::Role::Parameterized                                      => MX::R::P
MooseX::Role::WarnOnConflict                                     => MX::R::WOnC
MooseX::SemiAffordanceAccessor                                   => MX::SAA
MooseX::SetOnce                                                  => MX::SetO
MooseX::SimpleConfig                                             => MX::SC
MooseX::Singleton                                                => MX::S
MooseX::SlurpyConstructor                                        => *undef*
MooseX::Storage                                                  => *undef*
MooseX::Storage::Format::JSONpm                                  => MX::S::F::JSONpm
MooseX::Storage::Traits::WithRoles                               => MX::S::T::WR
MooseX::StrictConstructor                                        => *undef*
MooseX::TraitFor::Meta::Class::BetterAnonClassNames              => MX::TFor::M::C::BACN
MooseX::Traits                                                   => MX::T
MooseX::Traits::Pluggable                                        => MX::T::P
MooseX::Types                                                    => *undef*
MooseX::Types::Common                                            => MX::T::C
MooseX::Types::DateTime                                          => MX::T::DT
MooseX::Types::LoadableClass                                     => MX::T::LC
MooseX::Types::Path::Class                                       => MX::T::P::C
MooseX::Types::Path::Tiny                                        => MX::T::P::T
MooseX::Types::Perl                                              => *undef*
MooseX::Types::Stringlike                                        => MX::T::S
MooseX::Types::Structured                                        => *undef*
MooseX::Util                                                     => MX::U
MozRepl                                                          => MozR
MozRepl::RemoteObject                                            => MozR::RO
Mozilla::CA                                                      => M::CA
Mozilla::PublicSuffix                                            => M::PS
Mu::Tiny                                                         => Mu::T
Music::Tempo                                                     => *undef*
NDBM_File                                                        => NDBM_F
Net::Appliance::Phrasebook                                       => Net::A::P
Net::Config                                                      => Net::C
Net::DNS::Codes                                                  => Net::DNS::C
Net::DNS::ToolKit                                                => Net::DNS::TKit
Net::Detect                                                      => Net::D
Net::Domain                                                      => *undef*
Net::FTP::dataconn                                               => Net::FTP::d
Net::IP::Match::XS                                               => Net::IP::M::XS
Net::Minecraft::Login                                            => Net::M::L
Net::Netrc                                                       => Net::N
Net::Ping                                                        => Net::P
Net::SSLeay                                                      => Net::SSL
Net::Statsd::Tiny                                                => Net::S::T
Net::Telnet                                                      => Net::T
Net::Time                                                        => *undef*
Net::hostent                                                     => Net::h
Net::netent                                                      => Net::n
Net::protoent                                                    => Net::p
Net::servent                                                     => Net::s
NetAddr::IP                                                      => NetA::IP
NetPacket                                                        => NetP
Network::IPv4Addr                                                => N::IPv4A
News::Newsrc                                                     => N::N
Nodejs::Util                                                     => N::U
Number::Compare                                                  => N::C
Number::Format                                                   => N::F
Number::Format::BigFloat                                         => N::F::BigF
Number::Format::Metric                                           => N::F::M
Number::Rangify                                                  => N::R
Number::WithError                                                => N::WE
ODBM_File                                                        => ODBM_F
OLE::Storage_Lite                                                => OLE::SL
OS2::ExtAttr                                                     => OS2::ExtA
OS2::Process                                                     => OS2::P
Object::Accessor                                                 => O::A
Object::ID                                                       => O::ID
Object::Pad                                                      => O::Pad
Object::Remote                                                   => O::R
Object::Signature                                                => O::S
Object::Tiny                                                     => O::T
Object::Util                                                     => O::U
Ogg::Vorbis::Header::PurePerl                                    => Ogg::V::H::PP
OpenTracing::GlobalTracer                                        => OT::GT
OpenTracing::Implementation                                      => OT::I
OpenTracing::Interface                                           => *undef*
Org::Parser::Tiny                                                => Org::P::T
PAR::Dist                                                        => PAR::D
PDL::Opt::Simplex                                                => PDL::Opt::S
PERLANCAR::AppUtil::PerlStripper                                 => PERLANCAR::AppU::PS
PERLANCAR::File::HomeDir                                         => PERLANCAR::F::HDir
PERLANCAR::Module::List                                          => PERLANCAR::M::L
PERLANCAR::ShellQuote::Any                                       => PERLANCAR::SQ::Any
PERLANCAR::Tree::Examples                                        => PERLANCAR::T::E
PERLANCAR::warnings::all                                         => PERLANCAR::w::all
PHP::Serialization                                               => PHP::S
POE::Component::Logger                                           => POE::C::L
POE::Filter::Redis                                               => POE::F::R
POE::Test::Loops                                                 => POE::T::L
POSIX::strftime::Compiler                                        => POSIX::s::C
POSIX::strptime                                                  => POSIX::s
PPIx::QuoteLike                                                  => PPIx::QL
PPIx::Regexp                                                     => PPIx::R
PPIx::Utils                                                      => PPIx::U
Package::Constants                                               => P::C
Package::DeprecationManager                                      => P::DM
Package::Generator                                               => P::G
Package::MoreUtil                                                => P::MU
Package::New                                                     => P::New
Package::Stash                                                   => P::S
Package::Stash::XS                                               => P::S::XS
Package::Util::Lite                                              => P::U::L
Package::Variant                                                 => P::V
PadWalker                                                        => PadW
PangoConst                                                       => PC
Parallel::ForkManager                                            => P::FM
Parallel::Iterator                                               => P::I
Params::Check                                                    => *undef*
Params::Classify                                                 => *undef*
Params::Get                                                      => P::Get
Params::Util                                                     => P::U
Params::Validate                                                 => *undef*
Params::Validate::Strict                                         => P::V::S
Params::ValidationCompiler                                       => P::VC
Parse::CPAN::Meta                                                => P::CPAN::M
Parse::Distname                                                  => P::D
Parse::EBNF                                                      => P::EBNF
Parse::Eyapp                                                     => P::E
Parse::FSM                                                       => P::FSM
Parse::Method::Signatures                                        => P::M::S
Parse::Pegex                                                     => P::P
Parse::RecDescent                                                => P::RecD
Parse::VarName                                                   => P::VarN
Parse::Yapp                                                      => P::Y
Parser::MGC                                                      => P::MGC
Path::Abstract                                                   => P::A
Path::Class                                                      => *undef*
Path::FindDev                                                    => P::FDev
Path::IsDev                                                      => P::IsDev
Path::Iterator::Rule                                             => P::I::R
Path::Naive                                                      => P::N
Path::Resolve                                                    => P::R
Path::Tiny                                                       => P::T
Perinci::Access::Base                                            => P::A::B
Perinci::Access::Lite                                            => P::A::L
Perinci::Access::Simple::Client                                  => P::A::S::C
Perinci::AccessUtil                                              => P::AU
Perinci::CmdLine::Call                                           => P::CmdL::C
Perinci::CmdLine::Util                                           => P::CmdL::U
Perinci::CmdLine::Util::Config                                   => P::CmdL::U::C
Perinci::CmdLineX::CommonOptions::SelfUpgrade                    => P::CmdLX::CO::SU
Perinci::Examples                                                => *undef*
Perinci::Object                                                  => P::O
Perinci::Result::Format                                          => P::R::F
Perinci::Result::Format::Lite                                    => P::R::F::L
Perinci::Sub::ConvertArgs::Argv                                  => P::Sub::CA::A
Perinci::Sub::ConvertArgs::Array                                 => *undef*
Perinci::Sub::DepChecker                                         => P::Sub::DepC
Perinci::Sub::Gen                                                => P::Sub::Gen
Perinci::Sub::GetArgs::Array                                     => P::Sub::GetA::A
Perinci::Sub::Normalize                                          => P::Sub::N
Perinci::Sub::Property::arg::cmdline                             => P::Sub::P::arg::c
Perinci::Sub::PropertyUtil                                       => P::Sub::PU
Perinci::Sub::Util                                               => P::Sub::U
Perinci::Sub::XCompletionBundle::Perl                            => P::Sub::XCB::P
Perl6::Slurp                                                     => P6::S
Perl::Critic                                                     => *undef*
Perl::Critic::Policy::ValuesAndExpressions::ProhibitSingleArgArraySlice => P::C::P::VAndE::PSArgAS
Perl::MinimumVersion                                             => P::MV
Perl::OSType                                                     => P::OST
Perl::PrereqScanner                                              => P::PS
Perl::PrereqScanner::NotQuiteLite                                => P::PS::NotQL
Perl::RT2Github                                                  => P::RT2G
Perl::Strip                                                      => *undef*
Perl::Stripper                                                   => *undef*
Perl::Tidy                                                       => *undef*
Perl::Version                                                    => *undef*
Perl::osnames                                                    => P::o
PerlIO                                                           => PIO
PerlIO::Layers                                                   => PIO::L
PerlIO::encoding                                                 => PIO::e
PerlIO::fse                                                      => PIO::fse
PerlIO::gzip                                                     => PIO::g
PerlIO::locale                                                   => PIO::l
PerlIO::mmap                                                     => PIO::m
PerlIO::scalar                                                   => PIO::s
PerlIO::utf8_strict                                              => PIO::utf8
PerlIO::via                                                      => PIO::via
PerlIO::via::QuotedPrint                                         => PIO::via::QP
PerlIO::via::Rotate                                              => PIO::via::R
PerlX::Maybe                                                     => PX::M
PerlX::Maybe::XS                                                 => PX::M::XS
Permute::Named::Iter                                             => P::N::I
Pg::hstore                                                       => Pg::h
Photography::DX                                                  => P::DX
Pipe::Find                                                       => P::F
Plack::App::GitHub::WebHook                                      => P::App::GitHub::WebH
Plack::Middleware::Access                                        => P::M::A
Plack::Middleware::CSS::Compressor                               => P::M::CSS::C
Plack::Middleware::FixMissingBodyInRedirect                      => P::M::FixMBInR
Plack::Middleware::HubSignature                                  => P::M::HubS
Plack::Middleware::MethodOverride                                => P::M::MO
Plack::Middleware::RemoveRedundantBody                           => P::M::RRB
Plack::Middleware::ReverseProxy                                  => P::M::RP
Pod::Checker                                                     => Pod::C
Pod::Constants                                                   => *undef*
Pod::Coverage                                                    => *undef*
Pod::Coverage::TrustPod                                          => Pod::C::TPod
Pod::Elemental                                                   => Pod::E
Pod::Elemental::Transformer::List                                => Pod::E::T::L
Pod::Elemental::Transformer::Verbatim                            => Pod::E::T::V
Pod::Elemental::Transformer::WikiDoc                             => Pod::E::T::WDoc
Pod::Escapes                                                     => *undef*
Pod::Eventual                                                    => *undef*
Pod::Functions                                                   => Pod::F
Pod::Html                                                        => Pod::H
Pod::Html::Util                                                  => Pod::H::U
Pod::Markdown                                                    => Pod::M
Pod::Markdown::Github                                            => Pod::M::G
Pod::POM::View::TOC                                              => Pod::POM::V::TOC
Pod::ParseLink                                                   => Pod::PL
Pod::Parser                                                      => Pod::P
Pod::Perldoc                                                     => *undef*
Pod::Perldoc::BaseTo                                             => Pod::P::BTo
Pod::Perldoc::GetOptsOO                                          => Pod::P::GetOOO
Pod::Perldoc::ToANSI                                             => Pod::P::ToANSI
Pod::Perldoc::ToChecker                                          => Pod::P::ToC
Pod::Perldoc::ToMan                                              => Pod::P::ToMan
Pod::Perldoc::ToNroff                                            => Pod::P::ToN
Pod::Perldoc::ToPod                                              => Pod::P::ToPod
Pod::Perldoc::ToRtf                                              => Pod::P::ToRtf
Pod::Perldoc::ToTerm                                             => Pod::P::ToT
Pod::Perldoc::ToText                                             => *undef*
Pod::Perldoc::ToTk                                               => Pod::P::ToTk
Pod::Perldoc::ToXml                                              => Pod::P::ToXml
Pod::Readme                                                      => Pod::R
Pod::Simple                                                      => Pod::S
Pod::Simple::BlackBox                                            => Pod::S::BBox
Pod::Simple::Checker                                             => Pod::S::C
Pod::Simple::Debug                                               => Pod::S::D
Pod::Simple::DumpAsText                                          => Pod::S::DAsT
Pod::Simple::DumpAsXML                                           => Pod::S::DAsXML
Pod::Simple::HTML                                                => Pod::S::HTML
Pod::Simple::HTMLBatch                                           => Pod::S::HTMLB
Pod::Simple::HTMLLegacy                                          => Pod::S::HTMLL
Pod::Simple::JustPod                                             => Pod::S::JPod
Pod::Simple::LaTeX                                               => Pod::S::LaTeX
Pod::Simple::LinkSection                                         => Pod::S::LS
Pod::Simple::Methody                                             => Pod::S::M
Pod::Simple::Progress                                            => Pod::S::P
Pod::Simple::PullParser                                          => Pod::S::PP
Pod::Simple::PullParserEndToken                                  => Pod::S::PPEndT
Pod::Simple::PullParserStartToken                                => Pod::S::PPST
Pod::Simple::PullParserTextToken                                 => Pod::S::PPTT
Pod::Simple::PullParserToken                                     => Pod::S::PPT
Pod::Simple::RTF                                                 => Pod::S::RTF
Pod::Simple::Search                                              => Pod::S::S
Pod::Simple::SimpleTree                                          => Pod::S::ST
Pod::Simple::Text                                                => Pod::S::T
Pod::Simple::TextContent                                         => Pod::S::TC
Pod::Simple::TiedOutFH                                           => Pod::S::TOutFH
Pod::Simple::Transcode                                           => *undef*
Pod::Simple::TranscodeDumb                                       => Pod::S::TD
Pod::Simple::TranscodeSmart                                      => Pod::S::TS
Pod::Simple::XHTML                                               => Pod::S::XHTML
Pod::Simple::XMLOutStream                                        => Pod::S::XMLOutS
Pod::Spell                                                       => *undef*
Pod::Spell::CommonMistakes                                       => Pod::S::CM
Pod::Text                                                        => Pod::T
Pod::Text::Color                                                 => Pod::T::C
Pod::Text::Overstrike                                            => Pod::T::O
Pod::Text::Termcap                                               => Pod::T::T
Pod::Usage                                                       => Pod::U
Pod::Weaver                                                      => Pod::W
Pod::WikiDoc                                                     => Pod::WDoc
Portable::Dist                                                   => *undef*
Probe::Perl                                                      => *undef*
Proc::ChildError                                                 => P::CE
Proc::Daemon                                                     => *undef*
Proc::Find::Parents                                              => P::F::P
Proc::InvokeEditor                                               => P::IE
Proc::Memory                                                     => P::M
Proc::PID::File                                                  => P::PID::F
Proc::PidUtil                                                    => P::PidU
Proc::ProcessTable                                               => P::PT
Process::Status                                                  => *undef*
Progress::Any                                                    => P::Any
Progress::Any::Output::TermMessage                               => P::Any::O::TM
Progress::Any::Output::TermProgressBarColor                      => P::Any::O::TPBarC
Protocol::UWSGI                                                  => P::UWSGI
Protocol::WebSocket                                              => P::WebS
Python::Serialise::Marshal                                       => P::S::M
RDF::NS::Curated                                                 => RDF::NS::C
RDF::Prefixes                                                    => RDF::P
RPC::ExtDirect                                                   => RPC::ExtD
RPC::ExtDirect::Client                                           => RPC::ExtD::C
RPC::ExtDirect::Server                                           => RPC::ExtD::S
RPi::Const                                                       => RPi::C
Range::Object                                                    => R::O
Readonly::Enum                                                   => R::E
Readonly::Values::Syslog                                         => R::V::S
Ref::Util                                                        => Ref::U
Ref::Util::XS                                                    => Ref::U::XS
Regex::Range::Number                                             => R::R::N
Regexp::Common                                                   => R::C
Regexp::Common::Email::Address                                   => R::C::E::A
Regexp::From::String                                             => R::F::S
Regexp::Grammars                                                 => R::G
Regexp::IPv6                                                     => R::IPv6
Regexp::Log                                                      => R::Log
Regexp::Log::Common                                              => R::Log::C
Regexp::MultiLanguage                                            => R::ML
Regexp::Pattern                                                  => R::P
Regexp::Pattern::Filename::Type::Archive                         => R::P::F::T::A
Regexp::Pattern::Git                                             => R::P::Git
Regexp::Pattern::Perl                                            => R::P::P
Regexp::RegGrp                                                   => R::RegGrp
Regexp::Stringify                                                => R::S
Regexp::Trie                                                     => R::T
Regexp::Util                                                     => R::U
Regexp::VerbalExpressions                                        => R::VE
Release::Util::Git                                               => R::U::Git
Return::Set                                                      => R::Set
Role::Basic                                                      => R::B
Role::Declare                                                    => R::D
Role::HasMessage                                                 => R::HasM
Role::Hooks                                                      => R::H
Role::Identifiable                                               => R::I
Role::Inspector                                                  => *undef*
Role::Tiny                                                       => *undef*
Role::TinyCommons::Collection                                    => R::TC::C
RoleBundle::TinyCommons::Iterator                                => RB::TC::I
RoleBundle::TinyCommons::Tree                                    => RB::TC::T
Rose::DB                                                         => R::DB
Rose::DB::Object                                                 => R::DB::O
Rose::DateTime                                                   => R::DT
Rose::Object                                                     => *undef*
Routes::Tiny                                                     => *undef*
SDBM_File                                                        => SDBM_F
SNMP::ToolBox                                                    => SNMP::TBox
SPVM::Digest::MD5                                                => SPVM::D::MD5
SPVM::Errno                                                      => SPVM::E
SPVM::Resource::RE2                                              => SPVM::R::RE2
SPVM::Resource::SocketUtil                                       => SPVM::R::SU
SQL::Abstract                                                    => SQL::A
SQL::Abstract::Classic                                           => SQL::A::C
SQL::Abstract::Limit                                             => SQL::A::L
SQL::Abstract::Pg                                                => SQL::A::Pg
SQL::Interp                                                      => SQL::I
SQL::PatchDAG                                                    => SQL::PDAG
SQL::ReservedWords                                               => SQL::RW
SQL::Schema::Versioned                                           => SQL::S::V
SQL::Statement                                                   => SQL::S
SQL::Translator                                                  => SQL::T
Safe::Isa                                                        => S::Isa
Sah::PSchema                                                     => Sah::PS
Sah::Schemas::Int                                                => Sah::S::Int
Sah::Schemas::JSON                                               => Sah::S::JSON
Sah::Schemas::Rinci                                              => Sah::S::R
Scalar::List::Utils                                              => S::L::U
Scalar::Readonly                                                 => S::R
Scalar::Util                                                     => S::U
Scalar::Util::LooksLikeNumber                                    => S::U::LLN
Scalar::Util::Numeric                                            => S::U::N
Scalar::Util::Numeric::PP                                        => S::U::N::PP
Scope::Guard                                                     => S::G
Search::Dict                                                     => S::D
Search::InvertedIndex::Simple                                    => S::II::S
SelectSaver                                                      => SS
SelfLoader                                                       => SL
Sereal::Decoder                                                  => *undef*
Sereal::Encoder                                                  => S::E
Server::Starter                                                  => S::S
Set::Array                                                       => Set::A
Set::CrossProduct                                                => Set::CP
Set::Infinite                                                    => Set::I
Set::IntRange                                                    => Set::IntR
Set::IntSpan                                                     => Set::IntS
Set::Object                                                      => Set::O
Set::Scalar                                                      => Set::S
ShellQuote::Any::Tiny                                            => SQ::Any::T
Smart::Comments                                                  => S::C
Socket6                                                          => S6
Socket::AcceptFilter                                             => S::AF
Software::License                                                => S::L
Software::License::PD                                            => S::L::PD
Sort::ByExample                                                  => S::ByE
Sort::BySpec                                                     => S::ByS
Sort::Key                                                        => S::Key
Sort::Key::SortKey                                               => S::Key::SKey
Sort::MultipleFields                                             => S::MF
Sort::Naturally                                                  => S::N
Sort::Sub                                                        => S::Sub
Sort::Versions                                                   => S::V
Spreadsheet::Examples                                            => *undef*
Spreadsheet::GenerateXLSX                                        => S::GXLSX
Spreadsheet::ParseExcel                                          => S::PE
Spreadsheet::WriteExcel::WebPivot                                => S::WE::WebP
Statistics::Basic                                                => S::B
Statistics::CaseResampling                                       => S::CR
Statistics::Descriptive::Discrete                                => S::D::D
Stream::Buffered                                                 => *undef*
String::CamelCase                                                => S::CC
String::Compare::ConstantTime                                    => S::C::CT
String::Elide::Parts                                             => S::E::P
String::Errf                                                     => *undef*
String::Escape                                                   => *undef*
String::Flogger                                                  => S::F
String::Format                                                   => *undef*
String::Formatter                                                => *undef*
String::Indent                                                   => S::I
String::LineNumber                                               => S::LN
String::Pad                                                      => S::Pad
String::PerlQuote                                                => S::PQ
String::PodQuote                                                 => S::PodQ
String::Print                                                    => S::P
String::Query::To::Regexp                                        => S::Q::To::R
String::Random                                                   => *undef*
String::RewritePrefix                                            => S::RP
String::ShellQuote                                               => S::SQ
String::Sprintf                                                  => *undef*
String::Tagged                                                   => S::T
String::Tagged::Terminal                                         => S::T::T
String::ToIdentifier::EN                                         => S::ToI::EN
String::Truncate                                                 => *undef*
String::TtyLength                                                => S::TtyL
String::UnicodeUTF8                                              => S::UUTF8
String::Unquotemeta                                              => *undef*
String::Util                                                     => *undef*
String::Wildcard::Bash                                           => S::W::B
Struct::Dumb                                                     => *undef*
Sub::Attribute                                                   => Sub::A
Sub::CharacterProperties                                         => Sub::CP
Sub::Clean                                                       => Sub::C
Sub::Delete                                                      => Sub::D
Sub::Exporter                                                    => Sub::E
Sub::Exporter::ForMethods                                        => Sub::E::ForM
Sub::Exporter::GlobExporter                                      => Sub::E::GE
Sub::Exporter::Progressive                                       => Sub::E::P
Sub::HandlesVia                                                  => Sub::HVia
Sub::Identify                                                    => Sub::I
Sub::Info                                                        => *undef*
Sub::Install                                                     => *undef*
Sub::Iterator                                                    => *undef*
Sub::Meta                                                        => Sub::M
Sub::Metadata                                                    => *undef*
Sub::Name                                                        => Sub::N
Sub::Override                                                    => Sub::O
Sub::Quote                                                       => Sub::Q
Sub::Uplevel                                                     => Sub::U
Sub::Util                                                        => *undef*
Surveyor::App                                                    => S::App
Surveyor::Benchmark::HTMLEntities                                => S::B::HTMLE
Syntax::Feature::EachOnArray                                     => S::F::EOnA
Syntax::Feature::Qwa                                             => S::F::Qwa
Syntax::Keyword::Assert                                          => S::K::A
Syntax::Keyword::Dynamically                                     => S::K::D
Syntax::Keyword::Junction                                        => S::K::J
Syntax::Keyword::Match                                           => S::K::M
Syntax::Keyword::MultiSub                                        => S::K::MSub
Syntax::Keyword::Try                                             => S::K::Try
SyntaxHighlight::Any                                             => SH::Any
Sys::Filesystem                                                  => Sys::F
Sys::Filesystem::MountPoint                                      => Sys::F::MP
Sys::GetRandom                                                   => Sys::GetR
Sys::HostIP                                                      => Sys::HIP
Sys::Hostname                                                    => Sys::H
Sys::Hostname::Long                                              => Sys::H::L
Sys::Info                                                        => Sys::I
Sys::Info::Base                                                  => Sys::I::B
Sys::Info::Driver::Linux                                         => Sys::I::D::L
Sys::Load                                                        => Sys::L
Sys::SigAction                                                   => Sys::SigA
Sys::Syscall                                                     => Sys::S
Sys::Syslog                                                      => *undef*
Sys::Syslog::Win32                                               => Sys::S::Win32
System::Command                                                  => *undef*
TAP::Base                                                        => TAP::B
TAP::Formatter::Base                                             => TAP::F::B
TAP::Formatter::Color                                            => TAP::F::C
TAP::Formatter::Console                                          => *undef*
TAP::Formatter::Console::ParallelSession                         => TAP::F::C::PS
TAP::Formatter::Console::Session                                 => TAP::F::C::S
TAP::Formatter::File                                             => TAP::F::F
TAP::Formatter::File::Session                                    => TAP::F::F::S
TAP::Formatter::Session                                          => TAP::F::S
TAP::Harness                                                     => TAP::H
TAP::Harness::Env                                                => TAP::H::Env
TAP::Harness::Remote                                             => TAP::H::R
TAP::Object                                                      => TAP::O
TAP::Parser                                                      => TAP::P
TAP::Parser::Aggregator                                          => TAP::P::A
TAP::Parser::Grammar                                             => TAP::P::G
TAP::Parser::Iterator                                            => TAP::P::I
TAP::Parser::Iterator::Array                                     => TAP::P::I::A
TAP::Parser::Iterator::Process                                   => TAP::P::I::P
TAP::Parser::Iterator::Stream                                    => TAP::P::I::S
TAP::Parser::IteratorFactory                                     => TAP::P::IF
TAP::Parser::Multiplexer                                         => TAP::P::M
TAP::Parser::Result                                              => TAP::P::R
TAP::Parser::Result::Bailout                                     => TAP::P::R::B
TAP::Parser::Result::Comment                                     => TAP::P::R::C
TAP::Parser::Result::Plan                                        => TAP::P::R::P
TAP::Parser::Result::Pragma                                      => *undef*
TAP::Parser::Result::Test                                        => TAP::P::R::T
TAP::Parser::Result::Unknown                                     => TAP::P::R::U
TAP::Parser::Result::Version                                     => TAP::P::R::V
TAP::Parser::Result::YAML                                        => TAP::P::R::YAML
TAP::Parser::ResultFactory                                       => TAP::P::RF
TAP::Parser::Scheduler                                           => TAP::P::S
TAP::Parser::Scheduler::Job                                      => TAP::P::S::Job
TAP::Parser::Scheduler::Spinner                                  => TAP::P::S::S
TAP::Parser::Source                                              => *undef*
TAP::Parser::SourceHandler                                       => TAP::P::SH
TAP::Parser::SourceHandler::Executable                           => TAP::P::SH::E
TAP::Parser::SourceHandler::File                                 => TAP::P::SH::F
TAP::Parser::SourceHandler::Handle                               => TAP::P::SH::H
TAP::Parser::SourceHandler::Perl                                 => TAP::P::SH::P
TAP::Parser::SourceHandler::RawTAP                               => TAP::P::SH::RawTAP
TAP::Parser::YAMLish::Reader                                     => TAP::P::YAML::R
TAP::Parser::YAMLish::Writer                                     => TAP::P::YAML::W
TAP::SimpleOutput                                                => TAP::SO
TableData                                                        => TD
TableDataRoles::Standard                                         => TDR::S
Task::CPAN::Reporter                                             => T::CPAN::R
Task::Weaken                                                     => T::W
Template::Plugin::ListUtil                                       => T::P::LU
Template::Plugin::VMethods                                       => T::P::VM
Template::Plugin::YAMLVal                                        => T::P::YAMLVal
Template::Provider::FromDATA                                     => T::P::FDATA
Template::Timer                                                  => T::T
Template::Tiny                                                   => *undef*
Template::Toolkit::Simple                                        => T::T::S
Term::ANSIColor                                                  => T::ANSIC
Term::ANSIColor::Concise                                         => T::ANSIC::C
Term::ANSIColor::Markup                                          => T::ANSIC::M
Term::App::Roles                                                 => T::App::R
Term::App::Util::Color                                           => T::App::U::C
Term::App::Util::Interactive                                     => T::App::U::I
Term::App::Util::Size                                            => T::App::U::S
Term::Cap                                                        => T::Cap
Term::Choose                                                     => T::C
Term::Choose::LineFold::XS                                       => T::C::LF::XS
Term::Choose::Util                                               => T::C::U
Term::Complete                                                   => *undef*
Term::Detect::Software                                           => T::D::S
Term::Encoding                                                   => T::E
Term::Form                                                       => T::F
Term::ProgressBar                                                => T::PBar
Term::ProgressBar::Quiet                                         => T::PBar::Q
Term::ProgressBar::Simple                                        => T::PBar::S
Term::Prompt                                                     => T::P
Term::ReadKey                                                    => T::RKey
Term::ReadLine                                                   => T::RL
Term::ReadLine::Gnu                                              => T::RL::Gnu
Term::Size                                                       => T::S
Term::TUI                                                        => T::TUI
Term::Table                                                      => *undef*
Term::Table::Cell                                                => T::T::C
Term::Table::CellStack                                           => T::T::CS
Term::Table::HashBase                                            => T::T::HB
Term::Table::LineBreak                                           => T::T::LB
Term::Table::Spacer                                              => *undef*
Term::Table::Util                                                => T::T::U
Term::TablePrint                                                 => T::TP
Term::TtyRec::Plus                                               => T::TtyRec::P
Term::UI                                                         => T::UI
Term::VT102                                                      => T::VT102
Term::VT102::ZeroBased                                           => T::VT102::ZB
Test2                                                            => T2
Test2::API                                                       => T2::API
Test2::API::Breakage                                             => T2::API::B
Test2::API::Context                                              => T2::API::C
Test2::API::Instance                                             => T2::API::I
Test2::API::InterceptResult                                      => T2::API::IR
Test2::API::InterceptResult::Event                               => T2::API::IR::E
Test2::API::InterceptResult::Facet                               => T2::API::IR::F
Test2::API::InterceptResult::Hub                                 => T2::API::IR::Hub
Test2::API::InterceptResult::Squasher                            => T2::API::IR::S
Test2::API::Stack                                                => T2::API::S
Test2::AsyncSubtest                                              => T2::AS
Test2::AsyncSubtest::Event::Attach                               => T2::AS::E::A
Test2::AsyncSubtest::Event::Detach                               => T2::AS::E::D
Test2::AsyncSubtest::Formatter                                   => T2::AS::F
Test2::AsyncSubtest::Hub                                         => T2::AS::Hub
Test2::Bundle                                                    => T2::B
Test2::Bundle::Extended                                          => T2::B::E
Test2::Bundle::More                                              => T2::B::M
Test2::Bundle::Simple                                            => T2::B::S
Test2::Compare                                                   => T2::C
Test2::Compare::Array                                            => T2::C::A
Test2::Compare::Bag                                              => T2::C::Bag
Test2::Compare::Base                                             => T2::C::B
Test2::Compare::Bool                                             => *undef*
Test2::Compare::Custom                                           => T2::C::C
Test2::Compare::DeepRef                                          => T2::C::DRef
Test2::Compare::Delta                                            => T2::C::D
Test2::Compare::Event                                            => T2::C::E
Test2::Compare::EventMeta                                        => T2::C::EM
Test2::Compare::Float                                            => T2::C::F
Test2::Compare::Hash                                             => T2::C::H
Test2::Compare::Isa                                              => T2::C::Isa
Test2::Compare::Meta                                             => T2::C::M
Test2::Compare::Negatable                                        => T2::C::N
Test2::Compare::Number                                           => *undef*
Test2::Compare::Object                                           => T2::C::O
Test2::Compare::OrderedSubset                                    => T2::C::OS
Test2::Compare::Pattern                                          => T2::C::P
Test2::Compare::Ref                                              => T2::C::Ref
Test2::Compare::Regex                                            => T2::C::R
Test2::Compare::Scalar                                           => T2::C::S
Test2::Compare::Set                                              => T2::C::Set
Test2::Compare::String                                           => *undef*
Test2::Compare::Undef                                            => T2::C::U
Test2::Compare::Wildcard                                         => T2::C::W
Test2::Env                                                       => T2::Env
Test2::Event                                                     => T2::E
Test2::Event::Bail                                               => T2::E::B
Test2::Event::Diag                                               => T2::E::D
Test2::Event::Encoding                                           => T2::E::E
Test2::Event::Exception                                          => *undef*
Test2::Event::Fail                                               => T2::E::F
Test2::Event::Generic                                            => T2::E::G
Test2::Event::Note                                               => T2::E::N
Test2::Event::Ok                                                 => T2::E::Ok
Test2::Event::Pass                                               => T2::E::P
Test2::Event::Plan                                               => *undef*
Test2::Event::Skip                                               => T2::E::S
Test2::Event::Subtest                                            => *undef*
Test2::Event::TAP::Version                                       => T2::E::TAP::V
Test2::Event::V2                                                 => T2::E::V2
Test2::Event::Waiting                                            => T2::E::W
Test2::EventFacet                                                => T2::EF
Test2::EventFacet::About                                         => T2::EF::A
Test2::EventFacet::Amnesty                                       => *undef*
Test2::EventFacet::Assert                                        => *undef*
Test2::EventFacet::Control                                       => T2::EF::C
Test2::EventFacet::Error                                         => T2::EF::E
Test2::EventFacet::Hub                                           => T2::EF::Hub
Test2::EventFacet::Info                                          => T2::EF::I
Test2::EventFacet::Info::Table                                   => T2::EF::I::T
Test2::EventFacet::Meta                                          => T2::EF::M
Test2::EventFacet::Parent                                        => T2::EF::P
Test2::EventFacet::Plan                                          => *undef*
Test2::EventFacet::Render                                        => T2::EF::R
Test2::EventFacet::Trace                                         => T2::EF::T
Test2::Formatter                                                 => T2::F
Test2::Formatter::TAP                                            => T2::F::TAP
Test2::Hub                                                       => T2::Hub
Test2::Hub::Interceptor                                          => T2::Hub::I
Test2::Hub::Interceptor::Terminator                              => T2::Hub::I::T
Test2::Hub::Subtest                                              => T2::Hub::S
Test2::IPC                                                       => T2::IPC
Test2::IPC::Driver                                               => T2::IPC::D
Test2::IPC::Driver::Files                                        => T2::IPC::D::F
Test2::Manual                                                    => T2::M
Test2::Manual::Anatomy                                           => T2::M::A
Test2::Manual::Anatomy::API                                      => T2::M::A::API
Test2::Manual::Anatomy::Context                                  => T2::M::A::C
Test2::Manual::Anatomy::EndToEnd                                 => T2::M::A::EndToEnd
Test2::Manual::Anatomy::Event                                    => T2::M::A::E
Test2::Manual::Anatomy::Hubs                                     => T2::M::A::H
Test2::Manual::Anatomy::IPC                                      => T2::M::A::IPC
Test2::Manual::Anatomy::Utilities                                => T2::M::A::U
Test2::Manual::Concurrency                                       => T2::M::C
Test2::Manual::Contributing                                      => *undef*
Test2::Manual::Testing                                           => T2::M::T
Test2::Manual::Testing::Introduction                             => T2::M::T::I
Test2::Manual::Testing::Migrating                                => T2::M::T::M
Test2::Manual::Testing::Planning                                 => T2::M::T::P
Test2::Manual::Testing::Todo                                     => T2::M::T::T
Test2::Manual::Tooling                                           => *undef*
Test2::Manual::Tooling::FirstTool                                => T2::M::T::FT
Test2::Manual::Tooling::Formatter                                => T2::M::T::F
Test2::Manual::Tooling::Nesting                                  => T2::M::T::N
Test2::Manual::Tooling::Plugin::TestExit                         => T2::M::T::P::TE
Test2::Manual::Tooling::Plugin::TestingDone                      => T2::M::T::P::TD
Test2::Manual::Tooling::Plugin::ToolCompletes                    => T2::M::T::P::TC
Test2::Manual::Tooling::Plugin::ToolStarts                       => T2::M::T::P::TS
Test2::Manual::Tooling::Subtest                                  => T2::M::T::S
Test2::Manual::Tooling::TestBuilder                              => T2::M::T::TB
Test2::Manual::Tooling::Testing                                  => *undef*
Test2::Mock                                                      => *undef*
Test2::Plugin                                                    => T2::P
Test2::Plugin::BailOnFail                                        => T2::P::BOnF
Test2::Plugin::DBBreak                                           => T2::P::DBB
Test2::Plugin::DieOnFail                                         => T2::P::DieOnF
Test2::Plugin::ExitSummary                                       => T2::P::ES
Test2::Plugin::IOEvents                                          => T2::P::IOE
Test2::Plugin::NoWarnings                                        => T2::P::NoW
Test2::Plugin::SRand                                             => T2::P::SR
Test2::Plugin::Times                                             => T2::P::T
Test2::Plugin::UTF8                                              => T2::P::UTF8
Test2::Require                                                   => T2::R
Test2::Require::AuthorTesting                                    => T2::R::AT
Test2::Require::AutomatedTesting                                 => *undef*
Test2::Require::EnvVar                                           => T2::R::EnvVar
Test2::Require::ExtendedTesting                                  => T2::R::ET
Test2::Require::Fork                                             => T2::R::F
Test2::Require::Module                                           => T2::R::M
Test2::Require::NonInteractiveTesting                            => T2::R::NonIT
Test2::Require::Perl                                             => T2::R::P
Test2::Require::RealFork                                         => T2::R::RF
Test2::Require::ReleaseTesting                                   => T2::R::RT
Test2::Require::Threads                                          => T2::R::T
Test2::Suite                                                     => T2::S
Test2::Todo                                                      => T2::T
Test2::Tools                                                     => *undef*
Test2::Tools::AsyncSubtest                                       => T2::T::AS
Test2::Tools::Basic                                              => T2::T::B
Test2::Tools::Class                                              => T2::T::C
Test2::Tools::ClassicCompare                                     => T2::T::CC
Test2::Tools::Compare                                            => *undef*
Test2::Tools::Defer                                              => T2::T::D
Test2::Tools::Encoding                                           => T2::T::E
Test2::Tools::Event                                              => *undef*
Test2::Tools::Exception                                          => *undef*
Test2::Tools::Exports                                            => *undef*
Test2::Tools::GenTemp                                            => T2::T::GenT
Test2::Tools::Grab                                               => T2::T::G
Test2::Tools::Mock                                               => T2::T::M
Test2::Tools::Ref                                                => T2::T::Ref
Test2::Tools::Refcount                                           => T2::T::R
Test2::Tools::Spec                                               => T2::T::S
Test2::Tools::Subtest                                            => *undef*
Test2::Tools::Target                                             => T2::T::T
Test2::Tools::Tester                                             => *undef*
Test2::Tools::Tiny                                               => *undef*
Test2::Tools::URL                                                => T2::T::URL
Test2::Tools::Warnings                                           => T2::T::W
Test2::Util                                                      => T2::U
Test2::Util::ExternalMeta                                        => T2::U::EM
Test2::Util::Facets2Legacy                                       => T2::U::F2L
Test2::Util::Grabber                                             => T2::U::G
Test2::Util::Guard                                               => *undef*
Test2::Util::HashBase                                            => T2::U::HB
Test2::Util::Importer                                            => T2::U::I
Test2::Util::Ref                                                 => T2::U::Ref
Test2::Util::Sig                                                 => T2::U::Sig
Test2::Util::Stash                                               => T2::U::S
Test2::Util::Sub                                                 => T2::U::Sub
Test2::Util::Table                                               => T2::U::T
Test2::Util::Table::Cell                                         => T2::U::T::C
Test2::Util::Table::LineBreak                                    => T2::U::T::LB
Test2::Util::Term                                                => *undef*
Test2::Util::Times                                               => *undef*
Test2::Util::Trace                                               => *undef*
Test2::V0                                                        => T2::V0
Test2::Workflow                                                  => T2::W
Test2::Workflow::BlockBase                                       => T2::W::BB
Test2::Workflow::Build                                           => T2::W::B
Test2::Workflow::Runner                                          => T2::W::R
Test2::Workflow::Task                                            => T2::W::T
Test2::Workflow::Task::Action                                    => T2::W::T::A
Test2::Workflow::Task::Group                                     => T2::W::T::G
Test::API                                                        => T::API
Test::Base                                                       => T::B
Test::Builder                                                    => *undef*
Test::Builder::Formatter                                         => T::B::F
Test::Builder::Module                                            => T::B::M
Test::Builder::Tester                                            => T::B::T
Test::Builder::Tester::Color                                     => T::B::T::C
Test::Builder::TodoDiag                                          => T::B::TD
Test::CI                                                         => T::CI
Test::CPAN::Meta                                                 => T::CPAN::M
Test::CPAN::Meta::JSON                                           => T::CPAN::M::JSON
Test::Carp                                                       => *undef*
Test::CheckDeps                                                  => T::CD
Test::CheckManifest                                              => T::CM
Test::Class                                                      => *undef*
Test::Command                                                    => *undef*
Test::Compile                                                    => *undef*
Test::Cukes                                                      => *undef*
Test::DBIC::Schema::Connector                                    => T::DBIC::S::C
Test::Data::Split                                                => *undef*
Test::DatabaseRow                                                => T::DRow
Test::Deep                                                       => T::D
Test::Deep::Fuzzy                                                => T::D::F
Test::Deep::JSON                                                 => T::D::JSON
Test::Deep::Type                                                 => T::D::T
Test::DescribeMe                                                 => T::DMe
Test::DiagINC                                                    => T::DINC
Test::Differences                                                => *undef*
Test::DistManifest                                               => T::DM
Test::Distribution                                               => *undef*
Test::EOL                                                        => T::EOL
Test::Exception                                                  => *undef*
Test::Exports                                                    => *undef*
Test::FailWarnings                                               => T::FW
Test::Fatal                                                      => *undef*
Test::File                                                       => *undef*
Test::File::ShareDir                                             => T::F::SDir
Test::Filename                                                   => *undef*
Test::Fork                                                       => *undef*
Test::Future::IO::Impl                                           => T::F::IO::I
Test::HTTPStatus                                                 => T::HTTPS
Test::Harness                                                    => T::H
Test::HexDifferences                                             => T::HexD
Test::HexString                                                  => T::HexS
Test::Inter                                                      => T::I
Test::JSON                                                       => T::JSON
Test::Kit                                                        => T::Kit
Test::Kwalitee                                                   => T::K
Test::Lazy                                                       => T::L
Test::LeakTrace                                                  => T::LT
Test::LectroTest                                                 => *undef*
Test::Lib                                                        => T::Lib
Test::LongString                                                 => T::LS
Test::Memory::Cycle                                              => T::M::C
Test::Metrics::Any                                               => T::M::Any
Test::MinimumVersion                                             => T::MV
Test::Mock::Cmd                                                  => T::M::Cmd
Test::MockModule                                                 => T::MM
Test::MockObject                                                 => T::MO
Test::MockRandom                                                 => T::MR
Test::MockTime                                                   => T::MT
Test::MockTime::HiRes                                            => T::MT::HiRes
Test::Mockingbird                                                => T::M
Test::Modern                                                     => *undef*
Test::Moose::More                                                => T::M::M
Test::More                                                       => *undef*
Test::More::UTF8                                                 => T::M::UTF8
Test::Most                                                       => *undef*
Test::Needs                                                      => T::N
Test::NoSmartComments                                            => T::NoSC
Test::NoWarnings                                                 => T::NoW
Test::Number::Delta                                              => T::N::D
Test::Object                                                     => T::O
Test::OpenTracing::Interface                                     => T::OT::I
Test::Output                                                     => *undef*
Test::Perl::Critic                                               => T::P::C
Test::Pod                                                        => T::Pod
Test::Pod::Coverage                                              => T::Pod::C
Test::PureASCII                                                  => T::PASCII
Test::RandomResult                                               => T::RR
Test::Refcount                                                   => T::R
Test::Regexp                                                     => *undef*
Test::Reporter                                                   => *undef*
Test::Reporter::Transport::Metabase                              => T::R::T::M
Test::Reporter::Transport::Metabase::Fallback                    => T::R::T::M::F
Test::Requires                                                   => *undef*
Test::Requires::Git                                              => T::R::Git
Test::RequiresInternet                                           => T::RI
Test::Returns                                                    => *undef*
Test::Roo                                                        => T::Roo
Test::Roo::DataDriven                                            => T::Roo::DD
Test::Script                                                     => *undef*
Test::Settings                                                   => *undef*
Test::SharedFork                                                 => T::SF
Test::Simple                                                     => *undef*
Test::Spec                                                       => *undef*
Test::Spelling                                                   => *undef*
Test::SubCalls                                                   => T::SubC
Test::Sys::Info                                                  => T::Sys::I
Test::TCP                                                        => T::TCP
Test::Taint                                                      => *undef*
Test::TempDir::Tiny                                              => T::TDir::T
Test::Tester                                                     => *undef*
Test::Tester::Capture                                            => *undef*
Test::Tester::CaptureRunner                                      => T::T::CR
Test::Tester::Delegate                                           => T::T::D
Test::Time                                                       => *undef*
Test::TinyMocker                                                 => T::TM
Test::Trap                                                       => *undef*
Test::UseAllModules                                              => T::UseAllM
Test::Version                                                    => T::V
Test::Warn                                                       => *undef*
Test::Warnings                                                   => *undef*
Test::WithDB                                                     => T::WDB
Test::Without::Module                                            => T::W::M
Test::YAML                                                       => T::YAML
Test::use::ok                                                    => T::use::ok
Test::utf8                                                       => T::utf8
Text::ANSI::Fold                                                 => T::ANSI::F
Text::ANSI::Fold::Util                                           => T::ANSI::F::U
Text::ANSI::Printf                                               => T::ANSI::P
Text::ANSI::Tabs                                                 => T::ANSI::T
Text::ANSI::Util                                                 => T::ANSI::U
Text::ANSI::WideUtil                                             => T::ANSI::WU
Text::ANSITable                                                  => T::ANSIT
Text::ASCIITable                                                 => T::ASCIIT
Text::Abbrev                                                     => T::A
Text::Aligner                                                    => *undef*
Text::Autoformat                                                 => *undef*
Text::Balanced                                                   => *undef*
Text::CSV                                                        => T::CSV
Text::CSV::Slurp                                                 => T::CSV::S
Text::CSV_XS                                                     => T::CSV_XS
Text::Caml                                                       => *undef*
Text::Capitalize                                                 => *undef*
Text::CharWidth                                                  => T::CW
Text::CleanFragment                                              => T::CF
Text::Conceal                                                    => *undef*
Text::Darts                                                      => *undef*
Text::DelimMatch                                                 => *undef*
Text::Diff                                                       => *undef*
Text::FormatTable                                                => T::FT
Text::German                                                     => T::G
Text::Glob                                                       => *undef*
Text::Handlebars                                                 => *undef*
Text::Levenshtein::Flexible                                      => T::L::F
Text::LevenshteinXS                                              => T::LXS
Text::MarkdownTable                                              => *undef*
Text::Names                                                      => *undef*
Text::NonWideChar::Util                                          => T::NonWC::U
Text::ParseWords                                                 => T::PW
Text::Pipe                                                       => *undef*
Text::Pipe::Encoding                                             => T::P::E
Text::RecordParser                                               => T::RP
Text::Reform                                                     => *undef*
Text::SimpleTable                                                => T::ST
Text::SimpleTable::AutoWidth                                     => T::ST::AW
Text::Soundex                                                    => *undef*
Text::SpanningTable                                              => *undef*
Text::Table                                                      => *undef*
Text::Table::ASV                                                 => T::T::ASV
Text::Table::Any                                                 => T::T::Any
Text::Table::CSV                                                 => T::T::CSV
Text::Table::HTML                                                => T::T::HTML
Text::Table::HTML::DataTables                                    => T::T::HTML::DT
Text::Table::LTSV                                                => T::T::LTSV
Text::Table::Manifold                                            => T::T::M
Text::Table::More                                                => *undef*
Text::Table::Org                                                 => T::T::Org
Text::Table::Paragraph                                           => T::T::P
Text::Table::Sprintf                                             => *undef*
Text::Table::TSV                                                 => T::T::TSV
Text::Table::TickitWidget                                        => T::T::TW
Text::Table::Tiny                                                => T::T::T
Text::Table::TinyBorderStyle                                     => T::T::TBS
Text::Table::TinyColor                                           => T::T::TC
Text::Table::TinyColorWide                                       => T::T::TCW
Text::Table::TinyWide                                            => *undef*
Text::Table::XLSX                                                => T::T::XLSX
Text::Tabs                                                       => *undef*
Text::TabularDisplay                                             => T::TD
Text::Template                                                   => *undef*
Text::Template::Simple                                           => *undef*
Text::TestBase                                                   => T::TB
Text::UnicodeBox                                                 => T::UBox
Text::Unidecode                                                  => T::U
Text::VisualWidth                                                => T::VW
Text::VisualWidth::PP                                            => T::VW::PP
Text::WideChar::Util                                             => T::WC::U
Text::Wrap                                                       => *undef*
Text::Xslate                                                     => T::X
Text::sprintfn                                                   => T::s
Text::xSV::Slurp                                                 => T::xSV::S
Thread::Queue                                                    => T::Q
Thread::Semaphore                                                => *undef*
Tickit::Widget::Table                                            => T::W::T
Tickit::Widgets                                                  => *undef*
Tie::Array                                                       => Tie::A
Tie::Autotie                                                     => *undef*
Tie::Cache                                                       => Tie::C
Tie::DB_Lock                                                     => Tie::DB_L
Tie::File                                                        => Tie::F
Tie::Function                                                    => *undef*
Tie::Handle                                                      => Tie::H
Tie::Handle::Offset                                              => Tie::H::O
Tie::Hash                                                        => *undef*
Tie::Hash::Method                                                => Tie::H::M
Tie::Hash::NamedCapture                                          => Tie::H::NC
Tie::IxHash                                                      => Tie::IxH
Tie::Memoize                                                     => Tie::M
Tie::RefHash                                                     => Tie::RefH
Tie::Scalar                                                      => Tie::S
Tie::Simple                                                      => *undef*
Tie::StdHandle                                                   => Tie::StdH
Tie::SubstrHash                                                  => Tie::SH
Tie::ToObject                                                    => Tie::ToO
Time::Clock                                                      => *undef*
Time::Duration                                                   => *undef*
Time::Duration::Parse                                            => T::D::P
Time::Duration::Parse::AsHash                                    => T::D::P::AsH
Time::HiRes                                                      => T::HiRes
Time::Local                                                      => *undef*
Time::Moment                                                     => *undef*
Time::ParseDate                                                  => T::PD
Time::Piece                                                      => *undef*
Time::Seconds                                                    => *undef*
Time::TZOffset                                                   => T::TZO
Time::gmtime                                                     => T::g
Time::localtime                                                  => T::l
Time::timegm                                                     => T::t
Time::tm                                                         => T::tm
Tree::Create::Callback                                           => T::C::C
Tree::Dump                                                       => *undef*
Tree::FSMethods                                                  => T::FSM
Tree::Object                                                     => *undef*
Tree::Simple                                                     => *undef*
Tree::Simple::VisitorFactory                                     => T::S::VF
Tree::To::Text                                                   => T::To::T
Try::Tiny                                                        => Try::T
Try::Tiny::Warnings                                              => Try::T::W
Type::Tiny                                                       => *undef*
Type::Tiny::XS                                                   => T::T::XS
Types::Equal                                                     => *undef*
Types::Interface                                                 => *undef*
Types::LoadableClass                                             => T::LC
Types::Path::Tiny                                                => T::P::T
Types::Serialiser                                                => *undef*
Types::URI                                                       => T::URI
Types::UUID                                                      => T::UUID
UNIVERSAL::Object                                                => UNIVERSAL::O
UNIVERSAL::moniker                                               => UNIVERSAL::m
UNIVERSAL::require                                               => UNIVERSAL::r
URI::Encode                                                      => URI::E
URI::Escape::XS                                                  => URI::E::XS
URI::Find                                                        => URI::F
URI::FromHash                                                    => URI::FH
URI::NamespaceMap                                                => URI::NMap
URI::Nested                                                      => URI::N
URI::PathAbstract                                                => URI::PA
URL::Encode                                                      => URL::E
URL::Encode::XS                                                  => URL::E::XS
UUID::Random                                                     => UUID::R
UUID::Tiny                                                       => UUID::T
Unicode::CaseFold                                                => U::CF
Unicode::Collate                                                 => U::C
Unicode::Collate::CJK::Big5                                      => U::C::CJK::Big5
Unicode::Collate::CJK::GB2312                                    => U::C::CJK::GB2312
Unicode::Collate::CJK::JISX0208                                  => U::C::CJK::JISX0208
Unicode::Collate::CJK::Korean                                    => U::C::CJK::K
Unicode::Collate::CJK::Pinyin                                    => U::C::CJK::P
Unicode::Collate::CJK::Stroke                                    => U::C::CJK::S
Unicode::Collate::CJK::Zhuyin                                    => U::C::CJK::Z
Unicode::Collate::Locale                                         => U::C::L
Unicode::EastAsianWidth                                          => U::EAW
Unicode::LineBreak                                               => U::LB
Unicode::Normalize                                               => U::N
Unicode::UCD                                                     => U::UCD
Unicode::UTF8                                                    => U::UTF8
Unix::Groups::FFI                                                => U::G::FFI
Unix::Passwd::File                                               => U::P::F
Unix::Processors                                                 => U::P
User::grent                                                      => U::g
User::pwent                                                      => U::p
VMS::DCLsym                                                      => VMS::DCL
VMS::Filespec                                                    => VMS::F
VMS::Stdio                                                       => VMS::S
Validate::SPF                                                    => V::SPF
Variable::Disposition                                            => V::D
Variable::Magic                                                  => V::M
Version::Next                                                    => V::N
Version::Util                                                    => V::U
WWW::Form::UrlEncoded                                            => WWW::F::UrlE
WWW::Form::UrlEncoded::XS                                        => WWW::F::UrlE::XS
WWW::RobotRules                                                  => WWW::RR
Web::Library                                                     => Web::L
Web::Library::jQuery                                             => Web::L::jQ
Win32::Locale                                                    => Win32::L
Win32::ShellQuote                                                => Win32::SQ
Win32API::File                                                   => Win32API::F
WordList                                                         => WL
WordList::EN::BIP39                                              => WL::EN::BIP39
WordList::ES::BIP39                                              => WL::ES::BIP39
WordList::FR::BIP39                                              => WL::FR::BIP39
WordList::ID::BIP39                                              => WL::ID::BIP39
WordList::IT::BIP39                                              => WL::IT::BIP39
WordList::JA::BIP39                                              => WL::JA::BIP39
WordList::KO::BIP39                                              => WL::KO::BIP39
WordList::Phrase::ZH::CCIC                                       => WL::P::ZH::CCIC
WordList::ZH::Simplified::BIP39                                  => WL::ZH::S::BIP39
WordList::ZH::Traditional::BIP39                                 => WL::ZH::T::BIP39
XML::CommonNS                                                    => XML::CNS
XML::Fast                                                        => XML::F
XML::Filter::BufferText                                          => XML::F::BT
XML::Filter::ExceptionLocator                                    => XML::F::EL
XML::Namespace                                                   => XML::N
XML::NamespaceFactory                                            => XML::NF
XML::NamespaceSupport                                            => XML::NS
XML::SAX::Base                                                   => XML::SAX::B
XML::SAX::ExpatXS                                                => XML::SAX::EXS
XML::SAX::Writer                                                 => XML::SAX::W
XML::Stream                                                      => XML::S
XML::Writer                                                      => XML::W
XS::APItest                                                      => XS::API
XS::Parse::Keyword                                               => XS::P::K
XS::Parse::Sublike                                               => XS::P::S
XS::Typemap                                                      => XS::T
XSLoader                                                         => XSL
XString                                                          => XS
YAML::Syck                                                       => YAML::S
YAML::Tiny                                                       => YAML::T
YAML::Tiny::Color                                                => YAML::T::C
alias::module                                                    => a::m
autobox::Core                                                    => a::C
autodie::Scope::Guard                                            => a::S::G
autodie::Scope::GuardStack                                       => a::S::GS
autodie::Util                                                    => a::U
autodie::exception                                               => a::e
autodie::exception::system                                       => a::e::s
autodie::hints                                                   => a::h
autodie::skip                                                    => a::s
bareword::filehandles                                            => b::f
common::sense                                                    => c::s
constant::defer                                                  => c::d
constant::more                                                   => c::m
encoding::warnings                                               => e::w
lib::filter                                                      => lib::f
lib::none                                                        => lib::n
lib::noop                                                        => *undef*
libintl-perl                                                     => l-p
local::lib                                                       => l::lib
namespace::autoclean                                             => n::a
namespace::clean                                                 => n::c
overload::numbers                                                => o::n
source::encoding                                                 => s::e
threads::shared                                                  => t::s
unicore::Name                                                    => u::N
version::regex                                                   => v::r
warnings::register                                               => w::r
warnings::unused                                                 => w::u
t/10-check.t ................. ok
t/author-critic.t ............ skipped: these tests are for testing by the author
t/author-test-eol.t .......... skipped: these tests are for testing by the author
t/release-cpan-changes.t ..... skipped: these tests are for release candidate testing
t/release-dist-manifest.t .... skipped: these tests are for release candidate testing
t/release-distmeta.t ......... skipped: these tests are for release candidate testing
t/release-kwalitee.t ......... skipped: these tests are for release candidate testing
t/release-minimum-version.t .. skipped: these tests are for release candidate testing
t/release-mojibake.t ......... skipped: these tests are for release candidate testing
t/release-no-tabs.t .......... skipped: these tests are for release candidate testing
t/release-pod-coverage.t ..... skipped: these tests are for release candidate testing
t/release-pod-linkcheck.t .... skipped: these tests are for release candidate testing
t/release-pod-syntax.t ....... skipped: these tests are for release candidate testing
t/release-portability.t ...... skipped: these tests are for release candidate testing
t/release-test-version.t ..... skipped: these tests are for release candidate testing
t/release-unused-vars.t ...... skipped: these tests are for release candidate testing
All tests successful.
Files=18, Tests=4,  2 wallclock secs ( 0.04 usr  0.01 sys +  1.44 cusr  0.44 csys =  1.93 CPU)
Result: PASS

------------------------------
PREREQUISITES
------------------------------

Prerequisite modules loaded:

requires:

    Module              Need Have      
    ------------------- ---- ----------
    File::HomeDir       0    1.006     
    List::MoreUtils     0    0.430     
    Module::CoreList    0    5.20251020

build_requires:

    Module              Need Have      
    ------------------- ---- ----------
    ExtUtils::MakeMaker 0    7.76      

configure_requires:

    Module              Need Have      
    ------------------- ---- ----------
    ExtUtils::MakeMaker 6.30 7.76      


------------------------------
ENVIRONMENT AND OTHER CONTEXT
------------------------------

Environment variables:

    AUTOMATED_TESTING = 1
    CJG_PERL_COMMIT = b3138094d9
    DATE_MANIP_TEST_DM5 = 1
    LANG = en_US.UTF-8
    LC_ALL = C
    NONINTERACTIVE_TESTING = 1
    NO_NETWORK_TESTING = 1
    PATH = /home/cpan/bin/perl/bin:/home/cpan/bin:/home/cpan/bin:/usr/local/bin:/usr/bin:/usr/local/sbin:/usr/sbin
    PERL5LIB = 
    PERL5OPT = 
    PERL5_CPANPLUS_IS_RUNNING = 714457
    PERL5_CPAN_IS_RUNNING = 714457
    PERL_MM_USE_DEFAULT = 1
    PERL_PERTURB_KEYS = 0
    PERL_USE_UNSAFE_INC = 1
    SHELL = /bin/bash
    TERM = screen
    TMPDIR = /home/cpan/tmp

Perl special variables (and OS-specific diagnostics, for MSWin32):

    $^X = /home/cpan/bin/perl/bin/perl5.43.4
    $UID/$EUID = 1001 / 1001
    $GID = 1001 1001
    $EGID = 1001 1001

Perl module toolchain versions installed:

    Module              Have    
    ------------------- --------
    CPAN                2.38    
    CPAN::Meta          2.150010
    Cwd                 3.94    
    ExtUtils::CBuilder  0.280242
    ExtUtils::Command   7.76    
    ExtUtils::Install   2.22    
    ExtUtils::MakeMaker 7.76    
    ExtUtils::Manifest  1.75    
    ExtUtils::ParseXS   3.60    
    File::Spec          3.94    
    JSON                4.10    
    JSON::PP            4.16    
    Module::Build       0.4234  
    Module::Signature   n/a     
    Parse::CPAN::Meta   2.150010
    Test2               1.302214
    Test::Harness       3.52    
    Test::More          1.302214
    YAML                1.31    
    YAML::Syck          1.36    
    version             0.9933  


--

Summary of my perl5 (revision 5 version 43 subversion 4) configuration:
  Commit id: b3138094d90d9a1861f0e10af33500f7d508e29c
  Platform:
    osname=linux
    osvers=6.12.0-55.39.1.el10_0.x86_64
    archname=x86_64-linux-thread-multi
    uname='linux cjg-rhel10 6.12.0-55.39.1.el10_0.x86_64 #1 smp preempt_dynamic sat oct 4 03:09:12 edt 2025 x86_64 gnulinux '
    config_args='-des -Dprefix=/home/cpan/bin/perl -Dscriptdir=/home/cpan/bin/perl/bin -Dusedevel -Duse64bitall -Duseithreads'
    hint=recommended
    useposix=true
    d_sigaction=define
    useithreads=define
    usemultiplicity=define
    use64bitint=define
    use64bitall=define
    uselongdouble=undef
    usemymalloc=n
    default_inc_excludes_dot=define
  Compiler:
    cc='cc'
    ccflags ='-D_REENTRANT -D_GNU_SOURCE -fwrapv -fno-strict-aliasing -pipe -fstack-protector-strong -I/usr/local/include -D_LARGEFILE_SOURCE -D_FILE_OFFSET_BITS=64 -D_FORTIFY_SOURCE=2'
    optimize='-O2'
    cppflags='-D_REENTRANT -D_GNU_SOURCE -fwrapv -fno-strict-aliasing -pipe -fstack-protector-strong -I/usr/local/include'
    ccversion=''
    gccversion='14.2.1 20250110 (Red Hat 14.2.1-7)'
    gccosandvers=''
    intsize=4
    longsize=8
    ptrsize=8
    doublesize=8
    byteorder=12345678
    doublekind=3
    d_longlong=define
    longlongsize=8
    d_longdbl=define
    longdblsize=16
    longdblkind=3
    ivtype='long'
    ivsize=8
    nvtype='double'
    nvsize=8
    Off_t='off_t'
    lseeksize=8
    alignbytes=8
    prototype=define
  Linker and Libraries:
    ld='cc'
    ldflags =' -fstack-protector-strong -L/usr/local/lib'
    libpth=/usr/local/lib /usr/lib /usr/lib64 /usr/local/lib64
    libs=-lpthread -ldb -ldl -lm -lcrypt -lutil -lc
    perllibs=-lpthread -ldl -lm -lcrypt -lutil -lc
    libc=/lib/../lib64/libc.so.6
    so=so
    useshrplib=false
    libperl=libperl.a
    gnulibc_version='2.39'
  Dynamic Linking:
    dlsrc=dl_dlopen.xs
    dlext=so
    d_dlsymun=undef
    ccdlflags='-Wl,-E'
    cccdlflags='-fPIC'
    lddlflags='-shared -O2 -L/usr/local/lib -fstack-protector-strong'


Characteristics of this binary (from libperl): 
  Compile-time options:
    HAS_LONG_DOUBLE
    HAS_STRTOLD
    HAS_TIMES
    MULTIPLICITY
    PERLIO_LAYERS
    PERL_COPY_ON_WRITE
    PERL_DONT_CREATE_GVSV
    PERL_HASH_FUNC_SIPHASH13
    PERL_HASH_USE_SBOX32
    PERL_MALLOC_WRAP
    PERL_OP_PARENT
    PERL_PRESERVE_IVUV
    PERL_USE_DEVEL
    PERL_USE_SAFE_PUTENV
    USE_64_BIT_ALL
    USE_64_BIT_INT
    USE_ITHREADS
    USE_LARGE_FILES
    USE_LOCALE
    USE_LOCALE_COLLATE
    USE_LOCALE_CTYPE
    USE_LOCALE_NUMERIC
    USE_LOCALE_TIME
    USE_PERLIO
    USE_PERL_ATOF
    USE_REENTRANT_API
    USE_THREAD_SAFE_LOCALE
  Built under linux
  Compiled at Oct 19 2025 23:12:53
  %ENV:
    PERL5LIB=""
    PERL5OPT=""
    PERL5_CPANPLUS_IS_RUNNING="714457"
    PERL5_CPAN_IS_RUNNING="714457"
    PERL_MM_USE_DEFAULT="1"
    PERL_PERTURB_KEYS="0"
    PERL_USE_UNSAFE_INC="1"
  @INC:
    /home/cpan/bin/perl/lib/site_perl/5.43.4/x86_64-linux-thread-multi
    /home/cpan/bin/perl/lib/site_perl/5.43.4
    /home/cpan/bin/perl/lib/5.43.4/x86_64-linux-thread-multi
    /home/cpan/bin/perl/lib/5.43.4
    .