Report for POE-Component-Generic-0.1403

Back
From: metabase:user:314402c4-2aae-11df-837a-5e0a49663a4f
Subject: PASS POE-Component-Generic-0.1403 v5.10.1 FreeBSD
Date: 2016-06-04T11:54:33Z

This distribution has been tested as part of the CPAN Testers
project, supporting the Perl programming language.  See
http://wiki.cpantesters.org/ for more information or email
questions to cpan-testers-discuss@perl.org


--
Dear Philip Gwyn,

This is a computer-generated report for POE-Component-Generic-0.1403
on perl 5.10.1, created by CPAN-Reporter-1.2017.

Thank you for uploading your work to CPAN.  Congratulations!
All tests were successful.

Sections of this report:

    * Tester comments
    * Program output
    * Prerequisites
    * Environment and other context

------------------------------
TESTER COMMENTS
------------------------------

Additional comments from tester:

none provided

------------------------------
PROGRAM OUTPUT
------------------------------

Output from '/usr/bin/make test':

PERL_DL_NONLAZY=1 "/usr/local/bin/perl5.10.1" "-MExtUtils::Command::MM" "-MTest::Harness" "-e" "undef *Test::Harness::Switches; test_harness(0, 'blib/lib', 'blib/arch')" t/*.t
t/00_compile.t ....... ok
# POE 1.367, POE::Test::Loops 1.360, Perl 5.010001, /usr/local/bin/perl5.10.1 on freebsd
t/00_info.t .......... ok
t/01_pod.t ........... ok
t/02_pod_coverage.t .. ok
t/04_object.t ........ ok
t/05_package.t ....... ok
t/07_callback.t ...... ok
t/08_factory.t ....... ok
# 3 seconds
# 6 seconds
t/10_simple.t ........ ok
# 3 seconds
# 6 seconds
t/11_error.t ......... ok
# 3 seconds
t/12_exit_kill.t ..... ok
t/15_stdout.t ........ ok
# 3 seconds
# 3 seconds
# 6 seconds
t/20_alt_fork.t ...... ok
t/21_alt_fork-x.t .... ok
# 1 seconds
t/30_callback.t ...... ok
# 2 seconds
# 2 seconds
t/40_postback.t ...... ok
# 1 seconds
t/50_factory.t ....... ok
t/90_ssh.t ........... ok
Subroutine Net::SSH2::channel redefined at /usr/home/eserte/.cpan/build/2016060409/POE-Component-Generic-0.1403-VxmO5c/blib/lib/POE/Component/Generic/Net/SSH2.pm line 234.
Subroutine Net::SSH2::Channel::DESTROY redefined at /usr/home/eserte/.cpan/build/2016060409/POE-Component-Generic-0.1403-VxmO5c/blib/lib/POE/Component/Generic/Net/SSH2.pm line 356.
t/91_ssh2.t .......... ok
All tests successful.
Files=19, Tests=176, 53 wallclock secs ( 0.09 usr  0.02 sys +  2.52 cusr  1.18 csys =  3.80 CPU)
Result: PASS

------------------------------
PREREQUISITES
------------------------------

Prerequisite modules loaded:

requires:

    Module              Need  Have    
    ------------------- ----- --------
    Carp                0     1.38    
    Devel::Symdump      2     2.17    
    POE                 1.311 1.367   
    Scalar::Util        1     1.45    
    Test::More          0.32  1.302022

build_requires:

    Module              Need  Have    
    ------------------- ----- --------
    ExtUtils::MakeMaker 0     7.18    

configure_requires:

    Module              Need  Have    
    ------------------- ----- --------
    ExtUtils::MakeMaker 0     7.18    


------------------------------
ENVIRONMENT AND OTHER CONTEXT
------------------------------

Environment variables:

    PATH = /usr/local/bin:/usr/bin:/bin:/usr/local/sbin:/usr/sbin:/sbin:/home/eserte/bin/freebsd10.1:/home/eserte/bin/sh:/home/eserte/bin:/home/eserte/bin/pistachio-perl/bin:/usr/games:/home/eserte/devel:/usr/home/eserte/src/srezic-misc/scripts
    PERL5LIB = /home/eserte/.cpan/build/2016060409/Best-0.15-SDE4RJ/blib/arch:/home/eserte/.cpan/build/2016060409/Best-0.15-SDE4RJ/blib/lib:/home/eserte/.cpan/build/2016060409/Event-Notify-0.00005-AJE33U/blib/arch:/home/eserte/.cpan/build/2016060409/Event-Notify-0.00005-AJE33U/blib/lib:/home/eserte/.cpan/build/2016060409/POE-Component-Logger-1.10-2bMw1S/blib/arch:/home/eserte/.cpan/build/2016060409/POE-Component-Logger-1.10-2bMw1S/blib/lib:/home/eserte/.cpan/build/2016060409/Exception-Class-DBI-1.01-oPQphj/blib/arch:/home/eserte/.cpan/build/2016060409/Exception-Class-DBI-1.01-oPQphj/blib/lib:/home/eserte/.cpan/build/2016060409/POE-Filter-Stomp-0.04-2FJzDb/blib/arch:/home/eserte/.cpan/build/2016060409/POE-Filter-Stomp-0.04-2FJzDb/blib/lib
    PERL5OPT = 
    PERL5_CPANPLUS_IS_RUNNING = 44047
    PERL5_CPAN_IS_RUNNING = 44047
    PERL5_CPAN_IS_RUNNING_IN_RECURSION = 55625,44047
    PERLDOC = -MPod::Perldoc::ToTextOverstrike
    PERL_BATCH = yes
    PERL_CANARY_STABILITY_NOPROMPT = 1
    PERL_CPAN_REPORTER_CONFIG = /var/tmp/cpansmoker-1002/2016060409/cpanreporter_007_config.ini
    PERL_EXTUTILS_AUTOINSTALL = --defaultdeps
    SHELL = /usr/local/bin/zsh
    TERM = screen
    TMPDIR = /var/tmp/cpansmoker-1002/2016060409

Perl special variables (and OS-specific diagnostics, for MSWin32):

    $^X = /usr/local/bin/perl5.10.1
    $UID/$EUID = 1002 / 1002
    $GID = 1002 1002
    $EGID = 1002 1002

Perl module toolchain versions installed:

    Module              Have    
    ------------------- --------
    CPAN                2.10    
    CPAN::Meta          2.150005
    Cwd                 3.62    
    ExtUtils::CBuilder  0.280224
    ExtUtils::Command   7.18    
    ExtUtils::Install   1.54    
    ExtUtils::MakeMaker 7.18    
    ExtUtils::Manifest  1.70    
    ExtUtils::ParseXS   3.30    
    File::Spec          3.62    
    JSON                2.90    
    JSON::PP            2.27400 
    Module::Build       0.4218  
    Module::Signature   0.79    
    Parse::CPAN::Meta   1.4414  
    Test::Harness       3.36    
    Test::More          1.302022
    YAML                1.15    
    YAML::Syck          1.29    
    version             0.9917  


--

Summary of my perl5 (revision 5 version 10 subversion 1) configuration:
   
  Platform:
    osname=freebsd, osvers=10.3-release, archname=amd64-freebsd
    uname='freebsd freebsd103 10.3-release freebsd 10.3-release #0 r297264: fri mar 25 02:10:02 utc 2016 root@releng1.nyi.freebsd.org:usrobjusrsrcsysgeneric amd64 '
    config_args='-ds -e -Dprefix=/usr/perl5.10.1p -Dcf_email=srezic@cpan.org -Doptimize=-O2 -pipe'
    hint=recommended, useposix=true, d_sigaction=define
    useithreads=undef, usemultiplicity=undef
    useperlio=define, d_sfio=undef, uselargefiles=define, usesocks=undef
    use64bitint=define, use64bitall=define, uselongdouble=undef
    usemymalloc=n, bincompat5005=undef
  Compiler:
    cc='cc', ccflags ='-DHAS_FPSETMASK -DHAS_FLOATINGPOINT_H -fno-strict-aliasing -pipe -fstack-protector -I/usr/local/include',
    optimize='-O2 -pipe',
    cppflags='-DHAS_FPSETMASK -DHAS_FLOATINGPOINT_H -fno-strict-aliasing -pipe -fstack-protector -I/usr/local/include'
    ccversion='', gccversion='4.2.1 Compatible FreeBSD Clang 3.4.1 (tags/RELEASE_34/dot1-final 208032)', gccosandvers=''
    intsize=4, longsize=8, ptrsize=8, doublesize=8, byteorder=12345678
    d_longlong=define, longlongsize=8, d_longdbl=define, longdblsize=16
    ivtype='long', ivsize=8, nvtype='double', nvsize=8, Off_t='off_t', lseeksize=8
    alignbytes=8, prototype=define
  Linker and Libraries:
    ld='cc', ldflags ='-pthread -Wl,-E  -fstack-protector -L/usr/local/lib'
    libpth=/usr/lib /usr/local/lib
    libs=-lm -lcrypt -lutil -lc
    perllibs=-lm -lcrypt -lutil -lc
    libc=, so=so, useshrplib=false, libperl=libperl.a
    gnulibc_version=''
  Dynamic Linking:
    dlsrc=dl_dlopen.xs, dlext=so, d_dlsymun=undef, ccdlflags=' '
    cccdlflags='-DPIC -fPIC', lddlflags='-shared  -L/usr/local/lib -fstack-protector'


Characteristics of this binary (from libperl): 
  Compile-time options: PERL_DONT_CREATE_GVSV PERL_MALLOC_WRAP USE_64_BIT_ALL
                        USE_64_BIT_INT USE_LARGE_FILES USE_PERLIO
  Locally applied patches:
	Devel::PatchPerl 1.42
  Built under freebsd
  Compiled at May 30 2016 21:52:24
  %ENV:
    PERL5LIB="/home/eserte/.cpan/build/2016060409/Best-0.15-SDE4RJ/blib/arch:/home/eserte/.cpan/build/2016060409/Best-0.15-SDE4RJ/blib/lib:/home/eserte/.cpan/build/2016060409/Event-Notify-0.00005-AJE33U/blib/arch:/home/eserte/.cpan/build/2016060409/Event-Notify-0.00005-AJE33U/blib/lib:/home/eserte/.cpan/build/2016060409/POE-Component-Logger-1.10-2bMw1S/blib/arch:/home/eserte/.cpan/build/2016060409/POE-Component-Logger-1.10-2bMw1S/blib/lib:/home/eserte/.cpan/build/2016060409/Exception-Class-DBI-1.01-oPQphj/blib/arch:/home/eserte/.cpan/build/2016060409/Exception-Class-DBI-1.01-oPQphj/blib/lib:/home/eserte/.cpan/build/2016060409/POE-Filter-Stomp-0.04-2FJzDb/blib/arch:/home/eserte/.cpan/build/2016060409/POE-Filter-Stomp-0.04-2FJzDb/blib/lib"
    PERL5OPT=""
    PERL5_CPANPLUS_IS_RUNNING="44047"
    PERL5_CPAN_IS_RUNNING="44047"
    PERL5_CPAN_IS_RUNNING_IN_RECURSION="55625,44047"
    PERLDOC="-MPod::Perldoc::ToTextOverstrike"
    PERL_BATCH="yes"
    PERL_CANARY_STABILITY_NOPROMPT="1"
    PERL_CPAN_REPORTER_CONFIG="/var/tmp/cpansmoker-1002/2016060409/cpanreporter_007_config.ini"
    PERL_EXTUTILS_AUTOINSTALL="--defaultdeps"
  @INC:
    /home/eserte/.cpan/build/2016060409/Best-0.15-SDE4RJ/blib/arch
    /home/eserte/.cpan/build/2016060409/Best-0.15-SDE4RJ/blib/lib
    /home/eserte/.cpan/build/2016060409/Event-Notify-0.00005-AJE33U/blib/arch
    /home/eserte/.cpan/build/2016060409/Event-Notify-0.00005-AJE33U/blib/lib
    /home/eserte/.cpan/build/2016060409/POE-Component-Logger-1.10-2bMw1S/blib/arch
    /home/eserte/.cpan/build/2016060409/POE-Component-Logger-1.10-2bMw1S/blib/lib
    /home/eserte/.cpan/build/2016060409/Exception-Class-DBI-1.01-oPQphj/blib/arch
    /home/eserte/.cpan/build/2016060409/Exception-Class-DBI-1.01-oPQphj/blib/lib
    /home/eserte/.cpan/build/2016060409/POE-Filter-Stomp-0.04-2FJzDb/blib/arch
    /home/eserte/.cpan/build/2016060409/POE-Filter-Stomp-0.04-2FJzDb/blib/lib
    /usr/perl5.10.1p/lib/5.10.1/amd64-freebsd
    /usr/perl5.10.1p/lib/5.10.1
    /usr/perl5.10.1p/lib/site_perl/5.10.1/amd64-freebsd
    /usr/perl5.10.1p/lib/site_perl/5.10.1
    .