Dist-Zilla-Plugin-CopyFilesFromBuild v0.170880 Perl 5 v5.43.2 x86_64-linux

Status
Pass
From
John SJ Anderson
Dist
Dist-Zilla-Plugin-CopyFilesFromBuild v0.170880
Platform
Perl 5 v5.43.2 x86_64-linux
Date
2025-08-21 00:23:46
ID
1a1fb954-7e25-11f0-881c-f8aa05a44f5c
This distribution has been tested as part of the CPAN Testers
project, supporting the Perl programming language.  See
http://wiki.cpantesters.org/ for more information or email
questions to cpan-testers-discuss@perl.org


--
Dear RTHOMPSON,

This is a computer-generated report for Dist-Zilla-Plugin-CopyFilesFromBuild-0.170880
on perl 5.43.2, created by App::cpanminus::reporter 0.22 (1.7048).

Thank you for uploading your work to CPAN.  Congratulations!
All tests were successful.

Sections of this report:

    * Tester comments
    * Program output
    * Prerequisites
    * Environment and other context

------------------------------
TESTER COMMENTS
------------------------------

Additional comments from tester:

none provided

------------------------------
PROGRAM OUTPUT
------------------------------

Output from '':

Building and testing Dist-Zilla-Plugin-CopyFilesFromBuild-0.170880
cp lib/Dist/Zilla/Plugin/CopyFilesFromBuild.pm blib/lib/Dist/Zilla/Plugin/CopyFilesFromBuild.pm
Manifying 1 pod document
PERL_DL_NONLAZY=1 "/opt/plenv/versions/5.43.2/bin/perl5.43.2" "-MExtUtils::Command::MM" "-MTest::Harness" "-e" "undef *Test::Harness::Switches; test_harness(0, 'blib/lib', 'blib/arch')" t/*.t
t/00-compile.t ........... ok
# Testing with Perl 5.043002, /opt/plenv/versions/5.43.2/bin/perl5.43.2
#     Carp version is 1.54
#     Dist::Zilla::Plugin::ReadmeAnyFromPod version is 0.163250
#     Dist::Zilla::Role::AfterBuild version is 6.033
#     ExtUtils::MakeMaker version is 7.76
#     File::Copy version is 2.42
#     File::Spec version is 3.94
#     IO::File version is 1.55
#     IO::Handle version is 1.55
#     IPC::Open3 version is 1.24
#     List::Util version is 1.70
#     Moose version is 2.4000
#     MooseX::Has::Sugar version is 1.000006
#     Path::Tiny version is 0.150
#     Scalar::Util version is 1.70
#     Set::Scalar version is 1.29
#     Test::DZil version is 6.033
#     Test::Exception version is 0.43
#     Test::More version is 1.302214
#     Test::Most version is 0.38
#     autodie version is 2.37
#     blib version is 1.07
#     strict version is 1.14
#     utf8 version is 1.27
#     warnings version is 1.74
t/000-report-versions.t .. ok
t/author-critic.t ........ skipped: these tests are for testing by the author
t/author-pod-coverage.t .. skipped: these tests are for testing by the author
t/author-pod-syntax.t .... skipped: these tests are for testing by the author
Possible attempt to escape whitespace in qw() list at /opt/plenv/versions/5.43.2/lib/perl5/site_perl/5.43.2/Sub/Quote.pm line 64.
t/basic.t ................ ok
t/release-has-version.t .. skipped: these tests are for release candidate testing
t/release-kwalitee.t ..... skipped: these tests are for release candidate testing
t/release-portability.t .. skipped: these tests are for release candidate testing
t/release-unused-vars.t .. skipped: these tests are for release candidate testing
All tests successful.
Files=10, Tests=34,  1 wallclock secs ( 0.02 usr  0.00 sys +  1.05 cusr  0.10 csys =  1.17 CPU)
Result: PASS

------------------------------
PREREQUISITES
------------------------------

Prerequisite modules loaded:

runtime:

    Module                        Need  Have    
    ----------------------------- ----- --------
    Dist::Zilla::Role::AfterBuild 0     6.033   
    File::Copy                    0     2.42    
    IO::File                      0     1.55    
    List::Util                    1.33  1.70    
    Moose                         0     2.4000  
    MooseX::Has::Sugar            0     1.000006
    Path::Tiny                    0     0.150   
    perl                          5.008 5.043002
    Set::Scalar                   0     1.29    
    strict                        0     1.14    
    utf8                          0     1.27    
    warnings                      0     1.74    

build:

    Module                        Need  Have    
    ----------------------------- ----- --------
    ExtUtils::MakeMaker           0     7.76    

configure:

    Module                        Need  Have    
    ----------------------------- ----- --------
    ExtUtils::MakeMaker           0     7.76    


------------------------------
ENVIRONMENT AND OTHER CONTEXT
------------------------------

Environment variables:

    LANG = en_US.UTF-8
    LC_ALL = en_US.UTF-8
    LC_TERMINAL = iTerm2
    LC_TERMINAL_VERSION = 3.5.10
    PATH = /opt/plenv/versions/5.43.2/bin:/opt/plenv/libexec:/opt/plenv/plugins/perl-build/bin:/opt/local/bin:/home/genehack/bin:/opt/miniconda3/condabin:/opt/plenv/shims:/opt/plenv/bin:/opt/go/bin:/opt/git/bin:/opt/emacs/bin:/opt/local/bin:/usr/local/bin:/usr/bin:/bin:/usr/games:/opt/rust/cargo/bin
    PERL_CPANM_OPT = --skip-installed --prompt
    SHELL = /bin/zsh
    TERM = screen-256color

Perl special variables (and OS-specific diagnostics, for MSWin32):

    EGID = 1001 113 122 1001
    EUID = 1001
    EXECUTABLE_NAME = /opt/plenv/versions/5.43.2/bin/perl5.43.2
    GID = 1001 113 122 1001
    UID = 1001

Perl module toolchain versions installed:

    Module              Have    
    ------------------- --------
    CPAN                2.38    
    CPAN::Meta          2.150010
    Cwd                 3.94    
    ExtUtils::CBuilder  0.280242
    ExtUtils::Command   7.76    
    ExtUtils::Install   2.22    
    ExtUtils::MakeMaker 7.76    
    ExtUtils::Manifest  1.75    
    ExtUtils::ParseXS   3.59    
    File::Spec          3.94    
    JSON                4.10    
    JSON::PP            4.16    
    Module::Build       0.4234  
    Module::Signature   n/a     
    Parse::CPAN::Meta   2.150010
    Test::Harness       3.52    
    Test::More          1.302214
    YAML                1.31    
    YAML::Syck          n/a     
    version             0.9933  


--

Summary of my perl5 (revision 5 version 43 subversion 2) configuration:
   
  Platform:
    osname=linux
    osvers=5.10.0-20-amd64
    archname=x86_64-linux
    uname='linux doof 5.10.0-20-amd64 #1 smp debian 5.10.158-2 (2022-12-13) x86_64 gnulinux '
    config_args='-Dprefix=/opt/plenv/versions/5.43.2 -de -Dversiononly -Dusedevel -A'eval:scriptdir=/opt/plenv/versions/5.43.2/bin''
    hint=recommended
    useposix=true
    d_sigaction=define
    useithreads=undef
    usemultiplicity=undef
    use64bitint=define
    use64bitall=define
    uselongdouble=undef
    usemymalloc=n
    default_inc_excludes_dot=define
  Compiler:
    cc='cc'
    ccflags ='-fwrapv -fno-strict-aliasing -pipe -fstack-protector-strong -I/usr/local/include -D_LARGEFILE_SOURCE -D_FILE_OFFSET_BITS=64 -D_FORTIFY_SOURCE=2'
    optimize='-O2'
    cppflags='-fwrapv -fno-strict-aliasing -pipe -fstack-protector-strong -I/usr/local/include'
    ccversion=''
    gccversion='14.2.0'
    gccosandvers=''
    intsize=4
    longsize=8
    ptrsize=8
    doublesize=8
    byteorder=12345678
    doublekind=3
    d_longlong=define
    longlongsize=8
    d_longdbl=define
    longdblsize=16
    longdblkind=3
    ivtype='long'
    ivsize=8
    nvtype='double'
    nvsize=8
    Off_t='off_t'
    lseeksize=8
    alignbytes=8
    prototype=define
  Linker and Libraries:
    ld='cc'
    ldflags =' -fstack-protector-strong -L/usr/local/lib'
    libpth=/usr/local/lib /usr/lib/x86_64-linux-gnu /usr/lib /usr/lib64
    libs=-lpthread -lgdbm -ldl -lm -lcrypt -lutil -lc
    perllibs=-lpthread -ldl -lm -lcrypt -lutil -lc
    libc=/lib/x86_64-linux-gnu/libc.so.6
    so=so
    useshrplib=false
    libperl=libperl.a
    gnulibc_version='2.41'
  Dynamic Linking:
    dlsrc=dl_dlopen.xs
    dlext=so
    d_dlsymun=undef
    ccdlflags='-Wl,-E'
    cccdlflags='-fPIC'
    lddlflags='-shared -O2 -L/usr/local/lib -fstack-protector-strong'


Characteristics of this binary (from libperl): 
  Compile-time options:
    HAS_LONG_DOUBLE
    HAS_STRTOLD
    HAS_TIMES
    PERLIO_LAYERS
    PERL_COPY_ON_WRITE
    PERL_DONT_CREATE_GVSV
    PERL_HASH_FUNC_SIPHASH13
    PERL_HASH_USE_SBOX32
    PERL_MALLOC_WRAP
    PERL_OP_PARENT
    PERL_PRESERVE_IVUV
    PERL_USE_DEVEL
    PERL_USE_SAFE_PUTENV
    USE_64_BIT_ALL
    USE_64_BIT_INT
    USE_LARGE_FILES
    USE_LOCALE
    USE_LOCALE_COLLATE
    USE_LOCALE_CTYPE
    USE_LOCALE_NUMERIC
    USE_LOCALE_TIME
    USE_PERLIO
    USE_PERL_ATOF
  Built under linux
  Compiled at Aug 20 2025 15:38:45
  %ENV:
    PERL_CPANM_OPT="--skip-installed --prompt"
  @INC:
    /opt/plenv/versions/5.43.2/lib/perl5/site_perl/5.43.2/x86_64-linux
    /opt/plenv/versions/5.43.2/lib/perl5/site_perl/5.43.2
    /opt/plenv/versions/5.43.2/lib/perl5/5.43.2/x86_64-linux
    /opt/plenv/versions/5.43.2/lib/perl5/5.43.2