Report for Bot-BasicBot-Pluggable-0.98

Back
From: metabase:user:314402c4-2aae-11df-837a-5e0a49663a4f
Subject: PASS Bot-BasicBot-Pluggable-0.98 v5.22.0 GNU/Linux
Date: 2016-06-10T08:41:19Z

This distribution has been tested as part of the CPAN Testers
project, supporting the Perl programming language.  See
http://wiki.cpantesters.org/ for more information or email
questions to cpan-testers-discuss@perl.org


--
Dear Mike Eldridge,

This is a computer-generated report for Bot-BasicBot-Pluggable-0.98
on perl 5.22.0, created by CPAN-Reporter-1.2017.

Thank you for uploading your work to CPAN.  Congratulations!
All tests were successful.

Sections of this report:

    * Tester comments
    * Program output
    * Prerequisites
    * Environment and other context

------------------------------
TESTER COMMENTS
------------------------------

Additional comments from tester:

none provided

------------------------------
PROGRAM OUTPUT
------------------------------

Output from './Build test':

t/00bootstrap.t ........... ok
t/01module_base.t ......... ok
Loading Auth from Bot/BasicBot/Pluggable/Module/Auth.pm at /tmpfs/.cpan-build-cpansand/2016061006/Bot-BasicBot-Pluggable-0.98-W9rxe2/blib/lib/Bot/BasicBot/Pluggable.pm line 106.
t/02module_auth.t ......... ok
t/03store.t ............... ok
t/03store_dbi.t ........... ok
t/03store_deep.t .......... ok
t/03store_memory.t ........ ok
t/03store_storable.t ...... ok
Loading Karma from Bot/BasicBot/Pluggable/Module/Karma.pm at /tmpfs/.cpan-build-cpansand/2016061006/Bot-BasicBot-Pluggable-0.98-W9rxe2/blib/lib/Bot/BasicBot/Pluggable.pm line 106.
Use of uninitialized value $param in substitution (s///) at /tmpfs/.cpan-build-cpansand/2016061006/Bot-BasicBot-Pluggable-0.98-W9rxe2/blib/lib/Bot/BasicBot/Pluggable/Module/Karma.pm line 66.
t/04karma.t ............... ok
Loading Infobot from Bot/BasicBot/Pluggable/Module/Infobot.pm at /tmpfs/.cpan-build-cpansand/2016061006/Bot-BasicBot-Pluggable-0.98-W9rxe2/blib/lib/Bot/BasicBot/Pluggable.pm line 106.
t/05infobot.t ............. ok
Loading Title from Bot/BasicBot/Pluggable/Module/Title.pm at /tmpfs/.cpan-build-cpansand/2016061006/Bot-BasicBot-Pluggable-0.98-W9rxe2/blib/lib/Bot/BasicBot/Pluggable.pm line 106.
Loading Infobot from Bot/BasicBot/Pluggable/Module/Infobot.pm at /tmpfs/.cpan-build-cpansand/2016061006/Bot-BasicBot-Pluggable-0.98-W9rxe2/blib/lib/Bot/BasicBot/Pluggable.pm line 106.
t/06title.t ............... ok
Loading Auth from Bot/BasicBot/Pluggable/Module/Auth.pm at /tmpfs/.cpan-build-cpansand/2016061006/Bot-BasicBot-Pluggable-0.98-W9rxe2/blib/lib/Bot/BasicBot/Pluggable.pm line 106.
Loading Loader from Bot/BasicBot/Pluggable/Module/Loader.pm at /tmpfs/.cpan-build-cpansand/2016061006/Bot-BasicBot-Pluggable-0.98-W9rxe2/blib/lib/Bot/BasicBot/Pluggable.pm line 106.
t/07app_defaults.t ........ ok
Loading Karma from Bot/BasicBot/Pluggable/Module/Karma.pm at /tmpfs/.cpan-build-cpansand/2016061006/Bot-BasicBot-Pluggable-0.98-W9rxe2/blib/lib/Bot/BasicBot/Pluggable.pm line 106.
Loading Auth from Bot/BasicBot/Pluggable/Module/Auth.pm at /tmpfs/.cpan-build-cpansand/2016061006/Bot-BasicBot-Pluggable-0.98-W9rxe2/blib/lib/Bot/BasicBot/Pluggable.pm line 106.
t/08app_commandline.t ..... ok
Loading Loader from Bot/BasicBot/Pluggable/Module/Loader.pm at /tmpfs/.cpan-build-cpansand/2016061006/Bot-BasicBot-Pluggable-0.98-W9rxe2/blib/lib/Bot/BasicBot/Pluggable.pm line 106.
Loading Karma from Bot/BasicBot/Pluggable/Module/Karma.pm at /tmpfs/.cpan-build-cpansand/2016061006/Bot-BasicBot-Pluggable-0.98-W9rxe2/blib/lib/Bot/BasicBot/Pluggable.pm line 106.
Loading Auth from Bot/BasicBot/Pluggable/Module/Auth.pm at /tmpfs/.cpan-build-cpansand/2016061006/Bot-BasicBot-Pluggable-0.98-W9rxe2/blib/lib/Bot/BasicBot/Pluggable.pm line 106.
t/09app_configfile.t ...... ok
t/100critic.t ............. skipped: Author test.  Set $ENV{TEST_AUTHOR} to a true value to run.
t/101tidy.t ............... skipped: Author test.  Set $ENV{TEST_AUTHOR} to a true value to run.
Loading Foo from ./Foo.pm at /tmpfs/.cpan-build-cpansand/2016061006/Bot-BasicBot-Pluggable-0.98-W9rxe2/blib/lib/Bot/BasicBot/Pluggable.pm line 106.
Loading Bar from ./modules/Bar.pm at /tmpfs/.cpan-build-cpansand/2016061006/Bot-BasicBot-Pluggable-0.98-W9rxe2/blib/lib/Bot/BasicBot/Pluggable.pm line 106.
t/10modules_not_in_inc.t .. ok
t/release-pod-coverage.t .. skipped: these tests are for release candidate testing
t/release-pod-syntax.t .... skipped: these tests are for release candidate testing
All tests successful.
Files=19, Tests=248, 10 wallclock secs ( 0.10 usr  0.18 sys +  6.33 cusr  1.41 csys =  8.02 CPU)
Result: PASS

------------------------------
PREREQUISITES
------------------------------

Prerequisite modules loaded:

requires:

    Module                       Need   Have    
    ---------------------------- ------ --------
    base                         0      2.22    
    Bot::BasicBot                0.60   0.89    
    Carp                         0      1.38    
    CGI                          0      4.28    
    Config::Find                 0      0.31    
    Crypt::SaltedHash            0.06   0.09    
    Data::Dumper                 0      2.158   
    DBI                          0      1.636   
    DBM::Deep                    0      2.0013  
    File::Copy                   0      2.30    
    File::Spec                   0      3.62    
    File::Temp                   0      0.2304  
    List::MoreUtils              0      0.415   
    Log::Log4perl                1.11   1.47    
    Log::Log4perl::Level         0      0       
    LWP::UserAgent               0      6.15    
    Module::Load                 0      0.32    
    Module::Pluggable            0      5.2     
    Moose                        0      2.1803  
    Moose::Util::TypeConstraints 0      2.1803  
    MooseX::Getopt::Dashes       0      0.69    
    MooseX::SimpleConfig         0      0.11    
    perl                         v5.8.0 5.022000
    POE                          0      1.367   
    Socket                       0      2.018   
    Storable                     0      2.53    
    strict                       0      1.09    
    Text::Unidecode              0      1.27    
    Try::Tiny                    0      0.24    
    URI                          0      1.71    
    URI::Find::Simple            0      1.06    
    URI::Title                   0      1.900   
    warnings                     0      1.32    
    XML::Feed                    0      0.53    

build_requires:

    Module                       Need   Have    
    ---------------------------- ------ --------
    DBD::SQLite                  0      1.50    
    FindBin                      0      1.51    
    Module::Build                0.3601 0.4218  
    Test::More                   0      1.302015
    YAML::XS                     0      0.62    

configure_requires:

    Module                       Need   Have    
    ---------------------------- ------ --------
    ExtUtils::MakeMaker          6.30   7.16    
    Module::Build                0.3601 0.4218  


------------------------------
ENVIRONMENT AND OTHER CONTEXT
------------------------------

Environment variables:

    LANG = C
    PATH = /usr/local/bin:/usr/bin:/bin:/usr/local/sbin:/usr/sbin:/sbin:/home/cpansand/bin/linux-gnu:/home/cpansand/bin/sh:/home/cpansand/bin:/usr/games:/home/cpansand/devel:/home/eserte/src/srezic-misc/scripts
    PERL5LIB = /home/cpansand/.cpan/build/2016061006/Bot-BasicBot-0.89-y2QKL3/blib/arch:/home/cpansand/.cpan/build/2016061006/Bot-BasicBot-0.89-y2QKL3/blib/lib:/home/cpansand/.cpan/build/2016061006/URI-Find-Simple-1.06-7faIr5/blib/arch:/home/cpansand/.cpan/build/2016061006/URI-Find-Simple-1.06-7faIr5/blib/lib:/home/cpansand/.cpan/build/2016061006/URI-Title-1.900-GmPWg5/blib/arch:/home/cpansand/.cpan/build/2016061006/URI-Title-1.900-GmPWg5/blib/lib:/home/cpansand/.cpan/build/2016061006/Config-Find-0.31-fyirhB/blib/arch:/home/cpansand/.cpan/build/2016061006/Config-Find-0.31-fyirhB/blib/lib
    PERL5OPT = 
    PERL5_CPANPLUS_IS_RUNNING = 3252
    PERL5_CPAN_IS_RUNNING = 3252
    PERL5_CPAN_IS_RUNNING_IN_RECURSION = 18289,3252
    PERLDOC = -MPod::Perldoc::ToTextOverstrike
    PERL_BATCH = yes
    PERL_CANARY_STABILITY_NOPROMPT = 1
    PERL_CPAN_REPORTER_CONFIG = /run/user/1023/cpansmoker/2016061006/cpanreporter_005_config.ini
    PERL_EXTUTILS_AUTOINSTALL = --defaultdeps
    SHELL = /bin/zsh
    TERM = screen
    TMPDIR = /run/user/1023/cpansmoker/2016061006

Perl special variables (and OS-specific diagnostics, for MSWin32):

    $^X = /bbbike/perl-5.22.0/bin/perl
    $UID/$EUID = 1023 / 1023
    $GID = 1023 1023
    $EGID = 1023 1023

Perl module toolchain versions installed:

    Module              Have    
    ------------------- --------
    CPAN                2.11    
    CPAN::Meta          2.150001
    Cwd                 3.62    
    ExtUtils::CBuilder  0.280221
    ExtUtils::Command   7.16    
    ExtUtils::Install   2.04    
    ExtUtils::MakeMaker 7.16    
    ExtUtils::Manifest  1.70    
    ExtUtils::ParseXS   3.28    
    File::Spec          3.62    
    JSON                2.90    
    JSON::PP            2.27300 
    Module::Build       0.4218  
    Module::Signature   0.79    
    Parse::CPAN::Meta   1.4414  
    Test::Harness       3.35    
    Test::More          1.302015
    YAML                1.15    
    YAML::Syck          1.29    
    version             0.9917  


--

Summary of my perl5 (revision 5 version 22 subversion 0) configuration:
   
  Platform:
    osname=linux, osvers=3.16.0-4-amd64, archname=x86_64-linux
    uname='linux eserte 3.16.0-4-amd64 #1 smp debian 3.16.7-ckt25-2 (2016-04-08) x86_64 gnulinux '
    config_args='-ds -e -Dprefix=/opt/perl-5.22.0 -Dcf_email=srezic@cpan.org'
    hint=recommended, useposix=true, d_sigaction=define
    useithreads=undef, usemultiplicity=undef
    use64bitint=define, use64bitall=define, uselongdouble=undef
    usemymalloc=n, bincompat5005=undef
  Compiler:
    cc='cc', ccflags ='-fwrapv -fno-strict-aliasing -pipe -fstack-protector-strong -I/usr/local/include -D_LARGEFILE_SOURCE -D_FILE_OFFSET_BITS=64 -D_FORTIFY_SOURCE=2',
    optimize='-O2',
    cppflags='-fwrapv -fno-strict-aliasing -pipe -fstack-protector-strong -I/usr/local/include'
    ccversion='', gccversion='4.9.2', gccosandvers=''
    intsize=4, longsize=8, ptrsize=8, doublesize=8, byteorder=12345678, doublekind=3
    d_longlong=define, longlongsize=8, d_longdbl=define, longdblsize=16, longdblkind=3
    ivtype='long', ivsize=8, nvtype='double', nvsize=8, Off_t='off_t', lseeksize=8
    alignbytes=8, prototype=define
  Linker and Libraries:
    ld='cc', ldflags =' -fstack-protector-strong -L/usr/local/lib'
    libpth=/usr/local/lib /usr/lib/gcc/x86_64-linux-gnu/4.9/include-fixed /usr/include/x86_64-linux-gnu /usr/lib /lib/x86_64-linux-gnu /lib/../lib /usr/lib/x86_64-linux-gnu /usr/lib/../lib /lib
    libs=-lpthread -lnsl -lgdbm -ldb -ldl -lm -lcrypt -lutil -lc -lgdbm_compat
    perllibs=-lpthread -lnsl -ldl -lm -lcrypt -lutil -lc
    libc=libc-2.19.so, so=so, useshrplib=false, libperl=libperl.a
    gnulibc_version='2.19'
  Dynamic Linking:
    dlsrc=dl_dlopen.xs, dlext=so, d_dlsymun=undef, ccdlflags='-Wl,-E'
    cccdlflags='-fPIC', lddlflags='-shared -O2 -L/usr/local/lib -fstack-protector-strong'


Characteristics of this binary (from libperl): 
  Compile-time options: HAS_TIMES PERLIO_LAYERS PERL_DONT_CREATE_GVSV
                        PERL_HASH_FUNC_ONE_AT_A_TIME_HARD PERL_MALLOC_WRAP
                        PERL_NEW_COPY_ON_WRITE PERL_PRESERVE_IVUV
                        USE_64_BIT_ALL USE_64_BIT_INT USE_LARGE_FILES
                        USE_LOCALE USE_LOCALE_COLLATE USE_LOCALE_CTYPE
                        USE_LOCALE_NUMERIC USE_LOCALE_TIME USE_PERLIO
                        USE_PERL_ATOF
  Built under linux
  Compiled at May  7 2016 16:48:33
  %ENV:
    PERL5LIB="/home/cpansand/.cpan/build/2016061006/Bot-BasicBot-0.89-y2QKL3/blib/arch:/home/cpansand/.cpan/build/2016061006/Bot-BasicBot-0.89-y2QKL3/blib/lib:/home/cpansand/.cpan/build/2016061006/URI-Find-Simple-1.06-7faIr5/blib/arch:/home/cpansand/.cpan/build/2016061006/URI-Find-Simple-1.06-7faIr5/blib/lib:/home/cpansand/.cpan/build/2016061006/URI-Title-1.900-GmPWg5/blib/arch:/home/cpansand/.cpan/build/2016061006/URI-Title-1.900-GmPWg5/blib/lib:/home/cpansand/.cpan/build/2016061006/Config-Find-0.31-fyirhB/blib/arch:/home/cpansand/.cpan/build/2016061006/Config-Find-0.31-fyirhB/blib/lib"
    PERL5OPT=""
    PERL5_CPANPLUS_IS_RUNNING="3252"
    PERL5_CPAN_IS_RUNNING="3252"
    PERL5_CPAN_IS_RUNNING_IN_RECURSION="18289,3252"
    PERLDOC="-MPod::Perldoc::ToTextOverstrike"
    PERL_BATCH="yes"
    PERL_CANARY_STABILITY_NOPROMPT="1"
    PERL_CPAN_REPORTER_CONFIG="/run/user/1023/cpansmoker/2016061006/cpanreporter_005_config.ini"
    PERL_EXTUTILS_AUTOINSTALL="--defaultdeps"
  @INC:
    /home/cpansand/.cpan/build/2016061006/Bot-BasicBot-0.89-y2QKL3/blib/arch
    /home/cpansand/.cpan/build/2016061006/Bot-BasicBot-0.89-y2QKL3/blib/lib
    /home/cpansand/.cpan/build/2016061006/URI-Find-Simple-1.06-7faIr5/blib/arch
    /home/cpansand/.cpan/build/2016061006/URI-Find-Simple-1.06-7faIr5/blib/lib
    /home/cpansand/.cpan/build/2016061006/URI-Title-1.900-GmPWg5/blib/arch
    /home/cpansand/.cpan/build/2016061006/URI-Title-1.900-GmPWg5/blib/lib
    /home/cpansand/.cpan/build/2016061006/Config-Find-0.31-fyirhB/blib/arch
    /home/cpansand/.cpan/build/2016061006/Config-Find-0.31-fyirhB/blib/lib
    /opt/perl-5.22.0/lib/site_perl/5.22.0/x86_64-linux
    /opt/perl-5.22.0/lib/site_perl/5.22.0
    /opt/perl-5.22.0/lib/5.22.0/x86_64-linux
    /opt/perl-5.22.0/lib/5.22.0
    .