XML-Printer-ESCPOS v0.06 Perl 5 v5.24.3 OpenBSD.amd64-openbsd

Status
Pass
From
Alceu Rodrigues de Freitas Junior
Dist
XML-Printer-ESCPOS v0.06
Platform
Perl 5 v5.24.3 OpenBSD.amd64-openbsd
Date
2017-11-14 16:23:08
ID
1a0da32a-c958-11e7-af3e-3359b32fc884
This distribution has been tested as part of the CPAN Testers
project, supporting the Perl programming language.  See
http://wiki.cpantesters.org/ for more information or email
questions to cpan-testers-discuss@perl.org


--
Dear Dominic Sonntag,

This is a computer-generated report for XML-Printer-ESCPOS-0.06
on perl 5.24.3, created by CPAN-Reporter-1.2018.

Thank you for uploading your work to CPAN.  Congratulations!
All tests were successful.

Sections of this report:

    * Tester comments
    * Program output
    * Prerequisites
    * Environment and other context

------------------------------
TESTER COMMENTS
------------------------------

Additional comments from tester:

this report is from an automated smoke testing program
and was not reviewed by a human for accuracy

------------------------------
PROGRAM OUTPUT
------------------------------

Output from '/usr/bin/make test':

PERL_DL_NONLAZY=1 "/home/bar/perl5/perlbrew/perls/perl-5.24.3/bin/perl" "-MExtUtils::Command::MM" "-MTest::Harness" "-e" "undef *Test::Harness::Switches; test_harness(0, 'blib/lib', 'blib/arch')" t/*.t
# Testing XML::Printer::ESCPOS 0.06, Perl 5.024003, /home/bar/perl5/perlbrew/perls/perl-5.24.3/bin/perl
t/00-load.t ...................... ok
t/01-parse.t ..................... ok
t/02-undefined-tags.t ............ ok
t/03-qr-codes.t .................. ok
t/04-utf8imagedtext.t ............ ok
t/05-barcodes.t .................. ok
t/06-linefeed.t .................. ok
t/07-images.t .................... ok
t/08-print-area-width.t .......... ok
t/09-utf8imagedtext-word-wrap.t .. ok
t/10-text-word-wrap.t ............ ok
t/11-reset-error-message.t ....... ok
t/12-tab-positions.t ............. ok
t/13-repeat.t .................... ok
t/14-set-unset.t ................. ok
t/15-justify.t ................... ok
t/16-hr.t ........................ ok
t/17-table.t ..................... ok
t/manifest.t ..................... skipped: Author tests not required for installation
t/pod-coverage.t ................. skipped: Author tests not required for installation
t/pod.t .......................... skipped: Author tests not required for installation
All tests successful.
Files=21, Tests=194,  4 wallclock secs ( 0.04 usr  0.15 sys +  2.17 cusr  0.68 csys =  3.04 CPU)
Result: PASS

------------------------------
PREREQUISITES
------------------------------

Prerequisite modules loaded:

requires:

    Module                     Need Have    
    -------------------------- ---- --------
    Array::Utils               0    0.5     
    GD                         0    2.66    
    List::MoreUtils            0    0.426   
    perl                       5.01 5.024003
    Text::Wrapper              0    1.05    
    XML::Parser                0    2.44    

build_requires:

    Module                     Need Have    
    -------------------------- ---- --------
    Test::CheckManifest        0    1.31    
    Test::Deep                 0    1.127   
    Test::Deep::UnorderedPairs 0    0.006   
    Test::More                 0    1.302106
    Test::Pod                  0    1.51    
    Test::Pod::Coverage        0    1.10    

configure_requires:

    Module                     Need Have    
    -------------------------- ---- --------
    ExtUtils::MakeMaker        0    7.31_04 


------------------------------
ENVIRONMENT AND OTHER CONTEXT
------------------------------

Environment variables:

    AUTOMATED_TESTING = 1
    PATH = /home/bar/perl5/perlbrew/bin:/home/bar/perl5/perlbrew/perls/perl-5.24.3/bin:/home/bar/bin:/sbin:/usr/sbin:/bin:/usr/bin:/usr/X11R6/bin:/usr/local/sbin:/usr/local/bin
    PERL5LIB = 
    PERL5OPT = 
    PERL5_CPANPLUS_IS_RUNNING = 45036
    PERL5_CPAN_IS_RUNNING = 45036
    PERL5_CPAN_IS_RUNNING_IN_RECURSION = 37639,45036
    PERLBREW_BASHRC_VERSION = 0.80
    PERLBREW_HOME = /home/bar/.perlbrew
    PERLBREW_MANPATH = /home/bar/perl5/perlbrew/perls/perl-5.24.3/man
    PERLBREW_PATH = /home/bar/perl5/perlbrew/bin:/home/bar/perl5/perlbrew/perls/perl-5.24.3/bin
    PERLBREW_PERL = perl-5.24.3
    PERLBREW_ROOT = /home/bar/perl5/perlbrew
    PERLBREW_VERSION = 0.80
    PERL_CR_SMOKER_CURRENT = XML-Printer-ESCPOS-0.06
    PERL_EXTUTILS_AUTOINSTALL = --defaultdeps
    PERL_MM_USE_DEFAULT = 1
    PERL_USE_UNSAFE_INC = 1
    SHELL = /usr/local/bin/bash
    TERM = xterm

Perl special variables (and OS-specific diagnostics, for MSWin32):

    $^X = /home/bar/perl5/perlbrew/perls/perl-5.24.3/bin/perl
    $UID/$EUID = 1002 / 1002
    $GID = 1002 1002 1001
    $EGID = 1002 1002 1001

Perl module toolchain versions installed:

    Module              Have    
    ------------------- --------
    CPAN                2.19    
    CPAN::Meta          2.150010
    Cwd                 3.63_01 
    ExtUtils::CBuilder  0.280226
    ExtUtils::Command   7.31_04 
    ExtUtils::Install   2.06    
    ExtUtils::MakeMaker 7.31_04 
    ExtUtils::Manifest  1.70    
    ExtUtils::ParseXS   3.35    
    File::Spec          3.63_01 
    JSON                2.94    
    JSON::PP            2.94    
    Module::Build       0.4224  
    Module::Signature   0.81    
    Parse::CPAN::Meta   2.150010
    Test::Harness       3.40_01 
    Test::More          1.302106
    YAML                1.24    
    YAML::Syck          1.30    
    version             0.9916  


--

Summary of my perl5 (revision 5 version 24 subversion 3) configuration:
   
  Platform:
    osname=openbsd, osvers=6.1, archname=OpenBSD.amd64-openbsd
    uname='openbsd cpansmoker.my.domain 6.1 generic.mp#20 amd64 '
    config_args='-de -Dprefix=/home/bar/perl5/perlbrew/perls/perl-5.24.3 -Aeval:scriptdir=/home/bar/perl5/perlbrew/perls/perl-5.24.3/bin'
    hint=recommended, useposix=true, d_sigaction=define
    useithreads=undef, usemultiplicity=undef
    use64bitint=define, use64bitall=define, uselongdouble=undef
    usemymalloc=n, bincompat5005=undef
  Compiler:
    cc='cc', ccflags ='-fno-strict-aliasing -pipe -fstack-protector-strong -I/usr/local/include -D_FORTIFY_SOURCE=2',
    optimize='-O2',
    cppflags='-fno-strict-aliasing -pipe -fstack-protector-strong -I/usr/local/include'
    ccversion='', gccversion='4.2.1 20070719 ', gccosandvers='openbsd6.1'
    intsize=4, longsize=8, ptrsize=8, doublesize=8, byteorder=12345678, doublekind=3
    d_longlong=define, longlongsize=8, d_longdbl=define, longdblsize=16, longdblkind=3
    ivtype='long', ivsize=8, nvtype='double', nvsize=8, Off_t='off_t', lseeksize=8
    alignbytes=8, prototype=define
  Linker and Libraries:
    ld='cc', ldflags ='-Wl,-E  -fstack-protector-strong -L/usr/local/lib'
    libpth=/usr/lib /usr/local/lib
    libs=-lpthread -lm -lutil -lc
    perllibs=-lpthread -lm -lutil -lc
    libc=/usr/lib/libc.so.89.3, so=so, useshrplib=false, libperl=libperl.a
    gnulibc_version=''
  Dynamic Linking:
    dlsrc=dl_dlopen.xs, dlext=so, d_dlsymun=undef, ccdlflags=' '
    cccdlflags='-DPIC -fPIC ', lddlflags='-shared -fPIC  -L/usr/local/lib -fstack-protector-strong'


Characteristics of this binary (from libperl): 
  Compile-time options: HAS_TIMES PERLIO_LAYERS PERL_COPY_ON_WRITE
                        PERL_DONT_CREATE_GVSV
                        PERL_HASH_FUNC_ONE_AT_A_TIME_HARD PERL_MALLOC_WRAP
                        PERL_PRESERVE_IVUV USE_64_BIT_ALL USE_64_BIT_INT
                        USE_LARGE_FILES USE_LOCALE USE_LOCALE_COLLATE
                        USE_LOCALE_CTYPE USE_LOCALE_NUMERIC USE_LOCALE_TIME
                        USE_PERLIO USE_PERL_ATOF
  Locally applied patches:
	Devel::PatchPerl 1.48
  Built under openbsd
  Compiled at Nov 10 2017 21:17:21
  %ENV:
    PERL5LIB=""
    PERL5OPT=""
    PERL5_CPANPLUS_IS_RUNNING="45036"
    PERL5_CPAN_IS_RUNNING="45036"
    PERL5_CPAN_IS_RUNNING_IN_RECURSION="37639,45036"
    PERLBREW_BASHRC_VERSION="0.80"
    PERLBREW_HOME="/home/bar/.perlbrew"
    PERLBREW_MANPATH="/home/bar/perl5/perlbrew/perls/perl-5.24.3/man"
    PERLBREW_PATH="/home/bar/perl5/perlbrew/bin:/home/bar/perl5/perlbrew/perls/perl-5.24.3/bin"
    PERLBREW_PERL="perl-5.24.3"
    PERLBREW_ROOT="/home/bar/perl5/perlbrew"
    PERLBREW_VERSION="0.80"
    PERL_CR_SMOKER_CURRENT="XML-Printer-ESCPOS-0.06"
    PERL_EXTUTILS_AUTOINSTALL="--defaultdeps"
    PERL_MM_USE_DEFAULT="1"
    PERL_USE_UNSAFE_INC="1"
  @INC:
    /home/bar/perl5/perlbrew/perls/perl-5.24.3/lib/site_perl/5.24.3/OpenBSD.amd64-openbsd
    /home/bar/perl5/perlbrew/perls/perl-5.24.3/lib/site_perl/5.24.3
    /home/bar/perl5/perlbrew/perls/perl-5.24.3/lib/5.24.3/OpenBSD.amd64-openbsd
    /home/bar/perl5/perlbrew/perls/perl-5.24.3/lib/5.24.3
    .