WWW-Mechanize-PhantomJS v0.23 Perl 5 v5.32.0 RC1 x86_64-linux-ld

Status
Pass
From
Andreas J. König (ANDK)
Dist
WWW-Mechanize-PhantomJS v0.23
Platform
Perl 5 v5.32.0 RC1 x86_64-linux-ld
Date
2020-06-15 21:13:47
ID
1a03b51c-af4d-11ea-bc7b-621cc3fddcbe
This distribution has been tested as part of the CPAN Testers
project, supporting the Perl programming language.  See
http://wiki.cpantesters.org/ for more information or email
questions to cpan-testers-discuss@perl.org


--
Dear Max Maischein,

This is a computer-generated report for WWW-Mechanize-PhantomJS-0.23
on perl 5.32.0, created by CPAN-Reporter-1.2018.

Thank you for uploading your work to CPAN.  Congratulations!
All tests were successful.

Sections of this report:

    * Tester comments
    * Program output
    * Prerequisites
    * Environment and other context

------------------------------
TESTER COMMENTS
------------------------------

Additional comments from tester:

this report is from an automated smoke testing program
and was not reviewed by a human for accuracy

------------------------------
PROGRAM OUTPUT
------------------------------

Output from '/usr/bin/make test':

PERL_DL_NONLAZY=1 "/tmp/basesmoker-reloperl-R4CK/bin/perl" "-MExtUtils::Command::MM" "-MTest::Harness" "-e" "undef *Test::Harness::Switches; test_harness(0, 'blib/lib', 'blib/arch')" t/00-load.t t/49-mech-get-file.t t/49-mech-nav.t t/49-port.t t/50-click.t t/50-follow-link.t t/50-form-with-fields.t t/50-form2.t t/50-highlight-nodes.t t/50-load-and-load.t t/50-mech-content.t t/50-mech-ct.t t/50-mech-encoding.t t/50-mech-error.t t/50-mech-find-link.t t/50-mech-forms.t t/50-mech-get-nocache.t t/50-mech-get.t t/50-mech-new-dsl.t t/50-mech-post.t t/50-mech-status.t t/50-popup.t t/51-mech-form-with-fields.t t/51-mech-links.t t/51-mech-set-content.t t/51-mech-submit.t t/53-mech-capture-js-error.t t/56-render-content.t t/57-parallel.t t/58-alert.t t/59-confirm.t t/60-mech-custom-headers.t t/70-real-status.t
# Testing WWW::Mechanize::PhantomJS 0.23, Perl 5.032000
# Archive::Zip 1.68
# Archive::Zip::Archive 1.68
# Archive::Zip::DirectoryMember 1.68
# Archive::Zip::FileMember 1.68
# Archive::Zip::Member 1.68
# Archive::Zip::NewFileMember 1.68
# Archive::Zip::StringMember 1.68
# Archive::Zip::ZipFileMember 1.68
# AutoLoader 5.74
# B 1.80
# B::Hooks::EndOfScope 0.24
# B::Hooks::EndOfScope::XS 0.24
# Carp 1.50
# Carp::Heavy 1.50
# Class::Method::Modifiers 2.13
# Class::XSAccessor 1.19
# Class::XSAccessor::Heavy 1.19
# Clone 0.45
# Compress::Raw::Zlib 2.093
# Config 5.032000
# Cwd 3.78
# Data::Dumper 2.174
# DynaLoader 1.47
# Encode 3.06
# Encode::Alias 2.24
# Encode::Config 2.05
# Encode::Encoding 2.08
# Encode::MIME::Name 1.03
# Errno 1.3
# Exporter 5.74
# Exporter::Heavy 5.74
# Fcntl 1.13
# File::Basename 2.85
# File::Copy 2.34
# File::Find 1.37
# File::Path 2.16
# File::Spec 3.78
# File::Spec::Functions 3.78
# File::Spec::Unix 3.78
# File::Temp 0.2309
# FileHandle 2.03
# HTML::Selector::XPath 0.25
# HTTP::Date 6.05
# HTTP::Headers 6.24
# HTTP::Message 6.24
# HTTP::Request 6.24
# HTTP::Response 6.24
# HTTP::Status 6.24
# IO 1.43
# IO::File 1.41
# IO::Handle 1.42
# IO::Seekable 1.41
# IO::Socket 1.43
# IO::Socket::INET 1.41
# IO::Socket::UNIX 1.41
# IO::String 1.08
# JSON 4.02
# JSON::XS 4.02
# LWP 6.45
# LWP::MemberMixin 6.45
# LWP::Protocol 6.45
# LWP::UserAgent 6.45
# List::Util 1.55
# Log::Agent 1.003
# Log::Agent::Formatting <unknown>
# Log::Agent::Message <unknown>
# Log::Agent::Priorities <unknown>
# MIME::Base64 3.15
# Method::Generate::Accessor <unknown>
# Method::Generate::Constructor <unknown>
# Module::Implementation 0.09
# Module::Runtime 0.016
# Moo 2.004000
# Moo::Object <unknown>
# Moo::Role 2.004000
# Moo::_Utils <unknown>
# Moo::_mro <unknown>
# Moo::_strictures <unknown>
# Moo::sification <unknown>
# POSIX 1.94
# Package::Stash 0.38
# Package::Stash::XS 0.29
# PerlIO 1.11
# Role::Tiny 2.001004
# Scalar::Util 1.55
# SelectSaver 1.02
# Selenium::Remote::Commands 1.37
# Selenium::Remote::Driver 1.37
# Selenium::Remote::Driver::CanSetWebdriverContext 1.37
# Selenium::Remote::ErrorHandler 1.37
# Selenium::Remote::Finders 1.37
# Selenium::Remote::RemoteConnection 1.37
# Selenium::Remote::Spec 1.37
# Selenium::Remote::WDKeys 1.37
# Selenium::Remote::WebElement 1.37
# Socket 2.029
# Storable 3.21
# Sub::Defer 2.006006
# Sub::Exporter::Progressive 0.001013
# Sub::Install 0.928
# Sub::Quote 2.006006
# Sub::Util 1.55
# Symbol 1.08
# Test::Builder 1.302175
# Test::Builder::Formatter 1.302175
# Test::Builder::Module 1.302175
# Test::Builder::TodoDiag 1.302175
# Test::More 1.302175
# Test2::API 1.302175
# Test2::API::Context 1.302175
# Test2::API::Instance 1.302175
# Test2::API::Stack 1.302175
# Test2::Event 1.302175
# Test2::Event::Bail 1.302175
# Test2::Event::Diag 1.302175
# Test2::Event::Exception 1.302175
# Test2::Event::Fail 1.302175
# Test2::Event::Note 1.302175
# Test2::Event::Ok 1.302175
# Test2::Event::Pass 1.302175
# Test2::Event::Plan 1.302175
# Test2::Event::Skip 1.302175
# Test2::Event::Subtest 1.302175
# Test2::Event::V2 1.302175
# Test2::Event::Waiting 1.302175
# Test2::EventFacet 1.302175
# Test2::EventFacet::About 1.302175
# Test2::EventFacet::Amnesty 1.302175
# Test2::EventFacet::Assert 1.302175
# Test2::EventFacet::Control 1.302175
# Test2::EventFacet::Error 1.302175
# Test2::EventFacet::Hub 1.302175
# Test2::EventFacet::Info 1.302175
# Test2::EventFacet::Meta 1.302175
# Test2::EventFacet::Parent 1.302175
# Test2::EventFacet::Plan 1.302175
# Test2::EventFacet::Trace 1.302175
# Test2::Formatter 1.302175
# Test2::Formatter::TAP 1.302175
# Test2::Hub 1.302175
# Test2::Hub::Interceptor 1.302175
# Test2::Hub::Interceptor::Terminator 1.302175
# Test2::Hub::Subtest 1.302175
# Test2::Util 1.302175
# Test2::Util::ExternalMeta 1.302175
# Test2::Util::Facets2Legacy 1.302175
# Test2::Util::HashBase 1.302175
# Test2::Util::Trace 1.302175
# Tie::Hash 1.05
# Time::HiRes 1.9764
# Time::Local 1.28
# Try::Tiny 0.30
# Types::Serialiser 1.0
# URI 1.76
# URI::Escape 3.31
# Variable::Magic 0.62
# WWW::Mechanize::Link 2.00
# WWW::Mechanize::PhantomJS 0.23
# WWW::Mechanize::Plugin::Selector 0.23
# XSLoader 0.30
# attributes 0.33
# base 2.27
# bytes 1.07
# common::sense 3.75
# constant 1.33
# integer 1.01
# mro 1.23
# namespace::clean 0.27
# namespace::clean::_Util <unknown>
# overload 1.31
# overloading 0.02
# parent 0.238
# re 0.40
# strict 1.11
# vars 1.05
# warnings 1.47
# warnings::register 1.04
t/00-load.t ................... ok
t/49-mech-get-file.t .......... skipped: Couldn't connect to PhantomJS:
t/49-mech-nav.t ............... skipped: Couldn't connect to PhantomJS:
t/49-port.t ................... skipped: Couldn't connect to PhantomJS:
t/50-click.t .................. skipped: Couldn't connect to PhantomJS:
t/50-follow-link.t ............ skipped: Couldn't connect to PhantomJS:
t/50-form-with-fields.t ....... skipped: Couldn't connect to PhantomJS:
t/50-form2.t .................. skipped: Couldn't connect to PhantomJS:
t/50-highlight-nodes.t ........ skipped: Couldn't connect to PhantomJS:
t/50-load-and-load.t .......... skipped: Couldn't connect to PhantomJS:
t/50-mech-content.t ........... skipped: Couldn't connect to PhantomJS:
t/50-mech-ct.t ................ skipped: Couldn't connect to PhantomJS:
t/50-mech-encoding.t .......... skipped: Couldn't connect to PhantomJS:
t/50-mech-error.t ............. skipped: Couldn't connect to PhantomJS:
t/50-mech-find-link.t ......... skipped: Couldn't connect to PhantomJS:
t/50-mech-forms.t ............. skipped: Couldn't connect to PhantomJS:
t/50-mech-get-nocache.t ....... skipped: Couldn't connect to PhantomJS:
t/50-mech-get.t ............... skipped: Couldn't connect to PhantomJS:
Can't exec "phantomjs": No such file or directory at /tmp/loop_over_bdir-29862-SboPNA/WWW-Mechanize-PhantomJS-0.23-0/blib/lib/WWW/Mechanize/PhantomJS.pm line 194.
t/50-mech-new-dsl.t ........... skipped: Couldn't connect to PhantomJS: Couldn't launch [phantomjs /tmp/loop_over_bdir-29862-SboPNA/WWW-Mechanize-PhantomJS-0.23-0/blib/lib/WWW/Mechanize/PhantomJS/ghostdriver/main.js --port=8910 --logLevel=OFF]: No such file or directory / 0 at /tmp/loop_over_bdir-29862-SboPNA/WWW-Mechanize-PhantomJS-0.23-0/blib/lib/WWW/Mechanize/PhantomJS.pm line 194.
t/50-mech-post.t .............. skipped: Couldn't connect to PhantomJS:
t/50-mech-status.t ............ skipped: Couldn't connect to PhantomJS:
t/50-popup.t .................. skipped: Opening windows are not yet tracked
t/51-mech-form-with-fields.t .. skipped: Couldn't connect to PhantomJS:
t/51-mech-links.t ............. skipped: Couldn't connect to PhantomJS:
t/51-mech-set-content.t ....... skipped: Couldn't connect to PhantomJS:
t/51-mech-submit.t ............ skipped: Couldn't connect to PhantomJS:
t/53-mech-capture-js-error.t .. skipped: Couldn't connect to PhantomJS:
t/56-render-content.t ......... skipped: Couldn't connect to PhantomJS:
t/57-parallel.t ............... skipped: Couldn't connect to PhantomJS:
t/58-alert.t .................. skipped: Couldn't connect to PhantomJS:
t/59-confirm.t ................ skipped: Couldn't connect to PhantomJS:
t/60-mech-custom-headers.t .... skipped: Couldn't connect to PhantomJS:
t/70-real-status.t ............ skipped: Couldn't connect to PhantomJS:
All tests successful.
Files=33, Tests=1, 10 wallclock secs ( 0.08 usr  0.17 sys +  6.55 cusr  2.23 csys =  9.03 CPU)
Result: PASS

------------------------------
PREREQUISITES
------------------------------

Prerequisite modules loaded:

requires:

    Module                   Need  Have    
    ------------------------ ----- --------
    Carp                     0     1.50    
    HTML::Selector::XPath    0     0.25    
    HTTP::Response           0     6.24    
    IO::Socket::INET         0     1.41    
    Object::Import           0     1.005   
    perl                     5.006 5.032000
    Scalar::Util             0     1.55    
    Selenium::Remote::Driver 0.18  1.37    
    WWW::Mechanize::Link     0     2.00    

build_requires:

    Module                   Need  Have    
    ------------------------ ----- --------
    ExtUtils::MakeMaker      0     7.44    
    File::Basename           0     2.85    
    File::Copy               0     2.34    
    File::Find               0     1.37    
    File::Path               0     2.16    
    File::Temp               0     0.2309  
    HTTP::Daemon             0     6.12    
    LWP::Simple              0     6.45    
    Test::HTTP::LocalServer  0     0.71    
    Test::More               0     1.302175
    Time::HiRes              0     1.9764  
    URI                      0     1.76    
    URI::file                0     4.21    

configure_requires:

    Module                   Need  Have    
    ------------------------ ----- --------
    ExtUtils::MakeMaker      0     7.44    


------------------------------
ENVIRONMENT AND OTHER CONTEXT
------------------------------

Environment variables:

    AUTOMATED_TESTING = 1
    LANG = en_US.UTF-8
    PATH = /home/sand/bin:/usr/local/bin:/usr/local/sbin:/usr/sbin:/usr/bin:/sbin:/bin:/usr/games:/usr/local/games:/usr/local/perl/bin:/usr/X11/bin
    PERL = /tmp/basesmoker-reloperl-R4CK/bin/perl
    PERL5LIB = /tmp/loop_over_bdir-29862-SboPNA/LiquidWeb-Storm-CLI-1.03-0/blib/arch:/tmp/loop_over_bdir-29862-SboPNA/LiquidWeb-Storm-CLI-1.03-0/blib/lib:/tmp/loop_over_bdir-29862-SboPNA/Lemonldap-NG-Cli-0.2-0/blib/arch:/tmp/loop_over_bdir-29862-SboPNA/Lemonldap-NG-Cli-0.2-0/blib/lib:/tmp/loop_over_bdir-29862-SboPNA/mmds-1.902-0/blib/arch:/tmp/loop_over_bdir-29862-SboPNA/mmds-1.902-0/blib/lib:/tmp/loop_over_bdir-29862-SboPNA/CORBA-Python-2.66-0/blib/arch:/tmp/loop_over_bdir-29862-SboPNA/CORBA-Python-2.66-0/blib/lib:/tmp/loop_over_bdir-29862-SboPNA/CGI-Application-NetNewsIface-0.0204-0/blib/arch:/tmp/loop_over_bdir-29862-SboPNA/CGI-Application-NetNewsIface-0.0204-0/blib/lib:/tmp/loop_over_bdir-29862-SboPNA/HTML-Menu-TreeView-1.22-0/blib/arch:/tmp/loop_over_bdir-29862-SboPNA/HTML-Menu-TreeView-1.22-0/blib/lib:/tmp/loop_over_bdir-29862-SboPNA/shishi-0.0.1-0/blib/arch:/tmp/loop_over_bdir-29862-SboPNA/shishi-0.0.1-0/blib/lib:/tmp/loop_over_bdir-29862-SboPNA/makepp-1.19-0/blib/arch:/tmp/loop_over_bdir-29862-SboPNA/makepp-1.19-0/blib/lib:/tmp/loop_over_bdir-29862-SboPNA/MP3-PodcastFetch-1.05-0/blib/arch:/tmp/loop_over_bdir-29862-SboPNA/MP3-PodcastFetch-1.05-0/blib/lib:/tmp/loop_over_bdir-29862-SboPNA/Simulation-Automate-1.0.1-0/blib/arch:/tmp/loop_over_bdir-29862-SboPNA/Simulation-Automate-1.0.1-0/blib/lib:/tmp/loop_over_bdir-29862-SboPNA/Serge-1.4-0/blib/arch:/tmp/loop_over_bdir-29862-SboPNA/Serge-1.4-0/blib/lib:/tmp/loop_over_bdir-29862-SboPNA/Dpkg-1.20.0-0/blib/arch:/tmp/loop_over_bdir-29862-SboPNA/Dpkg-1.20.0-0/blib/lib:/tmp/loop_over_bdir-29862-SboPNA/Business-Shipping-DataFiles-1.02-0/blib/arch:/tmp/loop_over_bdir-29862-SboPNA/Business-Shipping-DataFiles-1.02-0/blib/lib:/tmp/loop_over_bdir-29862-SboPNA/DBIx-Migration-Directories-0.12-0/blib/arch:/tmp/loop_over_bdir-29862-SboPNA/DBIx-Migration-Directories-0.12-0/blib/lib
    PERL5OPT = 
    PERL5_CPANPLUS_IS_RUNNING = 29870
    PERL5_CPAN_IS_RUNNING = 29870
    PERL_CANARY_STABILITY_NOPROMPT = 1
    PERL_MM_USE_DEFAULT = 1
    PERL_USE_UNSAFE_INC = 1
    SHELL = /usr/bin/zsh
    TERM = screen

Perl special variables (and OS-specific diagnostics, for MSWin32):

    $^X = /tmp/basesmoker-reloperl-R4CK/bin/perl
    $UID/$EUID = 1005 / 1005
    $GID = 1005 1005
    $EGID = 1005 1005

Perl module toolchain versions installed:

    Module              Have    
    ------------------- --------
    CPAN                2.28    
    CPAN::Meta          2.150010
    Cwd                 3.78    
    ExtUtils::CBuilder  0.280234
    ExtUtils::Command   7.44    
    ExtUtils::Install   2.14    
    ExtUtils::MakeMaker 7.44    
    ExtUtils::Manifest  1.72    
    ExtUtils::ParseXS   3.40    
    File::Spec          3.78    
    JSON                4.02    
    JSON::PP            4.04    
    Module::Build       0.4231  
    Module::Signature   0.83    
    Parse::CPAN::Meta   2.150010
    Test::Harness       3.42    
    Test::More          1.302175
    YAML                1.30    
    YAML::Syck          1.32    
    version             0.9924  


--

Summary of my perl5 (revision 5 version 32 subversion 0) configuration:
  Commit id: 61b20b316a2cd57a35be013f894c14399b57e7df
  Platform:
    osname=linux
    osvers=4.15.0-101-generic
    archname=x86_64-linux-ld
    uname='linux k93bionic 4.15.0-101-generic #102-ubuntu smp mon may 11 10:07:26 utc 2020 x86_64 x86_64 x86_64 gnulinux '
    config_args='-Dprefix=/home/sand/src/perl/repoperls/installed-perls/host/k93bionic/v5.32.0-RC1/ca05 -Dmyhostname=k93bionic -Dinstallusrbinperl=n -Uversiononly -Dusedevel -des -Ui_db -Dlibswanted=cl pthread socket inet nsl gdbm dbm malloc dl ld sun m crypt sec util c cposix posix ucb BSD gdbm_compat -Uuseithreads -Duselongdouble -DEBUGGING=-g'
    hint=recommended
    useposix=true
    d_sigaction=define
    useithreads=undef
    usemultiplicity=undef
    use64bitint=define
    use64bitall=define
    uselongdouble=define
    usemymalloc=n
    default_inc_excludes_dot=define
    bincompat5005=undef
  Compiler:
    cc='cc'
    ccflags ='-fwrapv -fno-strict-aliasing -pipe -fstack-protector-strong -I/usr/local/include -D_LARGEFILE_SOURCE -D_FILE_OFFSET_BITS=64'
    optimize='-O2 -g'
    cppflags='-fwrapv -fno-strict-aliasing -pipe -fstack-protector-strong -I/usr/local/include'
    ccversion=''
    gccversion='7.5.0'
    gccosandvers=''
    intsize=4
    longsize=8
    ptrsize=8
    doublesize=8
    byteorder=12345678
    doublekind=3
    d_longlong=define
    longlongsize=8
    d_longdbl=define
    longdblsize=16
    longdblkind=3
    ivtype='long'
    ivsize=8
    nvtype='long double'
    nvsize=16
    Off_t='off_t'
    lseeksize=8
    alignbytes=16
    prototype=define
  Linker and Libraries:
    ld='cc'
    ldflags =' -fstack-protector-strong -L/usr/local/lib'
    libpth=/usr/local/lib /usr/lib/gcc/x86_64-linux-gnu/7/include-fixed /usr/include/x86_64-linux-gnu /usr/lib /lib/x86_64-linux-gnu /lib/../lib /usr/lib/x86_64-linux-gnu /usr/lib/../lib /lib
    libs=-lpthread -lnsl -ldl -lm -lcrypt -lutil -lc
    perllibs=-lpthread -lnsl -ldl -lm -lcrypt -lutil -lc
    libc=libc-2.27.so
    so=so
    useshrplib=false
    libperl=libperl.a
    gnulibc_version='2.27'
  Dynamic Linking:
    dlsrc=dl_dlopen.xs
    dlext=so
    d_dlsymun=undef
    ccdlflags='-Wl,-E'
    cccdlflags='-fPIC'
    lddlflags='-shared -O2 -g -L/usr/local/lib -fstack-protector-strong'


Characteristics of this binary (from libperl): 
  Compile-time options:
    HAS_TIMES
    PERLIO_LAYERS
    PERL_COPY_ON_WRITE
    PERL_DONT_CREATE_GVSV
    PERL_MALLOC_WRAP
    PERL_OP_PARENT
    PERL_PRESERVE_IVUV
    PERL_USE_DEVEL
    USE_64_BIT_ALL
    USE_64_BIT_INT
    USE_LARGE_FILES
    USE_LOCALE
    USE_LOCALE_COLLATE
    USE_LOCALE_CTYPE
    USE_LOCALE_NUMERIC
    USE_LOCALE_TIME
    USE_LONG_DOUBLE
    USE_PERLIO
    USE_PERL_ATOF
  Locally applied patches:
    RC1
  Built under linux
  Compiled at Jun 11 2020 19:59:30
  %ENV:
    PERL="/tmp/basesmoker-reloperl-R4CK/bin/perl"
    PERL5LIB="/tmp/loop_over_bdir-29862-SboPNA/LiquidWeb-Storm-CLI-1.03-0/blib/arch:/tmp/loop_over_bdir-29862-SboPNA/LiquidWeb-Storm-CLI-1.03-0/blib/lib:/tmp/loop_over_bdir-29862-SboPNA/Lemonldap-NG-Cli-0.2-0/blib/arch:/tmp/loop_over_bdir-29862-SboPNA/Lemonldap-NG-Cli-0.2-0/blib/lib:/tmp/loop_over_bdir-29862-SboPNA/mmds-1.902-0/blib/arch:/tmp/loop_over_bdir-29862-SboPNA/mmds-1.902-0/blib/lib:/tmp/loop_over_bdir-29862-SboPNA/CORBA-Python-2.66-0/blib/arch:/tmp/loop_over_bdir-29862-SboPNA/CORBA-Python-2.66-0/blib/lib:/tmp/loop_over_bdir-29862-SboPNA/CGI-Application-NetNewsIface-0.0204-0/blib/arch:/tmp/loop_over_bdir-29862-SboPNA/CGI-Application-NetNewsIface-0.0204-0/blib/lib:/tmp/loop_over_bdir-29862-SboPNA/HTML-Menu-TreeView-1.22-0/blib/arch:/tmp/loop_over_bdir-29862-SboPNA/HTML-Menu-TreeView-1.22-0/blib/lib:/tmp/loop_over_bdir-29862-SboPNA/shishi-0.0.1-0/blib/arch:/tmp/loop_over_bdir-29862-SboPNA/shishi-0.0.1-0/blib/lib:/tmp/loop_over_bdir-29862-SboPNA/makepp-1.19-0/blib/arch:/tmp/loop_over_bdir-29862-SboPNA/makepp-1.19-0/blib/lib:/tmp/loop_over_bdir-29862-SboPNA/MP3-PodcastFetch-1.05-0/blib/arch:/tmp/loop_over_bdir-29862-SboPNA/MP3-PodcastFetch-1.05-0/blib/lib:/tmp/loop_over_bdir-29862-SboPNA/Simulation-Automate-1.0.1-0/blib/arch:/tmp/loop_over_bdir-29862-SboPNA/Simulation-Automate-1.0.1-0/blib/lib:/tmp/loop_over_bdir-29862-SboPNA/Serge-1.4-0/blib/arch:/tmp/loop_over_bdir-29862-SboPNA/Serge-1.4-0/blib/lib:/tmp/loop_over_bdir-29862-SboPNA/Dpkg-1.20.0-0/blib/arch:/tmp/loop_over_bdir-29862-SboPNA/Dpkg-1.20.0-0/blib/lib:/tmp/loop_over_bdir-29862-SboPNA/Business-Shipping-DataFiles-1.02-0/blib/arch:/tmp/loop_over_bdir-29862-SboPNA/Business-Shipping-DataFiles-1.02-0/blib/lib:/tmp/loop_over_bdir-29862-SboPNA/DBIx-Migration-Directories-0.12-0/blib/arch:/tmp/loop_over_bdir-29862-SboPNA/DBIx-Migration-Directories-0.12-0/blib/lib"
    PERL5OPT=""
    PERL5_CPANPLUS_IS_RUNNING="29870"
    PERL5_CPAN_IS_RUNNING="29870"
    PERL_CANARY_STABILITY_NOPROMPT="1"
    PERL_MM_USE_DEFAULT="1"
    PERL_USE_UNSAFE_INC="1"
  @INC:
    /tmp/loop_over_bdir-29862-SboPNA/LiquidWeb-Storm-CLI-1.03-0/blib/arch
    /tmp/loop_over_bdir-29862-SboPNA/LiquidWeb-Storm-CLI-1.03-0/blib/lib
    /tmp/loop_over_bdir-29862-SboPNA/Lemonldap-NG-Cli-0.2-0/blib/arch
    /tmp/loop_over_bdir-29862-SboPNA/Lemonldap-NG-Cli-0.2-0/blib/lib
    /tmp/loop_over_bdir-29862-SboPNA/mmds-1.902-0/blib/arch
    /tmp/loop_over_bdir-29862-SboPNA/mmds-1.902-0/blib/lib
    /tmp/loop_over_bdir-29862-SboPNA/CORBA-Python-2.66-0/blib/arch
    /tmp/loop_over_bdir-29862-SboPNA/CORBA-Python-2.66-0/blib/lib
    /tmp/loop_over_bdir-29862-SboPNA/CGI-Application-NetNewsIface-0.0204-0/blib/arch
    /tmp/loop_over_bdir-29862-SboPNA/CGI-Application-NetNewsIface-0.0204-0/blib/lib
    /tmp/loop_over_bdir-29862-SboPNA/HTML-Menu-TreeView-1.22-0/blib/arch
    /tmp/loop_over_bdir-29862-SboPNA/HTML-Menu-TreeView-1.22-0/blib/lib
    /tmp/loop_over_bdir-29862-SboPNA/shishi-0.0.1-0/blib/arch
    /tmp/loop_over_bdir-29862-SboPNA/shishi-0.0.1-0/blib/lib
    /tmp/loop_over_bdir-29862-SboPNA/makepp-1.19-0/blib/arch
    /tmp/loop_over_bdir-29862-SboPNA/makepp-1.19-0/blib/lib
    /tmp/loop_over_bdir-29862-SboPNA/MP3-PodcastFetch-1.05-0/blib/arch
    /tmp/loop_over_bdir-29862-SboPNA/MP3-PodcastFetch-1.05-0/blib/lib
    /tmp/loop_over_bdir-29862-SboPNA/Simulation-Automate-1.0.1-0/blib/arch
    /tmp/loop_over_bdir-29862-SboPNA/Simulation-Automate-1.0.1-0/blib/lib
    /tmp/loop_over_bdir-29862-SboPNA/Serge-1.4-0/blib/arch
    /tmp/loop_over_bdir-29862-SboPNA/Serge-1.4-0/blib/lib
    /tmp/loop_over_bdir-29862-SboPNA/Dpkg-1.20.0-0/blib/arch
    /tmp/loop_over_bdir-29862-SboPNA/Dpkg-1.20.0-0/blib/lib
    /tmp/loop_over_bdir-29862-SboPNA/Business-Shipping-DataFiles-1.02-0/blib/arch
    /tmp/loop_over_bdir-29862-SboPNA/Business-Shipping-DataFiles-1.02-0/blib/lib
    /tmp/loop_over_bdir-29862-SboPNA/DBIx-Migration-Directories-0.12-0/blib/arch
    /tmp/loop_over_bdir-29862-SboPNA/DBIx-Migration-Directories-0.12-0/blib/lib
    /home/sand/src/perl/repoperls/installed-perls/host/k93bionic/v5.32.0-RC1/ca05/lib/site_perl/5.32.0/x86_64-linux-ld
    /home/sand/src/perl/repoperls/installed-perls/host/k93bionic/v5.32.0-RC1/ca05/lib/site_perl/5.32.0
    /home/sand/src/perl/repoperls/installed-perls/host/k93bionic/v5.32.0-RC1/ca05/lib/5.32.0/x86_64-linux-ld
    /home/sand/src/perl/repoperls/installed-perls/host/k93bionic/v5.32.0-RC1/ca05/lib/5.32.0
    .