Alien-GvaScript v1.45 Perl 5 v5.29.0 i686-linux

Status
Pass
From
Dist
Alien-GvaScript v1.45
Platform
Perl 5 v5.29.0 i686-linux
Date
2018-07-03 20:31:44
ID
19e96146-7f00-11e8-a8a1-ad538aed1f74
This distribution has been tested as part of the CPAN Testers
project, supporting the Perl programming language.  See
http://wiki.cpantesters.org/ for more information or email
questions to cpan-testers-discuss@perl.org


--
Dear Laurent Dami,

This is a computer-generated report for Alien-GvaScript-1.45
on perl 5.29.0, created by CPAN-Reporter-1.2018.

Thank you for uploading your work to CPAN.  Congratulations!
All tests were successful.

Sections of this report:

    * Tester comments
    * Program output
    * Prerequisites
    * Environment and other context

------------------------------
TESTER COMMENTS
------------------------------

Additional comments from tester:

none provided

------------------------------
PROGRAM OUTPUT
------------------------------

Output from './Build test':

# Testing Alien::GvaScript 1.45, Perl 5.029000, /opt/perl5/perls/perl-5.29.0/bin/perl5.29.0
t/00-load.t ....... ok
t/pod-coverage.t .. ok
t/pod.t ........... ok
All tests successful.
Files=3, Tests=15,  1 wallclock secs ( 0.01 usr  0.01 sys +  0.19 cusr  0.00 csys =  0.21 CPU)
Result: PASS

------------------------------
PREREQUISITES
------------------------------

Prerequisite modules loaded:

requires:

    Module               Need Have    
    -------------------- ---- --------
    File::Copy           0    2.33    
    File::Path           0    2.15    

build_requires:

    Module               Need Have    
    -------------------- ---- --------
    Test::More           0    1.302136

configure_requires:

    Module               Need Have    
    -------------------- ---- --------
    Module::Build        0.42 0.4224  

opt_requires:

    Module               Need Have    
    -------------------- ---- --------
  ! Pod::POM             0    n/a     
  ! Pod::POM::View       0    n/a     
  ! Pod::POM::View::HTML 0    n/a     


------------------------------
ENVIRONMENT AND OTHER CONTEXT
------------------------------

Environment variables:

    LANG = en_US.utf8
    LC_COLLATE = C
    NONINTERACTIVE_TESTING = 1
    PATH = /home/tester1/perl5/perl-5.29.0/bin:/opt/perl5/perls/perl-5.29.0/bin:/usr/local/bin:/usr/bin:/bin:/usr/games
    PERL5LIB = /home/tester1/perl5/perl-5.29.0/lib/perl5
    PERL5OPT = 
    PERL5_CPANPLUS_IS_RUNNING = 18107
    PERL5_CPAN_IS_RUNNING = 18107
    PERL_LOCAL_LIB_ROOT = /home/tester1/perl5/perl-5.29.0
    PERL_MB_OPT = --install_base "/home/tester1/perl5/perl-5.29.0"
    PERL_MM_OPT = INSTALL_BASE=/home/tester1/perl5/perl-5.29.0
    PERL_MM_USE_DEFAULT = 1
    PERL_PKG_CONFIG_SCRIPTS = ppkg-config
    PERL_USE_UNSAFE_INC = 1
    SHELL = /bin/tcsh
    TERM = xterm-256color

Perl special variables (and OS-specific diagnostics, for MSWin32):

    $^X = /opt/perl5/perls/perl-5.29.0/bin/perl5.29.0
    $UID/$EUID = 1001 / 1001
    $GID = 1001 1001
    $EGID = 1001 1001

Perl module toolchain versions installed:

    Module              Have    
    ------------------- --------
    CPAN                2.20    
    CPAN::Meta          2.150010
    Cwd                 3.74    
    ExtUtils::CBuilder  0.280230
    ExtUtils::Command   7.34    
    ExtUtils::Install   2.14    
    ExtUtils::MakeMaker 7.34    
    ExtUtils::Manifest  1.70    
    ExtUtils::ParseXS   3.39    
    File::Spec          3.74    
    JSON                2.97001 
    JSON::PP            2.97001 
    Module::Build       0.4224  
    Module::Signature   n/a     
    Parse::CPAN::Meta   2.150010
    Test::Harness       3.42    
    Test::More          1.302136
    YAML                1.26    
    YAML::Syck          n/a     
    version             0.9923  


--

Summary of my perl5 (revision 5 version 29 subversion 0) configuration:
   
  Platform:
    osname=linux
    osvers=4.9.0-6-686-pae
    archname=i686-linux
    uname='linux ct32 4.9.0-6-686-pae #1 smp debian 4.9.88-1+deb9u1 (2018-05-07) i686 gnulinux '
    config_args='-de -Dprefix=/opt/perl5/perls/perl-5.29.0 -Dman1dir=none -Dman3dir=none -Dcc=clang -Dusedevel -Aeval:scriptdir=/opt/perl5/perls/perl-5.29.0/bin'
    hint=recommended
    useposix=true
    d_sigaction=define
    useithreads=undef
    usemultiplicity=undef
    use64bitint=undef
    use64bitall=undef
    uselongdouble=undef
    usemymalloc=n
    default_inc_excludes_dot=define
    bincompat5005=undef
  Compiler:
    cc='clang'
    ccflags ='-fno-strict-aliasing -pipe -fstack-protector-strong -I/usr/local/include -D_LARGEFILE_SOURCE -D_FILE_OFFSET_BITS=64 -D_FORTIFY_SOURCE=2'
    optimize='-O2'
    cppflags='-fno-strict-aliasing -pipe -fstack-protector-strong -I/usr/local/include'
    ccversion=''
    gccversion='4.2.1 Compatible Clang 3.8.1 (tags/RELEASE_381/final)'
    gccosandvers=''
    intsize=4
    longsize=4
    ptrsize=4
    doublesize=8
    byteorder=1234
    doublekind=3
    d_longlong=define
    longlongsize=8
    d_longdbl=define
    longdblsize=12
    longdblkind=3
    ivtype='long'
    ivsize=4
    nvtype='double'
    nvsize=8
    Off_t='off_t'
    lseeksize=8
    alignbytes=4
    prototype=define
  Linker and Libraries:
    ld='clang'
    ldflags =' -fstack-protector-strong -L/usr/local/lib'
    libpth=/usr/local/lib /usr/lib/llvm-3.8/bin/../lib/clang/3.8.1/lib /usr/include/i386-linux-gnu /usr/lib /lib/i386-linux-gnu /lib/../lib /usr/lib/i386-linux-gnu /usr/lib/../lib /lib /lib64 /usr/lib64
    libs=-lpthread -lnsl -ldl -lm -lcrypt -lutil -lc
    perllibs=-lpthread -lnsl -ldl -lm -lcrypt -lutil -lc
    libc=libc-2.24.so
    so=so
    useshrplib=false
    libperl=libperl.a
    gnulibc_version='2.24'
  Dynamic Linking:
    dlsrc=dl_dlopen.xs
    dlext=so
    d_dlsymun=undef
    ccdlflags='-Wl,-E'
    cccdlflags='-fPIC'
    lddlflags='-shared -O2 -L/usr/local/lib -fstack-protector-strong'


Characteristics of this binary (from libperl): 
  Compile-time options:
    HAS_TIMES
    PERLIO_LAYERS
    PERL_COPY_ON_WRITE
    PERL_DONT_CREATE_GVSV
    PERL_MALLOC_WRAP
    PERL_OP_PARENT
    PERL_PRESERVE_IVUV
    PERL_USE_DEVEL
    USE_LARGE_FILES
    USE_LOCALE
    USE_LOCALE_COLLATE
    USE_LOCALE_CTYPE
    USE_LOCALE_NUMERIC
    USE_LOCALE_TIME
    USE_PERLIO
    USE_PERL_ATOF
  Locally applied patches:
    Devel::PatchPerl 1.52
  Built under linux
  Compiled at Jul  3 2018 12:45:12
  %ENV:
    PERL5LIB="/home/tester1/perl5/perl-5.29.0/lib/perl5"
    PERL5OPT=""
    PERL5_CPANPLUS_IS_RUNNING="18107"
    PERL5_CPAN_IS_RUNNING="18107"
    PERL_LOCAL_LIB_ROOT="/home/tester1/perl5/perl-5.29.0"
    PERL_MB_OPT="--install_base "/home/tester1/perl5/perl-5.29.0""
    PERL_MM_OPT="INSTALL_BASE=/home/tester1/perl5/perl-5.29.0"
    PERL_MM_USE_DEFAULT="1"
    PERL_PKG_CONFIG_SCRIPTS="ppkg-config"
    PERL_USE_UNSAFE_INC="1"
  @INC:
    /home/tester1/perl5/perl-5.29.0/lib/perl5/i686-linux
    /home/tester1/perl5/perl-5.29.0/lib/perl5
    /opt/perl5/perls/perl-5.29.0/lib/site_perl/5.29.0/i686-linux
    /opt/perl5/perls/perl-5.29.0/lib/site_perl/5.29.0
    /opt/perl5/perls/perl-5.29.0/lib/5.29.0/i686-linux
    /opt/perl5/perls/perl-5.29.0/lib/5.29.0
    .