Report for Acme-TLDR-0.004
Back
From: metabase:user:30ae4450-2aae-11df-837a-5e0a49663a4f
Subject: PASS Acme-TLDR-0.004 v5.25.10
Date: 2017-04-09T16:08:06Z
This distribution has been tested as part of the CPAN Testers
project, supporting the Perl programming language. See
http://wiki.cpantesters.org/ for more information or email
questions to cpan-testers-discuss@perl.org
--
Dear Stanislaw Pusep,
This is a computer-generated report for Acme-TLDR-0.004
on perl 5.25.10, created by CPAN-Reporter-1.2018.
Thank you for uploading your work to CPAN. Congratulations!
All tests were successful.
Sections of this report:
* Tester comments
* Program output
* Prerequisites
* Environment and other context
------------------------------
TESTER COMMENTS
------------------------------
Additional comments from tester:
this report is from an automated smoke testing program
and was not reviewed by a human for accuracy
------------------------------
PROGRAM OUTPUT
------------------------------
Output from 'C:\STRAWB~1\c\bin\dmake.exe test':
"C:\Strawberry2510\perl\bin\perl.exe" "-MExtUtils::Command::MM" "-MTest::Harness" "-e" "undef *Test::Harness::Switches; test_harness(0, 'blib\lib', 'blib\arch')" t/*.t
t/00-compile.t ............... ok
# Acme::TLDR v0.004, Perl 5.025010, C:\Strawberry2510\perl\bin\perl.exe
t/00-load.t .................. ok
ExtUtils::Installed cache: C:\Documents and Settings\a\Local Settings\Application Data\.Acme-TLDR-b5fff64a8ea8444007dd375d62e16af2.cache
no cache found; generating
AAAA::Crypt::DH => AAAA::C::DH
AAAA::Mail::SpamAssassin => AAAA::M::SA
ACL::Lite => ACL::L
Acme::CPANLists::PERLANCAR => A::CPANL::PERLANCAR
Acme::MetaSyntactic => A::MS
Adapter::Async => A::A
Algorithm::C3 => A::C3
Algorithm::Combinatorics => A::C
Algorithm::Cron => *undef*
Algorithm::Dependency => A::D
Algorithm::Diff => *undef*
Algorithm::HyperLogLog => A::HLogLog
Algorithm::Merge => A::M
Algorithm::NaiveBayes => A::NB
Alien::Base => A::B
Alien::FFI => A::FFI
Alien::MSYS => A::MSYS
Alien::SDL => A::SDL
Alien::Sodium => A::S
Alien::Tidyp => A::T
Alien::Web => A::Web
Alien::wxWidgets => A::wxW
Alt::Crypt::RSA::BigInt => Alt::C::RSA::BigInt
Amiga::ARexx => A::AR
Amiga::Exec => A::E
Amon2::DBI => A2::DBI
Any::Moose => Any::M
Any::URI::Escape => Any::URI::E
AnyDBM_File => AnyDBM_F
AnyEvent => AnyE
AnyEvent::DNS::EtcHosts => AnyE::DNS::EtcH
AnyEvent::Finger => AnyE::F
AnyEvent::HTTP => AnyE::HTTP
AnyEvent::JSONRPC::Lite => AnyE::JSONRPC::L
AnyEvent::Twitter => AnyE::T
AnyEvent::Twitter::Stream => AnyE::T::S
Apache::Htpasswd => A::H
Apache::LogFormat::Compiler => A::LogF::C
App::Cache => App::C
App::Cpan => *undef*
App::FatPacker => App::FatP
App::Nopaste => App::N
App::Prove => App::P
App::Prove::State => App::P::S
App::Prove::State::Result => App::P::S::R
App::Prove::State::Result::Test => App::P::S::R::T
App::SmokeBrew::Plugin::BINGOS => App::SB::P::BINGOS
App::Wallflower => App::W
App::cpanminus => App::c
App::local::lib::Win32Helper => App::l::lib::Win32H
App::local::lib::helper => App::l::lib::h
App::module::version => App::m::v
App::mymeta_requires => App::m
App::pmuninstall => App::p
App::pwhich => *undef*
App::rsync::new2old => App::r::new2
App::watcher => App::w
App::whichpm => *undef*
AppConfig => AppC
Archive::Any => A::Any
Archive::Any::Lite => A::Any::L
Archive::Extract => *undef*
Archive::Tar => A::Tar
Archive::Tar::Constant => A::Tar::C
Archive::Tar::File => A::Tar::F
Archive::Tar::Streamed => A::Tar::S
Archive::Zip => A::Zip
Array::Diff => *undef*
Array::RefElem => A::RefE
Aspect::Library::Trace => A::L::T
Astro::FITS::Header => A::FITS::H
Attribute::Handlers => *undef*
Authen::DecHpwd => A::DecH
Authen::Htpasswd => *undef*
Authen::SASL => A::SASL
Authen::Simple => *undef*
Authen::Simple::Passwd => A::S::P
AutoLoader => AL
AutoSplit => AS
B::Compiling => B::C
B::Concise => *undef*
B::Debug => B::D
B::Deparse => *undef*
B::Flags => B::F
B::Hooks::EndOfScope => B::H::EndOfS
B::Hooks::OP::Annotation => B::H::OP::A
B::Hooks::OP::Check => B::H::OP::C
B::Hooks::OP::PPAddr => B::H::OP::PPA
B::Hooks::Parser => B::H::P
B::Keywords => B::K
B::Lint => B::L
B::Op_private => B::O
B::Showlex => B::S
B::Terse => B::T
B::Utils => B::U
B::Xref => B::X
BackPAN::Index => BPAN::I
Beam::Emitter => B::E
Benchmark::Perl::Formance::Cargo => B::P::F::C
BenchmarkAnything::Config => BA::C
BenchmarkAnything::Reporter => BA::R
BenchmarkAnything::Schema => BA::S
BenchmarkAnything::Storage::Backend::SQL => BA::S::B::SQL
BenchmarkAnything::Storage::Frontend::Lib => BA::S::F::Lib
BenchmarkAnything::Storage::Search::Elasticsearch => BA::S::S::E
BerkeleyDB => BDB
Bit::Vector => Bit::V
Bit::Vector::Minimal => Bit::V::M
Border::Style => *undef*
Bread::Board => B::B
Browser::Open => *undef*
Business::CreditCard => B::CC
Business::ISBN => B::ISBN
Business::ISBN::Data => B::ISBN::D
Business::OnlinePayment => B::OP
Business::OnlinePayment::AuthorizeNet => B::OP::ANet
Business::PayPal::API => B::PayPal::API
Business::Tax::VAT::Validation => B::Tax::VAT::V
Business::UPS => B::UPS
Bytes::Random::Secure => B::R::S
Bytes::Random::Secure::Tiny => B::R::S::T
CAD::Calc => CAD::C
CDB_File => CDB_F
CGI::Application => CGI::A
CGI::Application::Dispatch => CGI::A::D
CGI::Application::Plugin::DevPopup => CGI::A::P::DevP
CGI::Application::Plugin::DevPopup::Params => CGI::A::P::DevP::P
CGI::Application::Plugin::DevPopup::Query => CGI::A::P::DevP::Q
CGI::Application::Plugin::JSON => CGI::A::P::JSON
CGI::Application::Plugin::LogDispatch => CGI::A::P::LogD
CGI::Application::Plugin::Redirect => CGI::A::P::R
CGI::Application::Plugin::Stream => CGI::A::P::S
CGI::Application::Plugin::TT => CGI::A::P::TT
CGI::Application::Plugin::ValidateRM => CGI::A::P::VRM
CGI::Compile => CGI::C
CGI::Emulate::PSGI => CGI::E::PSGI
CGI::Expand => CGI::E
CGI::FormBuilder => CGI::FB
CGI::FormBuilder::Source::Perl => CGI::FB::S::P
CGI::Session => CGI::S
CGI::Simple => *undef*
CGI::Struct => *undef*
CGI::Untaint => CGI::U
CGI::Untaint::date => CGI::U::d
CGI::Untaint::email => CGI::U::e
CPAN::Author => CPAN::A
CPAN::Bundle => CPAN::B
CPAN::CacheMgr => CPAN::CMgr
CPAN::Changes => CPAN::C
CPAN::Checksums => *undef*
CPAN::Complete => *undef*
CPAN::Debug => CPAN::D
CPAN::DeferredCode => CPAN::DC
CPAN::DistnameInfo => CPAN::DI
CPAN::Distribution => *undef*
CPAN::Distroprefs => *undef*
CPAN::Distrostatus => *undef*
CPAN::Exception::RecursiveDependency => CPAN::E::RD
CPAN::Exception::blocked_urllist => CPAN::E::b
CPAN::Exception::yaml_not_installed => CPAN::E::y
CPAN::Exception::yaml_process_error => *undef*
CPAN::FTP::netrc => CPAN::FTP::n
CPAN::FirstTime => CPAN::FT
CPAN::HTTP::Client => CPAN::HTTP::C
CPAN::HTTP::Credentials => *undef*
CPAN::HandleConfig => CPAN::HC
CPAN::Index => CPAN::I
CPAN::InfoObj => CPAN::IObj
CPAN::Kwalify => CPAN::K
CPAN::LWP::UserAgent => CPAN::LWP::UA
CPAN::Meta => CPAN::M
CPAN::Meta::Check => CPAN::M::C
CPAN::Meta::Converter => *undef*
CPAN::Meta::Feature => CPAN::M::F
CPAN::Meta::History => CPAN::M::H
CPAN::Meta::Merge => CPAN::M::M
CPAN::Meta::Prereqs => CPAN::M::P
CPAN::Meta::Requirements => CPAN::M::R
CPAN::Meta::Spec => CPAN::M::S
CPAN::Meta::Validator => CPAN::M::V
CPAN::Meta::YAML => CPAN::M::YAML
CPAN::Mini => *undef*
CPAN::Mirrors => *undef*
CPAN::Module => *undef*
CPAN::ParseDistribution => CPAN::PD
CPAN::Perl::Releases => CPAN::P::R
CPAN::Plugin => CPAN::P
CPAN::Plugin::Specfile => CPAN::P::S
CPAN::Prompt => *undef*
CPAN::Queue => CPAN::Q
CPAN::Recent::Uploads => CPAN::R::U
CPAN::Reporter => CPAN::R
CPAN::Reporter::Smoker => CPAN::R::S
CPAN::SQLite => CPAN::SQL
CPAN::Shell => CPAN::S
CPAN::Tarzip => CPAN::T
CPAN::Testers::Report => CPAN::T::R
CPAN::Uploader => CPAN::U
CPAN::Version => CPAN::V
CPAN::outdated => CPAN::o
CPANPLUS::Dist::Build => CPANPLUS::D::B
CSS::Minifier => CSS::M
CSS::Minifier::XS => CSS::M::XS
CSS::Packer => CSS::P
CSS::Scopifier => CSS::S
CSS::Tiny => CSS::T
Cache::Cache => C::C
Cache::FastMmap => C::FM
Cache::LRU => C::LRU
Cache::Memcached => C::M
Cache::Memcached::Fast => C::M::F
Cache::Ref => C::Ref
Canary::Stability => C::S
Captcha::reCAPTCHA => C::reCAPTCHA
Capture::Tiny => C::T
Carp::Always => C::A
Carp::Assert => *undef*
Carp::Assert::More => C::A::M
Carp::Clan => *undef*
Carp::Clan::Share => C::C::S
Carp::Fix::1_25 => C::Fix::1_25
Carp::Heavy => C::H
Catalyst::Action::REST => C::A::REST
Catalyst::Action::RenderView => C::A::RV
Catalyst::ActionRole::ACL => C::AR::ACL
Catalyst::Authentication::Credential::HTTP => C::A::C::HTTP
Catalyst::Authentication::Store::DBIx::Class => C::A::S::DBIx::C
Catalyst::Component::ACCEPT_CONTEXT => C::C::ACCEPT_CONTEXT
Catalyst::Component::InstancePerContext => C::C::IPerC
Catalyst::Controller::ActionRole => C::C::AR
Catalyst::Controller::AutoAssets => C::C::AA
Catalyst::Controller::reCAPTCHA => C::C::reCAPTCHA
Catalyst::Devel => C::D
Catalyst::DispatchType::Regex => C::DT::R
Catalyst::Log::Log4perl => C::Log::Log4
Catalyst::Manual => *undef*
Catalyst::Model::Adaptor => C::M::A
Catalyst::Model::DBIC::Schema => C::M::DBIC::S
Catalyst::Plugin::AuthenCookie => C::P::AC
Catalyst::Plugin::Authentication => C::P::A
Catalyst::Plugin::Authorization::ACL => C::P::A::ACL
Catalyst::Plugin::Authorization::Roles => C::P::A::R
Catalyst::Plugin::AutoCRUD => C::P::ACRUD
Catalyst::Plugin::Cache => C::P::C
Catalyst::Plugin::Cache::FastMmap => C::P::C::FM
Catalyst::Plugin::Cache::HTTP => C::P::C::HTTP
Catalyst::Plugin::Captcha => *undef*
Catalyst::Plugin::ConfigLoader => C::P::CL
Catalyst::Plugin::Email => C::P::E
Catalyst::Plugin::ErrorCatcher => C::P::EC
Catalyst::Plugin::FillInForm => C::P::FInF
Catalyst::Plugin::FormValidator => C::P::FV
Catalyst::Plugin::FormValidator::Simple => C::P::FV::S
Catalyst::Plugin::HashedCookies => C::P::HC
Catalyst::Plugin::I18N => C::P::I18N
Catalyst::Plugin::PageCache => C::P::PC
Catalyst::Plugin::Redirect => C::P::R
Catalyst::Plugin::RedirectAndDetach => C::P::RAndD
Catalyst::Plugin::Session => C::P::S
Catalyst::Plugin::Session::AsObject => C::P::S::AsO
Catalyst::Plugin::Session::DynamicExpiry => C::P::S::DE
Catalyst::Plugin::Session::State::Cookie => C::P::S::S::C
Catalyst::Plugin::Session::State::URI => C::P::S::S::URI
Catalyst::Plugin::Session::Store::Cache => *undef*
Catalyst::Plugin::Session::Store::DBI => C::P::S::S::DBI
Catalyst::Plugin::Session::Store::DBIC => C::P::S::S::DBIC
Catalyst::Plugin::Session::Store::Delegate => C::P::S::S::D
Catalyst::Plugin::Session::Store::FastMmap => C::P::S::S::FM
Catalyst::Plugin::Session::Store::File => C::P::S::S::F
Catalyst::Plugin::Setenv => *undef*
Catalyst::Plugin::StackTrace => C::P::ST
Catalyst::Plugin::Static::Simple => C::P::S::S
Catalyst::Plugin::SubRequest => C::P::SubR
Catalyst::Plugin::Unicode => C::P::U
Catalyst::Runtime => C::R
Catalyst::TraitFor::Request::BrowserDetect => C::TFor::R::BD
Catalyst::View::Email => C::V::E
Catalyst::View::HTML::Mason => C::V::HTML::M
Catalyst::View::HTML::Template => C::V::HTML::T
Catalyst::View::JSON => C::V::JSON
Catalyst::View::TT => C::V::TT
CatalystX::AppBuilder => CX::AppB
CatalystX::CRUD => CX::CRUD
CatalystX::CRUD::Controller::RHTMLO => CX::CRUD::C::RHTMLO
CatalystX::Component::Traits => CX::C::T
CatalystX::InjectComponent => CX::IC
CatalystX::LeakChecker => CX::LC
CatalystX::Profile => CX::P
CatalystX::Resource => CX::R
CatalystX::RoleApplicator => CX::RA
CatalystX::SimpleLogin => CX::SL
CatalystX::Syntax::Action => CX::S::A
CatalystX::TraitFor::Dispatcher::ExactMatch => CX::TFor::D::EM
Class::Accessor => *undef*
Class::Accessor::Chained => C::A::C
Class::Accessor::Complex => *undef*
Class::Accessor::Constructor => *undef*
Class::Accessor::FactoryTyped => C::A::FT
Class::Accessor::Grouped => C::A::G
Class::Accessor::Installer => C::A::I
Class::Accessor::Lite => C::A::L
Class::Accessor::Lite::Lazy => C::A::L::L
Class::Adapter => *undef*
Class::C3 => C::C3
Class::C3::Adopt::NEXT => C::C3::A::NEXT
Class::C3::Componentised => C::C3::C
Class::Container => *undef*
Class::DBI => C::DBI
Class::DBI::AbstractSearch => C::DBI::AS
Class::DBI::Loader => C::DBI::L
Class::DBI::Loader::Relationship => C::DBI::L::R
Class::DBI::Pager => C::DBI::P
Class::DBI::Plugin::RetrieveAll => C::DBI::P::RAll
Class::DBI::Plugin::Type => C::DBI::P::T
Class::DBI::SQLite => C::DBI::SQL
Class::Data::Accessor => C::D::A
Class::Data::Inheritable => C::D::I
Class::Default => *undef*
Class::ErrorHandler => C::EH
Class::Factory => C::F
Class::Factory::Enhanced => C::F::E
Class::Factory::Util => C::F::U
Class::Handle => *undef*
Class::ISA => C::ISA
Class::Inner => C::I
Class::Inspector => *undef*
Class::Iterator => *undef*
Class::Load => C::L
Class::Load::XS => C::L::XS
Class::Loader => *undef*
Class::Method::Modifiers => C::M::M
Class::MethodMaker => C::MM
Class::Null => C::N
Class::ReturnValue => C::RV
Class::Singleton => *undef*
Class::Std => C::Std
Class::Std::Utils => C::Std::U
Class::Struct => *undef*
Class::Throwable => *undef*
Class::Tiny => *undef*
Class::Trigger => *undef*
Class::Unload => C::U
Class::Utils => *undef*
Class::Virtual => C::V
Class::XSAccessor => C::XSA
Clone::PP => C::PP
Clone::Util => *undef*
Code::Explain => C::E
Color::ANSI::Util => C::ANSI::U
Color::Calc => *undef*
Color::RGB::Util => C::RGB::U
Color::Theme => *undef*
Compiler::Lexer => *undef*
Complete::Bash => C::B
Complete::Common => *undef*
Complete::File => *undef*
Complete::Fish => *undef*
Complete::Fish::Gen::FromGetoptLong => C::F::Gen::FGL
Complete::Fish::Gen::FromGetoptLongDescriptive => C::F::Gen::FGLD
Complete::Module => *undef*
Complete::Path => C::P
Complete::Perl => *undef*
Complete::Program => *undef*
Complete::Tcsh => *undef*
Complete::Util => *undef*
Complete::Zsh => C::Zsh
Complete::Zsh::Gen::FromGetoptLong => C::Zsh::Gen::FGL
Complete::Zsh::Gen::FromGetoptLongDescriptive => C::Zsh::Gen::FGLD
Compress::Bzip2 => C::B2
Compress::Raw::Bzip2 => C::Raw::B2
Compress::Raw::Lzma => C::Raw::L
Compress::Raw::Zlib => C::Raw::Z
Compress::Zlib => C::Z
Compress::unLZMA => C::unLZMA
Config::Any => C::Any
Config::AutoConf => C::AC
Config::Extensions => *undef*
Config::Find => *undef*
Config::General => C::G
Config::GitLike => C::GitL
Config::INI => C::INI
Config::INI::Reader::Ordered => C::INI::R::O
Config::INI::Serializer => C::INI::S
Config::IOD::Reader => C::IOD::R
Config::Identity => *undef*
Config::IniFiles => C::IniF
Config::JFDI => C::JFDI
Config::MVP => C::MVP
Config::MVP::Reader::INI => C::MVP::R::INI
Config::MVP::Slicer => C::MVP::S
Config::Model::Tester => C::M::T
Config::Onion => C::O
Config::PL => C::PL
Config::Perl::V => C::P::V
Config::Pit => C::Pit
Config::Simple => *undef*
Config::Std => *undef*
Config::Tiny => *undef*
Config::Versioned => *undef*
Const::Fast => *undef*
Context::Preserve => *undef*
Convert::ASCII::Armour => C::ASCII::A
Convert::ASN1 => C::ASN1
Convert::BinHex => C::BinHex
Convert::Color => *undef*
Convert::NLS_DATE_FORMAT => C::NLS_DATE_FORMAT
Convert::PEM => C::PEM
Convert::TNEF => C::TNEF
Convert::UU => C::UU
Cookie::Baker => *undef*
Cpanel::JSON::XS => C::JSON::XS
Crypt::Blowfish => *undef*
Crypt::Blowfish_PP => C::BPP
Crypt::CAST5 => C::CAST5
Crypt::CAST5_PP => C::CAST5_PP
Crypt::CBC => C::CBC
Crypt::DES => C::DES
Crypt::DES_EDE3 => C::DES_EDE3
Crypt::DSA => C::DSA
Crypt::DSA::GMP => C::DSA::GMP
Crypt::GPG => C::GPG
Crypt::IDEA => C::IDEA
Crypt::MySQL => C::MySQL
Crypt::OpenPGP => C::OPGP
Crypt::OpenSSL::AES => C::OSSL::AES
Crypt::OpenSSL::Bignum => C::OSSL::B
Crypt::OpenSSL::DSA => C::OSSL::DSA
Crypt::OpenSSL::RSA => C::OSSL::RSA
Crypt::OpenSSL::Random => C::OSSL::R
Crypt::OpenSSL::X509 => C::OSSL::X509
Crypt::Passwd::XS => C::P::XS
Crypt::PasswdMD5 => C::PMD5
Crypt::Primes => *undef*
Crypt::RC4 => C::RC4
Crypt::RC6 => C::RC6
Crypt::RIPEMD160 => C::RIPEMD160
Crypt::Random => *undef*
Crypt::Random::Seed => C::R::S
Crypt::Random::Source => *undef*
Crypt::Random::Source::Strong::Win32 => C::R::S::S::Win32
Crypt::Random::TESHA2 => C::R::TESHA2
Crypt::Rijndael => *undef*
Crypt::SSLeay => C::SSL
Crypt::SaltedHash => C::SH
Crypt::Serpent => *undef*
Crypt::Twofish => *undef*
Crypt::URandom => C::UR
Crypt::UnixCrypt_XS => C::UCXS
CryptX => CX
Cwd::Guard => Cwd::G
DBD::Mock => DBD::M
DBD::SQLite => DBD::SQL
DBD::SQLite2 => DBD::SQL2
DBD::mysql => DBD::m
DBICx::MaterializedPath => DBICx::MP
DBICx::Sugar => DBICx::S
DBICx::TestDatabase => DBICx::TD
DBIx::Class => DBIx::C
DBIx::Class::Candy => DBIx::C::C
DBIx::Class::DateTime::Epoch => DBIx::C::DT::E
DBIx::Class::DynamicDefault => DBIx::C::DD
DBIx::Class::EncodedColumn => DBIx::C::EC
DBIx::Class::Helpers => DBIx::C::H
DBIx::Class::InflateColumn::Object::Enum => DBIx::C::IC::O::E
DBIx::Class::IntrospectableM2M => DBIx::C::IM2M
DBIx::Class::ResultSet::RecursiveUpdate => DBIx::C::RSet::RU
DBIx::Class::Schema::Diff => DBIx::C::S::D
DBIx::Class::Schema::Loader => DBIx::C::S::L
DBIx::Class::Schema::PopulateMore => DBIx::C::S::PM
DBIx::Class::TimeStamp => DBIx::C::TS
DBIx::Class::UUIDColumns => DBIx::C::UUIDC
DBIx::Class::Validation => DBIx::C::V
DBIx::Connector => *undef*
DBIx::ContextualFetch => DBIx::CF
DBIx::Diff::Schema => DBIx::D::S
DBIx::Inspector => DBIx::I
DBIx::Introspector => *undef*
DBIx::MultiStatementDo => DBIx::MSDo
DBIx::MyParsePP => DBIx::MyPPP
DBIx::QueryLog => DBIx::QLog
DBIx::Schema::DSL => DBIx::S::DSL
DBIx::Simple => DBIx::S
DBIx::TransactionManager => DBIx::TM
DBIx::TransactionManager::EndHook => DBIx::TM::EndH
DBM::Deep => DBM::D
DBM_Filter => DBM_F
DBM_Filter::compress => DBM_F::c
DBM_Filter::encode => DBM_F::e
DBM_Filter::int32 => DBM_F::int32
DBM_Filter::null => DBM_F::n
DBM_Filter::utf8 => DBM_F::utf8
DB_File => DB_F
Dancer2 => D2
Dancer2::Plugin::Auth::Extensible => D2::P::A::E
Dancer2::Plugin::Auth::Extensible::Provider::Database => D2::P::A::E::P::D
Dancer2::Plugin::Database => D2::P::D
Dancer2::Session::Sereal => D2::S::S
Dancer::Debug => D::D
Dancer::Logger::ColorConsole => D::L::CC
Dancer::Logger::ConsoleSpinner => D::L::CS
Dancer::Logger::PSGI => D::L::PSGI
Dancer::Logger::Syslog => D::L::S
Dancer::Middleware::Rebase => D::M::R
Dancer::Plugin::Auth::Extensible => D::P::A::E
Dancer::Plugin::Auth::Htpasswd => D::P::A::H
Dancer::Plugin::Auth::Tiny => D::P::A::T
Dancer::Plugin::Auth::Twitter => *undef*
Dancer::Plugin::Browser => D::P::B
Dancer::Plugin::Cache::CHI => D::P::C::CHI
Dancer::Plugin::DBIC => D::P::DBIC
Dancer::Plugin::Database => D::P::D
Dancer::Plugin::Database::Core => D::P::D::C
Dancer::Plugin::DebugDump => D::P::DD
Dancer::Plugin::DirectoryView => D::P::DV
Dancer::Plugin::Email => D::P::E
Dancer::Plugin::EncodeID => D::P::EID
Dancer::Plugin::EscapeHTML => D::P::EHTML
Dancer::Plugin::Feed => D::P::F
Dancer::Plugin::FlashMessage => D::P::FM
Dancer::Plugin::FlashNote => D::P::FN
Dancer::Plugin::FormValidator => D::P::FV
Dancer::Plugin::FormattedOutput => D::P::FO
Dancer::Plugin::Hosts => D::P::H
Dancer::Plugin::LibraryThing => D::P::LT
Dancer::Plugin::Memcached => D::P::M
Dancer::Plugin::MemcachedFast => D::P::MF
Dancer::Plugin::MobileDevice => D::P::MD
Dancer::Plugin::Params::Normalization => D::P::P::N
Dancer::Plugin::ProxyPath => D::P::PP
Dancer::Plugin::REST => D::P::REST
Dancer::Plugin::Redis => D::P::R
Dancer::Plugin::SMS => D::P::SMS
Dancer::Plugin::SimpleCRUD => D::P::SCRUD
Dancer::Plugin::SiteMap => D::P::SMap
Dancer::Plugin::Stomp => D::P::S
Dancer::Plugin::TimeRequests => D::P::TR
Dancer::Plugin::ValidateTiny => D::P::VT
Dancer::Plugin::XML::RSS => D::P::XML::RSS
Dancer::Serializer::UUEncode => D::S::UUE
Dancer::Session::CHI => D::S::CHI
Dancer::Session::Cookie => D::S::C
Dancer::Session::Memcached => D::S::M
Dancer::Session::PSGI => D::S::PSGI
Dancer::Session::Storable => D::S::S
Dancer::Template::Alloy => D::T::A
Dancer::Template::Haml => D::T::H
Dancer::Template::HtmlTemplate => D::T::HT
Dancer::Template::Mason2 => D::T::M2
Dancer::Template::MicroTemplate => D::T::MT
Dancer::Template::MojoTemplate => *undef*
Dancer::Template::TemplateSandbox => D::T::TS
Dancer::Template::Tiny => D::T::T
Dancer::Template::Xslate => D::T::X
Data::Buffer => D::B
Data::Check::Structure => D::C::S
Data::Clean => D::C
Data::Clean::JSON => D::C::JSON
Data::Clone => *undef*
Data::Comparable => *undef*
Data::Compare => *undef*
Data::Container => *undef*
Data::Currency => *undef*
Data::DPath => D::DP
Data::Define => *undef*
Data::Dmp => D::Dmp
Data::Dump => *undef*
Data::Dump::OneLine => D::D::OneL
Data::Dump::Partial => D::D::P
Data::Dump::Streamer => D::D::S
Data::DumpXML => D::DXML
Data::Dumper => *undef*
Data::Dumper::Concise => D::D::C
Data::Dumper::Perltidy => *undef*
Data::Float => D::F
Data::FormValidator => D::FV
Data::FormValidator::Constraints::DateTime => D::FV::C::DT
Data::FormValidator::Constraints::Words => D::FV::C::W
Data::FormValidator::Filters::Demoroniser => D::FV::F::D
Data::Format::Pretty => D::F::P
Data::Format::Pretty::Console => D::F::P::C
Data::Format::Pretty::HTML => D::F::P::HTML
Data::Format::Pretty::JSON => D::F::P::JSON
Data::GUID => D::GUID
Data::ICal => D::ICal
Data::Inherited => D::I
Data::Integer => *undef*
Data::JavaScript::Anon => D::JS::A
Data::Lazy => D::L
Data::Localize => *undef*
Data::Manager => D::M
Data::Message => *undef*
Data::MessagePack => D::MP
Data::Miscellany => *undef*
Data::ModeMerge => D::MM
Data::Munge => *undef*
Data::OptList => D::OptL
Data::Page => D::P
Data::Page::FlickrLike => D::P::FL
Data::Page::NoTotalEntries => D::P::NoTE
Data::Pageset => *undef*
Data::Perl => *undef*
Data::Phrasebook => *undef*
Data::Phrasebook::Loader::Ini => D::P::L::Ini
Data::Printer => *undef*
Data::Random => D::R
Data::Record => *undef*
Data::Recursive::Encode => D::R::E
Data::Rmap => *undef*
Data::Sah::Coerce => D::Sah::C
Data::Sah::Coerce::perl::date::str_alami_en => D::Sah::C::p::d::s
Data::Sah::Normalize => D::Sah::N
Data::Sah::Resolve => D::Sah::R
Data::Sah::Util::Type => D::Sah::U::T
Data::Section => D::S
Data::Section::Simple => *undef*
Data::Serializer => *undef*
Data::SimplePassword => D::SP
Data::SpreadPagination => *undef*
Data::Storage => *undef*
Data::Stream::Bulk => D::S::B
Data::Structure::Util => D::S::U
Data::Transformer => D::T
Data::UUID => D::UUID
Data::Unixish => D::U
Data::Util => *undef*
Data::Validator => D::V
Data::Verifier => *undef*
Data::Visitor => *undef*
Data::Walk::Extracted => D::W::E
Date::Calc => *undef*
Date::ISO8601 => D::ISO8601
Date::Manip => *undef*
Date::Parse => *undef*
Date::Range => *undef*
Date::Simple => *undef*
Date::Tiny => *undef*
DateTime => DT
DateTime::Calendar::Mayan => DT::C::M
DateTime::Event::ICal => DT::E::ICal
DateTime::Event::Recurrence => DT::E::R
DateTime::Format::Alami => DT::F::A
DateTime::Format::Atom => *undef*
DateTime::Format::Builder => DT::F::B
DateTime::Format::DB2 => DT::F::DB2
DateTime::Format::DBI => DT::F::DBI
DateTime::Format::DateManip => DT::F::DM
DateTime::Format::DateParse => DT::F::DP
DateTime::Format::Duration => DT::F::D
DateTime::Format::Duration::DurationString => DT::F::D::DS
DateTime::Format::Duration::ISO8601 => DT::F::D::ISO8601
DateTime::Format::Duration::XSD => DT::F::D::XSD
DateTime::Format::Epoch => DT::F::E
DateTime::Format::Excel => *undef*
DateTime::Format::Flexible => DT::F::F
DateTime::Format::HTTP => DT::F::HTTP
DateTime::Format::Human => DT::F::H
DateTime::Format::Human::Duration => DT::F::H::D
DateTime::Format::ICal => DT::F::ICal
DateTime::Format::ISO8601 => DT::F::ISO8601
DateTime::Format::MSSQL => DT::F::MSSQL
DateTime::Format::Mail => DT::F::M
DateTime::Format::MySQL => DT::F::MySQL
DateTime::Format::Natural => DT::F::N
DateTime::Format::Oracle => DT::F::O
DateTime::Format::Pg => DT::F::Pg
DateTime::Format::RFC3339 => DT::F::RFC3339
DateTime::Format::RFC3501 => DT::F::RFC3501
DateTime::Format::RSS => DT::F::RSS
DateTime::Format::SQLite => DT::F::SQL
DateTime::Format::Strptime => DT::F::S
DateTime::Format::Sybase => *undef*
DateTime::Format::W3CDTF => DT::F::W3CDTF
DateTime::Format::WindowsFileTime => DT::F::WFT
DateTime::Format::XSD => DT::F::XSD
DateTime::Locale => DT::L
DateTime::Set => DT::Set
DateTime::TimeZone => DT::TZ
DateTime::TimeZone::Local::Win32 => DT::TZ::L::Win32
DateTime::Tiny => DT::T
DateTimeX::Easy => DTX::E
DateTimeX::Format::Ago => DTX::F::Ago
Debug::Trace => *undef*
Devel::Autoflush => D::A
Devel::Caller => *undef*
Devel::CheckBin => D::CBin
Devel::CheckCompiler => D::CC
Devel::CheckLib => D::CLib
Devel::CheckOS => D::COS
Devel::Confess => *undef*
Devel::Cycle => *undef*
Devel::Declare => *undef*
Devel::Declare::Parser => *undef*
Devel::Declare::Parser::Fennec => D::D::P::F
Devel::Dumpvar => *undef*
Devel::FindPerl => D::FP
Devel::GlobalDestruction => D::GD
Devel::Hide => D::H
Devel::KYTProf => D::KYTP
Devel::Leak => *undef*
Devel::LexAlias => D::LexA
Devel::NYTProf => D::NYTP
Devel::OverloadInfo => D::OI
Devel::PPPort => D::PPP
Devel::PartialDump => D::PD
Devel::PatchPerl => D::PP
Devel::Peek => *undef*
Devel::REPL => D::REPL
Devel::REPL::Plugin::DataPrinter => D::REPL::P::DP
Devel::Refactor => *undef*
Devel::SelfStubber => D::SS
Devel::SimpleTrace => D::ST
Devel::Size => *undef*
Devel::StackTrace => *undef*
Devel::StackTrace::AsHTML => D::ST::AsHTML
Devel::StackTrace::WithLexicals => D::ST::WL
Devel::StrictMode => D::SM
Devel::Symdump => *undef*
Devel::Trace => *undef*
Device::Chip => *undef*
Digest::BubbleBabble => D::BB
Digest::CMAC => D::CMAC
Digest::CRC => D::CRC
Digest::HMAC => D::HMAC
Digest::JHash => D::JH
Digest::MD2 => D::MD2
Digest::MD4 => D::MD4
Digest::MD5 => D::MD5
Digest::MD5::File => D::MD5::F
Digest::MurmurHash3::PurePerl => D::MH3::PP
Digest::Perl::MD5 => D::P::MD5
Digest::SHA => D::SHA
Digest::SHA1 => D::SHA1
Digest::Whirlpool => D::W
Digest::base => D::b
Digest::file => D::f
Dir::Self => Dir::S
DirHandle => DirH
Directory::Scratch => *undef*
Dispatch::Class => *undef*
Dist::CheckConflicts => *undef*
Dist::Util => *undef*
Dist::Zilla => D::Z
Dist::Zilla::Config::Slicer => D::Z::C::S
Dist::Zilla::Plugin::AssertOS => D::Z::P::AOS
Dist::Zilla::Plugin::Author::KENTNL::CONTRIBUTING => D::Z::P::A::KENTNL::CONTRIBUTING
Dist::Zilla::Plugin::Author::KENTNL::RecommendFixes => D::Z::P::A::KENTNL::RF
Dist::Zilla::Plugin::Author::KENTNL::TravisCI => D::Z::P::A::KENTNL::TCI
Dist::Zilla::Plugin::Authority => D::Z::P::A
Dist::Zilla::Plugin::AutoMetaResources => D::Z::P::AMR
Dist::Zilla::Plugin::Bootstrap::lib => D::Z::P::B::lib
Dist::Zilla::Plugin::Bugtracker => D::Z::P::B
Dist::Zilla::Plugin::BumpVersionAfterRelease => D::Z::P::BVAR
Dist::Zilla::Plugin::CheckChangeLog => D::Z::P::CCLog
Dist::Zilla::Plugin::CheckChangesHasContent => D::Z::P::CCHasC
Dist::Zilla::Plugin::CheckExtraTests => D::Z::P::CET
Dist::Zilla::Plugin::CheckIssues => D::Z::P::CI
Dist::Zilla::Plugin::CheckMetaResources => D::Z::P::CMR
Dist::Zilla::Plugin::CheckPrereqsIndexed => D::Z::P::CPI
Dist::Zilla::Plugin::CheckSelfDependency => D::Z::P::CSD
Dist::Zilla::Plugin::CheckStrictVersion => D::Z::P::CSV
Dist::Zilla::Plugin::Clean => D::Z::P::C
Dist::Zilla::Plugin::Config::Git => D::Z::P::C::Git
Dist::Zilla::Plugin::ConsistentVersionTest => D::Z::P::CVT
Dist::Zilla::Plugin::ContributorsFile => D::Z::P::CF
Dist::Zilla::Plugin::CopyFilesFromBuild => D::Z::P::CFFB
Dist::Zilla::Plugin::CopyFilesFromBuild::Filtered => D::Z::P::CFFB::F
Dist::Zilla::Plugin::CopyFilesFromRelease => D::Z::P::CFFR
Dist::Zilla::Plugin::CopyrightYearFromGit => D::Z::P::CYFGit
Dist::Zilla::Plugin::DualBuilders => D::Z::P::DB
Dist::Zilla::Plugin::EnsureSQLSchemaVersionedTest => D::Z::P::ESQLSVT
Dist::Zilla::Plugin::Extras => D::Z::P::E
Dist::Zilla::Plugin::GenShellCompletion => D::Z::P::GenSC
Dist::Zilla::Plugin::GenerateFile::FromShareDir => D::Z::P::GF::FSDir
Dist::Zilla::Plugin::Git => D::Z::P::Git
Dist::Zilla::Plugin::Git::Contributors => D::Z::P::Git::C
Dist::Zilla::Plugin::Git::Describe => D::Z::P::Git::D
Dist::Zilla::Plugin::Git::NextRelease => D::Z::P::Git::NR
Dist::Zilla::Plugin::Git::NextVersion::Sanitized => D::Z::P::Git::NV::S
Dist::Zilla::Plugin::Git::PushInitial => D::Z::P::Git::PI
Dist::Zilla::Plugin::Git::Remote::Check => D::Z::P::Git::R::C
Dist::Zilla::Plugin::GitHub => D::Z::P::GitHub
Dist::Zilla::Plugin::GithubMeta => D::Z::P::GM
Dist::Zilla::Plugin::HasVersionTests => D::Z::P::HasVT
Dist::Zilla::Plugin::Homepage => D::Z::P::H
Dist::Zilla::Plugin::IfBuilt => D::Z::P::IfB
Dist::Zilla::Plugin::InsertCopyright => D::Z::P::IC
Dist::Zilla::Plugin::InstallGuide => D::Z::P::IG
Dist::Zilla::Plugin::InstallRelease => D::Z::P::IR
Dist::Zilla::Plugin::Keywords => D::Z::P::K
Dist::Zilla::Plugin::LicenseFromModule => D::Z::P::LFM
Dist::Zilla::Plugin::MakeMaker::Awesome => D::Z::P::MM::A
Dist::Zilla::Plugin::MakeMaker::Fallback => D::Z::P::MM::F
Dist::Zilla::Plugin::MapMetro::MakeLinePod => D::Z::P::MapM::MLPod
Dist::Zilla::Plugin::MetaData::BuiltWith => D::Z::P::MD::BW
Dist::Zilla::Plugin::MetaProvides => D::Z::P::MP
Dist::Zilla::Plugin::MetaProvides::Package => D::Z::P::MP::P
Dist::Zilla::Plugin::MetaYAML::Minimal => D::Z::P::MYAML::M
Dist::Zilla::Plugin::MinimumPerl => *undef*
Dist::Zilla::Plugin::ModuleBuildTiny => D::Z::P::MBT
Dist::Zilla::Plugin::ModuleBuildTiny::Fallback => D::Z::P::MBT::F
Dist::Zilla::Plugin::MojibakeTests => D::Z::P::MT
Dist::Zilla::Plugin::NameFromDirectory => D::Z::P::NFD
Dist::Zilla::Plugin::NextVersion::Semantic => D::Z::P::NV::S
Dist::Zilla::Plugin::OSPrereqs => D::Z::P::OSP
Dist::Zilla::Plugin::OurDate => D::Z::P::OurD
Dist::Zilla::Plugin::OurDist => *undef*
Dist::Zilla::Plugin::OurPkgVersion => D::Z::P::OurPkgV
Dist::Zilla::Plugin::PERLANCAR::EnsurePrereqToSpec => D::Z::P::PERLANCAR::EPToS
Dist::Zilla::Plugin::PERLANCAR::MetaResources => D::Z::P::PERLANCAR::MR
Dist::Zilla::Plugin::PERLANCAR::OurPkgVersion => D::Z::P::PERLANCAR::OurPkgV
Dist::Zilla::Plugin::PerlTidy => D::Z::P::PT
Dist::Zilla::Plugin::Pod2Readme => D::Z::P::Pod2R
Dist::Zilla::Plugin::PodWeaver => D::Z::P::PodW
Dist::Zilla::Plugin::PodnameFromFilename => D::Z::P::PFF
Dist::Zilla::Plugin::Prepender => D::Z::P::P
Dist::Zilla::Plugin::Prereqs::AuthorDeps => D::Z::P::P::AD
Dist::Zilla::Plugin::Prereqs::EnsureVersion => D::Z::P::P::EV
Dist::Zilla::Plugin::Prereqs::FromCPANfile => D::Z::P::P::FCPAN
Dist::Zilla::Plugin::Prereqs::MatchInstalled => D::Z::P::P::MI
Dist::Zilla::Plugin::Prereqs::Recommend::MatchInstalled => D::Z::P::P::R::MI
Dist::Zilla::Plugin::Prereqs::Upgrade => D::Z::P::P::U
Dist::Zilla::Plugin::PromptIfStale => D::Z::P::PIfS
Dist::Zilla::Plugin::Readme::Brief => D::Z::P::R::B
Dist::Zilla::Plugin::ReadmeAnyFromPod => D::Z::P::RAnyFPod
Dist::Zilla::Plugin::ReadmeFromPod => D::Z::P::RFPod
Dist::Zilla::Plugin::ReadmeMarkdownFromPod => D::Z::P::RMFPod
Dist::Zilla::Plugin::RemovePrereqs::Provided => D::Z::P::RP::P
Dist::Zilla::Plugin::ReportVersions::Tiny => D::Z::P::RV::T
Dist::Zilla::Plugin::Repository => D::Z::P::R
Dist::Zilla::Plugin::ReversionOnRelease => D::Z::P::ROnR
Dist::Zilla::Plugin::RewriteVersion::Sanitized => D::Z::P::RV::S
Dist::Zilla::Plugin::RewriteVersion::Transitional => *undef*
Dist::Zilla::Plugin::SchwartzRatio => D::Z::P::SR
Dist::Zilla::Plugin::SetScriptShebang => D::Z::P::SetSS
Dist::Zilla::Plugin::Signature => D::Z::P::S
Dist::Zilla::Plugin::SpellingCommonMistakesTests => D::Z::P::SCMT
Dist::Zilla::Plugin::StaticInstall => D::Z::P::SI
Dist::Zilla::Plugin::StaticVersion => D::Z::P::SV
Dist::Zilla::Plugin::SurgicalPodWeaver => D::Z::P::SPodW
Dist::Zilla::Plugin::TaskWeaver => D::Z::P::TW
Dist::Zilla::Plugin::Test::CPAN::Changes => D::Z::P::T::CPAN::C
Dist::Zilla::Plugin::Test::CPAN::Meta::JSON => D::Z::P::T::CPAN::M::JSON
Dist::Zilla::Plugin::Test::CheckManifest => D::Z::P::T::CM
Dist::Zilla::Plugin::Test::CleanNamespaces => D::Z::P::T::CN
Dist::Zilla::Plugin::Test::Compile => D::Z::P::T::C
Dist::Zilla::Plugin::Test::Compile::PerFile => D::Z::P::T::C::PerF
Dist::Zilla::Plugin::Test::DistManifest => D::Z::P::T::DM
Dist::Zilla::Plugin::Test::EOL => D::Z::P::T::EOL
Dist::Zilla::Plugin::Test::Kwalitee => D::Z::P::T::K
Dist::Zilla::Plugin::Test::MinimumVersion => D::Z::P::T::MV
Dist::Zilla::Plugin::Test::NoTabs => D::Z::P::T::NoT
Dist::Zilla::Plugin::Test::Perl::Critic => D::Z::P::T::P::C
Dist::Zilla::Plugin::Test::Pod::Coverage::Configurable => D::Z::P::T::Pod::C::C
Dist::Zilla::Plugin::Test::Pod::LinkCheck => D::Z::P::T::Pod::LC
Dist::Zilla::Plugin::Test::Pod::No404s => D::Z::P::T::Pod::No404s
Dist::Zilla::Plugin::Test::PodSpelling => D::Z::P::T::PodS
Dist::Zilla::Plugin::Test::Portability => D::Z::P::T::P
Dist::Zilla::Plugin::Test::ReportPrereqs => D::Z::P::T::RP
Dist::Zilla::Plugin::Test::Synopsis => D::Z::P::T::S
Dist::Zilla::Plugin::Test::UnusedVars => D::Z::P::T::UV
Dist::Zilla::Plugin::Test::Version => D::Z::P::T::V
Dist::Zilla::Plugin::TravisCI => D::Z::P::TCI
Dist::Zilla::Plugin::Twitter => D::Z::P::T
Dist::Zilla::Plugin::UploadToCPAN::WWWPAUSESimple => D::Z::P::UToCPAN::WWWPAUSES
Dist::Zilla::Plugin::UploadToGoogleCode => D::Z::P::UToGC
Dist::Zilla::PluginBundle::Author::ALEXBIO => D::Z::PB::A::ALEXBIO
Dist::Zilla::PluginBundle::DAGOLDEN => D::Z::PB::DAGOLDEN
Dist::Zilla::PluginBundle::Git::CheckFor => D::Z::PB::Git::CFor
Dist::Zilla::PluginBundle::SCHWIGON => D::Z::PB::SCHWIGON
Dist::Zilla::PluginBundle::Starter => D::Z::PB::S
Dist::Zilla::PluginBundle::TestingMania => D::Z::PB::TM
Dist::Zilla::Role::Bootstrap => D::Z::R::B
Dist::Zilla::Role::BundleDeps => D::Z::R::BD
Dist::Zilla::Role::DynamicConfig => D::Z::R::DC
Dist::Zilla::Role::FileWatcher => D::Z::R::FW
Dist::Zilla::Role::ModuleMetadata => D::Z::R::MM
Dist::Zilla::Role::PluginBundle::Merged => D::Z::R::PB::M
Dist::Zilla::Role::PluginBundle::PluginRemover => D::Z::R::PB::PR
Dist::Zilla::Role::RegisterStash => D::Z::R::RS
Dist::Zilla::Role::RepoFileInjector => D::Z::R::RFI
Dist::Zilla::Role::Rinci::CheckDefinesMeta => D::Z::R::R::CDM
Dist::Zilla::Role::Stash::Plugins => D::Z::R::S::P
Dist::Zilla::Role::Version::Sanitize => D::Z::R::V::S
Dist::Zilla::Shell => D::Z::S
Dist::Zilla::Stash::PodWeaver => D::Z::S::PodW
Dist::Zilla::Util::ConfigDumper => D::Z::U::CD
Dist::Zilla::Util::CurrentCmd => D::Z::U::CCmd
Dist::Zilla::Util::Test::KENTNL => D::Z::U::T::KENTNL
DynaLoader => DL
DynaLoader::Functions => DL::F
Email::ARF => E::ARF
Email::Abstract => E::A
Email::Address => *undef*
Email::Date => E::D
Email::Date::Format => E::D::F
Email::Delete => *undef*
Email::Filter => E::F
Email::Find => *undef*
Email::Folder => *undef*
Email::Folder::IMAP => E::F::IMAP
Email::Folder::IMAPS => E::F::IMAPS
Email::Folder::POP3 => E::F::POP3
Email::FolderType => E::FT
Email::FolderType::Net => E::FT::Net
Email::LocalDelivery => E::LD
Email::MIME => E::MIME
Email::MIME::Attachment::Stripper => E::MIME::A::S
Email::MIME::ContentType => E::MIME::CT
Email::MIME::CreateHTML => E::MIME::CHTML
Email::MIME::Encodings => E::MIME::E
Email::MIME::Kit => E::MIME::Kit
Email::MessageID => E::MID
Email::Reply => E::R
Email::Send => E::S
Email::Send::IO => E::S::IO
Email::Sender => *undef*
Email::Simple => *undef*
Email::Simple::FromHandle => E::S::FH
Email::Stuff => *undef*
Email::Stuffer => *undef*
Email::Thread => E::T
Email::Valid => E::V
Email::Valid::Loose => E::V::L
Encode::Alias => *undef*
Encode::Byte => E::B
Encode::CJKConstants => E::CJKC
Encode::CN => E::CN
Encode::CN::HZ => E::CN::HZ
Encode::Config => E::C
Encode::Detect => *undef*
Encode::EBCDIC => E::EBCDIC
Encode::Encoder => E::E
Encode::Encoding => *undef*
Encode::GSM0338 => E::GSM0338
Encode::Guess => E::G
Encode::JP => E::JP
Encode::JP::H2Z => E::JP::H2Z
Encode::JP::JIS7 => E::JP::JIS7
Encode::KR => E::KR
Encode::KR::2022_KR => E::KR::2022_KR
Encode::Locale => E::L
Encode::MIME::Header => E::MIME::H
Encode::MIME::Header::ISO_2022_JP => E::MIME::H::ISO_2022_JP
Encode::MIME::Name => E::MIME::N
Encode::Symbol => *undef*
Encode::TW => E::TW
Encode::Unicode => E::U
Encode::Unicode::UTF7 => E::U::UTF7
Encode::ZapCP1252 => E::ZapCP1252
Encode::compat => E::c
Encoding::FixLatin => E::FixL
Env::Path => Env::P
Env::Sanctify => Env::S
Eponymous::Hash => E::H
Error::Hierarchy => *undef*
Error::Pure => E::P
Error::Pure::Output::Text => E::P::O::T
Eval::Closure => *undef*
Excel::Template => *undef*
Excel::Template::Plus => E::T::P
Excel::Writer::XLSX => E::W::XLSX
Exception::Class => *undef*
Exception::Class::TryCatch => E::C::TryC
Exception::Tiny => *undef*
Exporter::Declare => *undef*
Exporter::Declare::Magic => E::D::M
Exporter::Easy => *undef*
Exporter::Heavy => *undef*
Exporter::Lite => *undef*
Exporter::Tidy => *undef*
Exporter::Tiny => *undef*
ExtUtils::CBuilder => ExtU::CB
ExtUtils::CBuilder::Base => ExtU::CB::B
ExtUtils::CBuilder::Platform::Unix => ExtU::CB::P::U
ExtUtils::CBuilder::Platform::VMS => ExtU::CB::P::VMS
ExtUtils::CBuilder::Platform::Windows => ExtU::CB::P::W
ExtUtils::CBuilder::Platform::Windows::BCC => ExtU::CB::P::W::BCC
ExtUtils::CBuilder::Platform::Windows::GCC => ExtU::CB::P::W::GCC
ExtUtils::CBuilder::Platform::Windows::MSVC => ExtU::CB::P::W::MSVC
ExtUtils::CBuilder::Platform::aix => ExtU::CB::P::aix
ExtUtils::CBuilder::Platform::android => ExtU::CB::P::a
ExtUtils::CBuilder::Platform::cygwin => ExtU::CB::P::c
ExtUtils::CBuilder::Platform::darwin => ExtU::CB::P::d
ExtUtils::CBuilder::Platform::dec_osf => *undef*
ExtUtils::CBuilder::Platform::os2 => ExtU::CB::P::os2
ExtUtils::CChecker => ExtU::CC
ExtUtils::Command => ExtU::C
ExtUtils::Command::MM => ExtU::C::MM
ExtUtils::Config => *undef*
ExtUtils::Constant => *undef*
ExtUtils::Constant::Base => ExtU::C::B
ExtUtils::Constant::ProxySubs => ExtU::C::PS
ExtUtils::Constant::Utils => ExtU::C::U
ExtUtils::Constant::XS => ExtU::C::XS
ExtUtils::CppGuess => ExtU::CppG
ExtUtils::Depends => ExtU::D
ExtUtils::Embed => ExtU::E
ExtUtils::F77 => ExtU::F77
ExtUtils::Helpers => ExtU::H
ExtUtils::Install => ExtU::I
ExtUtils::InstallPaths => ExtU::IP
ExtUtils::Installed => *undef*
ExtUtils::Liblist => ExtU::L
ExtUtils::Liblist::Kid => ExtU::L::Kid
ExtUtils::MM => ExtU::MM
ExtUtils::MM_AIX => ExtU::MM_AIX
ExtUtils::MM_Any => ExtU::MM_Any
ExtUtils::MM_BeOS => ExtU::MM_BeOS
ExtUtils::MM_Cygwin => ExtU::MM_C
ExtUtils::MM_DOS => ExtU::MM_DOS
ExtUtils::MM_Darwin => ExtU::MM_D
ExtUtils::MM_MacOS => ExtU::MM_MacOS
ExtUtils::MM_NW5 => ExtU::MM_NW5
ExtUtils::MM_OS2 => ExtU::MM_OS2
ExtUtils::MM_QNX => ExtU::MM_QNX
ExtUtils::MM_UWIN => ExtU::MM_UWIN
ExtUtils::MM_Unix => ExtU::MM_U
ExtUtils::MM_VMS => ExtU::MM_VMS
ExtUtils::MM_VOS => ExtU::MM_VOS
ExtUtils::MM_Win32 => ExtU::MM_Win32
ExtUtils::MM_Win95 => ExtU::MM_Win95
ExtUtils::MY => ExtU::MY
ExtUtils::MakeMaker => *undef*
ExtUtils::MakeMaker::CPANfile => ExtU::MM::CPAN
ExtUtils::MakeMaker::Config => ExtU::MM::C
ExtUtils::MakeMaker::Locale => ExtU::MM::L
ExtUtils::MakeMaker::version => ExtU::MM::v
ExtUtils::MakeMaker::version::regex => ExtU::MM::v::r
ExtUtils::Manifest => ExtU::M
ExtUtils::Miniperl => *undef*
ExtUtils::Mkbootstrap => *undef*
ExtUtils::Mksymlists => *undef*
ExtUtils::PL2Bat => ExtU::PL2Bat
ExtUtils::Packlist => ExtU::P
ExtUtils::ParseXS => ExtU::PXS
ExtUtils::ParseXS::Constants => ExtU::PXS::C
ExtUtils::ParseXS::CountLines => ExtU::PXS::CL
ExtUtils::ParseXS::Eval => ExtU::PXS::E
ExtUtils::ParseXS::Utilities => ExtU::PXS::U
ExtUtils::PkgConfig => ExtU::PkgC
ExtUtils::Typemaps => ExtU::T
ExtUtils::Typemaps::Cmd => ExtU::T::Cmd
ExtUtils::Typemaps::InputMap => ExtU::T::IMap
ExtUtils::Typemaps::OutputMap => ExtU::T::OMap
ExtUtils::Typemaps::Type => ExtU::T::T
ExtUtils::XSSymSet => ExtU::XSSymSet
ExtUtils::XSpp => ExtU::XSpp
ExtUtils::testlib => ExtU::t
FCGI::Client => FCGI::C
FCGI::ProcManager => FCGI::PM
FFI::CheckLib => FFI::CLib
FTN::Address => FTN::A
FTN::Nodelist => FTN::N
Facebook::Graph => F::G
Feed::Find => F::F
Fennec::Lite => F::L
Fey::DBIManager => Fey::DBIM
Fey::Test => Fey::T
File::BOM => F::BOM
File::BaseDir => F::BDir
File::Basename => F::B
File::ChangeNotify => F::CN
File::CheckTree => F::CT
File::Comments => F::C
File::Compare => *undef*
File::ConfigDir => F::CDir
File::Copy => *undef*
File::Copy::Recursive => F::C::R
File::DesktopEntry => F::DE
File::Digest => F::D
File::DosGlob => F::DosG
File::Fetch => *undef*
File::Find => *undef*
File::Find::Iterator => F::F::I
File::Find::Object => F::F::O
File::Find::Rule => F::F::R
File::Find::Rule::Perl => F::F::R::P
File::Finder => *undef*
File::Flat => *undef*
File::Glob => *undef*
File::Glob::Windows => F::G::W
File::GlobMapper => F::GM
File::HomeDir => F::HDir
File::Listing => *undef*
File::MMagic => F::MM
File::Map => F::Map
File::NCopy => F::NC
File::NFSLock => F::NFSL
File::Next => F::N
File::Object => F::O
File::Path => F::P
File::Path::Expand => F::P::E
File::Path::Tiny => F::P::T
File::PathList => F::PL
File::Policy => *undef*
File::ReadBackwards => F::RB
File::Remove => F::R
File::SearchPath => F::SP
File::Share => F::S
File::ShareDir => F::SDir
File::ShareDir::Install => F::SDir::I
File::ShareDir::PAR => F::SDir::PAR
File::ShareDir::ProjectDistDir => F::SDir::PDDir
File::ShareDir::Tarball => F::SDir::T
File::Slurp => *undef*
File::Slurp::Tiny => F::S::T
File::Slurper => *undef*
File::Spec => *undef*
File::Spec::AmigaOS => F::S::AOS
File::Spec::Cygwin => F::S::C
File::Spec::Epoc => F::S::E
File::Spec::Functions => F::S::F
File::Spec::Mac => F::S::Mac
File::Spec::Native => F::S::N
File::Spec::OS2 => F::S::OS2
File::Spec::Unix => F::S::U
File::Spec::VMS => F::S::VMS
File::Spec::Win32 => F::S::Win32
File::Tail => F::T
File::Temp => *undef*
File::Tempdir => *undef*
File::Touch => *undef*
File::Type => *undef*
File::Util::Tempdir => F::U::T
File::Which => F::W
File::chdir => F::c
File::chmod => *undef*
File::pushd => F::p
File::stat => F::s
FileCache => FC
FileHandle => FH
Filesys::Cap => F::Cap
Filesys::Notify::Simple => F::N::S
Filesys::Virtual => F::V
Filter::Simple => *undef*
Filter::Util::Call => F::U::C
Finance::Currency::Convert::WebserviceX => F::C::C::WX
Finance::Quote => F::Q
Find::Lib => F::Lib
FindBin => FBin
FindBin::Real => FBin::R
FindBin::libs => FBin::l
Font::AFM => F::AFM
Forks::Super => *undef*
FormValidator::Simple => FV::S
Format::Human::Bytes => F::H::B
Function::Fallback::CoreOrPP => F::F::COrPP
GD::Graph => GD::G
GD::Graph3d => GD::G3d
GD::SecurityImage => GD::SI
GD::Text => GD::T
GDBM_File => GDBM_F
Gen::Test::Rinci::FuncResult => Gen::T::R::FR
Generic::Assertions => G::A
Geo::Coder::Googlev3 => Geo::C::G3
Geo::Converter::dms2dd => Geo::C::dms2dd
Geo::IPfree => *undef*
Geo::ShapeFile => Geo::SF
Geo::ShapeFile::Writer => Geo::SF::W
Geography::Countries => G::C
Getopt::Euclid => G::E
Getopt::Inherited => G::I
Getopt::Long => G::L
Getopt::Long::Descriptive => G::L::D
Getopt::Long::Descriptive::Dump => G::L::D::D
Getopt::Long::Descriptive::Util => G::L::D::U
Getopt::Long::Dump => *undef*
Getopt::Long::Negate::EN => G::L::N::EN
Getopt::Long::Util => G::L::U
Getopt::Lucid => *undef*
Getopt::Param => G::P
Getopt::Param::Tiny => G::P::T
Getopt::Std => G::Std
Getopt::Std::Dump => G::Std::D
Getopt::Std::Util => G::Std::U
Getopt::Usaginator => G::U
Git::PurePerl => Git::PP
Git::PurePerl::Walker => Git::PP::W
Git::Version::Compare => Git::V::C
Git::Wrapper => Git::W
Git::Wrapper::Plus => Git::W::P
Google::Code::Upload => G::C::U
Graph::ChuLiuEdmonds => G::ChuLiuE
Graph::Easy => *undef*
Graph::Easy::As_svg => G::E::A
Graph::Easy::Manual => G::E::M
Graph::Flowchart => G::F
Graphics::ColorNames => G::CN
Graphics::ColorNames::WWW => G::CN::WWW
Graphics::ColorUtils => G::CU
HTML-TableExtract => HTML-TE
HTML::Email::Obfuscate => HTML::E::O
HTML::Encoding => HTML::E
HTML::FillInForm => HTML::FInF
HTML::FillInForm::Lite => HTML::FInF::L
HTML::Form => HTML::F
HTML::FormHandler => HTML::FH
HTML::FormHandler::Model::DBIC => HTML::FH::M::DBIC
HTML::FormatText::WithLinks => HTML::FT::WL
HTML::Formatter => *undef*
HTML::FromANSI => HTML::FANSI
HTML::HTML5::Builder => HTML::HTML5::B
HTML::HTML5::Entities => HTML::HTML5::E
HTML::HTML5::Parser => HTML::HTML5::P
HTML::HTML5::Sanity => HTML::HTML5::S
HTML::HTML5::Writer => HTML::HTML5::W
HTML::Highlight => HTML::H
HTML::Lint => HTML::L
HTML::Mason => HTML::M
HTML::Packer => HTML::P
HTML::Parser => *undef*
HTML::QuickTable => HTML::QT
HTML::Restrict => HTML::R
HTML::Scrubber => HTML::S
HTML::Selector::XPath => HTML::S::XP
HTML::Strip => *undef*
HTML::Table => HTML::T
HTML::Table::FromDatabase => HTML::T::FD
HTML::TagCloud => HTML::TagC
HTML::TagFilter => HTML::TagF
HTML::Tagset => *undef*
HTML::Template => *undef*
HTML::Template::Expr => HTML::T::E
HTML::Tidy => *undef*
HTML::Tiny => *undef*
HTML::TokeParser::Simple => HTML::TP::S
HTML::Tree => *undef*
HTML::TreeBuilder::LibXML => HTML::TB::LibXML
HTML::TreeBuilder::XPath => HTML::TB::XP
HTTP::Body => HTTP::B
HTTP::BrowserDetect => HTTP::BD
HTTP::CookieJar => HTTP::CJar
HTTP::CookieMonster => HTTP::CM
HTTP::Cookies => HTTP::C
HTTP::Daemon => HTTP::D
HTTP::Date => *undef*
HTTP::Entity::Parser => HTTP::E::P
HTTP::Exception => HTTP::E
HTTP::Headers::Fast => HTTP::H::F
HTTP::Link::Parser => HTTP::L::P
HTTP::Lite => HTTP::L
HTTP::Message => HTTP::M
HTTP::MultiPartParser => HTTP::MPP
HTTP::Negotiate => HTTP::N
HTTP::Parser => HTTP::P
HTTP::Parser::XS => HTTP::P::XS
HTTP::Request::AsCGI => HTTP::R::AsCGI
HTTP::Server::Simple => HTTP::S::S
HTTP::Server::Simple::PSGI => HTTP::S::S::PSGI
HTTP::Thin => HTTP::T
HTTP::Tiny => *undef*
HTTP::Tiny::Mech => HTTP::T::M
HTTP::Tiny::UNIX => HTTP::T::UNIX
Hash::FieldHash => H::FH
Hash::Flatten => H::F
Hash::Layout => H::L
Hash::Merge => H::M
Hash::Merge::Simple => H::M::S
Hash::MoreUtils => H::MU
Hash::MultiValue => H::MV
Hash::StoredIterator => H::SI
Hash::Util => H::U
Hash::Util::FieldHash => H::U::FH
Hash::Util::FieldHash::Compat => H::U::FH::C
Heap::Simple => H::S
Hook::LexWrap => H::LexW
Hook::Modular => *undef*
I18N::Charset => I18N::C
I18N::Collate => *undef*
I18N::LangTags => I18N::LT
I18N::LangTags::Detect => I18N::LT::D
I18N::LangTags::List => I18N::LT::L
I18N::Langinfo => I18N::L
IO::Async => IO::A
IO::Callback => IO::C
IO::Capture => *undef*
IO::CaptureOutput => IO::CO
IO::Compress => *undef*
IO::Compress::Adapter::Bzip2 => IO::C::A::B2
IO::Compress::Adapter::Deflate => IO::C::A::D
IO::Compress::Adapter::Identity => IO::C::A::I
IO::Compress::Base => IO::C::B
IO::Compress::Base::Common => IO::C::B::C
IO::Compress::Bzip2 => IO::C::B2
IO::Compress::Deflate => IO::C::D
IO::Compress::Gzip => IO::C::G
IO::Compress::Gzip::Constants => IO::C::G::C
IO::Compress::Lzma => IO::C::L
IO::Compress::RawDeflate => IO::C::RawD
IO::Compress::Zip => IO::C::Zip
IO::Compress::Zip::Constants => IO::C::Zip::C
IO::Compress::Zlib::Constants => IO::C::Z::C
IO::Compress::Zlib::Extra => IO::C::Z::E
IO::Digest => IO::D
IO::File => IO::F
IO::File::WithPath => IO::F::WP
IO::Handle => IO::H
IO::Handle::Util => IO::H::U
IO::Interactive => IO::I
IO::Interactive::Tiny => IO::I::T
IO::LockedFile => IO::LF
IO::Pager => IO::P
IO::Pipe => *undef*
IO::Poll => *undef*
IO::Prompt => *undef*
IO::Prompt::I18N => IO::P::I18N
IO::Prompt::Simple => IO::P::S
IO::Prompt::Tiny => IO::P::T
IO::Seekable => IO::S
IO::Select => *undef*
IO::SessionData => IO::SD
IO::Socket => *undef*
IO::Socket::INET => IO::S::INET
IO::Socket::INET6 => IO::S::INET6
IO::Socket::IP => IO::S::IP
IO::Socket::SSL => IO::S::SSL
IO::Socket::Socks => IO::S::S
IO::Socket::Timeout => IO::S::T
IO::Socket::UNIX => IO::S::UNIX
IO::String => *undef*
IO::Stringy => *undef*
IO::TieCombine => IO::TieC
IO::Uncompress::Adapter::Bunzip2 => IO::U::A::B2
IO::Uncompress::Adapter::Identity => IO::U::A::I
IO::Uncompress::Adapter::Inflate => *undef*
IO::Uncompress::AnyInflate => IO::U::AnyI
IO::Uncompress::AnyUncompress => IO::U::AnyU
IO::Uncompress::Base => IO::U::B
IO::Uncompress::Bunzip2 => IO::U::B2
IO::Uncompress::Gunzip => IO::U::G
IO::Uncompress::Inflate => IO::U::I
IO::Uncompress::RawInflate => IO::U::RawI
IO::Uncompress::Unzip => IO::U::U
IO::Zlib => IO::Z
IOD::Examples => IOD::E
IP::Country => IP::C
IPC::Open2 => IPC::O2
IPC::Open3 => IPC::O3
IPC::Semaphore => IPC::S
IPC::SharedMem => IPC::SMem
IPC::Signal => *undef*
IPC::System::Options => IPC::S::O
IPC::System::Simple => IPC::S::S
IRC::Utils => IRC::U
Icon::FamFamFam::Silk => I::FamFamFam::S
Image::Base => I::B
Image::ExifTool => I::ET
Image::Info => I::I
Image::Math::Constrain => I::M::C
Image::Size => I::S
Image::Thumbnail => I::T
Image::Xbm => I::Xbm
Image::Xpm => I::Xpm
Import::Into => *undef*
Inline::C => I::C
Inline::Files => I::F
Iterator::Util => I::U
JSAN::Parse::FileDeps => JSAN::P::FD
JSAN::ServerSide => JSAN::SS
JSON::Color => JSON::C
JSON::Hyper => JSON::H
JSON::MaybeXS => JSON::MXS
JSON::PP::Boolean => JSON::PP::B
JSON::Path => JSON::P
JSON::Schema => JSON::S
JavaScript::Minifier::XS => JS::M::XS
JavaScript::Packer => JS::P
JavaScript::Squish => JS::S
JavaScript::Value::Escape => JS::V::E
Keyword::Simple => K::S
LWP::MediaTypes => LWP::MT
LWP::Online => LWP::O
LWP::Protocol::PSGI => LWP::P::PSGI
LWP::Protocol::http::SocketUnixAlt => LWP::P::h::SUAlt
LWP::Protocol::https => LWP::P::h
LWP::UserAgent::Determined => LWP::UA::D
LWP::UserAgent::Mockable => LWP::UA::M
LWP::UserAgent::Patch::FilterMirror => LWP::UA::P::FM
Labyrinth::Plugin::Album => L::P::A
Labyrinth::Plugin::Core => L::P::C
Labyrinth::Test::Harness => L::T::H
Lexical::Accessor => L::A
Lexical::Persistence => L::P
Lexical::SealRequireHints => L::SRH
Lexical::underscore => L::u
Lingua::Cyrillic::Translit::ICAO => L::C::T::ICAO
Lingua::EN::FindNumber => L::EN::FN
Lingua::EN::Inflect => L::EN::I
Lingua::EN::Inflect::Number => L::EN::I::N
Lingua::EN::Inflect::Phrase => L::EN::I::P
Lingua::EN::NamedEntity => L::EN::NE
Lingua::EN::Number::IsOrdinal => L::EN::N::IsO
Lingua::EN::Numbers::Ordinate => L::EN::N::O
Lingua::EN::PluralToSingular => L::EN::PToS
Lingua::EN::Tagger => L::EN::T
Lingua::EN::Words2Nums => L::EN::W2N
Lingua::Identify => L::I
Lingua::Interset => *undef*
Lingua::Multinational::Translit::ICAO => L::M::T::ICAO
Lingua::PT::Stemmer => L::PT::S
Lingua::RU::Jcuken => L::RU::J
Lingua::Stem => L::S
Lingua::Stem::Fr => L::S::Fr
Lingua::Stem::It => L::S::It
Lingua::Stem::Ru => L::S::Ru
Lingua::Stem::Snowball => L::S::S
Lingua::Stem::Snowball::Da => L::S::S::Da
Lingua::Stem::Snowball::No => L::S::S::No
Lingua::Stem::Snowball::Se => L::S::S::Se
Lingua::StopWords => L::SW
Lingua::UK::Jcuken => L::UK::J
List::AllUtils => L::AllU
List::BinarySearch => L::BS
List::BinarySearch::XS => L::BS::XS
List::Compare => L::C
List::Cycle => *undef*
List::MoreUtils => L::MU
List::Pairwise => *undef*
List::SomeUtils => L::SU
List::SomeUtils::XS => L::SU::XS
List::Util => L::U
List::Util::XS => L::U::XS
List::UtilsBy => L::UBy
Locale::CLDR => L::CLDR
Locale::Codes => *undef*
Locale::Codes::Constants => L::C::C
Locale::Codes::Country => *undef*
Locale::Codes::Country_Codes => L::C::CC
Locale::Codes::Country_Retired => L::C::CR
Locale::Codes::Currency => *undef*
Locale::Codes::Currency_Codes => *undef*
Locale::Codes::Currency_Retired => *undef*
Locale::Codes::LangExt => L::C::LExt
Locale::Codes::LangExt_Codes => L::C::LEC
Locale::Codes::LangExt_Retired => L::C::LER
Locale::Codes::LangFam => L::C::LFam
Locale::Codes::LangFam_Codes => L::C::LFC
Locale::Codes::LangFam_Retired => L::C::LFR
Locale::Codes::LangVar => L::C::LVar
Locale::Codes::LangVar_Codes => L::C::LVC
Locale::Codes::LangVar_Retired => L::C::LVR
Locale::Codes::Language => L::C::L
Locale::Codes::Language_Codes => L::C::LC
Locale::Codes::Language_Retired => L::C::LR
Locale::Codes::Script => L::C::S
Locale::Codes::Script_Codes => L::C::SC
Locale::Codes::Script_Retired => L::C::SR
Locale::Country => *undef*
Locale::Country::Multilingual => L::C::M
Locale::Currency => *undef*
Locale::Currency::Format => L::C::F
Locale::Language => L::L
Locale::Maketext => L::M
Locale::Maketext::Gettext => L::M::G
Locale::Maketext::Guts => *undef*
Locale::Maketext::GutsLoader => L::M::GL
Locale::Maketext::Lexicon => L::M::L
Locale::Maketext::Pseudo => L::M::P
Locale::Maketext::Simple => L::M::S
Locale::Maketext::Utils => L::M::U
Locale::Msgfmt => *undef*
Locale::Script => *undef*
Locale::Set => L::Set
Locale::TextDomain::UTF8 => L::TD::UTF8
Locale::US => L::US
LockFile::Simple => LF::S
Log::Any::Adapter::Callback => Log::Any::A::C
Log::Any::Adapter::Log4perl => Log::Any::A::Log4
Log::Any::Adapter::Screen => Log::Any::A::S
Log::Contextual => Log::C
Log::Dispatch => Log::D
Log::Dispatch::Array => Log::D::A
Log::Dispatchouli => *undef*
Log::Dump => *undef*
Log::Log4perl => Log::Log4
Log::Log4perl::Appender::TAP => Log::Log4::A::TAP
Log::LogLite => Log::LogL
Log::Message => Log::M
Log::Message::Simple => Log::M::S
Log::Minimal => *undef*
Log::Report => Log::R
Log::Report::Optional => Log::R::O
Log::Shiras => Log::S
Log::Trace => Log::T
MIME::Base32 => MIME::B32
MIME::Base64 => MIME::B64
MIME::Base64::URLSafe => MIME::B64::URLS
MIME::Charset => MIME::C
MIME::Lite => MIME::L
MIME::Lite::TT::HTML => MIME::L::TT::HTML
MIME::QuotedPrint => MIME::QP
MIME::Tools => MIME::T
MIME::Types => *undef*
MP3::Info => MP3::I
MRO::Compat => MRO::C
Mail::Alias::Reader => M::A::R
Mail::Audit => M::A
Mail::Audit::List => M::A::L
Mail::Audit::PGP => M::A::PGP
Mail::DeliveryStatus::BounceParser => M::DS::BP
Mail::IMAPClient => M::IMAPC
Mail::ListDetector => M::LD
Mail::POP3Client => M::POP3C
Mail::SRS => M::SRS
Mail::Sender => M::S
Mail::Sender::Easy => M::S::E
Mail::Thread => M::T
Mail::Thread::Arc => M::T::Arc
Mail::Thread::Chronological => M::T::C
Map::Metro => Map::M
Map::Tube => Map::T
Map::Tube::Barcelona => Map::T::B
Map::Tube::Berlin => *undef*
Map::Tube::Bucharest => *undef*
Map::Tube::Budapest => *undef*
Map::Tube::CLI => Map::T::CLI
Map::Tube::Cookbook => Map::T::C
Map::Tube::Delhi => Map::T::D
Map::Tube::Dnipropetrovsk => *undef*
Map::Tube::Exception => Map::T::E
Map::Tube::Graph => Map::T::G
Map::Tube::Kazan => Map::T::K
Map::Tube::Kharkiv => *undef*
Map::Tube::Kiev => *undef*
Map::Tube::KualaLumpur => Map::T::KL
Map::Tube::London => Map::T::L
Map::Tube::Malaga => Map::T::M
Map::Tube::Minsk => *undef*
Map::Tube::Moscow => *undef*
Map::Tube::NYC => Map::T::NYC
Map::Tube::Nanjing => Map::T::N
Map::Tube::NizhnyNovgorod => Map::T::NN
Map::Tube::Novosibirsk => *undef*
Map::Tube::Plugin::Formatter => Map::T::P::F
Map::Tube::Plugin::FuzzyFind => Map::T::P::FF
Map::Tube::Prague => Map::T::P
Map::Tube::SaintPetersburg => Map::T::SP
Map::Tube::Samara => Map::T::S
Map::Tube::Singapore => *undef*
Map::Tube::Tbilisi => Map::T::T
Map::Tube::Text::Shortest => Map::T::T::S
Map::Tube::Tokyo => *undef*
Map::Tube::Vienna => Map::T::V
Map::Tube::Warsaw => Map::T::W
Map::Tube::Yekaterinburg => Map::T::Y
Math::Base85 => M::B85
Math::Base::Convert => M::B::C
Math::Big => M::Big
Math::BigFloat => M::BigF
Math::BigFloat::Trace => M::BigF::T
Math::BigInt => M::BigInt
Math::BigInt::Calc => M::BigInt::C
Math::BigInt::CalcEmu => M::BigInt::CEmu
Math::BigInt::FastCalc => M::BigInt::FC
Math::BigInt::GMP => M::BigInt::GMP
Math::BigInt::Lib => M::BigInt::Lib
Math::BigInt::Pari => M::BigInt::P
Math::BigInt::Trace => M::BigInt::T
Math::BigRat => M::BigRat
Math::Complex => M::C
Math::Decimal64 => M::D64
Math::Fibonacci => M::F
Math::Fibonacci::Phi => M::F::Phi
Math::GMP => M::GMP
Math::GMPz => M::GMPz
Math::Geometry::Planar::GPC => M::G::P::GPC
Math::Int64 => M::Int64
Math::MPC => M::MPC
Math::MPFR => M::MPFR
Math::MatrixReal => M::MR
Math::Pari => M::P
Math::Polygon => *undef*
Math::Primality => *undef*
Math::Prime::Util => M::P::U
Math::Prime::Util::GMP => M::P::U::GMP
Math::Random => M::R
Math::Random::ISAAC => M::R::ISAAC
Math::Random::ISAAC::XS => M::R::ISAAC::XS
Math::Random::MT::Perl => M::R::MT::P
Math::Round => *undef*
Math::Round::Var => M::R::Var
Math::Trig => *undef*
Math::Vec => M::Vec
Memoize::AnyDBM_File => M::AnyDBM_F
Memoize::Expire => M::E
Memoize::ExpireFile => M::EF
Memoize::ExpireLRU => M::ELRU
Memoize::ExpireTest => M::ET
Memoize::NDBM_File => M::NDBM_F
Memoize::SDBM_File => M::SDBM_F
Memoize::Storable => *undef*
Memory::Usage => M::U
Message::Match => M::M
Message::Stack => *undef*
Message::Stack::Parser => M::S::P
Meta::Builder => M::B
MetaCPAN::API => MCPAN::API
MetaCPAN::Client => MCPAN::C
Metabase::Client::Simple => M::C::S
Metabase::Fact => *undef*
Method::Signatures => *undef*
Method::Signatures::Simple => M::S::S
Mixin::Event::Dispatch => M::E::D
Mixin::Linewise => M::L
Mock::Quick => M::Q
Modern::Perl => *undef*
Module::Build => *undef*
Module::Build::CleanInstall => M::B::CI
Module::Build::Pluggable => M::B::P
Module::Build::Pluggable::CPANfile => M::B::P::CPAN
Module::Build::Tiny => M::B::T
Module::Build::XSUtil => M::B::XSU
Module::CPANTS::Analyse => M::CPANTS::A
Module::CPANfile => M::CPAN
Module::Compile => *undef*
Module::CoreList => M::CL
Module::CoreList::More => M::CL::M
Module::CoreList::TieHashDelta => M::CL::TieHD
Module::CoreList::Utils => M::CL::U
Module::Data => M::D
Module::Extract::Use => M::E::Use
Module::Extract::VERSION => M::E::VERSION
Module::ExtractUse => M::EUse
Module::Find => *undef*
Module::Functions => *undef*
Module::Implementation => M::I
Module::Info => *undef*
Module::Install => *undef*
Module::Install::AuthorTests => M::I::AT
Module::Install::ExtraTests => M::I::ET
Module::Installed::Tiny => M::I::T
Module::List => *undef*
Module::Load => *undef*
Module::Load::Conditional => M::L::C
Module::Loaded => *undef*
Module::Locate => *undef*
Module::Manifest => *undef*
Module::Mask => *undef*
Module::Mask::Deps => M::M::D
Module::Metadata => *undef*
Module::Patch => *undef*
Module::Path => *undef*
Module::Path::More => M::P::M
Module::Pluggable => *undef*
Module::Pluggable::Fast => M::P::F
Module::Pluggable::Ordered => M::P::O
Module::Reader => *undef*
Module::Refresh => *undef*
Module::Reload => *undef*
Module::Runtime => *undef*
Module::Runtime::Conflicts => M::R::C
Module::ScanDeps => M::SD
Module::Signature => *undef*
Module::Starter => *undef*
Module::Util => *undef*
Module::Version => M::V
Module::Want => M::W
Module::XSOrPP => M::XSOrPP
MojoX::Log::Log4perl => MX::Log::Log4
Monkey::Patch => *undef*
Monkey::Patch::Action => M::P::A
MooX::ClassAttribute => MooX::CA
MooX::ConfigFromFile => MooX::CFF
MooX::File::ConfigDir => MooX::F::CDir
MooX::HandlesVia => MooX::HVia
MooX::Lsub => MooX::L
MooX::Options => MooX::O
MooX::Singleton => MooX::S
MooX::StrictConstructor => MooX::SC
MooX::Types::MooseLike => MooX::T::ML
MooX::Types::MooseLike::Numeric => MooX::T::ML::N
MooX::late => MooX::l
Moose::Autobox => *undef*
MooseX::AbstractFactory => MX::AF
MooseX::Aliases => MX::A
MooseX::App => MX::App
MooseX::App::Cmd => MX::App::Cmd
MooseX::ArrayRef => MX::ARef
MooseX::Attribute::Chained => MX::A::C
MooseX::Attribute::ENV => MX::A::ENV
MooseX::AttributeDocumented => MX::AD
MooseX::AttributeShortcuts => MX::AS
MooseX::Blessed::Reconstruct => MX::B::R
MooseX::ClassAttribute => MX::CA
MooseX::Clone => MX::C
MooseX::ConfigFromFile => MX::CFF
MooseX::Configuration => *undef*
MooseX::Declare => MX::D
MooseX::Emulate::Class::Accessor::Fast => MX::E::C::A::F
MooseX::Getopt => MX::G
MooseX::Has::Sugar => MX::Has::S
MooseX::HasDefaults => MX::HasD
MooseX::LazyRequire => MX::LR
MooseX::Log::Log4perl => *undef*
MooseX::MarkAsMethods => MX::MAsM
MooseX::Meta::TypeConstraint::ForceCoercion => MX::M::TC::FC
MooseX::Meta::TypeConstraint::Mooish => MX::M::TC::M
MooseX::MetaDescription => MX::MD
MooseX::Method::Signatures => MX::M::S
MooseX::MethodAttributes => MX::MA
MooseX::MungeHas => MX::MHas
MooseX::NonMoose => MX::NonM
MooseX::Object::Pluggable => MX::O::P
MooseX::OneArgNew => MX::OneArgNew
MooseX::Param => MX::P
MooseX::Params::Validate => MX::P::V
MooseX::RelatedClassRoles => MX::RCR
MooseX::RemoteHelper => MX::RH
MooseX::Role::Parameterized => MX::R::P
MooseX::Role::WithOverloading => MX::R::WO
MooseX::SemiAffordanceAccessor => MX::SAA
MooseX::SetOnce => MX::SetO
MooseX::ShortCut::BuildInstance => MX::SCut::BI
MooseX::SimpleConfig => MX::SC
MooseX::Singleton => MX::S
MooseX::SlurpyConstructor => *undef*
MooseX::Storage => *undef*
MooseX::StrictConstructor => *undef*
MooseX::Traits => MX::T
MooseX::Traits::Pluggable => MX::T::P
MooseX::Types => *undef*
MooseX::Types::Common => MX::T::C
MooseX::Types::CreditCard => MX::T::CC
MooseX::Types::DateTime => MX::T::DT
MooseX::Types::DateTime::W3C => MX::T::DT::W3C
MooseX::Types::Email => MX::T::E
MooseX::Types::IPv4 => MX::T::IPv4
MooseX::Types::JSON => MX::T::JSON
MooseX::Types::LoadableClass => MX::T::LC
MooseX::Types::Locale::Country => MX::T::L::C
MooseX::Types::Locale::Currency => *undef*
MooseX::Types::NetAddr::IP => MX::T::NetA::IP
MooseX::Types::Path::Class => MX::T::P::C
MooseX::Types::Path::Tiny => MX::T::P::T
MooseX::Types::Perl => *undef*
MooseX::Types::PortNumber => MX::T::PN
MooseX::Types::Set::Object => MX::T::Set::O
MooseX::Types::Stringlike => MX::T::S
MooseX::Types::Structured => *undef*
MooseX::Types::URI => MX::T::URI
MooseX::Types::UUID => MX::T::UUID
MooseX::UndefTolerant => MX::UT
MooseX::YAML => MX::YAML
Moped::Msg => M::Msg
MouseX::NativeTraits => MX::NT
MouseX::StrictConstructor => *undef*
MouseX::Types => *undef*
MozRepl => MozR
MozRepl::RemoteObject => MozR::RO
Mozilla::CA => M::CA
MySQL::Diff => MySQL::D
NDBM_File => NDBM_F
Net::Akismet::Protocol => Net::A::P
Net::Amazon => Net::A
Net::CIDR::Lite => Net::CIDR::L
Net::Config => Net::C
Net::DNS::Resolver::Programmable => Net::DNS::R::P
Net::Domain => Net::D
Net::FTP::dataconn => Net::FTP::d
Net::FastCGI => Net::FCGI
Net::Google::AuthSub => Net::G::ASub
Net::Growl => Net::G
Net::IDN::Encode => Net::IDN::E
Net::IMAP::Client => Net::IMAP::C
Net::IMAP::Simple => Net::IMAP::S
Net::IMAP::Simple::Gmail => Net::IMAP::S::G
Net::IMAP::Simple::SSL => Net::IMAP::S::SSL
Net::IP::Match::Regexp => Net::IP::M::R
Net::IP::Minimal => Net::IP::M
Net::IPv4Addr => Net::IPv4A
Net::Ident => Net::I
Net::Jabber => Net::J
Net::Jabber::Bot => Net::J::Bot
Net::LDAP::Server => Net::LDAP::S
Net::Netmask => Net::N
Net::Netrc => *undef*
Net::OAuth => Net::OA
Net::OpenSSH => Net::OSSH
Net::Ping => Net::P
Net::SFTP::Foreign => Net::SFTP::F
Net::SSLeay => Net::SSL
Net::Stomp => Net::S
Net::Telnet => Net::T
Net::Time => *undef*
Net::Twitter => *undef*
Net::Twitter::Lite => Net::T::L
Net::hostent => Net::h
Net::netent => Net::n
Net::protoent => Net::p
Net::servent => Net::s
NetAddr::IP => NetA::IP
NetAddr::MAC => NetA::MAC
Nodejs::Util => N::U
Number::Compare => N::C
Number::Format => N::F
Number::Format::Metric => N::F::M
Number::Tolerant => N::T
ODBM_File => ODBM_F
OLE::Storage_Lite => OLE::SL
ORLite => ORL
ORLite::Migrate => ORL::M
OS2::ExtAttr => OS2::ExtA
OS2::Process => OS2::P
Object::Accessor => O::A
Object::Container => O::C
Object::Enum => O::E
Object::Event => *undef*
Object::ID => O::ID
Object::InsideOut => O::IOut
Object::Pluggable => O::P
Object::Signature => O::S
Object::Tiny => O::T
Object::Tiny::RW => O::T::RW
Olson::Abbreviations => *undef*
OpenGL => OGL
OpenGL::List => OGL::L
PAR::Dist => PAR::D
PAR::Dist::FromPPD => PAR::D::FPPD
PAR::Dist::InstallPPD => PAR::D::IPPD
PAR::Repository::Client => PAR::R::C
PAR::Repository::Query => PAR::R::Q
PERLANCAR::AppUtil::PerlStripper => PERLANCAR::AppU::PS
PERLANCAR::Module::List => PERLANCAR::M::L
POD2::Base => POD2::B
POE::Test::Loops => POE::T::L
POSIX::strftime::Compiler => POSIX::s::C
PPIx::DocumentName => PPIx::DN
PPIx::EditorTools => PPIx::ET
PPIx::Regexp => PPIx::R
PPIx::Utilities => PPIx::U
Package::Constants => P::C
Package::DeprecationManager => P::DM
Package::MoreUtil => P::MU
Package::Pkg => P::Pkg
Package::Stash => P::S
Package::Stash::XS => P::S::XS
Package::Variant => P::V
PadWalker => PadW
Parallel::ForkManager => P::FM
Parallel::Iterator => P::I
Parallel::Runner => P::R
Params::Check => *undef*
Params::Util => P::U
Params::Validate => *undef*
Params::ValidationCompiler => P::VC
Parse::Binary => P::B
Parse::CPAN::Meta => P::CPAN::M
Parse::CPAN::Packages::Fast => P::CPAN::P::F
Parse::CommandLine => P::CL
Parse::ErrorString::Perl => P::ES::P
Parse::ExuberantCTags => P::ECT
Parse::MIME => P::MIME
Parse::Method::Signatures => P::M::S
Parse::Number::EN => P::N::EN
Parse::Number::ID => P::N::ID
Parse::RecDescent => P::RecD
Parse::Sums => *undef*
Parse::VarName => P::VarN
Parser::MGC => P::MGC
Path::Class => *undef*
Path::Extended => P::E
Path::FindDev => P::FDev
Path::IsDev => P::IsDev
Path::Iterator::Rule => P::I::R
Path::ScanINC => P::SINC
Path::Tiny => P::T
Perinci::Access::Base => P::A::B
Perinci::Access::HTTP::Client => P::A::HTTP::C
Perinci::Access::Lite => P::A::L
Perinci::Access::Simple::Client => P::A::S::C
Perinci::AccessUtil => P::AU
Perinci::CmdLine::Call => P::CmdL::C
Perinci::CmdLine::Util => P::CmdL::U
Perinci::CmdLine::Util::Config => P::CmdL::U::C
Perinci::Examples => *undef*
Perinci::Object => P::O
Perinci::Result::Format => P::R::F
Perinci::Result::Format::Lite => P::R::F::L
Perinci::Sub::ArgEntity::perl_version => P::Sub::ArgE::p
Perinci::Sub::ConvertArgs::Argv => P::Sub::CA::A
Perinci::Sub::ConvertArgs::Array => *undef*
Perinci::Sub::DepChecker => P::Sub::DepC
Perinci::Sub::Gen => P::Sub::Gen
Perinci::Sub::GetArgs::Array => P::Sub::GetA::A
Perinci::Sub::Normalize => P::Sub::N
Perinci::Sub::Property::arg::cmdline => P::Sub::P::arg::c
Perinci::Sub::Property::cmdline => P::Sub::P::c
Perinci::Sub::PropertyUtil => P::Sub::PU
Perinci::Sub::Util => P::Sub::U
Perinci::Sub::Util::DepModule => P::Sub::U::DepM
Perinci::Sub::Util::PropertyModule => P::Sub::U::PM
Perl6::Caller => P6::C
Perl6::Export::Attrs => P6::E::A
Perl6::Junction => P6::J
Perl::Build => *undef*
Perl::Critic => *undef*
Perl::Critic::Bangs => P::C::B
Perl::Critic::Compatibility => P::C::C
Perl::Critic::Deprecated => P::C::D
Perl::Critic::Itch => P::C::I
Perl::Critic::Lax => P::C::Lax
Perl::Critic::Moose => P::C::M
Perl::Critic::More => *undef*
Perl::Critic::Nits => P::C::N
Perl::Critic::PetPeeves::JTRAMMELL => P::C::PetP::JTRAMMELL
Perl::Critic::Pulp => P::C::P
Perl::Critic::Storable => P::C::S
Perl::Critic::StricterSubs => P::C::SS
Perl::Critic::Swift => *undef*
Perl::Critic::Tics => P::C::T
Perl::Metrics::Simple => *undef*
Perl::MinimumVersion => P::MV
Perl::MinimumVersion::Fast => P::MV::F
Perl::OSType => P::OST
Perl::PrereqScanner => P::PS
Perl::Stripper => *undef*
Perl::Tidy => *undef*
Perl::Version => *undef*
Perl::osnames => P::o
PerlIO => PIO
PerlIO::Layers => PIO::L
PerlIO::encoding => PIO::e
PerlIO::eol => PIO::eol
PerlIO::gzip => PIO::g
PerlIO::mmap => PIO::m
PerlIO::scalar => PIO::s
PerlIO::utf8_strict => PIO::utf8
PerlIO::via => PIO::via
PerlIO::via::QuotedPrint => PIO::via::QP
PerlIO::via::Timeout => PIO::via::T
PerlIO::via::dynamic => PIO::via::d
PerlX::Maybe => PX::M
Pg::DatabaseManager => Pg::DM
PkgConfig => PkgC
Plack::App::Proxy => P::App::P
Plack::Middleware::Auth::Digest => P::M::A::D
Plack::Middleware::ConsoleLogger => P::M::CL
Plack::Middleware::Debug => P::M::D
Plack::Middleware::Deflater => *undef*
Plack::Middleware::Expires => P::M::E
Plack::Middleware::FixMissingBodyInRedirect => P::M::FixMBInR
Plack::Middleware::Header => P::M::H
Plack::Middleware::MethodOverride => P::M::MO
Plack::Middleware::RemoveRedundantBody => P::M::RRB
Plack::Middleware::ReverseProxy => P::M::RP
Plack::Middleware::Session => *undef*
Plack::Middleware::Status => *undef*
Plack::Request::WithEncoding => P::R::WE
Plack::Test::Agent => P::T::A
Plack::Test::ExternalServer => P::T::ES
Pod-MinimumVersion => Pod-MV
Pod::Abstract => Pod::A
Pod::Checker => Pod::C
Pod::Coverage => *undef*
Pod::Coverage::TrustPod => Pod::C::TPod
Pod::Elemental => Pod::E
Pod::Elemental::MakeSelector => Pod::E::MS
Pod::Elemental::PerlMunger => Pod::E::PM
Pod::Elemental::Transformer::List => Pod::E::T::L
Pod::Elemental::Transformer::Verbatim => Pod::E::T::V
Pod::Elemental::Transformer::WikiDoc => Pod::E::T::WDoc
Pod::Escapes => *undef*
Pod::Eventual => *undef*
Pod::Find => Pod::F
Pod::Functions => *undef*
Pod::Functions::Functions => Pod::F::F
Pod::Html => Pod::H
Pod::InputObjects => Pod::IO
Pod::Markdown => Pod::M
Pod::Markdown::Github => Pod::M::G
Pod::ParseLink => Pod::PL
Pod::ParseUtils => Pod::PU
Pod::Parser => Pod::P
Pod::Perldoc => *undef*
Pod::Perldoc::BaseTo => Pod::P::BTo
Pod::Perldoc::GetOptsOO => Pod::P::GetOOO
Pod::Perldoc::ToANSI => Pod::P::ToANSI
Pod::Perldoc::ToChecker => Pod::P::ToC
Pod::Perldoc::ToMan => Pod::P::ToMan
Pod::Perldoc::ToNroff => Pod::P::ToN
Pod::Perldoc::ToPod => Pod::P::ToPod
Pod::Perldoc::ToRtf => Pod::P::ToRtf
Pod::Perldoc::ToTerm => Pod::P::ToT
Pod::Perldoc::ToText => *undef*
Pod::Perldoc::ToTk => Pod::P::ToTk
Pod::Perldoc::ToXml => Pod::P::ToXml
Pod::PlainText => Pod::PT
Pod::Readme => Pod::R
Pod::Select => Pod::S
Pod::Simple => *undef*
Pod::Simple::BlackBox => Pod::S::BBox
Pod::Simple::Checker => Pod::S::C
Pod::Simple::Debug => Pod::S::D
Pod::Simple::DumpAsText => Pod::S::DAsT
Pod::Simple::DumpAsXML => Pod::S::DAsXML
Pod::Simple::HTML => Pod::S::HTML
Pod::Simple::HTMLBatch => Pod::S::HTMLB
Pod::Simple::HTMLLegacy => Pod::S::HTMLL
Pod::Simple::LinkSection => Pod::S::LS
Pod::Simple::Methody => Pod::S::M
Pod::Simple::Progress => Pod::S::P
Pod::Simple::PullParser => Pod::S::PP
Pod::Simple::PullParserEndToken => Pod::S::PPEndT
Pod::Simple::PullParserStartToken => Pod::S::PPST
Pod::Simple::PullParserTextToken => Pod::S::PPTT
Pod::Simple::PullParserToken => Pod::S::PPT
Pod::Simple::RTF => Pod::S::RTF
Pod::Simple::Search => Pod::S::S
Pod::Simple::SimpleTree => Pod::S::ST
Pod::Simple::Text => Pod::S::T
Pod::Simple::TextContent => Pod::S::TC
Pod::Simple::TiedOutFH => Pod::S::TOutFH
Pod::Simple::Transcode => *undef*
Pod::Simple::TranscodeDumb => Pod::S::TD
Pod::Simple::TranscodeSmart => Pod::S::TS
Pod::Simple::XHTML => Pod::S::XHTML
Pod::Simple::XMLOutStream => Pod::S::XMLOutS
Pod::Spell => *undef*
Pod::Spell::CommonMistakes => Pod::S::CM
Pod::Strip => *undef*
Pod::Tests => Pod::T
Pod::Text => *undef*
Pod::Text::Color => Pod::T::C
Pod::Text::Overstrike => Pod::T::O
Pod::Text::Termcap => Pod::T::T
Pod::Usage => Pod::U
Pod::Weaver => Pod::W
Pod::Weaver::Plugin::Encoding => Pod::W::P::E
Pod::Weaver::Plugin::StopWords => Pod::W::P::SW
Pod::Weaver::PluginBundle::Author::DOHERTY => Pod::W::PB::A::DOHERTY
Pod::Weaver::PluginBundle::SCHWIGON => Pod::W::PB::SCHWIGON
Pod::Weaver::Section::AllowOverride => Pod::W::S::AO
Pod::Weaver::Section::Availability => Pod::W::S::A
Pod::Weaver::Section::BugsAndLimitations => Pod::W::S::BAndL
Pod::Weaver::Section::Contributors => Pod::W::S::C
Pod::Weaver::Section::GenerateSection => Pod::W::S::GS
Pod::Weaver::Section::Installation => Pod::W::S::I
Pod::Weaver::Section::SeeAlso => Pod::W::S::SeeA
Pod::Weaver::Section::SourceGitHub => Pod::W::S::SGitHub
Pod::Weaver::Section::Support => Pod::W::S::S
Pod::Weaver::Section::WarrantyDisclaimer => Pod::W::S::WD
Pod::WikiDoc => Pod::WDoc
Pod::Xhtml => Pod::X
Probe::Perl => P::P
Proc::ChildError => P::CE
Proc::Fork => P::F
Proc::PID::File => P::PID::F
Progress::Any => P::Any
Progress::Any::Output::TermProgressBarColor => P::Any::O::TPBarC
Prompt::Timeout => *undef*
Property::Lookup => P::L
RDF::Prefixes => RDF::P
RDF::Query => RDF::Q
RDF::QueryX::Lazy => RDF::QX::L
RDF::RDFa::Generator => RDF::RDFa::G
RDF::RDFa::Parser => RDF::RDFa::P
RDF::Trine => RDF::T
RDF::TrineX::Functions => RDF::TX::F
Readonly::XS => R::XS
Ref::Util => Ref::U
Regexp::Assemble => R::A
Regexp::Common => R::C
Regexp::Grammars => R::G
Regexp::Parser => R::P
Regexp::RegGrp => R::RegGrp
Regexp::Stringify => R::S
Regexp::Wildcards => R::W
Release::Util::Git => R::U::Git
Return::MultiLevel => R::ML
Return::Type => R::T
Return::Value => R::V
Role::Commons => *undef*
Role::HasMessage => R::HasM
Role::Identifiable => R::I
Role::Tiny => *undef*
Rose::DB => R::DB
Rose::DB::Object => R::DB::O
Rose::DateTime => R::DT
Rose::HTML::Objects => R::HTML::O
Rose::HTMLx::Form::Field::Autocomplete => R::HTMLx::F::F::A
Rose::HTMLx::Form::Field::Boolean => R::HTMLx::F::F::B
Rose::HTMLx::Form::Field::PopUpMenuNumeric => R::HTMLx::F::F::PopUpMN
Rose::HTMLx::Form::Field::Serial => R::HTMLx::F::F::S
Rose::HTMLx::Form::Related => R::HTMLx::F::R
Rose::Object => R::O
Rose::URI => R::URI
Router::Boom => R::B
Router::Simple => *undef*
SDBM_File => SDBM_F
SHARYANTO::Utils => SHARYANTO::U
SMS::Send => SMS::S
SOAP::Lite => SOAP::L
SQL::Abstract => SQL::A
SQL::Abstract::Limit => SQL::A::L
SQL::Abstract::More => SQL::A::M
SQL::Interp => SQL::I
SQL::Maker => SQL::M
SQL::Maker::Plugin::JoinSelect => SQL::M::P::JS
SQL::QueryMaker => SQL::QM
SQL::ReservedWords => SQL::RW
SQL::Schema::Versioned => SQL::S::V
SQL::SplitStatement => SQL::SS
SQL::Statement => SQL::S
SQL::Tokenizer => SQL::T
SQL::Translator => *undef*
SQL::Translator::Producer::Teng => SQL::T::P::T
SVG::TT::Graph => SVG::TT::G
Safe::Hole => S::H
Safe::Isa => S::Isa
Sah::Schemas::Examples => Sah::S::E
Sah::Schemas::Int => Sah::S::Int
Sah::Schemas::Path => Sah::S::P
Sah::Schemas::Perl => *undef*
Sah::Schemas::Rinci => Sah::S::R
Scalar::Does => S::D
Scalar::String => S::S
Scalar::Util => S::U
Scalar::Util::Numeric => S::U::N
Scalar::Util::Numeric::PP => S::U::N::PP
Scope::Guard => S::G
Search::Dict => *undef*
Search::Elasticsearch => S::E
Search::GIN => S::GIN
Search::Query => S::Q
Search::QueryParser => S::QP
Search::QueryParser::SQL => S::QP::SQL
Search::Tools => S::T
SelectSaver => SS
Selenium::Remote::Driver => S::R::D
SelfLoader => SL
Sereal::Decoder => *undef*
Sereal::Encoder => *undef*
Session::Storage::Secure => S::S::S
Session::Token => *undef*
Set::Crontab => Set::C
Set::Infinite => Set::I
Set::Intersection => *undef*
Set::Object => Set::O
Set::Scalar => Set::S
Shell::Command => S::C
Shell::Config::Generate => S::C::G
Shell::Guess => *undef*
Smart::Comments => *undef*
Socket6 => S6
Software::License => S::L
Software::License::CCpack => S::L::CC
Sort::Naturally => S::N
Sort::SQL => S::SQL
Sort::Sub => S::Sub
Sort::Versions => S::V
SourceCode::LineCounter::Perl => SC::LC::P
Sphinx::Search => *undef*
Spreadsheet::ParseExcel => S::PE
Spreadsheet::ParseExcel::Simple => S::PE::S
Spreadsheet::ParseXLSX => S::PXLSX
Spreadsheet::Read => S::R
Spreadsheet::ReadSXC => S::RSXC
Spreadsheet::WriteExcel => S::WE
Spreadsheet::WriteExcel::Simple => S::WE::S
Statistics::Basic => S::B
Statistics::Descriptive => *undef*
Statistics::Test::RandomWalk => S::T::RW
Statistics::Test::Sequence => S::T::S
Stream::Buffered => *undef*
String::BOM => S::BOM
String::CRC32 => S::CRC32
String::CamelCase => S::CC
String::CommonPrefix => S::CP
String::Compare::ConstantTime => S::C::CT
String::Elide::Parts => S::E::P
String::Errf => *undef*
String::Escape => *undef*
String::FlexMatch => S::FM
String::Flogger => S::F
String::Format => *undef*
String::Formatter => *undef*
String::IRC => S::IRC
String::Indent => S::I
String::LineNumber => S::LN
String::Pad => S::Pad
String::Perl::Warnings => S::P::W
String::PerlQuote => S::PQ
String::Print => S::P
String::Random => *undef*
String::RewritePrefix => S::RP
String::ShellQuote => S::SQ
String::Tagged => *undef*
String::ToIdentifier::EN => S::ToI::EN
String::Trim => *undef*
String::Truncate => *undef*
String::UnicodeUTF8 => S::UUTF8
String::Unquotemeta => *undef*
String::Wildcard::Bash => S::W::B
Struct::Dumb => *undef*
Sub::Attribute => Sub::A
Sub::Delete => Sub::D
Sub::Exporter => Sub::E
Sub::Exporter::ForMethods => Sub::E::ForM
Sub::Exporter::GlobExporter => Sub::E::GE
Sub::Exporter::Progressive => Sub::E::P
Sub::Identify => Sub::I
Sub::Infix => *undef*
Sub::Info => *undef*
Sub::Install => *undef*
Sub::Iterator => *undef*
Sub::Metadata => Sub::M
Sub::Mutate => *undef*
Sub::Name => Sub::N
Sub::NoRepeat => Sub::NoR
Sub::Override => Sub::O
Sub::Quote => Sub::Q
Sub::Uplevel => Sub::U
Sub::Util => *undef*
Sub::WhenBodied => Sub::WB
Syntax::Feature::EachOnArray => S::F::EOnA
Syntax::Feature::Qi => S::F::Qi
Syntax::Highlight::Engine::Kate => S::H::E::K
Syntax::Keyword::Gather => S::K::G
Syntax::Keyword::Try => S::K::Try
Sys::CpuAffinity => Sys::CpuA
Sys::CpuLoadX => Sys::CpuLX
Sys::Hostname => Sys::H
Sys::Hostname::Long => Sys::H::L
Sys::Info => Sys::I
Sys::Info::Base => Sys::I::B
Sys::Info::Driver::Unknown => Sys::I::D::U
Sys::Info::Driver::Windows => Sys::I::D::W
Sys::Syslog => Sys::S
Sys::Syslog::Win32 => Sys::S::Win32
Sysadm::Install => *undef*
TAP::Base => TAP::B
TAP::Formatter::Base => TAP::F::B
TAP::Formatter::Color => TAP::F::C
TAP::Formatter::Console => *undef*
TAP::Formatter::Console::ParallelSession => TAP::F::C::PS
TAP::Formatter::Console::Session => TAP::F::C::S
TAP::Formatter::File => TAP::F::F
TAP::Formatter::File::Session => TAP::F::F::S
TAP::Formatter::HTML => TAP::F::HTML
TAP::Formatter::Session => TAP::F::S
TAP::Harness => TAP::H
TAP::Harness::Archive => TAP::H::A
TAP::Harness::Env => TAP::H::Env
TAP::Harness::Restricted => TAP::H::R
TAP::Object => TAP::O
TAP::Parser => TAP::P
TAP::Parser::Aggregator => TAP::P::A
TAP::Parser::Grammar => TAP::P::G
TAP::Parser::Iterator => TAP::P::I
TAP::Parser::Iterator::Array => TAP::P::I::A
TAP::Parser::Iterator::Process => TAP::P::I::P
TAP::Parser::Iterator::Stream => TAP::P::I::S
TAP::Parser::IteratorFactory => TAP::P::IF
TAP::Parser::Multiplexer => TAP::P::M
TAP::Parser::Result => TAP::P::R
TAP::Parser::Result::Bailout => TAP::P::R::B
TAP::Parser::Result::Comment => TAP::P::R::C
TAP::Parser::Result::Plan => TAP::P::R::P
TAP::Parser::Result::Pragma => *undef*
TAP::Parser::Result::Test => TAP::P::R::T
TAP::Parser::Result::Unknown => TAP::P::R::U
TAP::Parser::Result::Version => TAP::P::R::V
TAP::Parser::Result::YAML => TAP::P::R::YAML
TAP::Parser::ResultFactory => TAP::P::RF
TAP::Parser::Scheduler => TAP::P::S
TAP::Parser::Scheduler::Job => TAP::P::S::Job
TAP::Parser::Scheduler::Spinner => TAP::P::S::S
TAP::Parser::Source => *undef*
TAP::Parser::SourceHandler => TAP::P::SH
TAP::Parser::SourceHandler::Executable => TAP::P::SH::E
TAP::Parser::SourceHandler::File => TAP::P::SH::F
TAP::Parser::SourceHandler::Handle => TAP::P::SH::H
TAP::Parser::SourceHandler::Perl => TAP::P::SH::P
TAP::Parser::SourceHandler::RawTAP => TAP::P::SH::RawTAP
TAP::Parser::YAMLish::Reader => TAP::P::YAML::R
TAP::Parser::YAMLish::Writer => TAP::P::YAML::W
TAP::SimpleOutput => TAP::SO
TOML::Parser => TOML::P
Taint::Runtime => T::R
Taint::Util => T::U
Tapper::Config => T::C
Task::BeLike::CSSON => T::BeL::CSSON
Task::BeLike::RJRAY => T::BeL::RJRAY
Task::CPANAuthors::STRO => T::CPANA::STRO
Task::Kensho::Config => T::K::C
Task::Kensho::DBDev => T::K::DBDev
Task::Kensho::Email => T::K::E
Task::Kensho::ExcelCSV => T::K::ECSV
Task::Kensho::Exceptions => *undef*
Task::Kensho::Hackery => T::K::H
Task::Kensho::Logging => T::K::L
Task::Kensho::ModuleDev => T::K::MDev
Task::Kensho::OOP => T::K::OOP
Task::Kensho::WebCrawling => T::K::WebC
Task::Kensho::XML => T::K::XML
Task::Moose => T::M
Task::Weaken => T::W
Template::Alloy => T::A
Template::Plugin::Autoformat => T::P::A
Template::Plugin::CSV => T::P::CSV
Template::Plugin::Class => T::P::C
Template::Plugin::Cycle => *undef*
Template::Plugin::EnvHash => T::P::EnvH
Template::Plugin::FillInForm => T::P::FInF
Template::Plugin::Filter::String::Truncate => T::P::F::S::T
Template::Plugin::ForumCode => T::P::FC
Template::Plugin::Handy => T::P::H
Template::Plugin::JavaScript => T::P::JS
Template::Plugin::Number::Format => T::P::N::F
Template::Plugin::VMethods => T::P::VM
Template::Provider::FromDATA => T::P::FDATA
Template::Sandbox => T::S
Template::Timer => T::T
Template::Tiny => *undef*
Term::ANSIColor => T::ANSIC
Term::App::Roles => T::App::R
Term::Cap => T::Cap
Term::Complete => *undef*
Term::Detect::Software => T::D::S
Term::EditorEdit => T::EE
Term::Encoding => T::E
Term::ProgressBar => T::PBar
Term::ProgressBar::Quiet => T::PBar::Q
Term::ProgressBar::Simple => T::PBar::S
Term::Prompt => T::P
Term::RawInput => T::RawI
Term::ReadKey => T::RKey
Term::ReadLine => T::RL
Term::Size::Any => T::S::Any
Term::Size::Win32 => T::S::Win32
Term::Table => *undef*
Term::Title => *undef*
Term::UI => T::UI
Term::VT102 => T::VT102
Term::VT102::Boundless => T::VT102::B
Test2 => T2
Test2::API => T2::API
Test2::API::Breakage => T2::API::B
Test2::API::Context => T2::API::C
Test2::API::Instance => T2::API::I
Test2::API::Stack => T2::API::S
Test2::AsyncSubtest => T2::AS
Test2::Event => T2::E
Test2::Event::Bail => T2::E::B
Test2::Event::Diag => T2::E::D
Test2::Event::Encoding => T2::E::E
Test2::Event::Exception => *undef*
Test2::Event::Generic => T2::E::G
Test2::Event::Info => T2::E::I
Test2::Event::Note => T2::E::N
Test2::Event::Ok => T2::E::Ok
Test2::Event::Plan => T2::E::P
Test2::Event::Skip => T2::E::S
Test2::Event::Subtest => *undef*
Test2::Event::TAP::Version => T2::E::TAP::V
Test2::Event::Waiting => T2::E::W
Test2::Formatter => T2::F
Test2::Formatter::TAP => T2::F::TAP
Test2::Hub => T2::Hub
Test2::Hub::Interceptor => T2::Hub::I
Test2::Hub::Interceptor::Terminator => T2::Hub::I::T
Test2::Hub::Subtest => T2::Hub::S
Test2::IPC => T2::IPC
Test2::IPC::Driver => T2::IPC::D
Test2::IPC::Driver::Files => T2::IPC::D::F
Test2::Plugin::NoWarnings => T2::P::NoW
Test2::Suite => T2::S
Test2::Tools::Tiny => T2::T::T
Test2::Util => T2::U
Test2::Util::ExternalMeta => T2::U::EM
Test2::Util::HashBase => T2::U::HB
Test2::Util::Trace => T2::U::T
Test2::Workflow => T2::W
Test::API => T::API
Test::Alien => *undef*
Test::Assertions => *undef*
Test::Base => T::B
Test::Builder => *undef*
Test::Builder::Formatter => T::B::F
Test::Builder::IO::Scalar => T::B::IO::S
Test::Builder::Module => T::B::M
Test::Builder::Tester => T::B::T
Test::Builder::Tester::Color => T::B::T::C
Test::Builder::TodoDiag => T::B::TD
Test::CPAN::Meta => T::CPAN::M
Test::CPAN::Meta::JSON => T::CPAN::M::JSON
Test::CPAN::Meta::YAML => T::CPAN::M::YAML
Test::Carp => *undef*
Test::CheckDeps => T::CD
Test::CheckManifest => T::CM
Test::Class => *undef*
Test::Class::GetoptControl => T::C::GC
Test::Class::Moose => T::C::M
Test::Class::Most => *undef*
Test::ClassAPI => T::CAPI
Test::CleanNamespaces => T::CN
Test::Command => *undef*
Test::CompanionClasses => T::CC
Test::Compile => *undef*
Test::ConsistentVersion => T::CV
Test::DBIx::Class => T::DBIx::C
Test::DBIx::Class::Schema => T::DBIx::C::S
Test::Database => T::D
Test::DatabaseRow => T::DRow
Test::Deep => *undef*
Test::Deep::Cond => T::D::C
Test::Deep::Fuzzy => T::D::F
Test::Deep::JSON => T::D::JSON
Test::Deep::Matcher => T::D::M
Test::Deep::Type => T::D::T
Test::Differences => *undef*
Test::Dir => T::Dir
Test::DistManifest => T::DM
Test::Distribution => *undef*
Test::EOL => T::EOL
Test::Exception => *undef*
Test::Exception::LessClever => T::E::LC
Test::FailWarnings => T::FW
Test::Fatal => T::F
Test::File => *undef*
Test::File::Contents => T::F::C
Test::File::ShareDir => T::F::SDir
Test::Filename => *undef*
Test::Fixme => *undef*
Test::Fixture::DBIC::Schema => T::F::DBIC::S
Test::HTML::Content => T::HTML::C
Test::HTML::Tidy => T::HTML::T
Test::HTTP::Server::Simple => T::HTTP::S::S
Test::Harness => T::H
Test::HasVersion => T::HasV
Test::HexString => T::HexS
Test::Identity => T::I
Test::InDistDir => T::InDDir
Test::Inline => *undef*
Test::Inter => *undef*
Test::JSON => T::JSON
Test::Kwalitee => T::K
Test::LWP::UserAgent => T::LWP::UA
Test::LeakTrace => T::LT
Test::Lib => T::Lib
Test::LoadAllModules => T::LAllM
Test::Log::Dispatch => T::Log::D
Test::LongString => T::LS
Test::Manifest => *undef*
Test::Map::Tube => T::Map::T
Test::Memory::Cycle => T::M::C
Test::Method => *undef*
Test::MinimumVersion => T::MV
Test::MinimumVersion::Fast => T::MV::F
Test::Mock::Cmd => T::M::Cmd
Test::Mock::Guard => T::M::G
Test::Mock::LWP => T::M::LWP
Test::Mock::Simple => T::M::S
Test::MockDateTime => T::MDT
Test::MockModule => T::MM
Test::MockObject => T::MO
Test::MockTime => T::MT
Test::Modern => *undef*
Test::Mojibake => *undef*
Test::Moose::More => T::M::M
Test::More => *undef*
Test::Most => *undef*
Test::Name::FromLine => T::N::FL
Test::Needs => T::N
Test::NoBreakpoints => T::NoB
Test::NoPlan => T::NoP
Test::NoTabs => T::NoT
Test::NoWarnings => T::NoW
Test::Number::Delta => T::N::D
Test::Object => T::O
Test::Output => *undef*
Test::PDL => T::PDL
Test::Perl::Critic => *undef*
Test::Perl::Critic::Progressive => T::P::C::P
Test::Pod => T::Pod
Test::Pod::Content => T::Pod::C
Test::Pod::Coverage => *undef*
Test::Pod::LinkCheck => T::Pod::LC
Test::Pod::No404s => T::Pod::No404s
Test::Pod::Spelling::CommonMistakes => T::Pod::S::CM
Test::Portability::Files => T::P::F
Test::Prereq => *undef*
Test::Refcount => *undef*
Test::Reporter => *undef*
Test::Reporter::Transport::Metabase => T::R::T::M
Test::Requires => *undef*
Test::Requires::Git => T::R::Git
Test::RequiresInternet => T::RI
Test::Roo => T::Roo
Test::Script => *undef*
Test::SharedFork => T::SF
Test::Signature => *undef*
Test::Simple => *undef*
Test::Snapshots => *undef*
Test::Spec => *undef*
Test::Spelling => *undef*
Test::SubCalls => T::SubC
Test::Synopsis => *undef*
Test::Sys::Info => T::Sys::I
Test::TCP => T::TCP
Test::Taint => *undef*
Test::TempDir => T::TDir
Test::TempDir::Tiny => T::TDir::T
Test::Tester => *undef*
Test::Tester::Capture => T::T::C
Test::Tester::CaptureRunner => T::T::CR
Test::Tester::Delegate => T::T::D
Test::Time => *undef*
Test::Timer => *undef*
Test::TinyMocker => T::TM
Test::Trap => *undef*
Test::UNIXSock => T::UNIXS
Test::UseAllModules => T::UseAllM
Test::Vars => T::V
Test::Version => *undef*
Test::WWW::Mechanize => T::WWW::M
Test::WWW::Mechanize::Catalyst => T::WWW::M::C
Test::WWW::Mechanize::PSGI => T::WWW::M::PSGI
Test::WWW::Selenium => T::WWW::S
Test::Warn => *undef*
Test::Warnings => *undef*
Test::Weaken => *undef*
Test::WithDB => T::WDB
Test::Without::Module => T::W::M
Test::XPath => T::XP
Test::YAML => T::YAML
Test::YAML::Meta => T::YAML::M
Test::YAML::Valid => T::YAML::V
Test::mysqld => T::m
Test::use::ok => T::use::ok
Test::utf8 => T::utf8
Text-Sass => T-S
Text::ANSI::Util => T::ANSI::U
Text::ANSI::WideUtil => T::ANSI::WU
Text::ANSITable => T::ANSIT
Text::ASCIITable => T::ASCIIT
Text::Abbrev => *undef*
Text::Affixes => *undef*
Text::Aligner => *undef*
Text::Autoformat => *undef*
Text::Balanced => *undef*
Text::Brew => *undef*
Text::CSV => T::CSV
Text::CSV_XS => T::CSV_XS
Text::Clip => *undef*
Text::Compare => *undef*
Text::Context => *undef*
Text::Context::EitherSide => T::C::ES
Text::Demoroniser => *undef*
Text::Diff => *undef*
Text::Emoticon => *undef*
Text::Emoticon::MSN => T::E::MSN
Text::FIGlet => T::FIG
Text::FindIndent => T::FI
Text::Fold => *undef*
Text::Fuzzy => *undef*
Text::German => T::G
Text::Glob => *undef*
Text::GooglewikiFormat => T::GF
Text::Haml => *undef*
Text::Hogan => *undef*
Text::Iconv => *undef*
Text::Levenshtein => T::L
Text::Levenshtein::Damerau => T::L::D
Text::Markdown => *undef*
Text::Markdown::Slidy => *undef*
Text::Markup::Any => T::M::Any
Text::MicroTemplate => *undef*
Text::MultiMarkdown => *undef*
Text::Ngram => *undef*
Text::Original => *undef*
Text::ParseWords => T::PW
Text::Password::Pronounceable => T::P::P
Text::Patch => *undef*
Text::Reform => *undef*
Text::SimpleTable => T::ST
Text::SimpleTable::AutoWidth => T::ST::AW
Text::Soundex => *undef*
Text::TOC => T::TOC
Text::Table => *undef*
Text::Table::Any => T::T::Any
Text::Table::Tiny => T::T::T
Text::Tabs => *undef*
Text::TabularDisplay => T::TD
Text::Template => *undef*
Text::TestBase => T::TB
Text::Textile => *undef*
Text::Trim => *undef*
Text::Undiacritic => *undef*
Text::Unidecode => *undef*
Text::WagnerFischer => T::WF
Text::WideChar::Util => T::WC::U
Text::Wrap => *undef*
Text::Wrapper => *undef*
Text::Xslate => T::X
Text::sprintfn => T::s
Text::vCard => T::vC
Text::vFile::asData => T::vF::asD
TheSchwartz::Moosified => TheS::M
Thread::Queue => T::Q
Thread::Semaphore => *undef*
Throwable::SugarFactory => *undef*
Tie::Array => Tie::A
Tie::Array::CSV => Tie::A::CSV
Tie::Array::Sorted => Tie::A::S
Tie::Cache => Tie::C
Tie::EncryptedHash => Tie::EH
Tie::File => Tie::F
Tie::Handle => Tie::H
Tie::Hash => *undef*
Tie::Hash::NamedCapture => Tie::H::NC
Tie::IxHash => Tie::IxH
Tie::Memoize => Tie::M
Tie::RefHash => Tie::RefH
Tie::Scalar => Tie::S
Tie::ShadowHash => Tie::SH
Tie::Simple => *undef*
Tie::StdHandle => Tie::StdH
Tie::SubstrHash => *undef*
Tie::ToObject => Tie::ToO
Time::Clock => *undef*
Time::Crontab => *undef*
Time::Duration => *undef*
Time::Duration::Parse => T::D::P
Time::Duration::Parse::AsHash => T::D::P::AsH
Time::HiRes => T::HiRes
Time::Local => *undef*
Time::Moment => *undef*
Time::Piece => *undef*
Time::Piece::Plus => *undef*
Time::Piece::Range => T::P::R
Time::Seconds => *undef*
Time::Tiny => *undef*
Time::Warp => *undef*
Time::gmtime => T::g
Time::localtime => T::l
Time::timegm => T::t
Time::tm => T::tm
Tk::CursorControl => Tk::CC
Tk::DoubleClick => Tk::DC
Tree::DAG_Node => T::DAG_N
Tree::MultiNode => T::MN
Tree::R => *undef*
Tree::Simple => *undef*
Tree::Simple::VisitorFactory => T::S::VF
Treex::PML => T::PML
Treex::Parser::MSTperl => T::P::MST
Try::Tiny => Try::T
Try::Tiny::ByClass => Try::T::ByC
Type::Tiny => *undef*
Types::Path::Tiny => T::P::T
Types::Serialiser => *undef*
UNIVERSAL::moniker => UNIVERSAL::m
UNIVERSAL::require => UNIVERSAL::r
URI::Encode => URI::E
URI::Escape::XS => URI::E::XS
URI::Fetch => URI::F
URI::Find => *undef*
URI::Find::Rule => URI::F::R
URI::Find::Simple => URI::F::S
URI::Find::UTF8 => URI::F::UTF8
URI::FromHash => URI::FH
URI::Query => URI::Q
URI::Template => URI::T
URI::Title => *undef*
URI::ToDisk => URI::ToD
URI::imap => URI::i
URI::imaps => *undef*
URL::Encode => URL::E
URL::Encode::XS => URL::E::XS
UUID::Random => UUID::R
UUID::Tiny => UUID::T
Unicode::CaseFold => U::CF
Unicode::Collate => U::C
Unicode::Collate::CJK::Big5 => U::C::CJK::Big5
Unicode::Collate::CJK::GB2312 => U::C::CJK::GB2312
Unicode::Collate::CJK::JISX0208 => U::C::CJK::JISX0208
Unicode::Collate::CJK::Korean => U::C::CJK::K
Unicode::Collate::CJK::Pinyin => U::C::CJK::P
Unicode::Collate::CJK::Stroke => U::C::CJK::S
Unicode::Collate::CJK::Zhuyin => U::C::CJK::Z
Unicode::Collate::Locale => U::C::L
Unicode::LineBreak => U::LB
Unicode::Normalize => U::N
Unicode::Stringprep => U::S
Unicode::UCD => U::UCD
Unicode::UTF8 => U::UTF8
Unix::PID => U::PID
User::grent => U::g
User::pwent => U::p
VMS::DCLsym => VMS::DCL
VMS::Filespec => VMS::F
VMS::Stdio => VMS::S
Validate::Tiny => V::T
Variable::Disposition => V::D
Variable::Magic => V::M
Version::Next => V::N
Version::Util => V::U
WWW::Alexa::TrafficRank => WWW::A::TR
WWW::Contact => WWW::C
WWW::DreamHost::API => WWW::DH::API
WWW::DuckDuckGo => WWW::DDGo
WWW::Form => WWW::F
WWW::Form::UrlEncoded => WWW::F::UrlE
WWW::Google::Calculator => WWW::G::C
WWW::LibraryThing => WWW::LT
WWW::Mechanize => WWW::M
WWW::Mechanize::GZip => WWW::M::GZip
WWW::Mechanize::TreeBuilder => WWW::M::TB
WWW::MobileCarrierJP => WWW::MCJP
WWW::PAUSE::Simple => WWW::PAUSE::S
WWW::RobotRules => WWW::RR
WWW::Search => WWW::S
WWW::Shorten => *undef*
WWW::Shorten::Googl => WWW::S::G
WWW::Shorten::Simple => WWW::S::S
Web::Detect => Web::D
Web::Feed => Web::F
Web::Query => Web::Q
Web::Scraper => Web::S
WebService::Livedoor::Weather => WebS::L::W
Win32::AbsPath => Win32::AbsP
Win32::Clipboard => Win32::C
Win32::Console => *undef*
Win32::Console::ANSI => Win32::C::ANSI
Win32::Daemon => Win32::D
Win32::ErrorMode => Win32::EM
Win32::EventLog => Win32::ELog
Win32::File => Win32::F
Win32::File::Object => Win32::F::O
Win32::FileOp => Win32::FOp
Win32::GUIRobot => Win32::GUIR
Win32::Getppid => Win32::G
Win32::GuiTest => Win32::GuiT
Win32::IPHelper => Win32::IPH
Win32::Pipe => Win32::P
Win32::Process => *undef*
Win32::Process::List => Win32::P::L
Win32::Service => Win32::S
Win32::ServiceManager => Win32::SM
Win32::ShellQuote => Win32::SQ
Win32::Shortcut => *undef*
Win32::TieRegistry => Win32::TieR
Win32::UTCFileTime => Win32::UTCFT
Win32::Uptime => Win32::U
Win32::WinError => Win32::WinE
Win32API::File => Win32API::F
Win32API::File::inc::ExtUtils::Myconst2perl => Win32API::F::inc::ExtU::M2
Win32API::Registry => Win32API::R
Wx::Perl::ProcessStream => Wx::P::PS
Wx::Scintilla => Wx::S
XBase => XB
XML-FeedPP => XML-FPP
XML::Atom => XML::A
XML::Atom::FromOWL => XML::A::FOWL
XML::Atom::SimpleFeed => XML::A::SF
XML::CommonNS => XML::CNS
XML::CompactTree => XML::CT
XML::Compile::Tester => XML::C::T
XML::Feed => XML::F
XML::FeedPP::MediaRSS => XML::FPP::MRSS
XML::Filter::BufferText => XML::F::BT
XML::Generator::PerlData => XML::G::PD
XML::LibXML::Debugging => XML::LibXML::D
XML::LibXML::PrettyPrint => XML::LibXML::PP
XML::LibXML::Simple => XML::LibXML::S
XML::Namespace => XML::N
XML::NamespaceFactory => XML::NF
XML::NamespaceSupport => XML::NS
XML::Parser => XML::P
XML::Parser::Lite => XML::P::L
XML::SAX::Base => XML::SAX::B
XML::SAX::Expat => XML::SAX::E
XML::SAX::Writer => XML::SAX::W
XML::SemanticDiff => XML::SD
XML::Simple => XML::S
XML::Stream => *undef*
XML::TreePP => XML::TPP
XML::Twig => XML::T
XML::Writer => XML::W
XML::XPath => XML::XP
XML::XPathEngine => XML::XPE
XS::APItest => XS::API
XS::Typemap => XS::T
XSLoader => XSL
YAML::Active => YAML::A
YAML::Syck => YAML::S
YAML::Tiny => YAML::T
autobox::Core => a::C
autobox::Junctions => a::J
autobox::List::Util => a::L::U
autobox::dump => a::d
autodie::Scope::Guard => a::S::G
autodie::Scope::GuardStack => a::S::GS
autodie::Util => a::U
autodie::exception => a::e
autodie::exception::system => a::e::s
autodie::hints => a::h
autodie::skip => a::s
bareword::filehandles => b::f
cPanel::MemTest => cP::MemT
common::sense => c::s
constant::defer => c::d
encoding::warnings => e::w
libintl-perl => l-p
libwww::perl => l::p
libxml-perl => *undef*
local::lib => l::lib
match::simple => m::s
namespace::autoclean => n::a
namespace::clean => n::c
namespace::sweep => n::s
overload::numbers => o::n
re::engine::Lua => re::e::Lua
syntax::Keyword::Junction => s::K::J
threads::shared => t::s
unicore::Name => u::N
version::regex => v::r
warnings::illegalproto => w::i
warnings::register => w::r
t/10-check.t ................. ok
t/author-critic.t ............ skipped: these tests are for testing by the author
t/author-test-eol.t .......... skipped: these tests are for testing by the author
t/release-cpan-changes.t ..... skipped: these tests are for release candidate testing
t/release-dist-manifest.t .... skipped: these tests are for release candidate testing
t/release-distmeta.t ......... skipped: these tests are for release candidate testing
t/release-kwalitee.t ......... skipped: these tests are for release candidate testing
t/release-minimum-version.t .. skipped: these tests are for release candidate testing
t/release-mojibake.t ......... skipped: these tests are for release candidate testing
t/release-no-tabs.t .......... skipped: these tests are for release candidate testing
t/release-pod-coverage.t ..... skipped: these tests are for release candidate testing
t/release-pod-linkcheck.t .... skipped: these tests are for release candidate testing
t/release-pod-syntax.t ....... skipped: these tests are for release candidate testing
t/release-portability.t ...... skipped: these tests are for release candidate testing
t/release-test-version.t ..... skipped: these tests are for release candidate testing
t/release-unused-vars.t ...... skipped: these tests are for release candidate testing
All tests successful.
Files=18, Tests=4, 164 wallclock secs ( 0.09 usr + 0.05 sys = 0.14 CPU)
Result: PASS
------------------------------
PREREQUISITES
------------------------------
Prerequisite modules loaded:
requires:
Module Need Have
------------------- ---- ----------
File::HomeDir 0 1.00
List::MoreUtils 0 0.416
Module::CoreList 0 5.20170220
build_requires:
Module Need Have
------------------- ---- ----------
ExtUtils::MakeMaker 0 7.24
configure_requires:
Module Need Have
------------------- ---- ----------
ExtUtils::MakeMaker 6.30 7.24
------------------------------
ENVIRONMENT AND OTHER CONTEXT
------------------------------
Environment variables:
AUTOMATED_TESTING = 1
COMSPEC = C:\WINDOWS\system32\cmd.exe
NUMBER_OF_PROCESSORS = 1
PATH = C:\WINDOWS\system32;C:\WINDOWS;C:\WINDOWS\System32\Wbem;C:\Git\cmd;C:\Strawberry2510\c\bin;C:\Strawberry2510\perl\site\bin;C:\Strawberry2510\perl\bin
PERL5LIB =
PERL5OPT =
PERL5_CPANPLUS_IS_RUNNING = 15676
PERL5_CPAN_IS_RUNNING = 15676
PERL5_CPAN_IS_RUNNING_IN_RECURSION = 1448,15676
PERL_CR_SMOKER_CURRENT = Acme-TLDR-0.004
PERL_CR_SMOKER_RUNONCE = 1
PERL_EXTUTILS_AUTOINSTALL = --defaultdeps
PERL_MM_USE_DEFAULT = 1
PERL_USE_UNSAFE_INC = 1
PROCESSOR_IDENTIFIER = x86 Family 16 Model 5 Stepping 3, AuthenticAMD
TEMP = C:\DOCUME~1\a\LOCALS~1\Temp
Perl special variables (and OS-specific diagnostics, for MSWin32):
$^X = C:\Strawberry2510\perl\bin\perl.exe
$UID/$EUID = 0 / 0
$GID = 0
$EGID = 0
Win32::GetOSName = WinXP/.Net
Win32::GetOSVersion = Service Pack 3, 5, 1, 2600, 2, 3, 0, 256, 1
Win32::FsType = NTFS
Win32::IsAdminUser = 1
Perl module toolchain versions installed:
Module Have
------------------- ----------
CPAN 2.17
CPAN::Meta 2.150010
Cwd 3.66
ExtUtils::CBuilder 0.280225
ExtUtils::Command 7.24
ExtUtils::Install 2.04
ExtUtils::MakeMaker 7.24
ExtUtils::Manifest 1.70
ExtUtils::ParseXS 3.33
File::Spec 3.66
JSON 2.90
JSON::PP 2.27400_02
Module::Build 0.4220
Module::Signature 0.81
Parse::CPAN::Meta 2.150010
Test::Harness 3.36_01
Test::More 1.302075
YAML 1.23
YAML::Syck 1.29
version 0.9917
--
Summary of my perl5 (revision 5 version 25 subversion 10) configuration:
Platform:
osname=MSWin32
osvers=4.0
archname=MSWin32-x86-multi-thread
uname='Win32 strawberry-perl 5.25.10.1-beta1 #1 Fri Feb 24 21:36:42 2017 i386'
config_args='undef'
hint=recommended
useposix=true
d_sigaction=undef
useithreads=define
usemultiplicity=define
use64bitint=undef
use64bitall=undef
uselongdouble=undef
usemymalloc=n
bincompat5005=undef
Compiler:
cc='gcc'
ccflags =' -s -O2 -DWIN32 -DPERL_TEXTMODE_SCRIPTS -DPERL_IMPLICIT_CONTEXT -DPERL_IMPLICIT_SYS -fwrapv -fno-strict-aliasing -mms-bitfields'
optimize='-s -O2'
cppflags='-DWIN32'
ccversion=''
gccversion='4.9.2'
gccosandvers=''
intsize=4
longsize=4
ptrsize=4
doublesize=8
byteorder=1234
doublekind=3
d_longlong=define
longlongsize=8
d_longdbl=define
longdblsize=12
longdblkind=3
ivtype='long'
ivsize=4
nvtype='double'
nvsize=8
Off_t='long long'
lseeksize=8
alignbytes=8
prototype=define
Linker and Libraries:
ld='g++'
ldflags ='-s -L"C:\STRAWB~1\perl\lib\CORE" -L"C:\STRAWB~1\c\lib"'
libpth=C:\STRAWB~1\c\lib C:\STRAWB~1\c\i686-w64-mingw32\lib C:\STRAWB~1\c\lib\gcc\i686-w64-mingw32\4.9.2
libs=-lmoldname -lkernel32 -luser32 -lgdi32 -lwinspool -lcomdlg32 -ladvapi32 -lshell32 -lole32 -loleaut32 -lnetapi32 -luuid -lws2_32 -lmpr -lwinmm -lversion -lodbc32 -lodbccp32 -lcomctl32
perllibs=-lmoldname -lkernel32 -luser32 -lgdi32 -lwinspool -lcomdlg32 -ladvapi32 -lshell32 -lole32 -loleaut32 -lnetapi32 -luuid -lws2_32 -lmpr -lwinmm -lversion -lodbc32 -lodbccp32 -lcomctl32
libc=
so=dll
useshrplib=true
libperl=libperl525.a
gnulibc_version=''
Dynamic Linking:
dlsrc=dl_win32.xs
dlext=xs.dll
d_dlsymun=undef
ccdlflags=' '
cccdlflags=' '
lddlflags='-mdll -s -L"C:\STRAWB~1\perl\lib\CORE" -L"C:\STRAWB~1\c\lib"'
Characteristics of this binary (from libperl):
Compile-time options:
HAS_TIMES
HAVE_INTERP_INTERN
MULTIPLICITY
PERLIO_LAYERS
PERL_COPY_ON_WRITE
PERL_DONT_CREATE_GVSV
PERL_HASH_FUNC_ONE_AT_A_TIME_HARD
PERL_IMPLICIT_CONTEXT
PERL_IMPLICIT_SYS
PERL_MALLOC_WRAP
PERL_OP_PARENT
PERL_PRESERVE_IVUV
USE_ITHREADS
USE_LARGE_FILES
USE_LOCALE
USE_LOCALE_COLLATE
USE_LOCALE_CTYPE
USE_LOCALE_NUMERIC
USE_LOCALE_TIME
USE_PERLIO
USE_PERL_ATOF
Built under MSWin32
Compiled at Feb 24 2017 21:45:33
%ENV:
PERL5_CPANPLUS_IS_RUNNING="15676"
PERL5_CPAN_IS_RUNNING="15676"
PERL5_CPAN_IS_RUNNING_IN_RECURSION="1448,15676"
PERL_CR_SMOKER_CURRENT="Acme-TLDR-0.004"
PERL_CR_SMOKER_RUNONCE="1"
PERL_EXTUTILS_AUTOINSTALL="--defaultdeps"
PERL_MM_USE_DEFAULT="1"
PERL_USE_UNSAFE_INC="1"
@INC:
C:/Strawberry2510/perl/site/lib
C:/Strawberry2510/perl/vendor/lib
C:/Strawberry2510/perl/lib
.