Catalyst-View-RRDGraph v0.10 Perl 5 v5.22.0 x86_64-linux-thread-multi

Status
Pass
From
Andreas J. König (ANDK)
Dist
Catalyst-View-RRDGraph v0.10
Platform
Perl 5 v5.22.0 x86_64-linux-thread-multi
Date
2017-09-13 11:45:55
ID
19d6a66e-9879-11e7-80c5-efe4ffe0d2dc
This distribution has been tested as part of the CPAN Testers
project, supporting the Perl programming language.  See
http://wiki.cpantesters.org/ for more information or email
questions to cpan-testers-discuss@perl.org


--
Dear Miquel Ruiz Martin,

This is a computer-generated report for Catalyst-View-RRDGraph-0.10
on perl 5.22.0, created by CPAN-Reporter-1.2018.

Thank you for uploading your work to CPAN.  Congratulations!
All tests were successful.

Sections of this report:

    * Tester comments
    * Program output
    * Prerequisites
    * Environment and other context

------------------------------
TESTER COMMENTS
------------------------------

Additional comments from tester:

this report is from an automated smoke testing program
and was not reviewed by a human for accuracy

------------------------------
PROGRAM OUTPUT
------------------------------

Output from '/usr/bin/make test':

PERL_DL_NONLAZY=1 "/home/sand/src/perl/repoperls/installed-perls/host/k93msid/v5.22.0/276a/bin/perl" "-MExtUtils::Command::MM" "-MTest::Harness" "-e" "undef *Test::Harness::Switches; test_harness(0, 'blib/lib', 'blib/arch')" t/*.t
t/001_load.t ............ ok
t/002_process.t ......... ok
[debug] Debug messages enabled
[debug] Statistics enabled
Term::Size::Any is not installed, can't autodetect terminal column width
Trouble trying to detect your terminal size, looking at $ENV{COLUMNS}
Cannot determine desired terminal width, using default of 80 columns
[debug] Loaded PSGI Middleware:
.----------------------------------------------------------------------------.
| Catalyst::Middleware::Stash                                                |
| Plack::Middleware::HTTPExceptions                                          |
| Plack::Middleware::RemoveRedundantBody  0.04                               |
| Plack::Middleware::FixMissingBodyInRedirect  0.12                          |
| Plack::Middleware::ContentLength                                           |
| Plack::Middleware::MethodOverride  0.15                                    |
| Plack::Middleware::Head                                                    |
'----------------------------------------------------------------------------'

[debug] Loaded Request Data Handlers:
.----------------------------------------------------------------------------.
| application/json                                                           |
| application/x-www-form-urlencoded                                          |
'----------------------------------------------------------------------------'

[debug] Loaded dispatcher "Catalyst::Dispatcher"
[debug] Loaded engine "Catalyst::Engine"
[debug] Found home "/tmp/loop_over_bdir-24904-4sgZqx/Catalyst-View-RRDGraph-0.10-0/t/lib/RRDGraphTest003"
[debug] Loaded components:
.-----------------------------------------------------------------+----------.
| Class                                                           | Type     |
+-----------------------------------------------------------------+----------+
| RRDGraphTest003::Controller::Root                               | instance |
| RRDGraphTest003::View::RRDNormal                                | instance |
| RRDGraphTest003::View::RRDOnServe                               | instance |
| RRDGraphTest003::View::RRDOnServeFunction                       | instance |
'-----------------------------------------------------------------+----------'

[debug] Loaded Private actions:
.----------------------+--------------------------------------+--------------.
| Private              | Class                                | Method       |
+----------------------+--------------------------------------+--------------+
| /zero_byte_error     | RRDGraphTest003::Controller::Root    | zero_byte_e- |
|                      |                                      | rror         |
| /image_error_functi- | RRDGraphTest003::Controller::Root    | image_error- |
| on                   |                                      | _function    |
| /image_error         | RRDGraphTest003::Controller::Root    | image_error  |
| /zero_byte_error_no- | RRDGraphTest003::Controller::Root    | zero_byte_e- |
| rmal                 |                                      | rror_normal  |
| /image_error_normal  | RRDGraphTest003::Controller::Root    | image_error- |
|                      |                                      | _normal      |
| /zero_byte_error_fu- | RRDGraphTest003::Controller::Root    | zero_byte_e- |
| nction               |                                      | rror_functi- |
|                      |                                      | on           |
'----------------------+--------------------------------------+--------------'

[debug] Loaded Path actions:
.-------------------------------------+--------------------------------------.
| Path                                | Private                              |
+-------------------------------------+--------------------------------------+
| /image_error/...                    | /image_error                         |
| /image_error_function/...           | /image_error_function                |
| /image_error_normal/...             | /image_error_normal                  |
| /zero_byte_error/...                | /zero_byte_error                     |
| /zero_byte_error_function/...       | /zero_byte_error_function            |
| /zero_byte_error_normal/...         | /zero_byte_error_normal              |
'-------------------------------------+--------------------------------------'

[info] RRDGraphTest003 powered by Catalyst 5.90115
[info] *** Request 1 (1.000/s) [22177] [Wed Sep 13 11:45:45 2017] ***
[debug] Path is "zero_byte_error"
[debug] "GET" request for "zero_byte_error" from "127.0.0.1"
[error] RRDgraph is 0 bytes
[debug] Static::Simple: Serving static file: error_image.png as image/png
[debug] Response Code: 200; Content-Type: image/png; Content-Length: 14
[info] Request took 0.007961s (125.612/s)
.------------------------------------------------------------+-----------.
| Action                                                     | Time      |
+------------------------------------------------------------+-----------+
| /zero_byte_error                                           | 0.004582s |
|  -> RRDGraphTest003::View::RRDOnServe->process             | 0.004286s |
'------------------------------------------------------------+-----------'

[info] *** Request 2 (2.000/s) [22177] [Wed Sep 13 11:45:45 2017] ***
[debug] Path is "image_error"
[debug] "GET" request for "image_error" from "127.0.0.1"
[error] Unknown option
[debug] Static::Simple: Serving static file: error_image.png as image/png
[debug] Response Code: 200; Content-Type: image/png; Content-Length: 14
[info] Request took 0.002652s (377.074/s)
.------------------------------------------------------------+-----------.
| Action                                                     | Time      |
+------------------------------------------------------------+-----------+
| /image_error                                               | 0.000878s |
|  -> RRDGraphTest003::View::RRDOnServe->process             | 0.000641s |
'------------------------------------------------------------+-----------'

[info] *** Request 3 (3.000/s) [22177] [Wed Sep 13 11:45:45 2017] ***
[debug] Path is "zero_byte_error_normal"
[debug] "GET" request for "zero_byte_error_normal" from "127.0.0.1"
[error] RRDgraph is 0 bytes
[debug] Response Code: 500; Content-Type: text/html; charset=utf-8; Content-Length: unknown
[info] Request took 0.005294s (188.893/s)
.------------------------------------------------------------+-----------.
| Action                                                     | Time      |
+------------------------------------------------------------+-----------+
| /zero_byte_error_normal                                    | 0.000791s |
|  -> RRDGraphTest003::View::RRDNormal->process              | 0.000477s |
'------------------------------------------------------------+-----------'

[info] *** Request 4 (4.000/s) [22177] [Wed Sep 13 11:45:45 2017] ***
[debug] Path is "image_error_normal"
[debug] "GET" request for "image_error_normal" from "127.0.0.1"
[error] Unknown option
[debug] Response Code: 500; Content-Type: text/html; charset=utf-8; Content-Length: unknown
[info] Request took 0.005128s (195.008/s)
.------------------------------------------------------------+-----------.
| Action                                                     | Time      |
+------------------------------------------------------------+-----------+
| /image_error_normal                                        | 0.000758s |
|  -> RRDGraphTest003::View::RRDNormal->process              | 0.000450s |
'------------------------------------------------------------+-----------'

[info] *** Request 5 (5.000/s) [22177] [Wed Sep 13 11:45:45 2017] ***
[debug] Path is "zero_byte_error_function"
[debug] "GET" request for "zero_byte_error_function" from "127.0.0.1"
[debug] Response Code: 200; Content-Type: unknown; Content-Length: unknown
[info] Request took 0.002604s (384.025/s)
.------------------------------------------------------------+-----------.
| Action                                                     | Time      |
+------------------------------------------------------------+-----------+
| /zero_byte_error_function                                  | 0.000652s |
|  -> RRDGraphTest003::View::RRDOnServeFunction->process     | 0.000402s |
'------------------------------------------------------------+-----------'

[info] *** Request 6 (6.000/s) [22177] [Wed Sep 13 11:45:45 2017] ***
[debug] Path is "image_error_function"
[debug] "GET" request for "image_error_function" from "127.0.0.1"
[debug] Response Code: 200; Content-Type: unknown; Content-Length: unknown
[info] Request took 0.002579s (387.747/s)
.------------------------------------------------------------+-----------.
| Action                                                     | Time      |
+------------------------------------------------------------+-----------+
| /image_error_function                                      | 0.000623s |
|  -> RRDGraphTest003::View::RRDOnServeFunction->process     | 0.000393s |
'------------------------------------------------------------+-----------'

t/003_on_error_serve.t .. ok
All tests successful.
Files=3, Tests=17,  3 wallclock secs ( 0.03 usr  0.03 sys +  1.11 cusr  0.24 csys =  1.41 CPU)
Result: PASS

------------------------------
PREREQUISITES
------------------------------

Prerequisite modules loaded:

requires:

    Module                           Need Have      
    -------------------------------- ---- ----------
    Catalyst::Plugin::Static::Simple 0    0.34      
    Catalyst::Runtime                5.7  5.90115   
    MRO::Compat                      0    0.13      

build_requires:

    Module                           Need Have      
    -------------------------------- ---- ----------
    Catalyst::Test                   0    0         
    Test::MockObject                 0    1.20161202
    Test::More                       0    1.302096  

configure_requires:

    Module                           Need Have      
    -------------------------------- ---- ----------
    ExtUtils::MakeMaker              6.30 7.30      


------------------------------
ENVIRONMENT AND OTHER CONTEXT
------------------------------

Environment variables:

    AUTOMATED_TESTING = 1
    LANG = en_US.UTF-8
    PATH = /home/sand/bin:/usr/local/bin:/usr/bin:/bin:/usr/games:/usr/local/perl/bin:/usr/X11/bin:/sbin:/usr/sbin
    PERL5LIB = /tmp/loop_over_bdir-24904-4sgZqx/Catalyst-Plugin-Static-Simple-0.34-0/blib/arch:/tmp/loop_over_bdir-24904-4sgZqx/Catalyst-Plugin-Static-Simple-0.34-0/blib/lib:/tmp/loop_over_bdir-24904-4sgZqx/Catalyst-Runtime-5.90115-0/blib/arch:/tmp/loop_over_bdir-24904-4sgZqx/Catalyst-Runtime-5.90115-0/blib/lib:/tmp/loop_over_bdir-24904-4sgZqx/URI-ws-0.03-0/blib/arch:/tmp/loop_over_bdir-24904-4sgZqx/URI-ws-0.03-0/blib/lib:/tmp/loop_over_bdir-24904-4sgZqx/Text-SimpleTable-2.03-0/blib/arch:/tmp/loop_over_bdir-24904-4sgZqx/Text-SimpleTable-2.03-0/blib/lib:/tmp/loop_over_bdir-24904-4sgZqx/Plack-Test-ExternalServer-0.02-0/blib/arch:/tmp/loop_over_bdir-24904-4sgZqx/Plack-Test-ExternalServer-0.02-0/blib/lib:/tmp/loop_over_bdir-24904-4sgZqx/Plack-Middleware-ReverseProxy-0.15-0/blib/arch:/tmp/loop_over_bdir-24904-4sgZqx/Plack-Middleware-ReverseProxy-0.15-0/blib/lib:/tmp/loop_over_bdir-24904-4sgZqx/Plack-Middleware-RemoveRedundantBody-0.05-0/blib/arch:/tmp/loop_over_bdir-24904-4sgZqx/Plack-Middleware-RemoveRedundantBody-0.05-0/blib/lib:/tmp/loop_over_bdir-24904-4sgZqx/Plack-Middleware-MethodOverride-0.15-0/blib/arch:/tmp/loop_over_bdir-24904-4sgZqx/Plack-Middleware-MethodOverride-0.15-0/blib/lib:/tmp/loop_over_bdir-24904-4sgZqx/Plack-Middleware-FixMissingBodyInRedirect-0.12-0/blib/arch:/tmp/loop_over_bdir-24904-4sgZqx/Plack-Middleware-FixMissingBodyInRedirect-0.12-0/blib/lib:/tmp/loop_over_bdir-24904-4sgZqx/MooseX-MethodAttributes-0.31-0/blib/arch:/tmp/loop_over_bdir-24904-4sgZqx/MooseX-MethodAttributes-0.31-0/blib/lib:/tmp/loop_over_bdir-24904-4sgZqx/MooseX-Emulate-Class-Accessor-Fast-0.00903-0/blib/arch:/tmp/loop_over_bdir-24904-4sgZqx/MooseX-Emulate-Class-Accessor-Fast-0.00903-0/blib/lib:/tmp/loop_over_bdir-24904-4sgZqx/HTTP-Request-AsCGI-1.2-0/blib/arch:/tmp/loop_over_bdir-24904-4sgZqx/HTTP-Request-AsCGI-1.2-0/blib/lib:/tmp/loop_over_bdir-24904-4sgZqx/Class-C3-Adopt-NEXT-0.14-0/blib/arch:/tmp/loop_over_bdir-24904-4sgZqx/Class-C3-Adopt-NEXT-0.14-0/blib/lib:/tmp/loop_over_bdir-24904-4sgZqx/CGI-Struct-1.21-0/blib/arch:/tmp/loop_over_bdir-24904-4sgZqx/CGI-Struct-1.21-0/blib/lib:/tmp/loop_over_bdir-24904-4sgZqx/CGI-Simple-1.115-0/blib/arch:/tmp/loop_over_bdir-24904-4sgZqx/CGI-Simple-1.115-0/blib/lib
    PERL5OPT = 
    PERL5_CPANPLUS_IS_RUNNING = 24914
    PERL5_CPAN_IS_RUNNING = 24914
    PERL5_CPAN_IS_RUNNING_IN_RECURSION = 5138,24914
    PERL_CANARY_STABILITY_NOPROMPT = 1
    PERL_MM_USE_DEFAULT = 1
    PERL_USE_UNSAFE_INC = 1
    SHELL = /usr/bin/zsh
    TERM = screen

Perl special variables (and OS-specific diagnostics, for MSWin32):

    $^X = /home/sand/src/perl/repoperls/installed-perls/host/k93msid/v5.22.0/276a/bin/perl
    $UID/$EUID = 1005 / 1005
    $GID = 1005 1005
    $EGID = 1005 1005

Perl module toolchain versions installed:

    Module              Have    
    ------------------- --------
    CPAN                2.18    
    CPAN::Meta          2.150010
    Cwd                 3.62    
    ExtUtils::CBuilder  0.280226
    ExtUtils::Command   7.30    
    ExtUtils::Install   2.06    
    ExtUtils::MakeMaker 7.30    
    ExtUtils::Manifest  1.70    
    ExtUtils::ParseXS   3.35    
    File::Spec          3.62    
    JSON                2.94    
    JSON::PP            2.27300 
    Module::Build       0.4224  
    Module::Signature   0.81    
    Parse::CPAN::Meta   2.150010
    Test::Harness       3.39    
    Test::More          1.302096
    YAML                1.23    
    YAML::Syck          1.30    
    version             0.9909  


--

Summary of my perl5 (revision 5 version 22 subversion 0) configuration:
  Derived from: 70f63a4c7dba89e8e48b44de7978faae4319e693
  Platform:
    osname=linux, osvers=4.9.0-2-amd64, archname=x86_64-linux-thread-multi
    uname='linux k93msid 4.9.0-2-amd64 #1 smp debian 4.9.18-1 (2017-03-30) x86_64 gnulinux '
    config_args='-Dprefix=/home/sand/src/perl/repoperls/installed-perls/host/k93msid/v5.22.0/276a -Dmyhostname=k93msid -Dinstallusrbinperl=n -Uversiononly -Dusedevel -des -Ui_db -Dlibswanted=cl pthread socket inet nsl gdbm dbm malloc dl ld sun m crypt sec util c cposix posix ucb BSD gdbm_compat -Duseithreads -Uuselongdouble -DDEBUGGING=both'
    hint=recommended, useposix=true, d_sigaction=define
    useithreads=define, usemultiplicity=define
    use64bitint=define, use64bitall=define, uselongdouble=undef
    usemymalloc=n, bincompat5005=undef
  Compiler:
    cc='cc', ccflags ='-D_REENTRANT -D_GNU_SOURCE -fwrapv -DDEBUGGING -fno-strict-aliasing -pipe -fstack-protector-strong -I/usr/local/include -D_LARGEFILE_SOURCE -D_FILE_OFFSET_BITS=64',
    optimize='-O2 -g',
    cppflags='-D_REENTRANT -D_GNU_SOURCE -fwrapv -DDEBUGGING -fno-strict-aliasing -pipe -fstack-protector-strong -I/usr/local/include'
    ccversion='', gccversion='6.3.0 20170406', gccosandvers=''
    intsize=4, longsize=8, ptrsize=8, doublesize=8, byteorder=12345678, doublekind=3
    d_longlong=define, longlongsize=8, d_longdbl=define, longdblsize=16, longdblkind=3
    ivtype='long', ivsize=8, nvtype='double', nvsize=8, Off_t='off_t', lseeksize=8
    alignbytes=8, prototype=define
  Linker and Libraries:
    ld='cc', ldflags =' -fstack-protector-strong -L/usr/local/lib'
    libpth=/usr/local/lib /usr/lib/gcc/x86_64-linux-gnu/6/include-fixed /usr/include/x86_64-linux-gnu /usr/lib /lib/x86_64-linux-gnu /lib/../lib /usr/lib/x86_64-linux-gnu /usr/lib/../lib /lib
    libs=-lpthread -lnsl -ldl -lm -lcrypt -lutil -lc
    perllibs=-lpthread -lnsl -ldl -lm -lcrypt -lutil -lc
    libc=libc-2.24.so, so=so, useshrplib=false, libperl=libperl.a
    gnulibc_version='2.24'
  Dynamic Linking:
    dlsrc=dl_dlopen.xs, dlext=so, d_dlsymun=undef, ccdlflags='-Wl,-E'
    cccdlflags='-fPIC', lddlflags='-shared -O2 -g -L/usr/local/lib -fstack-protector-strong'


Characteristics of this binary (from libperl): 
  Compile-time options: DEBUGGING HAS_TIMES MULTIPLICITY PERLIO_LAYERS
                        PERL_DONT_CREATE_GVSV
                        PERL_HASH_FUNC_ONE_AT_A_TIME_HARD
                        PERL_IMPLICIT_CONTEXT PERL_MALLOC_WRAP
                        PERL_NEW_COPY_ON_WRITE PERL_PRESERVE_IVUV
                        PERL_TRACK_MEMPOOL PERL_USE_DEVEL USE_64_BIT_ALL
                        USE_64_BIT_INT USE_ITHREADS USE_LARGE_FILES
                        USE_LOCALE USE_LOCALE_COLLATE USE_LOCALE_CTYPE
                        USE_LOCALE_NUMERIC USE_LOCALE_TIME USE_PERLIO
                        USE_PERL_ATOF USE_REENTRANT_API
  Locally applied patches:
	uncommitted-changes
  Built under linux
  Compiled at Sep  1 2017 10:50:07
  %ENV:
    PERL5LIB="/tmp/loop_over_bdir-24904-4sgZqx/Catalyst-Plugin-Static-Simple-0.34-0/blib/arch:/tmp/loop_over_bdir-24904-4sgZqx/Catalyst-Plugin-Static-Simple-0.34-0/blib/lib:/tmp/loop_over_bdir-24904-4sgZqx/Catalyst-Runtime-5.90115-0/blib/arch:/tmp/loop_over_bdir-24904-4sgZqx/Catalyst-Runtime-5.90115-0/blib/lib:/tmp/loop_over_bdir-24904-4sgZqx/URI-ws-0.03-0/blib/arch:/tmp/loop_over_bdir-24904-4sgZqx/URI-ws-0.03-0/blib/lib:/tmp/loop_over_bdir-24904-4sgZqx/Text-SimpleTable-2.03-0/blib/arch:/tmp/loop_over_bdir-24904-4sgZqx/Text-SimpleTable-2.03-0/blib/lib:/tmp/loop_over_bdir-24904-4sgZqx/Plack-Test-ExternalServer-0.02-0/blib/arch:/tmp/loop_over_bdir-24904-4sgZqx/Plack-Test-ExternalServer-0.02-0/blib/lib:/tmp/loop_over_bdir-24904-4sgZqx/Plack-Middleware-ReverseProxy-0.15-0/blib/arch:/tmp/loop_over_bdir-24904-4sgZqx/Plack-Middleware-ReverseProxy-0.15-0/blib/lib:/tmp/loop_over_bdir-24904-4sgZqx/Plack-Middleware-RemoveRedundantBody-0.05-0/blib/arch:/tmp/loop_over_bdir-24904-4sgZqx/Plack-Middleware-RemoveRedundantBody-0.05-0/blib/lib:/tmp/loop_over_bdir-24904-4sgZqx/Plack-Middleware-MethodOverride-0.15-0/blib/arch:/tmp/loop_over_bdir-24904-4sgZqx/Plack-Middleware-MethodOverride-0.15-0/blib/lib:/tmp/loop_over_bdir-24904-4sgZqx/Plack-Middleware-FixMissingBodyInRedirect-0.12-0/blib/arch:/tmp/loop_over_bdir-24904-4sgZqx/Plack-Middleware-FixMissingBodyInRedirect-0.12-0/blib/lib:/tmp/loop_over_bdir-24904-4sgZqx/MooseX-MethodAttributes-0.31-0/blib/arch:/tmp/loop_over_bdir-24904-4sgZqx/MooseX-MethodAttributes-0.31-0/blib/lib:/tmp/loop_over_bdir-24904-4sgZqx/MooseX-Emulate-Class-Accessor-Fast-0.00903-0/blib/arch:/tmp/loop_over_bdir-24904-4sgZqx/MooseX-Emulate-Class-Accessor-Fast-0.00903-0/blib/lib:/tmp/loop_over_bdir-24904-4sgZqx/HTTP-Request-AsCGI-1.2-0/blib/arch:/tmp/loop_over_bdir-24904-4sgZqx/HTTP-Request-AsCGI-1.2-0/blib/lib:/tmp/loop_over_bdir-24904-4sgZqx/Class-C3-Adopt-NEXT-0.14-0/blib/arch:/tmp/loop_over_bdir-24904-4sgZqx/Class-C3-Adopt-NEXT-0.14-0/blib/lib:/tmp/loop_over_bdir-24904-4sgZqx/CGI-Struct-1.21-0/blib/arch:/tmp/loop_over_bdir-24904-4sgZqx/CGI-Struct-1.21-0/blib/lib:/tmp/loop_over_bdir-24904-4sgZqx/CGI-Simple-1.115-0/blib/arch:/tmp/loop_over_bdir-24904-4sgZqx/CGI-Simple-1.115-0/blib/lib"
    PERL5OPT=""
    PERL5_CPANPLUS_IS_RUNNING="24914"
    PERL5_CPAN_IS_RUNNING="24914"
    PERL5_CPAN_IS_RUNNING_IN_RECURSION="5138,24914"
    PERL_CANARY_STABILITY_NOPROMPT="1"
    PERL_MM_USE_DEFAULT="1"
    PERL_USE_UNSAFE_INC="1"
  @INC:
    /tmp/loop_over_bdir-24904-4sgZqx/Catalyst-Plugin-Static-Simple-0.34-0/blib/arch
    /tmp/loop_over_bdir-24904-4sgZqx/Catalyst-Plugin-Static-Simple-0.34-0/blib/lib
    /tmp/loop_over_bdir-24904-4sgZqx/Catalyst-Runtime-5.90115-0/blib/arch
    /tmp/loop_over_bdir-24904-4sgZqx/Catalyst-Runtime-5.90115-0/blib/lib
    /tmp/loop_over_bdir-24904-4sgZqx/URI-ws-0.03-0/blib/arch
    /tmp/loop_over_bdir-24904-4sgZqx/URI-ws-0.03-0/blib/lib
    /tmp/loop_over_bdir-24904-4sgZqx/Text-SimpleTable-2.03-0/blib/arch
    /tmp/loop_over_bdir-24904-4sgZqx/Text-SimpleTable-2.03-0/blib/lib
    /tmp/loop_over_bdir-24904-4sgZqx/Plack-Test-ExternalServer-0.02-0/blib/arch
    /tmp/loop_over_bdir-24904-4sgZqx/Plack-Test-ExternalServer-0.02-0/blib/lib
    /tmp/loop_over_bdir-24904-4sgZqx/Plack-Middleware-ReverseProxy-0.15-0/blib/arch
    /tmp/loop_over_bdir-24904-4sgZqx/Plack-Middleware-ReverseProxy-0.15-0/blib/lib
    /tmp/loop_over_bdir-24904-4sgZqx/Plack-Middleware-RemoveRedundantBody-0.05-0/blib/arch
    /tmp/loop_over_bdir-24904-4sgZqx/Plack-Middleware-RemoveRedundantBody-0.05-0/blib/lib
    /tmp/loop_over_bdir-24904-4sgZqx/Plack-Middleware-MethodOverride-0.15-0/blib/arch
    /tmp/loop_over_bdir-24904-4sgZqx/Plack-Middleware-MethodOverride-0.15-0/blib/lib
    /tmp/loop_over_bdir-24904-4sgZqx/Plack-Middleware-FixMissingBodyInRedirect-0.12-0/blib/arch
    /tmp/loop_over_bdir-24904-4sgZqx/Plack-Middleware-FixMissingBodyInRedirect-0.12-0/blib/lib
    /tmp/loop_over_bdir-24904-4sgZqx/MooseX-MethodAttributes-0.31-0/blib/arch
    /tmp/loop_over_bdir-24904-4sgZqx/MooseX-MethodAttributes-0.31-0/blib/lib
    /tmp/loop_over_bdir-24904-4sgZqx/MooseX-Emulate-Class-Accessor-Fast-0.00903-0/blib/arch
    /tmp/loop_over_bdir-24904-4sgZqx/MooseX-Emulate-Class-Accessor-Fast-0.00903-0/blib/lib
    /tmp/loop_over_bdir-24904-4sgZqx/HTTP-Request-AsCGI-1.2-0/blib/arch
    /tmp/loop_over_bdir-24904-4sgZqx/HTTP-Request-AsCGI-1.2-0/blib/lib
    /tmp/loop_over_bdir-24904-4sgZqx/Class-C3-Adopt-NEXT-0.14-0/blib/arch
    /tmp/loop_over_bdir-24904-4sgZqx/Class-C3-Adopt-NEXT-0.14-0/blib/lib
    /tmp/loop_over_bdir-24904-4sgZqx/CGI-Struct-1.21-0/blib/arch
    /tmp/loop_over_bdir-24904-4sgZqx/CGI-Struct-1.21-0/blib/lib
    /tmp/loop_over_bdir-24904-4sgZqx/CGI-Simple-1.115-0/blib/arch
    /tmp/loop_over_bdir-24904-4sgZqx/CGI-Simple-1.115-0/blib/lib
    /home/sand/src/perl/repoperls/installed-perls/host/k93msid/v5.22.0/276a/lib/site_perl/5.22.0/x86_64-linux-thread-multi
    /home/sand/src/perl/repoperls/installed-perls/host/k93msid/v5.22.0/276a/lib/site_perl/5.22.0
    /home/sand/src/perl/repoperls/installed-perls/host/k93msid/v5.22.0/276a/lib/5.22.0/x86_64-linux-thread-multi
    /home/sand/src/perl/repoperls/installed-perls/host/k93msid/v5.22.0/276a/lib/5.22.0
    .