Report for Reaction-0.002005

Back
From: metabase:user:b53c7f44-4c0e-11e4-9ced-a04ade49192c
Subject: PASS Reaction-0.002005 v5.8.8 GNU/Linux
Date: 2014-10-25T17:48:17Z

This distribution has been tested as part of the CPAN Testers
project, supporting the Perl programming language.  See
http://wiki.cpantesters.org/ for more information or email
questions to cpan-testers-discuss@perl.org


--
Dear Justin Hunter,

This is a computer-generated report for Reaction-0.002005
on perl 5.8.8, created by CPAN-Reporter-1.2011.

Thank you for uploading your work to CPAN.  Congratulations!
All tests were successful.

Sections of this report:

    * Tester comments
    * Program output
    * Prerequisites
    * Environment and other context

------------------------------
TESTER COMMENTS
------------------------------

Additional comments from tester:

this report is from an automated smoke testing program
and was not reviewed by a human for accuracy

------------------------------
PROGRAM OUTPUT
------------------------------

Output from '/usr/bin/make test':

PERL_DL_NONLAZY=1 /opt/perl430-27-O0-5.8.8/bin/perl "-MExtUtils::Command::MM" "-MTest::Harness" "-e" "undef *Test::Harness::Switches; test_harness(0, 'inc', 'blib/lib', 'blib/arch')" t/00componentui_compiles.t t/01app.t t/04load_all.t t/05reflect_attr_from.t t/im_dbic.t t/ui_focus_stack.t t/ui_view.t t/ui_viewport.t t/uncheck_bool_field.t
Class::MOP::load_class is deprecated at /opt/perl430-27-O0-5.8.8/lib/site_perl/5.8.8/i686-linux-thread-multi-64int-ld/Class/MOP.pm line 68.
	Class::MOP::load_class("ComponentUI::TestModel") called at /root/.cpan/build/Reaction-0.002005-3voQhw/blib/lib/Catalyst/Model/Reaction/InterfaceModel/DBIC.pm line 24
	Catalyst::Model::Reaction::InterfaceModel::DBIC::COMPONENT("ComponentUI::Model::TestModel", "ComponentUI", HASH(0xc343a5c)) called at /opt/perl430-27-O0-5.8.8/lib/site_perl/5.8.8/Catalyst.pm line 2760
	eval {...} called at /opt/perl430-27-O0-5.8.8/lib/site_perl/5.8.8/Catalyst.pm line 2760
	Catalyst::setup_component("ComponentUI", "ComponentUI::Model::TestModel") called at /opt/perl430-27-O0-5.8.8/lib/site_perl/5.8.8/Catalyst.pm line 2690
	Catalyst::setup_components("ComponentUI") called at /opt/perl430-27-O0-5.8.8/lib/site_perl/5.8.8/Catalyst.pm line 1216
	Catalyst::setup("ComponentUI") called at /root/.cpan/build/Reaction-0.002005-3voQhw/blib/lib/ComponentUI.pm line 32
	require ComponentUI.pm called at t/00componentui_compiles.t line 7
	main::BEGIN() called at /root/.cpan/build/Reaction-0.002005-3voQhw/blib/lib/ComponentUI.pm line 0
	eval {...} called at /root/.cpan/build/Reaction-0.002005-3voQhw/blib/lib/ComponentUI.pm line 0
	eval 'package main;

#line 7 t/00componentui_compiles.t
use ComponentUI @{$args[0]};
1;

;' called at /opt/perl430-27-O0-5.8.8/lib/5.8.8/Test/More.pm line 993
	Test::More::_eval("package main;\x{a}\x{a}#line 7 t/00componentui_compiles.t\x{a}use Compone"..., ARRAY(0x8b2dd14)) called at /opt/perl430-27-O0-5.8.8/lib/5.8.8/Test/More.pm line 968
	Test::More::use_ok("ComponentUI") called at t/00componentui_compiles.t line 7
Class::MOP::load_class is deprecated at /opt/perl430-27-O0-5.8.8/lib/site_perl/5.8.8/i686-linux-thread-multi-64int-ld/Class/MOP.pm line 68.
	Class::MOP::load_class("Reaction::InterfaceModel::Object") called at /root/.cpan/build/Reaction-0.002005-3voQhw/blib/lib/Reaction/InterfaceModel/Reflector/DBIC.pm line 149
	Reaction::InterfaceModel::Reflector::DBIC::reflect_schema(Reaction::InterfaceModel::Reflector::DBIC=HASH(0xc33b0f8), "model_class", "ComponentUI::TestModel", "schema_class", "RTest::TestDB", "sources", ARRAY(0xc48b0bc)) called at /root/.cpan/build/Reaction-0.002005-3voQhw/blib/lib/ComponentUI/TestModel.pm line 10
	require ComponentUI/TestModel.pm called at /opt/perl430-27-O0-5.8.8/lib/site_perl/5.8.8/Module/Runtime.pm line 313
	Module::Runtime::require_module("ComponentUI::TestModel") called at /opt/perl430-27-O0-5.8.8/lib/site_perl/5.8.8/Class/Load.pm line 180
	Class::Load::try {...} () called at /opt/perl430-27-O0-5.8.8/lib/site_perl/5.8.8/Try/Tiny.pm line 76
	eval {...} called at /opt/perl430-27-O0-5.8.8/lib/site_perl/5.8.8/Try/Tiny.pm line 72
	Try::Tiny::try(CODE(0xc1fcf0c), Try::Tiny::Catch=REF(0xc137c1c)) called at /opt/perl430-27-O0-5.8.8/lib/site_perl/5.8.8/Class/Load.pm line 186
	Class::Load::try_load_class("ComponentUI::TestModel", undef) called at /opt/perl430-27-O0-5.8.8/lib/site_perl/5.8.8/Class/Load.pm line 41
	Class::Load::load_class("ComponentUI::TestModel") called at /root/.cpan/build/Reaction-0.002005-3voQhw/blib/lib/Catalyst/Model/Reaction/InterfaceModel/DBIC.pm line 24
	Catalyst::Model::Reaction::InterfaceModel::DBIC::COMPONENT("ComponentUI::Model::TestModel", "ComponentUI", HASH(0xc343a5c)) called at /opt/perl430-27-O0-5.8.8/lib/site_perl/5.8.8/Catalyst.pm line 2760
	eval {...} called at /opt/perl430-27-O0-5.8.8/lib/site_perl/5.8.8/Catalyst.pm line 2760
	Catalyst::setup_component("ComponentUI", "ComponentUI::Model::TestModel") called at /opt/perl430-27-O0-5.8.8/lib/site_perl/5.8.8/Catalyst.pm line 2690
	Catalyst::setup_components("ComponentUI") called at /opt/perl430-27-O0-5.8.8/lib/site_perl/5.8.8/Catalyst.pm line 1216
	Catalyst::setup("ComponentUI") called at /root/.cpan/build/Reaction-0.002005-3voQhw/blib/lib/ComponentUI.pm line 32
	require ComponentUI.pm called at t/00componentui_compiles.t line 7
	main::BEGIN() called at /root/.cpan/build/Reaction-0.002005-3voQhw/blib/lib/ComponentUI/TestModel.pm line 0
	eval {...} called at /root/.cpan/build/Reaction-0.002005-3voQhw/blib/lib/ComponentUI/TestModel.pm line 0
	eval 'package main;

#line 7 t/00componentui_compiles.t
use ComponentUI @{$args[0]};
1;

;' called at /opt/perl430-27-O0-5.8.8/lib/5.8.8/Test/More.pm line 993
	Test::More::_eval("package main;\x{a}\x{a}#line 7 t/00componentui_compiles.t\x{a}use Compone"..., ARRAY(0x8b2dd14)) called at /opt/perl430-27-O0-5.8.8/lib/5.8.8/Test/More.pm line 968
	Test::More::use_ok("ComponentUI") called at t/00componentui_compiles.t line 7
Class::MOP::load_class is deprecated at /opt/perl430-27-O0-5.8.8/lib/site_perl/5.8.8/i686-linux-thread-multi-64int-ld/Class/MOP.pm line 68.
	Class::MOP::load_class("Reaction::InterfaceModel::Object") called at /root/.cpan/build/Reaction-0.002005-3voQhw/blib/lib/Reaction/Class.pm line 123
	Reaction::Class::do_class_sub("Reaction::Class", "ComponentUI::TestModel::Foo", "ComponentUI::TestModel::Foo", "is", "Reaction::InterfaceModel::Object", "which", CODE(0xc6cacd8)) called at /root/.cpan/build/Reaction-0.002005-3voQhw/blib/lib/Reaction/Class.pm line 86
	Reaction::Class::("ComponentUI::TestModel::Foo", "is", "Reaction::InterfaceModel::Object", "which", CODE(0xc6cacd8)) called at /root/.cpan/build/Reaction-0.002005-3voQhw/blib/lib/ComponentUI/TestModel/Foo.pm line 8
	require ComponentUI/TestModel/Foo.pm called at /opt/perl430-27-O0-5.8.8/lib/site_perl/5.8.8/Module/Runtime.pm line 313
	Module::Runtime::require_module("ComponentUI::TestModel::Foo") called at /opt/perl430-27-O0-5.8.8/lib/site_perl/5.8.8/Class/Load.pm line 180
	Class::Load::try {...} () called at /opt/perl430-27-O0-5.8.8/lib/site_perl/5.8.8/Try/Tiny.pm line 76
	eval {...} called at /opt/perl430-27-O0-5.8.8/lib/site_perl/5.8.8/Try/Tiny.pm line 72
	Try::Tiny::try(CODE(0xc647310), Try::Tiny::Catch=REF(0xc6cadb0)) called at /opt/perl430-27-O0-5.8.8/lib/site_perl/5.8.8/Class/Load.pm line 186
	Class::Load::try_load_class("ComponentUI::TestModel::Foo", undef) called at /opt/perl430-27-O0-5.8.8/lib/site_perl/5.8.8/Class/Load.pm line 41
	Class::Load::load_class("ComponentUI::TestModel::Foo") called at /root/.cpan/build/Reaction-0.002005-3voQhw/blib/lib/Reaction/InterfaceModel/Reflector/DBIC.pm line 892
	eval {...} called at /root/.cpan/build/Reaction-0.002005-3voQhw/blib/lib/Reaction/InterfaceModel/Reflector/DBIC.pm line 892
	Reaction::InterfaceModel::Reflector::DBIC::_maybe_load_class(Reaction::InterfaceModel::Reflector::DBIC=HASH(0xc33b0f8), "ComponentUI::TestModel::Foo") called at /root/.cpan/build/Reaction-0.002005-3voQhw/blib/lib/Reaction/InterfaceModel/Reflector/DBIC.pm line 876
	Reaction::InterfaceModel::Reflector::DBIC::_load_or_create(Reaction::InterfaceModel::Reflector::DBIC=HASH(0xc33b0f8), "ComponentUI::TestModel::Foo", "superclasses", ARRAY(0xc63cedc)) called at /root/.cpan/build/Reaction-0.002005-3voQhw/blib/lib/Reaction/InterfaceModel/Reflector/DBIC.pm line 448
	Reaction::InterfaceModel::Reflector::DBIC::reflect_source_object(Reaction::InterfaceModel::Reflector::DBIC=HASH(0xc33b0f8), "schema_class", "RTest::TestDB", "source_name", "Foo", "source_class", "RTest::TestDB::Foo", "parent_class", "ComponentUI::TestModel", ...) called at /root/.cpan/build/Reaction-0.002005-3voQhw/blib/lib/Reaction/InterfaceModel/Reflector/DBIC.pm line 323
	Reaction::InterfaceModel::Reflector::DBIC::reflect_source(Reaction::InterfaceModel::Reflector::DBIC=HASH(0xc33b0f8), "source_name", "Foo", "parent_class", "ComponentUI::TestModel", "schema_class", "RTest::TestDB", "source_class", "RTest::TestDB::Foo", ...) called at /root/.cpan/build/Reaction-0.002005-3voQhw/blib/lib/Reaction/InterfaceModel/Reflector/DBIC.pm line 185
	Reaction::InterfaceModel::Reflector::DBIC::reflect_schema(Reaction::InterfaceModel::Reflector::DBIC=HASH(0xc33b0f8), "model_class", "ComponentUI::TestModel", "schema_class", "RTest::TestDB", "sources", ARRAY(0xc48b0bc)) called at /root/.cpan/build/Reaction-0.002005-3voQhw/blib/lib/ComponentUI/TestModel.pm line 10
	require ComponentUI/TestModel.pm called at /opt/perl430-27-O0-5.8.8/lib/site_perl/5.8.8/Module/Runtime.pm line 313
	Module::Runtime::require_module("ComponentUI::TestModel") called at /opt/perl430-27-O0-5.8.8/lib/site_perl/5.8.8/Class/Load.pm line 180
	Class::Load::try {...} () called at /opt/perl430-27-O0-5.8.8/lib/site_perl/5.8.8/Try/Tiny.pm line 76
	eval {...} called at /opt/perl430-27-O0-5.8.8/lib/site_perl/5.8.8/Try/Tiny.pm line 72
	Try::Tiny::try(CODE(0xc1fcf0c), Try::Tiny::Catch=REF(0xc137c1c)) called at /opt/perl430-27-O0-5.8.8/lib/site_perl/5.8.8/Class/Load.pm line 186
	Class::Load::try_load_class("ComponentUI::TestModel", undef) called at /opt/perl430-27-O0-5.8.8/lib/site_perl/5.8.8/Class/Load.pm line 41
	Class::Load::load_class("ComponentUI::TestModel") called at /root/.cpan/build/Reaction-0.002005-3voQhw/blib/lib/Catalyst/Model/Reaction/InterfaceModel/DBIC.pm line 24
	Catalyst::Model::Reaction::InterfaceModel::DBIC::COMPONENT("ComponentUI::Model::TestModel", "ComponentUI", HASH(0xc343a5c)) called at /opt/perl430-27-O0-5.8.8/lib/site_perl/5.8.8/Catalyst.pm line 2760
	eval {...} called at /opt/perl430-27-O0-5.8.8/lib/site_perl/5.8.8/Catalyst.pm line 2760
	Catalyst::setup_component("ComponentUI", "ComponentUI::Model::TestModel") called at /opt/perl430-27-O0-5.8.8/lib/site_perl/5.8.8/Catalyst.pm line 2690
	Catalyst::setup_components("ComponentUI") called at /opt/perl430-27-O0-5.8.8/lib/site_perl/5.8.8/Catalyst.pm line 1216
	Catalyst::setup("ComponentUI") called at /root/.cpan/build/Reaction-0.002005-3voQhw/blib/lib/ComponentUI.pm line 32
	require ComponentUI.pm called at t/00componentui_compiles.t line 7
	main::BEGIN() called at /root/.cpan/build/Reaction-0.002005-3voQhw/blib/lib/ComponentUI/TestModel/Foo.pm line 0
	eval {...} called at /root/.cpan/build/Reaction-0.002005-3voQhw/blib/lib/ComponentUI/TestModel/Foo.pm line 0
	eval 'package main;

#line 7 t/00componentui_compiles.t
use ComponentUI @{$args[0]};
1;

;' called at /opt/perl430-27-O0-5.8.8/lib/5.8.8/Test/More.pm line 993
	Test::More::_eval("package main;\x{a}\x{a}#line 7 t/00componentui_compiles.t\x{a}use Compone"..., ARRAY(0x8b2dd14)) called at /opt/perl430-27-O0-5.8.8/lib/5.8.8/Test/More.pm line 968
	Test::More::use_ok("ComponentUI") called at t/00componentui_compiles.t line 7
t/00componentui_compiles.t .. ok
Class::MOP::load_class is deprecated at /opt/perl430-27-O0-5.8.8/lib/site_perl/5.8.8/i686-linux-thread-multi-64int-ld/Class/MOP.pm line 68.
	Class::MOP::load_class("ComponentUI::TestModel") called at /root/.cpan/build/Reaction-0.002005-3voQhw/blib/lib/Catalyst/Model/Reaction/InterfaceModel/DBIC.pm line 24
	Catalyst::Model::Reaction::InterfaceModel::DBIC::COMPONENT("ComponentUI::Model::TestModel", "ComponentUI", HASH(0xc6153d0)) called at /opt/perl430-27-O0-5.8.8/lib/site_perl/5.8.8/Catalyst.pm line 2760
	eval {...} called at /opt/perl430-27-O0-5.8.8/lib/site_perl/5.8.8/Catalyst.pm line 2760
	Catalyst::setup_component("ComponentUI", "ComponentUI::Model::TestModel") called at /opt/perl430-27-O0-5.8.8/lib/site_perl/5.8.8/Catalyst.pm line 2690
	Catalyst::setup_components("ComponentUI") called at /opt/perl430-27-O0-5.8.8/lib/site_perl/5.8.8/Catalyst.pm line 1216
	Catalyst::setup("ComponentUI") called at /root/.cpan/build/Reaction-0.002005-3voQhw/blib/lib/ComponentUI.pm line 32
	require ComponentUI.pm called at /opt/perl430-27-O0-5.8.8/lib/site_perl/5.8.8/Module/Runtime.pm line 313
	Module::Runtime::require_module("ComponentUI") called at /opt/perl430-27-O0-5.8.8/lib/site_perl/5.8.8/Class/Load.pm line 180
	Class::Load::try {...} () called at /opt/perl430-27-O0-5.8.8/lib/site_perl/5.8.8/Try/Tiny.pm line 76
	eval {...} called at /opt/perl430-27-O0-5.8.8/lib/site_perl/5.8.8/Try/Tiny.pm line 72
	Try::Tiny::try(CODE(0x96ae3b0), Try::Tiny::Catch=REF(0x96ae698)) called at /opt/perl430-27-O0-5.8.8/lib/site_perl/5.8.8/Class/Load.pm line 186
	Class::Load::try_load_class("ComponentUI", undef) called at /opt/perl430-27-O0-5.8.8/lib/site_perl/5.8.8/Class/Load.pm line 41
	Class::Load::load_class("ComponentUI") called at /opt/perl430-27-O0-5.8.8/lib/site_perl/5.8.8/Catalyst/Test.pm line 29
	Catalyst::Test::_build_request_export("Catalyst::Test", HASH(0x9989924)) called at /opt/perl430-27-O0-5.8.8/lib/site_perl/5.8.8/Catalyst/Test.pm line 92
	Catalyst::Test::__ANON__("Catalyst::Test", "all", HASH(0x9989900), HASH(0x9980788)) called at /opt/perl430-27-O0-5.8.8/lib/site_perl/5.8.8/Sub/Exporter.pm line 108
	Sub::Exporter::_expand_group("Catalyst::Test", HASH(0x9980374), ARRAY(0x9980794), HASH(0x9980788), HASH(0x998993c), HASH(0x9979d24)) called at /opt/perl430-27-O0-5.8.8/lib/site_perl/5.8.8/Sub/Exporter.pm line 39
	Sub::Exporter::_expand_groups("Catalyst::Test", HASH(0x9980374), ARRAY(0x99803ec), HASH(0x9980788)) called at /opt/perl430-27-O0-5.8.8/lib/site_perl/5.8.8/Sub/Exporter.pm line 323
	Sub::Exporter::__ANON__("Catalyst::Test", "-all", HASH(0x8e048dc)) called at /opt/perl430-27-O0-5.8.8/lib/site_perl/5.8.8/Catalyst/Test.pm line 155
	Catalyst::Test::import("Catalyst::Test", "ComponentUI") called at t/01app.t line 7
	main::BEGIN() called at /root/.cpan/build/Reaction-0.002005-3voQhw/blib/lib/ComponentUI.pm line 0
	eval {...} called at /root/.cpan/build/Reaction-0.002005-3voQhw/blib/lib/ComponentUI.pm line 0
	eval 'package main;

#line 7 t/01app.t
use Catalyst::Test @{$args[0]};
1;

;' called at /opt/perl430-27-O0-5.8.8/lib/5.8.8/Test/More.pm line 993
	Test::More::_eval("package main;\x{a}\x{a}#line 7 t/01app.t\x{a}use Catalyst::Test \@{\$args[0"..., ARRAY(0x8de4d14)) called at /opt/perl430-27-O0-5.8.8/lib/5.8.8/Test/More.pm line 968
	Test::More::use_ok("Catalyst::Test", "ComponentUI") called at t/01app.t line 7
	main::BEGIN() called at /root/.cpan/build/Reaction-0.002005-3voQhw/blib/lib/ComponentUI.pm line 0
	eval {...} called at /root/.cpan/build/Reaction-0.002005-3voQhw/blib/lib/ComponentUI.pm line 0
Class::MOP::load_class is deprecated at /opt/perl430-27-O0-5.8.8/lib/site_perl/5.8.8/i686-linux-thread-multi-64int-ld/Class/MOP.pm line 68.
	Class::MOP::load_class("Reaction::InterfaceModel::Object") called at /root/.cpan/build/Reaction-0.002005-3voQhw/blib/lib/Reaction/InterfaceModel/Reflector/DBIC.pm line 149
	Reaction::InterfaceModel::Reflector::DBIC::reflect_schema(Reaction::InterfaceModel::Reflector::DBIC=HASH(0xc41435c), "model_class", "ComponentUI::TestModel", "schema_class", "RTest::TestDB", "sources", ARRAY(0xc75ba78)) called at /root/.cpan/build/Reaction-0.002005-3voQhw/blib/lib/ComponentUI/TestModel.pm line 10
	require ComponentUI/TestModel.pm called at /opt/perl430-27-O0-5.8.8/lib/site_perl/5.8.8/Module/Runtime.pm line 313
	Module::Runtime::require_module("ComponentUI::TestModel") called at /opt/perl430-27-O0-5.8.8/lib/site_perl/5.8.8/Class/Load.pm line 180
	Class::Load::try {...} () called at /opt/perl430-27-O0-5.8.8/lib/site_perl/5.8.8/Try/Tiny.pm line 76
	eval {...} called at /opt/perl430-27-O0-5.8.8/lib/site_perl/5.8.8/Try/Tiny.pm line 72
	Try::Tiny::try(CODE(0xc4cd880), Try::Tiny::Catch=REF(0xc407590)) called at /opt/perl430-27-O0-5.8.8/lib/site_perl/5.8.8/Class/Load.pm line 186
	Class::Load::try_load_class("ComponentUI::TestModel", undef) called at /opt/perl430-27-O0-5.8.8/lib/site_perl/5.8.8/Class/Load.pm line 41
	Class::Load::load_class("ComponentUI::TestModel") called at /root/.cpan/build/Reaction-0.002005-3voQhw/blib/lib/Catalyst/Model/Reaction/InterfaceModel/DBIC.pm line 24
	Catalyst::Model::Reaction::InterfaceModel::DBIC::COMPONENT("ComponentUI::Model::TestModel", "ComponentUI", HASH(0xc6153d0)) called at /opt/perl430-27-O0-5.8.8/lib/site_perl/5.8.8/Catalyst.pm line 2760
	eval {...} called at /opt/perl430-27-O0-5.8.8/lib/site_perl/5.8.8/Catalyst.pm line 2760
	Catalyst::setup_component("ComponentUI", "ComponentUI::Model::TestModel") called at /opt/perl430-27-O0-5.8.8/lib/site_perl/5.8.8/Catalyst.pm line 2690
	Catalyst::setup_components("ComponentUI") called at /opt/perl430-27-O0-5.8.8/lib/site_perl/5.8.8/Catalyst.pm line 1216
	Catalyst::setup("ComponentUI") called at /root/.cpan/build/Reaction-0.002005-3voQhw/blib/lib/ComponentUI.pm line 32
	require ComponentUI.pm called at /opt/perl430-27-O0-5.8.8/lib/site_perl/5.8.8/Module/Runtime.pm line 313
	Module::Runtime::require_module("ComponentUI") called at /opt/perl430-27-O0-5.8.8/lib/site_perl/5.8.8/Class/Load.pm line 180
	Class::Load::try {...} () called at /opt/perl430-27-O0-5.8.8/lib/site_perl/5.8.8/Try/Tiny.pm line 76
	eval {...} called at /opt/perl430-27-O0-5.8.8/lib/site_perl/5.8.8/Try/Tiny.pm line 72
	Try::Tiny::try(CODE(0x96ae3b0), Try::Tiny::Catch=REF(0x96ae698)) called at /opt/perl430-27-O0-5.8.8/lib/site_perl/5.8.8/Class/Load.pm line 186
	Class::Load::try_load_class("ComponentUI", undef) called at /opt/perl430-27-O0-5.8.8/lib/site_perl/5.8.8/Class/Load.pm line 41
	Class::Load::load_class("ComponentUI") called at /opt/perl430-27-O0-5.8.8/lib/site_perl/5.8.8/Catalyst/Test.pm line 29
	Catalyst::Test::_build_request_export("Catalyst::Test", HASH(0x9989924)) called at /opt/perl430-27-O0-5.8.8/lib/site_perl/5.8.8/Catalyst/Test.pm line 92
	Catalyst::Test::__ANON__("Catalyst::Test", "all", HASH(0x9989900), HASH(0x9980788)) called at /opt/perl430-27-O0-5.8.8/lib/site_perl/5.8.8/Sub/Exporter.pm line 108
	Sub::Exporter::_expand_group("Catalyst::Test", HASH(0x9980374), ARRAY(0x9980794), HASH(0x9980788), HASH(0x998993c), HASH(0x9979d24)) called at /opt/perl430-27-O0-5.8.8/lib/site_perl/5.8.8/Sub/Exporter.pm line 39
	Sub::Exporter::_expand_groups("Catalyst::Test", HASH(0x9980374), ARRAY(0x99803ec), HASH(0x9980788)) called at /opt/perl430-27-O0-5.8.8/lib/site_perl/5.8.8/Sub/Exporter.pm line 323
	Sub::Exporter::__ANON__("Catalyst::Test", "-all", HASH(0x8e048dc)) called at /opt/perl430-27-O0-5.8.8/lib/site_perl/5.8.8/Catalyst/Test.pm line 155
	Catalyst::Test::import("Catalyst::Test", "ComponentUI") called at t/01app.t line 7
	main::BEGIN() called at /root/.cpan/build/Reaction-0.002005-3voQhw/blib/lib/ComponentUI/TestModel.pm line 0
	eval {...} called at /root/.cpan/build/Reaction-0.002005-3voQhw/blib/lib/ComponentUI/TestModel.pm line 0
	eval 'package main;

#line 7 t/01app.t
use Catalyst::Test @{$args[0]};
1;

;' called at /opt/perl430-27-O0-5.8.8/lib/5.8.8/Test/More.pm line 993
	Test::More::_eval("package main;\x{a}\x{a}#line 7 t/01app.t\x{a}use Catalyst::Test \@{\$args[0"..., ARRAY(0x8de4d14)) called at /opt/perl430-27-O0-5.8.8/lib/5.8.8/Test/More.pm line 968
	Test::More::use_ok("Catalyst::Test", "ComponentUI") called at t/01app.t line 7
	main::BEGIN() called at /root/.cpan/build/Reaction-0.002005-3voQhw/blib/lib/ComponentUI/TestModel.pm line 0
	eval {...} called at /root/.cpan/build/Reaction-0.002005-3voQhw/blib/lib/ComponentUI/TestModel.pm line 0
Class::MOP::load_class is deprecated at /opt/perl430-27-O0-5.8.8/lib/site_perl/5.8.8/i686-linux-thread-multi-64int-ld/Class/MOP.pm line 68.
	Class::MOP::load_class("Reaction::InterfaceModel::Object") called at /root/.cpan/build/Reaction-0.002005-3voQhw/blib/lib/Reaction/Class.pm line 123
	Reaction::Class::do_class_sub("Reaction::Class", "ComponentUI::TestModel::Foo", "ComponentUI::TestModel::Foo", "is", "Reaction::InterfaceModel::Object", "which", CODE(0xc99a64c)) called at /root/.cpan/build/Reaction-0.002005-3voQhw/blib/lib/Reaction/Class.pm line 86
	Reaction::Class::("ComponentUI::TestModel::Foo", "is", "Reaction::InterfaceModel::Object", "which", CODE(0xc99a64c)) called at /root/.cpan/build/Reaction-0.002005-3voQhw/blib/lib/ComponentUI/TestModel/Foo.pm line 8
	require ComponentUI/TestModel/Foo.pm called at /opt/perl430-27-O0-5.8.8/lib/site_perl/5.8.8/Module/Runtime.pm line 313
	Module::Runtime::require_module("ComponentUI::TestModel::Foo") called at /opt/perl430-27-O0-5.8.8/lib/site_perl/5.8.8/Class/Load.pm line 180
	Class::Load::try {...} () called at /opt/perl430-27-O0-5.8.8/lib/site_perl/5.8.8/Try/Tiny.pm line 76
	eval {...} called at /opt/perl430-27-O0-5.8.8/lib/site_perl/5.8.8/Try/Tiny.pm line 72
	Try::Tiny::try(CODE(0xc94c484), Try::Tiny::Catch=REF(0xc99a724)) called at /opt/perl430-27-O0-5.8.8/lib/site_perl/5.8.8/Class/Load.pm line 186
	Class::Load::try_load_class("ComponentUI::TestModel::Foo", undef) called at /opt/perl430-27-O0-5.8.8/lib/site_perl/5.8.8/Class/Load.pm line 41
	Class::Load::load_class("ComponentUI::TestModel::Foo") called at /root/.cpan/build/Reaction-0.002005-3voQhw/blib/lib/Reaction/InterfaceModel/Reflector/DBIC.pm line 892
	eval {...} called at /root/.cpan/build/Reaction-0.002005-3voQhw/blib/lib/Reaction/InterfaceModel/Reflector/DBIC.pm line 892
	Reaction::InterfaceModel::Reflector::DBIC::_maybe_load_class(Reaction::InterfaceModel::Reflector::DBIC=HASH(0xc41435c), "ComponentUI::TestModel::Foo") called at /root/.cpan/build/Reaction-0.002005-3voQhw/blib/lib/Reaction/InterfaceModel/Reflector/DBIC.pm line 876
	Reaction::InterfaceModel::Reflector::DBIC::_load_or_create(Reaction::InterfaceModel::Reflector::DBIC=HASH(0xc41435c), "ComponentUI::TestModel::Foo", "superclasses", ARRAY(0xc90c050)) called at /root/.cpan/build/Reaction-0.002005-3voQhw/blib/lib/Reaction/InterfaceModel/Reflector/DBIC.pm line 448
	Reaction::InterfaceModel::Reflector::DBIC::reflect_source_object(Reaction::InterfaceModel::Reflector::DBIC=HASH(0xc41435c), "schema_class", "RTest::TestDB", "source_name", "Foo", "source_class", "RTest::TestDB::Foo", "parent_class", "ComponentUI::TestModel", ...) called at /root/.cpan/build/Reaction-0.002005-3voQhw/blib/lib/Reaction/InterfaceModel/Reflector/DBIC.pm line 323
	Reaction::InterfaceModel::Reflector::DBIC::reflect_source(Reaction::InterfaceModel::Reflector::DBIC=HASH(0xc41435c), "source_name", "Foo", "parent_class", "ComponentUI::TestModel", "schema_class", "RTest::TestDB", "source_class", "RTest::TestDB::Foo", ...) called at /root/.cpan/build/Reaction-0.002005-3voQhw/blib/lib/Reaction/InterfaceModel/Reflector/DBIC.pm line 185
	Reaction::InterfaceModel::Reflector::DBIC::reflect_schema(Reaction::InterfaceModel::Reflector::DBIC=HASH(0xc41435c), "model_class", "ComponentUI::TestModel", "schema_class", "RTest::TestDB", "sources", ARRAY(0xc75ba78)) called at /root/.cpan/build/Reaction-0.002005-3voQhw/blib/lib/ComponentUI/TestModel.pm line 10
	require ComponentUI/TestModel.pm called at /opt/perl430-27-O0-5.8.8/lib/site_perl/5.8.8/Module/Runtime.pm line 313
	Module::Runtime::require_module("ComponentUI::TestModel") called at /opt/perl430-27-O0-5.8.8/lib/site_perl/5.8.8/Class/Load.pm line 180
	Class::Load::try {...} () called at /opt/perl430-27-O0-5.8.8/lib/site_perl/5.8.8/Try/Tiny.pm line 76
	eval {...} called at /opt/perl430-27-O0-5.8.8/lib/site_perl/5.8.8/Try/Tiny.pm line 72
	Try::Tiny::try(CODE(0xc4cd880), Try::Tiny::Catch=REF(0xc407590)) called at /opt/perl430-27-O0-5.8.8/lib/site_perl/5.8.8/Class/Load.pm line 186
	Class::Load::try_load_class("ComponentUI::TestModel", undef) called at /opt/perl430-27-O0-5.8.8/lib/site_perl/5.8.8/Class/Load.pm line 41
	Class::Load::load_class("ComponentUI::TestModel") called at /root/.cpan/build/Reaction-0.002005-3voQhw/blib/lib/Catalyst/Model/Reaction/InterfaceModel/DBIC.pm line 24
	Catalyst::Model::Reaction::InterfaceModel::DBIC::COMPONENT("ComponentUI::Model::TestModel", "ComponentUI", HASH(0xc6153d0)) called at /opt/perl430-27-O0-5.8.8/lib/site_perl/5.8.8/Catalyst.pm line 2760
	eval {...} called at /opt/perl430-27-O0-5.8.8/lib/site_perl/5.8.8/Catalyst.pm line 2760
	Catalyst::setup_component("ComponentUI", "ComponentUI::Model::TestModel") called at /opt/perl430-27-O0-5.8.8/lib/site_perl/5.8.8/Catalyst.pm line 2690
	Catalyst::setup_components("ComponentUI") called at /opt/perl430-27-O0-5.8.8/lib/site_perl/5.8.8/Catalyst.pm line 1216
	Catalyst::setup("ComponentUI") called at /root/.cpan/build/Reaction-0.002005-3voQhw/blib/lib/ComponentUI.pm line 32
	require ComponentUI.pm called at /opt/perl430-27-O0-5.8.8/lib/site_perl/5.8.8/Module/Runtime.pm line 313
	Module::Runtime::require_module("ComponentUI") called at /opt/perl430-27-O0-5.8.8/lib/site_perl/5.8.8/Class/Load.pm line 180
	Class::Load::try {...} () called at /opt/perl430-27-O0-5.8.8/lib/site_perl/5.8.8/Try/Tiny.pm line 76
	eval {...} called at /opt/perl430-27-O0-5.8.8/lib/site_perl/5.8.8/Try/Tiny.pm line 72
	Try::Tiny::try(CODE(0x96ae3b0), Try::Tiny::Catch=REF(0x96ae698)) called at /opt/perl430-27-O0-5.8.8/lib/site_perl/5.8.8/Class/Load.pm line 186
	Class::Load::try_load_class("ComponentUI", undef) called at /opt/perl430-27-O0-5.8.8/lib/site_perl/5.8.8/Class/Load.pm line 41
	Class::Load::load_class("ComponentUI") called at /opt/perl430-27-O0-5.8.8/lib/site_perl/5.8.8/Catalyst/Test.pm line 29
	Catalyst::Test::_build_request_export("Catalyst::Test", HASH(0x9989924)) called at /opt/perl430-27-O0-5.8.8/lib/site_perl/5.8.8/Catalyst/Test.pm line 92
	Catalyst::Test::__ANON__("Catalyst::Test", "all", HASH(0x9989900), HASH(0x9980788)) called at /opt/perl430-27-O0-5.8.8/lib/site_perl/5.8.8/Sub/Exporter.pm line 108
	Sub::Exporter::_expand_group("Catalyst::Test", HASH(0x9980374), ARRAY(0x9980794), HASH(0x9980788), HASH(0x998993c), HASH(0x9979d24)) called at /opt/perl430-27-O0-5.8.8/lib/site_perl/5.8.8/Sub/Exporter.pm line 39
	Sub::Exporter::_expand_groups("Catalyst::Test", HASH(0x9980374), ARRAY(0x99803ec), HASH(0x9980788)) called at /opt/perl430-27-O0-5.8.8/lib/site_perl/5.8.8/Sub/Exporter.pm line 323
	Sub::Exporter::__ANON__("Catalyst::Test", "-all", HASH(0x8e048dc)) called at /opt/perl430-27-O0-5.8.8/lib/site_perl/5.8.8/Catalyst/Test.pm line 155
	Catalyst::Test::import("Catalyst::Test", "ComponentUI") called at t/01app.t line 7
	main::BEGIN() called at /root/.cpan/build/Reaction-0.002005-3voQhw/blib/lib/ComponentUI/TestModel/Foo.pm line 0
	eval {...} called at /root/.cpan/build/Reaction-0.002005-3voQhw/blib/lib/ComponentUI/TestModel/Foo.pm line 0
	eval 'package main;

#line 7 t/01app.t
use Catalyst::Test @{$args[0]};
1;

;' called at /opt/perl430-27-O0-5.8.8/lib/5.8.8/Test/More.pm line 993
	Test::More::_eval("package main;\x{a}\x{a}#line 7 t/01app.t\x{a}use Catalyst::Test \@{\$args[0"..., ARRAY(0x8de4d14)) called at /opt/perl430-27-O0-5.8.8/lib/5.8.8/Test/More.pm line 968
	Test::More::use_ok("Catalyst::Test", "ComponentUI") called at t/01app.t line 7
	main::BEGIN() called at /root/.cpan/build/Reaction-0.002005-3voQhw/blib/lib/ComponentUI/TestModel/Foo.pm line 0
	eval {...} called at /root/.cpan/build/Reaction-0.002005-3voQhw/blib/lib/ComponentUI/TestModel/Foo.pm line 0
Class::MOP::load_class is deprecated at /opt/perl430-27-O0-5.8.8/lib/site_perl/5.8.8/i686-linux-thread-multi-64int-ld/Class/MOP.pm line 68.
	Class::MOP::load_class("ComponentUI::RenderingContext::Site") called at /root/.cpan/build/Reaction-0.002005-3voQhw/blib/lib/Reaction/UI/View.pm line 125
	eval {...} called at /root/.cpan/build/Reaction-0.002005-3voQhw/blib/lib/Reaction/UI/View.pm line 125
	Reaction::UI::View::find_related_class(ComponentUI::View::Site=HASH(0xca696b0), "RenderingContext") called at /root/.cpan/build/Reaction-0.002005-3voQhw/blib/lib/Reaction/UI/View.pm line 43
	Reaction::UI::View::_build_rendering_context_class(ComponentUI::View::Site=HASH(0xca696b0)) called at reader Reaction::UI::View::rendering_context_class (defined at /root/.cpan/build/Reaction-0.002005-3voQhw/blib/lib/Reaction/UI/View.pm line 29) line 7
	Reaction::UI::View::rendering_context_class(ComponentUI::View::Site=HASH(0xca696b0)) called at /root/.cpan/build/Reaction-0.002005-3voQhw/blib/lib/Reaction/UI/View.pm line 134
	Reaction::UI::View::create_rendering_context(ComponentUI::View::Site=HASH(0xca696b0)) called at /root/.cpan/build/Reaction-0.002005-3voQhw/blib/lib/Reaction/UI/View.pm line 60
	Reaction::UI::View::render_window(ComponentUI::View::Site=HASH(0xca696b0), Reaction::UI::Window=HASH(0xccab154)) called at /root/.cpan/build/Reaction-0.002005-3voQhw/blib/lib/Reaction/UI/Window.pm line 74
	Reaction::UI::Window::flush_view(Reaction::UI::Window=HASH(0xccab154)) called at /root/.cpan/build/Reaction-0.002005-3voQhw/blib/lib/Reaction/UI/Window.pm line 36
	Reaction::UI::Window::flush(Reaction::UI::Window=HASH(0xccab154)) called at /root/.cpan/build/Reaction-0.002005-3voQhw/blib/lib/Reaction/UI/Controller/Root.pm line 38
	Reaction::UI::Controller::Root::end(ComponentUI::Controller::Root=HASH(0xcca734c), ComponentUI=HASH(0xcc996d0)) called at /opt/perl430-27-O0-5.8.8/lib/site_perl/5.8.8/Catalyst/Action.pm line 65
	Catalyst::Action::execute(Catalyst::Action=HASH(0xcbeee2c), ComponentUI::Controller::Root=HASH(0xcca734c), ComponentUI=HASH(0xcc996d0)) called at /opt/perl430-27-O0-5.8.8/lib/site_perl/5.8.8/Catalyst.pm line 1770
	eval {...} called at /opt/perl430-27-O0-5.8.8/lib/site_perl/5.8.8/Catalyst.pm line 1770
	Catalyst::execute(ComponentUI=HASH(0xcc996d0), "ComponentUI::Controller::Root", Catalyst::Action=HASH(0xcbeee2c)) called at /opt/perl430-27-O0-5.8.8/lib/site_perl/5.8.8/Catalyst/Action.pm line 60
	Catalyst::Action::dispatch(Catalyst::Action=HASH(0xcbeee2c), ComponentUI=HASH(0xcc996d0)) called at /opt/perl430-27-O0-5.8.8/lib/site_perl/5.8.8/Catalyst/Controller.pm line 174
	Catalyst::Controller::_END(ComponentUI::Controller::Root=HASH(0xcca734c), ComponentUI=HASH(0xcc996d0)) called at /opt/perl430-27-O0-5.8.8/lib/site_perl/5.8.8/Catalyst/Action.pm line 65
	Catalyst::Action::execute(Catalyst::Action=HASH(0xcbddf94), ComponentUI::Controller::Root=HASH(0xcca734c), ComponentUI=HASH(0xcc996d0)) called at /opt/perl430-27-O0-5.8.8/lib/site_perl/5.8.8/Catalyst.pm line 1770
	eval {...} called at /opt/perl430-27-O0-5.8.8/lib/site_perl/5.8.8/Catalyst.pm line 1770
	Catalyst::execute(ComponentUI=HASH(0xcc996d0), "ComponentUI::Controller::Root", Catalyst::Action=HASH(0xcbddf94)) called at /opt/perl430-27-O0-5.8.8/lib/site_perl/5.8.8/Catalyst/Action.pm line 60
	Catalyst::Action::dispatch(Catalyst::Action=HASH(0xcbddf94), ComponentUI=HASH(0xcc996d0)) called at /opt/perl430-27-O0-5.8.8/lib/site_perl/5.8.8/Catalyst/Dispatcher.pm line 258
	Catalyst::Dispatcher::_do_forward(Catalyst::Dispatcher=HASH(0xa0d9a2c), "forward", ComponentUI=HASH(0xcc996d0), "_END") called at /opt/perl430-27-O0-5.8.8/lib/site_perl/5.8.8/Catalyst/Dispatcher.pm line 238
	Catalyst::Dispatcher::forward(Catalyst::Dispatcher=HASH(0xa0d9a2c), ComponentUI=HASH(0xcc996d0), "_END") called at /opt/perl430-27-O0-5.8.8/lib/site_perl/5.8.8/Catalyst.pm line 398
	Catalyst::forward(ComponentUI=HASH(0xcc996d0), "_END") called at /opt/perl430-27-O0-5.8.8/lib/site_perl/5.8.8/Catalyst/Controller.pm line 138
	Catalyst::Controller::_DISPATCH(ComponentUI::Controller::Root=HASH(0xcca734c), ComponentUI=HASH(0xcc996d0)) called at /opt/perl430-27-O0-5.8.8/lib/site_perl/5.8.8/Catalyst/Action.pm line 65
	Catalyst::Action::execute(Catalyst::Action=HASH(0xcbf58c4), ComponentUI::Controller::Root=HASH(0xcca734c), ComponentUI=HASH(0xcc996d0)) called at /opt/perl430-27-O0-5.8.8/lib/site_perl/5.8.8/Catalyst.pm line 1770
	eval {...} called at /opt/perl430-27-O0-5.8.8/lib/site_perl/5.8.8/Catalyst.pm line 1770
	Catalyst::execute(ComponentUI=HASH(0xcc996d0), "ComponentUI::Controller::Root", Catalyst::Action=HASH(0xcbf58c4)) called at /opt/perl430-27-O0-5.8.8/lib/site_perl/5.8.8/Catalyst/Action.pm line 60
	Catalyst::Action::dispatch(Catalyst::Action=HASH(0xcbf58c4), ComponentUI=HASH(0xcc996d0)) called at /opt/perl430-27-O0-5.8.8/lib/site_perl/5.8.8/Catalyst/Dispatcher.pm line 258
	Catalyst::Dispatcher::_do_forward(Catalyst::Dispatcher=HASH(0xa0d9a2c), "forward", ComponentUI=HASH(0xcc996d0), "//_DISPATCH") called at /opt/perl430-27-O0-5.8.8/lib/site_perl/5.8.8/Catalyst/Dispatcher.pm line 238
	Catalyst::Dispatcher::forward(Catalyst::Dispatcher=HASH(0xa0d9a2c), ComponentUI=HASH(0xcc996d0), "//_DISPATCH") called at /opt/perl430-27-O0-5.8.8/lib/site_perl/5.8.8/Catalyst.pm line 398
	Catalyst::forward(ComponentUI=HASH(0xcc996d0), "//_DISPATCH") called at /opt/perl430-27-O0-5.8.8/lib/site_perl/5.8.8/Catalyst/Dispatcher.pm line 106
	Catalyst::Dispatcher::dispatch(Catalyst::Dispatcher=HASH(0xa0d9a2c), ComponentUI=HASH(0xcc996d0)) called at /opt/perl430-27-O0-5.8.8/lib/site_perl/5.8.8/Catalyst.pm line 1716
	Catalyst::dispatch(ComponentUI=HASH(0xcc996d0)) called at /opt/perl430-27-O0-5.8.8/lib/site_perl/5.8.8/Catalyst/Plugin/Static/Simple.pm line 86
	Class::MOP::Class:::around(CODE(0x9fe6ae4), ComponentUI=HASH(0xcc996d0)) called at /opt/perl430-27-O0-5.8.8/lib/site_perl/5.8.8/i686-linux-thread-multi-64int-ld/Class/MOP/Method/Wrapped.pm line 157
	Class::MOP::Method::Wrapped::__ANON__(ComponentUI=HASH(0xcc996d0)) called at /opt/perl430-27-O0-5.8.8/lib/site_perl/5.8.8/i686-linux-thread-multi-64int-ld/Class/MOP/Method/Wrapped.pm line 86
	ComponentUI::dispatch(ComponentUI=HASH(0xcc996d0)) called at /opt/perl430-27-O0-5.8.8/lib/site_perl/5.8.8/Catalyst.pm line 2100
	Catalyst::try {...} () called at /opt/perl430-27-O0-5.8.8/lib/site_perl/5.8.8/Try/Tiny.pm line 81
	eval {...} called at /opt/perl430-27-O0-5.8.8/lib/site_perl/5.8.8/Try/Tiny.pm line 72
	Try::Tiny::try(CODE(0xcc99274), Try::Tiny::Catch=REF(0xcc99154)) called at /opt/perl430-27-O0-5.8.8/lib/site_perl/5.8.8/Catalyst.pm line 2109
	Catalyst::handle_request("ComponentUI", "env", HASH(0xcc93464), "response_cb", CODE(0xcc9919c)) called at /opt/perl430-27-O0-5.8.8/lib/site_perl/5.8.8/Catalyst/Engine.pm line 798
	Catalyst::Engine::__ANON__(CODE(0xcc9919c)) called at /opt/perl430-27-O0-5.8.8/lib/site_perl/5.8.8/Plack/Middleware/HTTPExceptions.pm line 32
	Plack::Middleware::HTTPExceptions::try {...} () called at /opt/perl430-27-O0-5.8.8/lib/site_perl/5.8.8/Try/Tiny.pm line 81
	eval {...} called at /opt/perl430-27-O0-5.8.8/lib/site_perl/5.8.8/Try/Tiny.pm line 72
	Try::Tiny::try(CODE(0xcc9901c), Try::Tiny::Catch=REF(0xcc96094)) called at /opt/perl430-27-O0-5.8.8/lib/site_perl/5.8.8/Plack/Middleware/HTTPExceptions.pm line 41
	Plack::Middleware::HTTPExceptions::__ANON__(CODE(0xcc96e8c)) called at /opt/perl430-27-O0-5.8.8/lib/site_perl/5.8.8/Plack/Util.pm line 301
	Plack::Util::__ANON__(CODE(0xcc96d18)) called at /opt/perl430-27-O0-5.8.8/lib/site_perl/5.8.8/Plack/Util.pm line 301
	Plack::Util::__ANON__(CODE(0xcc96ba4)) called at /opt/perl430-27-O0-5.8.8/lib/site_perl/5.8.8/Plack/Util.pm line 301
	Plack::Util::__ANON__(CODE(0xcc96b50)) called at /opt/perl430-27-O0-5.8.8/lib/site_perl/5.8.8/HTTP/Message/PSGI.pm line 100
	HTTP::Message::PSGI::res_from_psgi(CODE(0xcc96520)) called at /opt/perl430-27-O0-5.8.8/lib/site_perl/5.8.8/HTTP/Message/PSGI.pm line 156
	HTTP::Response::from_psgi("HTTP::Response", CODE(0xcc96520)) called at /opt/perl430-27-O0-5.8.8/lib/site_perl/5.8.8/Plack/Test/MockHTTP.pm line 24
	Plack::Test::MockHTTP::try {...} () called at /opt/perl430-27-O0-5.8.8/lib/site_perl/5.8.8/Try/Tiny.pm line 76
	eval {...} called at /opt/perl430-27-O0-5.8.8/lib/site_perl/5.8.8/Try/Tiny.pm line 72
	Try::Tiny::try(CODE(0xcc651ac), Try::Tiny::Catch=REF(0xcbdd130)) called at /opt/perl430-27-O0-5.8.8/lib/site_perl/5.8.8/Plack/Test/MockHTTP.pm line 27
	Plack::Test::MockHTTP::request(Plack::Test::MockHTTP=HASH(0xcc65098), HTTP::Request=HASH(0xcc64d08)) called at /opt/perl430-27-O0-5.8.8/lib/site_perl/5.8.8/Plack/Test.pm line 38
	Plack::Test::__ANON__(HTTP::Request=HASH(0xcc64d08)) called at /opt/perl430-27-O0-5.8.8/lib/site_perl/5.8.8/Catalyst/Test.pm line 281
	Catalyst::Test::__ANON__(CODE(0xcc64fcc)) called at /opt/perl430-27-O0-5.8.8/lib/site_perl/5.8.8/Plack/Test.pm line 38
	Plack::Test::test_psgi("app", CODE(0xcc02ec8), "mangle_response", CODE(0x997f9f0), "app", CODE(0xcc64eb8), "client", CODE(0xcc64f24)) called at /opt/perl430-27-O0-5.8.8/lib/site_perl/5.8.8/Catalyst/Test.pm line 284
	Catalyst::Test::_request(HASH(0xcc02e98), "/") called at /opt/perl430-27-O0-5.8.8/lib/site_perl/5.8.8/Catalyst/Test.pm line 327
	Catalyst::Test::_local_request("ComponentUI", "/") called at /opt/perl430-27-O0-5.8.8/lib/site_perl/5.8.8/Catalyst/Test.pm line 32
	Catalyst::Test::__ANON__("/") called at t/01app.t line 10
Class::MOP::is_class_loaded is deprecated at /opt/perl430-27-O0-5.8.8/lib/site_perl/5.8.8/i686-linux-thread-multi-64int-ld/Class/MOP.pm line 86.
	Class::MOP::is_class_loaded("ComponentUI::UI::Widget::SiteLayout") called at /root/.cpan/build/Reaction-0.002005-3voQhw/blib/lib/Reaction/UI/Skin.pm line 178
	Reaction::UI::Skin::widget_class_for(Reaction::UI::Skin=HASH(0xccc5a00), Reaction::UI::LayoutSet::TT=HASH(0xccf8c10)) called at /root/.cpan/build/Reaction-0.002005-3voQhw/blib/lib/Reaction/UI/LayoutSet.pm line 28
	Reaction::UI::LayoutSet::BUILD(Reaction::UI::LayoutSet::TT=HASH(0xccf8c10), HASH(0xccf8bc8)) called at constructor Reaction::UI::LayoutSet::TT::new (defined at /root/.cpan/build/Reaction-0.002005-3voQhw/blib/lib/Reaction/UI/LayoutSet/TT.pm line 43) line 69
	Reaction::UI::LayoutSet::TT::new("Reaction::UI::LayoutSet::TT", "name", "site_layout", "skin", Reaction::UI::Skin=HASH(0xccc5a00), "tt_object", Template=HASH(0xca5d94c), "source_file", Path::Class::File=HASH(0xccf8748), ...) called at /root/.cpan/build/Reaction-0.002005-3voQhw/blib/lib/Reaction/UI/Skin.pm line 114
	Reaction::UI::Skin::_create_layout_set(Reaction::UI::Skin=HASH(0xccc5a00), "site_layout", ARRAY(0xcce23c8), Reaction::UI::Skin=HASH(0xccc5a00)) called at /root/.cpan/build/Reaction-0.002005-3voQhw/blib/lib/Reaction/UI/Skin.pm line 110
	Reaction::UI::Skin::create_layout_set(Reaction::UI::Skin=HASH(0xccc5a00), "site_layout") called at /root/.cpan/build/Reaction-0.002005-3voQhw/blib/lib/Reaction/UI/LayoutSet.pm line 83
	Reaction::UI::LayoutSet::_load_file(Reaction::UI::LayoutSet::TT=HASH(0xcce9c40), Path::Class::File=HASH(0xccc5388), HASH(0xccefc58)) called at /root/.cpan/build/Reaction-0.002005-3voQhw/blib/lib/Reaction/UI/LayoutSet.pm line 27
	Reaction::UI::LayoutSet::BUILD(Reaction::UI::LayoutSet::TT=HASH(0xcce9c40), HASH(0xccefc58)) called at constructor Reaction::UI::LayoutSet::TT::new (defined at /root/.cpan/build/Reaction-0.002005-3voQhw/blib/lib/Reaction/UI/LayoutSet/TT.pm line 43) line 69
	Reaction::UI::LayoutSet::TT::new("Reaction::UI::LayoutSet::TT", "name", "site_layout", "skin", Reaction::UI::Skin=HASH(0xccdcef8), "next_skin", Reaction::UI::Skin=HASH(0xccc5a00), "tt_object", Template=HASH(0xca5d94c), ...) called at /root/.cpan/build/Reaction-0.002005-3voQhw/blib/lib/Reaction/UI/Skin.pm line 114
	Reaction::UI::Skin::_create_layout_set(Reaction::UI::Skin=HASH(0xccdcef8), "site_layout", ARRAY(0xcce1ee8), Reaction::UI::Skin=HASH(0xccdcef8)) called at /root/.cpan/build/Reaction-0.002005-3voQhw/blib/lib/Reaction/UI/Skin.pm line 110
	Reaction::UI::Skin::create_layout_set(Reaction::UI::Skin=HASH(0xccdcef8), "site_layout") called at /root/.cpan/build/Reaction-0.002005-3voQhw/blib/lib/Reaction/UI/LayoutSet.pm line 83
	Reaction::UI::LayoutSet::_load_file(Reaction::UI::LayoutSet::TT=HASH(0xccc5310), Path::Class::File=HASH(0xccc0380), HASH(0xcce18d0)) called at /root/.cpan/build/Reaction-0.002005-3voQhw/blib/lib/Reaction/UI/LayoutSet.pm line 27
	Reaction::UI::LayoutSet::BUILD(Reaction::UI::LayoutSet::TT=HASH(0xccc5310), HASH(0xcce18d0)) called at constructor Reaction::UI::LayoutSet::TT::new (defined at /root/.cpan/build/Reaction-0.002005-3voQhw/blib/lib/Reaction/UI/LayoutSet/TT.pm line 43) line 69
	Reaction::UI::LayoutSet::TT::new("Reaction::UI::LayoutSet::TT", "name", "site_layout", "skin", Reaction::UI::Skin=HASH(0xccdc91c), "next_skin", Reaction::UI::Skin=HASH(0xccdcef8), "tt_object", Template=HASH(0xca5d94c), ...) called at /root/.cpan/build/Reaction-0.002005-3voQhw/blib/lib/Reaction/UI/Skin.pm line 114
	Reaction::UI::Skin::_create_layout_set(Reaction::UI::Skin=HASH(0xccdc91c), "site_layout", ARRAY(0xccaba90), Reaction::UI::Skin=HASH(0xccdc91c)) called at /root/.cpan/build/Reaction-0.002005-3voQhw/blib/lib/Reaction/UI/Skin.pm line 110
	Reaction::UI::Skin::create_layout_set(Reaction::UI::Skin=HASH(0xccdc91c), "site_layout") called at /opt/perl430-27-O0-5.8.8/lib/site_perl/5.8.8/i686-linux-thread-multi-64int-ld/Moose/Meta/Method/Delegation.pm line 109
	Reaction::UI::View::create_layout_set(ComponentUI::View::Site=HASH(0xca696b0), "site_layout") called at /root/.cpan/build/Reaction-0.002005-3voQhw/blib/lib/Reaction/UI/View.pm line 99
	Reaction::UI::View::layout_set_for(ComponentUI::View::Site=HASH(0xca696b0), Reaction::UI::ViewPort::SiteLayout=HASH(0xccab4d8)) called at /root/.cpan/build/Reaction-0.002005-3voQhw/blib/lib/Reaction/UI/View.pm line 78
	Reaction::UI::View::render_viewport_args(ComponentUI::View::Site=HASH(0xca696b0), Reaction::UI::ViewPort::SiteLayout=HASH(0xccab4d8)) called at /root/.cpan/build/Reaction-0.002005-3voQhw/blib/lib/Reaction/UI/View.pm line 61
	Reaction::UI::View::render_window(ComponentUI::View::Site=HASH(0xca696b0), Reaction::UI::Window=HASH(0xccab154)) called at /root/.cpan/build/Reaction-0.002005-3voQhw/blib/lib/Reaction/UI/Window.pm line 74
	Reaction::UI::Window::flush_view(Reaction::UI::Window=HASH(0xccab154)) called at /root/.cpan/build/Reaction-0.002005-3voQhw/blib/lib/Reaction/UI/Window.pm line 36
	Reaction::UI::Window::flush(Reaction::UI::Window=HASH(0xccab154)) called at /root/.cpan/build/Reaction-0.002005-3voQhw/blib/lib/Reaction/UI/Controller/Root.pm line 38
	Reaction::UI::Controller::Root::end(ComponentUI::Controller::Root=HASH(0xcca734c), ComponentUI=HASH(0xcc996d0)) called at /opt/perl430-27-O0-5.8.8/lib/site_perl/5.8.8/Catalyst/Action.pm line 65
	Catalyst::Action::execute(Catalyst::Action=HASH(0xcbeee2c), ComponentUI::Controller::Root=HASH(0xcca734c), ComponentUI=HASH(0xcc996d0)) called at /opt/perl430-27-O0-5.8.8/lib/site_perl/5.8.8/Catalyst.pm line 1770
	eval {...} called at /opt/perl430-27-O0-5.8.8/lib/site_perl/5.8.8/Catalyst.pm line 1770
	Catalyst::execute(ComponentUI=HASH(0xcc996d0), "ComponentUI::Controller::Root", Catalyst::Action=HASH(0xcbeee2c)) called at /opt/perl430-27-O0-5.8.8/lib/site_perl/5.8.8/Catalyst/Action.pm line 60
	Catalyst::Action::dispatch(Catalyst::Action=HASH(0xcbeee2c), ComponentUI=HASH(0xcc996d0)) called at /opt/perl430-27-O0-5.8.8/lib/site_perl/5.8.8/Catalyst/Controller.pm line 174
	Catalyst::Controller::_END(ComponentUI::Controller::Root=HASH(0xcca734c), ComponentUI=HASH(0xcc996d0)) called at /opt/perl430-27-O0-5.8.8/lib/site_perl/5.8.8/Catalyst/Action.pm line 65
	Catalyst::Action::execute(Catalyst::Action=HASH(0xcbddf94), ComponentUI::Controller::Root=HASH(0xcca734c), ComponentUI=HASH(0xcc996d0)) called at /opt/perl430-27-O0-5.8.8/lib/site_perl/5.8.8/Catalyst.pm line 1770
	eval {...} called at /opt/perl430-27-O0-5.8.8/lib/site_perl/5.8.8/Catalyst.pm line 1770
	Catalyst::execute(ComponentUI=HASH(0xcc996d0), "ComponentUI::Controller::Root", Catalyst::Action=HASH(0xcbddf94)) called at /opt/perl430-27-O0-5.8.8/lib/site_perl/5.8.8/Catalyst/Action.pm line 60
	Catalyst::Action::dispatch(Catalyst::Action=HASH(0xcbddf94), ComponentUI=HASH(0xcc996d0)) called at /opt/perl430-27-O0-5.8.8/lib/site_perl/5.8.8/Catalyst/Dispatcher.pm line 258
	Catalyst::Dispatcher::_do_forward(Catalyst::Dispatcher=HASH(0xa0d9a2c), "forward", ComponentUI=HASH(0xcc996d0), "_END") called at /opt/perl430-27-O0-5.8.8/lib/site_perl/5.8.8/Catalyst/Dispatcher.pm line 238
	Catalyst::Dispatcher::forward(Catalyst::Dispatcher=HASH(0xa0d9a2c), ComponentUI=HASH(0xcc996d0), "_END") called at /opt/perl430-27-O0-5.8.8/lib/site_perl/5.8.8/Catalyst.pm line 398
	Catalyst::forward(ComponentUI=HASH(0xcc996d0), "_END") called at /opt/perl430-27-O0-5.8.8/lib/site_perl/5.8.8/Catalyst/Controller.pm line 138
	Catalyst::Controller::_DISPATCH(ComponentUI::Controller::Root=HASH(0xcca734c), ComponentUI=HASH(0xcc996d0)) called at /opt/perl430-27-O0-5.8.8/lib/site_perl/5.8.8/Catalyst/Action.pm line 65
	Catalyst::Action::execute(Catalyst::Action=HASH(0xcbf58c4), ComponentUI::Controller::Root=HASH(0xcca734c), ComponentUI=HASH(0xcc996d0)) called at /opt/perl430-27-O0-5.8.8/lib/site_perl/5.8.8/Catalyst.pm line 1770
	eval {...} called at /opt/perl430-27-O0-5.8.8/lib/site_perl/5.8.8/Catalyst.pm line 1770
	Catalyst::execute(ComponentUI=HASH(0xcc996d0), "ComponentUI::Controller::Root", Catalyst::Action=HASH(0xcbf58c4)) called at /opt/perl430-27-O0-5.8.8/lib/site_perl/5.8.8/Catalyst/Action.pm line 60
	Catalyst::Action::dispatch(Catalyst::Action=HASH(0xcbf58c4), ComponentUI=HASH(0xcc996d0)) called at /opt/perl430-27-O0-5.8.8/lib/site_perl/5.8.8/Catalyst/Dispatcher.pm line 258
	Catalyst::Dispatcher::_do_forward(Catalyst::Dispatcher=HASH(0xa0d9a2c), "forward", ComponentUI=HASH(0xcc996d0), "//_DISPATCH") called at /opt/perl430-27-O0-5.8.8/lib/site_perl/5.8.8/Catalyst/Dispatcher.pm line 238
	Catalyst::Dispatcher::forward(Catalyst::Dispatcher=HASH(0xa0d9a2c), ComponentUI=HASH(0xcc996d0), "//_DISPATCH") called at /opt/perl430-27-O0-5.8.8/lib/site_perl/5.8.8/Catalyst.pm line 398
	Catalyst::forward(ComponentUI=HASH(0xcc996d0), "//_DISPATCH") called at /opt/perl430-27-O0-5.8.8/lib/site_perl/5.8.8/Catalyst/Dispatcher.pm line 106
	Catalyst::Dispatcher::dispatch(Catalyst::Dispatcher=HASH(0xa0d9a2c), ComponentUI=HASH(0xcc996d0)) called at /opt/perl430-27-O0-5.8.8/lib/site_perl/5.8.8/Catalyst.pm line 1716
	Catalyst::dispatch(ComponentUI=HASH(0xcc996d0)) called at /opt/perl430-27-O0-5.8.8/lib/site_perl/5.8.8/Catalyst/Plugin/Static/Simple.pm line 86
	Class::MOP::Class:::around(CODE(0x9fe6ae4), ComponentUI=HASH(0xcc996d0)) called at /opt/perl430-27-O0-5.8.8/lib/site_perl/5.8.8/i686-linux-thread-multi-64int-ld/Class/MOP/Method/Wrapped.pm line 157
	Class::MOP::Method::Wrapped::__ANON__(ComponentUI=HASH(0xcc996d0)) called at /opt/perl430-27-O0-5.8.8/lib/site_perl/5.8.8/i686-linux-thread-multi-64int-ld/Class/MOP/Method/Wrapped.pm line 86
	ComponentUI::dispatch(ComponentUI=HASH(0xcc996d0)) called at /opt/perl430-27-O0-5.8.8/lib/site_perl/5.8.8/Catalyst.pm line 2100
	Catalyst::try {...} () called at /opt/perl430-27-O0-5.8.8/lib/site_perl/5.8.8/Try/Tiny.pm line 81
	eval {...} called at /opt/perl430-27-O0-5.8.8/lib/site_perl/5.8.8/Try/Tiny.pm line 72
	Try::Tiny::try(CODE(0xcc99274), Try::Tiny::Catch=REF(0xcc99154)) called at /opt/perl430-27-O0-5.8.8/lib/site_perl/5.8.8/Catalyst.pm line 2109
	Catalyst::handle_request("ComponentUI", "env", HASH(0xcc93464), "response_cb", CODE(0xcc9919c)) called at /opt/perl430-27-O0-5.8.8/lib/site_perl/5.8.8/Catalyst/Engine.pm line 798
	Catalyst::Engine::__ANON__(CODE(0xcc9919c)) called at /opt/perl430-27-O0-5.8.8/lib/site_perl/5.8.8/Plack/Middleware/HTTPExceptions.pm line 32
	Plack::Middleware::HTTPExceptions::try {...} () called at /opt/perl430-27-O0-5.8.8/lib/site_perl/5.8.8/Try/Tiny.pm line 81
	eval {...} called at /opt/perl430-27-O0-5.8.8/lib/site_perl/5.8.8/Try/Tiny.pm line 72
	Try::Tiny::try(CODE(0xcc9901c), Try::Tiny::Catch=REF(0xcc96094)) called at /opt/perl430-27-O0-5.8.8/lib/site_perl/5.8.8/Plack/Middleware/HTTPExceptions.pm line 41
	Plack::Middleware::HTTPExceptions::__ANON__(CODE(0xcc96e8c)) called at /opt/perl430-27-O0-5.8.8/lib/site_perl/5.8.8/Plack/Util.pm line 301
	Plack::Util::__ANON__(CODE(0xcc96d18)) called at /opt/perl430-27-O0-5.8.8/lib/site_perl/5.8.8/Plack/Util.pm line 301
	Plack::Util::__ANON__(CODE(0xcc96ba4)) called at /opt/perl430-27-O0-5.8.8/lib/site_perl/5.8.8/Plack/Util.pm line 301
	Plack::Util::__ANON__(CODE(0xcc96b50)) called at /opt/perl430-27-O0-5.8.8/lib/site_perl/5.8.8/HTTP/Message/PSGI.pm line 100
	HTTP::Message::PSGI::res_from_psgi(CODE(0xcc96520)) called at /opt/perl430-27-O0-5.8.8/lib/site_perl/5.8.8/HTTP/Message/PSGI.pm line 156
	HTTP::Response::from_psgi("HTTP::Response", CODE(0xcc96520)) called at /opt/perl430-27-O0-5.8.8/lib/site_perl/5.8.8/Plack/Test/MockHTTP.pm line 24
	Plack::Test::MockHTTP::try {...} () called at /opt/perl430-27-O0-5.8.8/lib/site_perl/5.8.8/Try/Tiny.pm line 76
	eval {...} called at /opt/perl430-27-O0-5.8.8/lib/site_perl/5.8.8/Try/Tiny.pm line 72
	Try::Tiny::try(CODE(0xcc651ac), Try::Tiny::Catch=REF(0xcbdd130)) called at /opt/perl430-27-O0-5.8.8/lib/site_perl/5.8.8/Plack/Test/MockHTTP.pm line 27
	Plack::Test::MockHTTP::request(Plack::Test::MockHTTP=HASH(0xcc65098), HTTP::Request=HASH(0xcc64d08)) called at /opt/perl430-27-O0-5.8.8/lib/site_perl/5.8.8/Plack/Test.pm line 38
	Plack::Test::__ANON__(HTTP::Request=HASH(0xcc64d08)) called at /opt/perl430-27-O0-5.8.8/lib/site_perl/5.8.8/Catalyst/Test.pm line 281
	Catalyst::Test::__ANON__(CODE(0xcc64fcc)) called at /opt/perl430-27-O0-5.8.8/lib/site_perl/5.8.8/Plack/Test.pm line 38
	Plack::Test::test_psgi("app", CODE(0xcc02ec8), "mangle_response", CODE(0x997f9f0), "app", CODE(0xcc64eb8), "client", CODE(0xcc64f24)) called at /opt/perl430-27-O0-5.8.8/lib/site_perl/5.8.8/Catalyst/Test.pm line 284
	Catalyst::Test::_request(HASH(0xcc02e98), "/") called at /opt/perl430-27-O0-5.8.8/lib/site_perl/5.8.8/Catalyst/Test.pm line 327
	Catalyst::Test::_local_request("ComponentUI", "/") called at /opt/perl430-27-O0-5.8.8/lib/site_perl/5.8.8/Catalyst/Test.pm line 32
	Catalyst::Test::__ANON__("/") called at t/01app.t line 10
Class::MOP::load_class is deprecated at /opt/perl430-27-O0-5.8.8/lib/site_perl/5.8.8/i686-linux-thread-multi-64int-ld/Class/MOP.pm line 68.
	Class::MOP::load_class("Reaction::UI::Widget::SiteLayout") called at /root/.cpan/build/Reaction-0.002005-3voQhw/blib/lib/Reaction/UI/Skin.pm line 181
	eval {...} called at /root/.cpan/build/Reaction-0.002005-3voQhw/blib/lib/Reaction/UI/Skin.pm line 181
	Reaction::UI::Skin::widget_class_for(Reaction::UI::Skin=HASH(0xccc5a00), Reaction::UI::LayoutSet::TT=HASH(0xccf8c10)) called at /root/.cpan/build/Reaction-0.002005-3voQhw/blib/lib/Reaction/UI/LayoutSet.pm line 28
	Reaction::UI::LayoutSet::BUILD(Reaction::UI::LayoutSet::TT=HASH(0xccf8c10), HASH(0xccf8bc8)) called at constructor Reaction::UI::LayoutSet::TT::new (defined at /root/.cpan/build/Reaction-0.002005-3voQhw/blib/lib/Reaction/UI/LayoutSet/TT.pm line 43) line 69
	Reaction::UI::LayoutSet::TT::new("Reaction::UI::LayoutSet::TT", "name", "site_layout", "skin", Reaction::UI::Skin=HASH(0xccc5a00), "tt_object", Template=HASH(0xca5d94c), "source_file", Path::Class::File=HASH(0xccf8748), ...) called at /root/.cpan/build/Reaction-0.002005-3voQhw/blib/lib/Reaction/UI/Skin.pm line 114
	Reaction::UI::Skin::_create_layout_set(Reaction::UI::Skin=HASH(0xccc5a00), "site_layout", ARRAY(0xcce23c8), Reaction::UI::Skin=HASH(0xccc5a00)) called at /root/.cpan/build/Reaction-0.002005-3voQhw/blib/lib/Reaction/UI/Skin.pm line 110
	Reaction::UI::Skin::create_layout_set(Reaction::UI::Skin=HASH(0xccc5a00), "site_layout") called at /root/.cpan/build/Reaction-0.002005-3voQhw/blib/lib/Reaction/UI/LayoutSet.pm line 83
	Reaction::UI::LayoutSet::_load_file(Reaction::UI::LayoutSet::TT=HASH(0xcce9c40), Path::Class::File=HASH(0xccc5388), HASH(0xccefc58)) called at /root/.cpan/build/Reaction-0.002005-3voQhw/blib/lib/Reaction/UI/LayoutSet.pm line 27
	Reaction::UI::LayoutSet::BUILD(Reaction::UI::LayoutSet::TT=HASH(0xcce9c40), HASH(0xccefc58)) called at constructor Reaction::UI::LayoutSet::TT::new (defined at /root/.cpan/build/Reaction-0.002005-3voQhw/blib/lib/Reaction/UI/LayoutSet/TT.pm line 43) line 69
	Reaction::UI::LayoutSet::TT::new("Reaction::UI::LayoutSet::TT", "name", "site_layout", "skin", Reaction::UI::Skin=HASH(0xccdcef8), "next_skin", Reaction::UI::Skin=HASH(0xccc5a00), "tt_object", Template=HASH(0xca5d94c), ...) called at /root/.cpan/build/Reaction-0.002005-3voQhw/blib/lib/Reaction/UI/Skin.pm line 114
	Reaction::UI::Skin::_create_layout_set(Reaction::UI::Skin=HASH(0xccdcef8), "site_layout", ARRAY(0xcce1ee8), Reaction::UI::Skin=HASH(0xccdcef8)) called at /root/.cpan/build/Reaction-0.002005-3voQhw/blib/lib/Reaction/UI/Skin.pm line 110
	Reaction::UI::Skin::create_layout_set(Reaction::UI::Skin=HASH(0xccdcef8), "site_layout") called at /root/.cpan/build/Reaction-0.002005-3voQhw/blib/lib/Reaction/UI/LayoutSet.pm line 83
	Reaction::UI::LayoutSet::_load_file(Reaction::UI::LayoutSet::TT=HASH(0xccc5310), Path::Class::File=HASH(0xccc0380), HASH(0xcce18d0)) called at /root/.cpan/build/Reaction-0.002005-3voQhw/blib/lib/Reaction/UI/LayoutSet.pm line 27
	Reaction::UI::LayoutSet::BUILD(Reaction::UI::LayoutSet::TT=HASH(0xccc5310), HASH(0xcce18d0)) called at constructor Reaction::UI::LayoutSet::TT::new (defined at /root/.cpan/build/Reaction-0.002005-3voQhw/blib/lib/Reaction/UI/LayoutSet/TT.pm line 43) line 69
	Reaction::UI::LayoutSet::TT::new("Reaction::UI::LayoutSet::TT", "name", "site_layout", "skin", Reaction::UI::Skin=HASH(0xccdc91c), "next_skin", Reaction::UI::Skin=HASH(0xccdcef8), "tt_object", Template=HASH(0xca5d94c), ...) called at /root/.cpan/build/Reaction-0.002005-3voQhw/blib/lib/Reaction/UI/Skin.pm line 114
	Reaction::UI::Skin::_create_layout_set(Reaction::UI::Skin=HASH(0xccdc91c), "site_layout", ARRAY(0xccaba90), Reaction::UI::Skin=HASH(0xccdc91c)) called at /root/.cpan/build/Reaction-0.002005-3voQhw/blib/lib/Reaction/UI/Skin.pm line 110
	Reaction::UI::Skin::create_layout_set(Reaction::UI::Skin=HASH(0xccdc91c), "site_layout") called at /opt/perl430-27-O0-5.8.8/lib/site_perl/5.8.8/i686-linux-thread-multi-64int-ld/Moose/Meta/Method/Delegation.pm line 109
	Reaction::UI::View::create_layout_set(ComponentUI::View::Site=HASH(0xca696b0), "site_layout") called at /root/.cpan/build/Reaction-0.002005-3voQhw/blib/lib/Reaction/UI/View.pm line 99
	Reaction::UI::View::layout_set_for(ComponentUI::View::Site=HASH(0xca696b0), Reaction::UI::ViewPort::SiteLayout=HASH(0xccab4d8)) called at /root/.cpan/build/Reaction-0.002005-3voQhw/blib/lib/Reaction/UI/View.pm line 78
	Reaction::UI::View::render_viewport_args(ComponentUI::View::Site=HASH(0xca696b0), Reaction::UI::ViewPort::SiteLayout=HASH(0xccab4d8)) called at /root/.cpan/build/Reaction-0.002005-3voQhw/blib/lib/Reaction/UI/View.pm line 61
	Reaction::UI::View::render_window(ComponentUI::View::Site=HASH(0xca696b0), Reaction::UI::Window=HASH(0xccab154)) called at /root/.cpan/build/Reaction-0.002005-3voQhw/blib/lib/Reaction/UI/Window.pm line 74
	Reaction::UI::Window::flush_view(Reaction::UI::Window=HASH(0xccab154)) called at /root/.cpan/build/Reaction-0.002005-3voQhw/blib/lib/Reaction/UI/Window.pm line 36
	Reaction::UI::Window::flush(Reaction::UI::Window=HASH(0xccab154)) called at /root/.cpan/build/Reaction-0.002005-3voQhw/blib/lib/Reaction/UI/Controller/Root.pm line 38
	Reaction::UI::Controller::Root::end(ComponentUI::Controller::Root=HASH(0xcca734c), ComponentUI=HASH(0xcc996d0)) called at /opt/perl430-27-O0-5.8.8/lib/site_perl/5.8.8/Catalyst/Action.pm line 65
	Catalyst::Action::execute(Catalyst::Action=HASH(0xcbeee2c), ComponentUI::Controller::Root=HASH(0xcca734c), ComponentUI=HASH(0xcc996d0)) called at /opt/perl430-27-O0-5.8.8/lib/site_perl/5.8.8/Catalyst.pm line 1770
	eval {...} called at /opt/perl430-27-O0-5.8.8/lib/site_perl/5.8.8/Catalyst.pm line 1770
	Catalyst::execute(ComponentUI=HASH(0xcc996d0), "ComponentUI::Controller::Root", Catalyst::Action=HASH(0xcbeee2c)) called at /opt/perl430-27-O0-5.8.8/lib/site_perl/5.8.8/Catalyst/Action.pm line 60
	Catalyst::Action::dispatch(Catalyst::Action=HASH(0xcbeee2c), ComponentUI=HASH(0xcc996d0)) called at /opt/perl430-27-O0-5.8.8/lib/site_perl/5.8.8/Catalyst/Controller.pm line 174
	Catalyst::Controller::_END(ComponentUI::Controller::Root=HASH(0xcca734c), ComponentUI=HASH(0xcc996d0)) called at /opt/perl430-27-O0-5.8.8/lib/site_perl/5.8.8/Catalyst/Action.pm line 65
	Catalyst::Action::execute(Catalyst::Action=HASH(0xcbddf94), ComponentUI::Controller::Root=HASH(0xcca734c), ComponentUI=HASH(0xcc996d0)) called at /opt/perl430-27-O0-5.8.8/lib/site_perl/5.8.8/Catalyst.pm line 1770
	eval {...} called at /opt/perl430-27-O0-5.8.8/lib/site_perl/5.8.8/Catalyst.pm line 1770
	Catalyst::execute(ComponentUI=HASH(0xcc996d0), "ComponentUI::Controller::Root", Catalyst::Action=HASH(0xcbddf94)) called at /opt/perl430-27-O0-5.8.8/lib/site_perl/5.8.8/Catalyst/Action.pm line 60
	Catalyst::Action::dispatch(Catalyst::Action=HASH(0xcbddf94), ComponentUI=HASH(0xcc996d0)) called at /opt/perl430-27-O0-5.8.8/lib/site_perl/5.8.8/Catalyst/Dispatcher.pm line 258
	Catalyst::Dispatcher::_do_forward(Catalyst::Dispatcher=HASH(0xa0d9a2c), "forward", ComponentUI=HASH(0xcc996d0), "_END") called at /opt/perl430-27-O0-5.8.8/lib/site_perl/5.8.8/Catalyst/Dispatcher.pm line 238
	Catalyst::Dispatcher::forward(Catalyst::Dispatcher=HASH(0xa0d9a2c), ComponentUI=HASH(0xcc996d0), "_END") called at /opt/perl430-27-O0-5.8.8/lib/site_perl/5.8.8/Catalyst.pm line 398
	Catalyst::forward(ComponentUI=HASH(0xcc996d0), "_END") called at /opt/perl430-27-O0-5.8.8/lib/site_perl/5.8.8/Catalyst/Controller.pm line 138
	Catalyst::Controller::_DISPATCH(ComponentUI::Controller::Root=HASH(0xcca734c), ComponentUI=HASH(0xcc996d0)) called at /opt/perl430-27-O0-5.8.8/lib/site_perl/5.8.8/Catalyst/Action.pm line 65
	Catalyst::Action::execute(Catalyst::Action=HASH(0xcbf58c4), ComponentUI::Controller::Root=HASH(0xcca734c), ComponentUI=HASH(0xcc996d0)) called at /opt/perl430-27-O0-5.8.8/lib/site_perl/5.8.8/Catalyst.pm line 1770
	eval {...} called at /opt/perl430-27-O0-5.8.8/lib/site_perl/5.8.8/Catalyst.pm line 1770
	Catalyst::execute(ComponentUI=HASH(0xcc996d0), "ComponentUI::Controller::Root", Catalyst::Action=HASH(0xcbf58c4)) called at /opt/perl430-27-O0-5.8.8/lib/site_perl/5.8.8/Catalyst/Action.pm line 60
	Catalyst::Action::dispatch(Catalyst::Action=HASH(0xcbf58c4), ComponentUI=HASH(0xcc996d0)) called at /opt/perl430-27-O0-5.8.8/lib/site_perl/5.8.8/Catalyst/Dispatcher.pm line 258
	Catalyst::Dispatcher::_do_forward(Catalyst::Dispatcher=HASH(0xa0d9a2c), "forward", ComponentUI=HASH(0xcc996d0), "//_DISPATCH") called at /opt/perl430-27-O0-5.8.8/lib/site_perl/5.8.8/Catalyst/Dispatcher.pm line 238
	Catalyst::Dispatcher::forward(Catalyst::Dispatcher=HASH(0xa0d9a2c), ComponentUI=HASH(0xcc996d0), "//_DISPATCH") called at /opt/perl430-27-O0-5.8.8/lib/site_perl/5.8.8/Catalyst.pm line 398
	Catalyst::forward(ComponentUI=HASH(0xcc996d0), "//_DISPATCH") called at /opt/perl430-27-O0-5.8.8/lib/site_perl/5.8.8/Catalyst/Dispatcher.pm line 106
	Catalyst::Dispatcher::dispatch(Catalyst::Dispatcher=HASH(0xa0d9a2c), ComponentUI=HASH(0xcc996d0)) called at /opt/perl430-27-O0-5.8.8/lib/site_perl/5.8.8/Catalyst.pm line 1716
	Catalyst::dispatch(ComponentUI=HASH(0xcc996d0)) called at /opt/perl430-27-O0-5.8.8/lib/site_perl/5.8.8/Catalyst/Plugin/Static/Simple.pm line 86
	Class::MOP::Class:::around(CODE(0x9fe6ae4), ComponentUI=HASH(0xcc996d0)) called at /opt/perl430-27-O0-5.8.8/lib/site_perl/5.8.8/i686-linux-thread-multi-64int-ld/Class/MOP/Method/Wrapped.pm line 157
	Class::MOP::Method::Wrapped::__ANON__(ComponentUI=HASH(0xcc996d0)) called at /opt/perl430-27-O0-5.8.8/lib/site_perl/5.8.8/i686-linux-thread-multi-64int-ld/Class/MOP/Method/Wrapped.pm line 86
	ComponentUI::dispatch(ComponentUI=HASH(0xcc996d0)) called at /opt/perl430-27-O0-5.8.8/lib/site_perl/5.8.8/Catalyst.pm line 2100
	Catalyst::try {...} () called at /opt/perl430-27-O0-5.8.8/lib/site_perl/5.8.8/Try/Tiny.pm line 81
	eval {...} called at /opt/perl430-27-O0-5.8.8/lib/site_perl/5.8.8/Try/Tiny.pm line 72
	Try::Tiny::try(CODE(0xcc99274), Try::Tiny::Catch=REF(0xcc99154)) called at /opt/perl430-27-O0-5.8.8/lib/site_perl/5.8.8/Catalyst.pm line 2109
	Catalyst::handle_request("ComponentUI", "env", HASH(0xcc93464), "response_cb", CODE(0xcc9919c)) called at /opt/perl430-27-O0-5.8.8/lib/site_perl/5.8.8/Catalyst/Engine.pm line 798
	Catalyst::Engine::__ANON__(CODE(0xcc9919c)) called at /opt/perl430-27-O0-5.8.8/lib/site_perl/5.8.8/Plack/Middleware/HTTPExceptions.pm line 32
	Plack::Middleware::HTTPExceptions::try {...} () called at /opt/perl430-27-O0-5.8.8/lib/site_perl/5.8.8/Try/Tiny.pm line 81
	eval {...} called at /opt/perl430-27-O0-5.8.8/lib/site_perl/5.8.8/Try/Tiny.pm line 72
	Try::Tiny::try(CODE(0xcc9901c), Try::Tiny::Catch=REF(0xcc96094)) called at /opt/perl430-27-O0-5.8.8/lib/site_perl/5.8.8/Plack/Middleware/HTTPExceptions.pm line 41
	Plack::Middleware::HTTPExceptions::__ANON__(CODE(0xcc96e8c)) called at /opt/perl430-27-O0-5.8.8/lib/site_perl/5.8.8/Plack/Util.pm line 301
	Plack::Util::__ANON__(CODE(0xcc96d18)) called at /opt/perl430-27-O0-5.8.8/lib/site_perl/5.8.8/Plack/Util.pm line 301
	Plack::Util::__ANON__(CODE(0xcc96ba4)) called at /opt/perl430-27-O0-5.8.8/lib/site_perl/5.8.8/Plack/Util.pm line 301
	Plack::Util::__ANON__(CODE(0xcc96b50)) called at /opt/perl430-27-O0-5.8.8/lib/site_perl/5.8.8/HTTP/Message/PSGI.pm line 100
	HTTP::Message::PSGI::res_from_psgi(CODE(0xcc96520)) called at /opt/perl430-27-O0-5.8.8/lib/site_perl/5.8.8/HTTP/Message/PSGI.pm line 156
	HTTP::Response::from_psgi("HTTP::Response", CODE(0xcc96520)) called at /opt/perl430-27-O0-5.8.8/lib/site_perl/5.8.8/Plack/Test/MockHTTP.pm line 24
	Plack::Test::MockHTTP::try {...} () called at /opt/perl430-27-O0-5.8.8/lib/site_perl/5.8.8/Try/Tiny.pm line 76
	eval {...} called at /opt/perl430-27-O0-5.8.8/lib/site_perl/5.8.8/Try/Tiny.pm line 72
	Try::Tiny::try(CODE(0xcc651ac), Try::Tiny::Catch=REF(0xcbdd130)) called at /opt/perl430-27-O0-5.8.8/lib/site_perl/5.8.8/Plack/Test/MockHTTP.pm line 27
	Plack::Test::MockHTTP::request(Plack::Test::MockHTTP=HASH(0xcc65098), HTTP::Request=HASH(0xcc64d08)) called at /opt/perl430-27-O0-5.8.8/lib/site_perl/5.8.8/Plack/Test.pm line 38
	Plack::Test::__ANON__(HTTP::Request=HASH(0xcc64d08)) called at /opt/perl430-27-O0-5.8.8/lib/site_perl/5.8.8/Catalyst/Test.pm line 281
	Catalyst::Test::__ANON__(CODE(0xcc64fcc)) called at /opt/perl430-27-O0-5.8.8/lib/site_perl/5.8.8/Plack/Test.pm line 38
	Plack::Test::test_psgi("app", CODE(0xcc02ec8), "mangle_response", CODE(0x997f9f0), "app", CODE(0xcc64eb8), "client", CODE(0xcc64f24)) called at /opt/perl430-27-O0-5.8.8/lib/site_perl/5.8.8/Catalyst/Test.pm line 284
	Catalyst::Test::_request(HASH(0xcc02e98), "/") called at /opt/perl430-27-O0-5.8.8/lib/site_perl/5.8.8/Catalyst/Test.pm line 327
	Catalyst::Test::_local_request("ComponentUI", "/") called at /opt/perl430-27-O0-5.8.8/lib/site_perl/5.8.8/Catalyst/Test.pm line 32
	Catalyst::Test::__ANON__("/") called at t/01app.t line 10
[debug] remote
t/01app.t ................... ok
t/04load_all.t .............. ok
t/05reflect_attr_from.t ..... ok
Class::MOP::load_class is deprecated at /opt/perl430-27-O0-5.8.8/lib/site_perl/5.8.8/i686-linux-thread-multi-64int-ld/Class/MOP.pm line 68.
	Class::MOP::load_class("Reaction::InterfaceModel::Object") called at /root/.cpan/build/Reaction-0.002005-3voQhw/blib/lib/Reaction/InterfaceModel/Reflector/DBIC.pm line 149
	Reaction::InterfaceModel::Reflector::DBIC::reflect_schema(Reaction::InterfaceModel::Reflector::DBIC=HASH(0x8b4c1d0), "model_class", "ComponentUI::TestModel", "schema_class", "RTest::TestDB", "sources", ARRAY(0x9c792e0)) called at /root/.cpan/build/Reaction-0.002005-3voQhw/blib/lib/ComponentUI/TestModel.pm line 10
	require ComponentUI/TestModel.pm called at t/lib/RTest/InterfaceModel/Reflector/DBIC.pm line 6
	RTest::InterfaceModel::Reflector::DBIC::BEGIN() called at /root/.cpan/build/Reaction-0.002005-3voQhw/blib/lib/ComponentUI/TestModel.pm line 0
	eval {...} called at /root/.cpan/build/Reaction-0.002005-3voQhw/blib/lib/ComponentUI/TestModel.pm line 0
	require RTest/InterfaceModel/Reflector/DBIC.pm called at t/im_dbic.t line 7
	main::BEGIN() called at /root/.cpan/build/Reaction-0.002005-3voQhw/blib/lib/ComponentUI/TestModel.pm line 0
	eval {...} called at /root/.cpan/build/Reaction-0.002005-3voQhw/blib/lib/ComponentUI/TestModel.pm line 0
Class::MOP::load_class is deprecated at /opt/perl430-27-O0-5.8.8/lib/site_perl/5.8.8/i686-linux-thread-multi-64int-ld/Class/MOP.pm line 68.
	Class::MOP::load_class("Reaction::InterfaceModel::Object") called at /root/.cpan/build/Reaction-0.002005-3voQhw/blib/lib/Reaction/Class.pm line 123
	Reaction::Class::do_class_sub("Reaction::Class", "ComponentUI::TestModel::Foo", "ComponentUI::TestModel::Foo", "is", "Reaction::InterfaceModel::Object", "which", CODE(0xa2c9a38)) called at /root/.cpan/build/Reaction-0.002005-3voQhw/blib/lib/Reaction/Class.pm line 86
	Reaction::Class::("ComponentUI::TestModel::Foo", "is", "Reaction::InterfaceModel::Object", "which", CODE(0xa2c9a38)) called at /root/.cpan/build/Reaction-0.002005-3voQhw/blib/lib/ComponentUI/TestModel/Foo.pm line 8
	require ComponentUI/TestModel/Foo.pm called at /opt/perl430-27-O0-5.8.8/lib/site_perl/5.8.8/Module/Runtime.pm line 313
	Module::Runtime::require_module("ComponentUI::TestModel::Foo") called at /opt/perl430-27-O0-5.8.8/lib/site_perl/5.8.8/Class/Load.pm line 180
	Class::Load::try {...} () called at /opt/perl430-27-O0-5.8.8/lib/site_perl/5.8.8/Try/Tiny.pm line 76
	eval {...} called at /opt/perl430-27-O0-5.8.8/lib/site_perl/5.8.8/Try/Tiny.pm line 72
	Try::Tiny::try(CODE(0xa286070), Try::Tiny::Catch=REF(0xa2f81fc)) called at /opt/perl430-27-O0-5.8.8/lib/site_perl/5.8.8/Class/Load.pm line 186
	Class::Load::try_load_class("ComponentUI::TestModel::Foo", undef) called at /opt/perl430-27-O0-5.8.8/lib/site_perl/5.8.8/Class/Load.pm line 41
	Class::Load::load_class("ComponentUI::TestModel::Foo") called at /root/.cpan/build/Reaction-0.002005-3voQhw/blib/lib/Reaction/InterfaceModel/Reflector/DBIC.pm line 892
	eval {...} called at /root/.cpan/build/Reaction-0.002005-3voQhw/blib/lib/Reaction/InterfaceModel/Reflector/DBIC.pm line 892
	Reaction::InterfaceModel::Reflector::DBIC::_maybe_load_class(Reaction::InterfaceModel::Reflector::DBIC=HASH(0x8b4c1d0), "ComponentUI::TestModel::Foo") called at /root/.cpan/build/Reaction-0.002005-3voQhw/blib/lib/Reaction/InterfaceModel/Reflector/DBIC.pm line 876
	Reaction::InterfaceModel::Reflector::DBIC::_load_or_create(Reaction::InterfaceModel::Reflector::DBIC=HASH(0x8b4c1d0), "ComponentUI::TestModel::Foo", "superclasses", ARRAY(0xa28f730)) called at /root/.cpan/build/Reaction-0.002005-3voQhw/blib/lib/Reaction/InterfaceModel/Reflector/DBIC.pm line 448
	Reaction::InterfaceModel::Reflector::DBIC::reflect_source_object(Reaction::InterfaceModel::Reflector::DBIC=HASH(0x8b4c1d0), "schema_class", "RTest::TestDB", "source_name", "Foo", "source_class", "RTest::TestDB::Foo", "parent_class", "ComponentUI::TestModel", ...) called at /root/.cpan/build/Reaction-0.002005-3voQhw/blib/lib/Reaction/InterfaceModel/Reflector/DBIC.pm line 323
	Reaction::InterfaceModel::Reflector::DBIC::reflect_source(Reaction::InterfaceModel::Reflector::DBIC=HASH(0x8b4c1d0), "source_name", "Foo", "parent_class", "ComponentUI::TestModel", "schema_class", "RTest::TestDB", "source_class", "RTest::TestDB::Foo", ...) called at /root/.cpan/build/Reaction-0.002005-3voQhw/blib/lib/Reaction/InterfaceModel/Reflector/DBIC.pm line 185
	Reaction::InterfaceModel::Reflector::DBIC::reflect_schema(Reaction::InterfaceModel::Reflector::DBIC=HASH(0x8b4c1d0), "model_class", "ComponentUI::TestModel", "schema_class", "RTest::TestDB", "sources", ARRAY(0x9c792e0)) called at /root/.cpan/build/Reaction-0.002005-3voQhw/blib/lib/ComponentUI/TestModel.pm line 10
	require ComponentUI/TestModel.pm called at t/lib/RTest/InterfaceModel/Reflector/DBIC.pm line 6
	RTest::InterfaceModel::Reflector::DBIC::BEGIN() called at /root/.cpan/build/Reaction-0.002005-3voQhw/blib/lib/ComponentUI/TestModel/Foo.pm line 0
	eval {...} called at /root/.cpan/build/Reaction-0.002005-3voQhw/blib/lib/ComponentUI/TestModel/Foo.pm line 0
	require RTest/InterfaceModel/Reflector/DBIC.pm called at t/im_dbic.t line 7
	main::BEGIN() called at /root/.cpan/build/Reaction-0.002005-3voQhw/blib/lib/ComponentUI/TestModel/Foo.pm line 0
	eval {...} called at /root/.cpan/build/Reaction-0.002005-3voQhw/blib/lib/ComponentUI/TestModel/Foo.pm line 0
Class::MOP::is_class_loaded is deprecated at /opt/perl430-27-O0-5.8.8/lib/site_perl/5.8.8/i686-linux-thread-multi-64int-ld/Class/MOP.pm line 86.
	Class::MOP::is_class_loaded("RTest::TestIM::Foo") called at t/lib/RTest/InterfaceModel/Reflector/DBIC.pm line 74
	RTest::InterfaceModel::Reflector::DBIC::test_reflect_schema(RTest::InterfaceModel::Reflector::DBIC=HASH(0xa420b68)) called at /opt/perl430-27-O0-5.8.8/lib/site_perl/5.8.8/Test/Class.pm line 290
	eval {...} called at /opt/perl430-27-O0-5.8.8/lib/site_perl/5.8.8/Test/Class.pm line 290
	Test::Class::_run_method(RTest::InterfaceModel::Reflector::DBIC=HASH(0xa420b68), "test_reflect_schema", ARRAY(0x8b2aff0)) called at /opt/perl430-27-O0-5.8.8/lib/site_perl/5.8.8/Test/Class.pm line 392
	Test::Class::runtests("Test::Class", RTest::InterfaceModel::Reflector::DBIC=HASH(0xa420b68)) called at t/im_dbic.t line 10
t/im_dbic.t ................. ok
t/ui_focus_stack.t .......... ok
t/ui_view.t ................. ok
t/ui_viewport.t ............. ok
Class::MOP::load_class is deprecated at /opt/perl430-27-O0-5.8.8/lib/site_perl/5.8.8/i686-linux-thread-multi-64int-ld/Class/MOP.pm line 68.
	Class::MOP::load_class("ComponentUI::TestModel") called at /root/.cpan/build/Reaction-0.002005-3voQhw/blib/lib/Catalyst/Model/Reaction/InterfaceModel/DBIC.pm line 24
	Catalyst::Model::Reaction::InterfaceModel::DBIC::COMPONENT("ComponentUI::Model::TestModel", "ComponentUI", HASH(0xc986910)) called at /opt/perl430-27-O0-5.8.8/lib/site_perl/5.8.8/Catalyst.pm line 2760
	eval {...} called at /opt/perl430-27-O0-5.8.8/lib/site_perl/5.8.8/Catalyst.pm line 2760
	Catalyst::setup_component("ComponentUI", "ComponentUI::Model::TestModel") called at /opt/perl430-27-O0-5.8.8/lib/site_perl/5.8.8/Catalyst.pm line 2690
	Catalyst::setup_components("ComponentUI") called at /opt/perl430-27-O0-5.8.8/lib/site_perl/5.8.8/Catalyst.pm line 1216
	Catalyst::setup("ComponentUI") called at /root/.cpan/build/Reaction-0.002005-3voQhw/blib/lib/ComponentUI.pm line 32
	require ComponentUI.pm called at /opt/perl430-27-O0-5.8.8/lib/site_perl/5.8.8/Module/Runtime.pm line 313
	Module::Runtime::require_module("ComponentUI") called at /opt/perl430-27-O0-5.8.8/lib/site_perl/5.8.8/Class/Load.pm line 180
	Class::Load::try {...} () called at /opt/perl430-27-O0-5.8.8/lib/site_perl/5.8.8/Try/Tiny.pm line 76
	eval {...} called at /opt/perl430-27-O0-5.8.8/lib/site_perl/5.8.8/Try/Tiny.pm line 72
	Try::Tiny::try(CODE(0x9dbef60), Try::Tiny::Catch=REF(0x9dc9518)) called at /opt/perl430-27-O0-5.8.8/lib/site_perl/5.8.8/Class/Load.pm line 186
	Class::Load::try_load_class("ComponentUI", undef) called at /opt/perl430-27-O0-5.8.8/lib/site_perl/5.8.8/Class/Load.pm line 41
	Class::Load::load_class("ComponentUI") called at /opt/perl430-27-O0-5.8.8/lib/site_perl/5.8.8/Test/WWW/Mechanize/Catalyst.pm line 245
	Test::WWW::Mechanize::Catalyst::import("Test::WWW::Mechanize::Catalyst", "ComponentUI") called at t/uncheck_bool_field.t line 6
	main::BEGIN() called at /root/.cpan/build/Reaction-0.002005-3voQhw/blib/lib/ComponentUI.pm line 0
	eval {...} called at /root/.cpan/build/Reaction-0.002005-3voQhw/blib/lib/ComponentUI.pm line 0
Class::MOP::load_class is deprecated at /opt/perl430-27-O0-5.8.8/lib/site_perl/5.8.8/i686-linux-thread-multi-64int-ld/Class/MOP.pm line 68.
	Class::MOP::load_class("Reaction::InterfaceModel::Object") called at /root/.cpan/build/Reaction-0.002005-3voQhw/blib/lib/Reaction/InterfaceModel/Reflector/DBIC.pm line 149
	Reaction::InterfaceModel::Reflector::DBIC::reflect_schema(Reaction::InterfaceModel::Reflector::DBIC=HASH(0xc97e0c4), "model_class", "ComponentUI::TestModel", "schema_class", "RTest::TestDB", "sources", ARRAY(0xcac8fac)) called at /root/.cpan/build/Reaction-0.002005-3voQhw/blib/lib/ComponentUI/TestModel.pm line 10
	require ComponentUI/TestModel.pm called at /opt/perl430-27-O0-5.8.8/lib/site_perl/5.8.8/Module/Runtime.pm line 313
	Module::Runtime::require_module("ComponentUI::TestModel") called at /opt/perl430-27-O0-5.8.8/lib/site_perl/5.8.8/Class/Load.pm line 180
	Class::Load::try {...} () called at /opt/perl430-27-O0-5.8.8/lib/site_perl/5.8.8/Try/Tiny.pm line 76
	eval {...} called at /opt/perl430-27-O0-5.8.8/lib/site_perl/5.8.8/Try/Tiny.pm line 72
	Try::Tiny::try(CODE(0xc83cdc0), Try::Tiny::Catch=REF(0xc77faec)) called at /opt/perl430-27-O0-5.8.8/lib/site_perl/5.8.8/Class/Load.pm line 186
	Class::Load::try_load_class("ComponentUI::TestModel", undef) called at /opt/perl430-27-O0-5.8.8/lib/site_perl/5.8.8/Class/Load.pm line 41
	Class::Load::load_class("ComponentUI::TestModel") called at /root/.cpan/build/Reaction-0.002005-3voQhw/blib/lib/Catalyst/Model/Reaction/InterfaceModel/DBIC.pm line 24
	Catalyst::Model::Reaction::InterfaceModel::DBIC::COMPONENT("ComponentUI::Model::TestModel", "ComponentUI", HASH(0xc986910)) called at /opt/perl430-27-O0-5.8.8/lib/site_perl/5.8.8/Catalyst.pm line 2760
	eval {...} called at /opt/perl430-27-O0-5.8.8/lib/site_perl/5.8.8/Catalyst.pm line 2760
	Catalyst::setup_component("ComponentUI", "ComponentUI::Model::TestModel") called at /opt/perl430-27-O0-5.8.8/lib/site_perl/5.8.8/Catalyst.pm line 2690
	Catalyst::setup_components("ComponentUI") called at /opt/perl430-27-O0-5.8.8/lib/site_perl/5.8.8/Catalyst.pm line 1216
	Catalyst::setup("ComponentUI") called at /root/.cpan/build/Reaction-0.002005-3voQhw/blib/lib/ComponentUI.pm line 32
	require ComponentUI.pm called at /opt/perl430-27-O0-5.8.8/lib/site_perl/5.8.8/Module/Runtime.pm line 313
	Module::Runtime::require_module("ComponentUI") called at /opt/perl430-27-O0-5.8.8/lib/site_perl/5.8.8/Class/Load.pm line 180
	Class::Load::try {...} () called at /opt/perl430-27-O0-5.8.8/lib/site_perl/5.8.8/Try/Tiny.pm line 76
	eval {...} called at /opt/perl430-27-O0-5.8.8/lib/site_perl/5.8.8/Try/Tiny.pm line 72
	Try::Tiny::try(CODE(0x9dbef60), Try::Tiny::Catch=REF(0x9dc9518)) called at /opt/perl430-27-O0-5.8.8/lib/site_perl/5.8.8/Class/Load.pm line 186
	Class::Load::try_load_class("ComponentUI", undef) called at /opt/perl430-27-O0-5.8.8/lib/site_perl/5.8.8/Class/Load.pm line 41
	Class::Load::load_class("ComponentUI") called at /opt/perl430-27-O0-5.8.8/lib/site_perl/5.8.8/Test/WWW/Mechanize/Catalyst.pm line 245
	Test::WWW::Mechanize::Catalyst::import("Test::WWW::Mechanize::Catalyst", "ComponentUI") called at t/uncheck_bool_field.t line 6
	main::BEGIN() called at /root/.cpan/build/Reaction-0.002005-3voQhw/blib/lib/ComponentUI/TestModel.pm line 0
	eval {...} called at /root/.cpan/build/Reaction-0.002005-3voQhw/blib/lib/ComponentUI/TestModel.pm line 0
Class::MOP::load_class is deprecated at /opt/perl430-27-O0-5.8.8/lib/site_perl/5.8.8/i686-linux-thread-multi-64int-ld/Class/MOP.pm line 68.
	Class::MOP::load_class("Reaction::InterfaceModel::Object") called at /root/.cpan/build/Reaction-0.002005-3voQhw/blib/lib/Reaction/Class.pm line 123
	Reaction::Class::do_class_sub("Reaction::Class", "ComponentUI::TestModel::Foo", "ComponentUI::TestModel::Foo", "is", "Reaction::InterfaceModel::Object", "which", CODE(0xcd09b80)) called at /root/.cpan/build/Reaction-0.002005-3voQhw/blib/lib/Reaction/Class.pm line 86
	Reaction::Class::("ComponentUI::TestModel::Foo", "is", "Reaction::InterfaceModel::Object", "which", CODE(0xcd09b80)) called at /root/.cpan/build/Reaction-0.002005-3voQhw/blib/lib/ComponentUI/TestModel/Foo.pm line 8
	require ComponentUI/TestModel/Foo.pm called at /opt/perl430-27-O0-5.8.8/lib/site_perl/5.8.8/Module/Runtime.pm line 313
	Module::Runtime::require_module("ComponentUI::TestModel::Foo") called at /opt/perl430-27-O0-5.8.8/lib/site_perl/5.8.8/Class/Load.pm line 180
	Class::Load::try {...} () called at /opt/perl430-27-O0-5.8.8/lib/site_perl/5.8.8/Try/Tiny.pm line 76
	eval {...} called at /opt/perl430-27-O0-5.8.8/lib/site_perl/5.8.8/Try/Tiny.pm line 72
	Try::Tiny::try(CODE(0xccc99b8), Try::Tiny::Catch=REF(0xcd09c58)) called at /opt/perl430-27-O0-5.8.8/lib/site_perl/5.8.8/Class/Load.pm line 186
	Class::Load::try_load_class("ComponentUI::TestModel::Foo", undef) called at /opt/perl430-27-O0-5.8.8/lib/site_perl/5.8.8/Class/Load.pm line 41
	Class::Load::load_class("ComponentUI::TestModel::Foo") called at /root/.cpan/build/Reaction-0.002005-3voQhw/blib/lib/Reaction/InterfaceModel/Reflector/DBIC.pm line 892
	eval {...} called at /root/.cpan/build/Reaction-0.002005-3voQhw/blib/lib/Reaction/InterfaceModel/Reflector/DBIC.pm line 892
	Reaction::InterfaceModel::Reflector::DBIC::_maybe_load_class(Reaction::InterfaceModel::Reflector::DBIC=HASH(0xc97e0c4), "ComponentUI::TestModel::Foo") called at /root/.cpan/build/Reaction-0.002005-3voQhw/blib/lib/Reaction/InterfaceModel/Reflector/DBIC.pm line 876
	Reaction::InterfaceModel::Reflector::DBIC::_load_or_create(Reaction::InterfaceModel::Reflector::DBIC=HASH(0xc97e0c4), "ComponentUI::TestModel::Foo", "superclasses", ARRAY(0xcc76d84)) called at /root/.cpan/build/Reaction-0.002005-3voQhw/blib/lib/Reaction/InterfaceModel/Reflector/DBIC.pm line 448
	Reaction::InterfaceModel::Reflector::DBIC::reflect_source_object(Reaction::InterfaceModel::Reflector::DBIC=HASH(0xc97e0c4), "schema_class", "RTest::TestDB", "source_name", "Foo", "source_class", "RTest::TestDB::Foo", "parent_class", "ComponentUI::TestModel", ...) called at /root/.cpan/build/Reaction-0.002005-3voQhw/blib/lib/Reaction/InterfaceModel/Reflector/DBIC.pm line 323
	Reaction::InterfaceModel::Reflector::DBIC::reflect_source(Reaction::InterfaceModel::Reflector::DBIC=HASH(0xc97e0c4), "source_name", "Foo", "parent_class", "ComponentUI::TestModel", "schema_class", "RTest::TestDB", "source_class", "RTest::TestDB::Foo", ...) called at /root/.cpan/build/Reaction-0.002005-3voQhw/blib/lib/Reaction/InterfaceModel/Reflector/DBIC.pm line 185
	Reaction::InterfaceModel::Reflector::DBIC::reflect_schema(Reaction::InterfaceModel::Reflector::DBIC=HASH(0xc97e0c4), "model_class", "ComponentUI::TestModel", "schema_class", "RTest::TestDB", "sources", ARRAY(0xcac8fac)) called at /root/.cpan/build/Reaction-0.002005-3voQhw/blib/lib/ComponentUI/TestModel.pm line 10
	require ComponentUI/TestModel.pm called at /opt/perl430-27-O0-5.8.8/lib/site_perl/5.8.8/Module/Runtime.pm line 313
	Module::Runtime::require_module("ComponentUI::TestModel") called at /opt/perl430-27-O0-5.8.8/lib/site_perl/5.8.8/Class/Load.pm line 180
	Class::Load::try {...} () called at /opt/perl430-27-O0-5.8.8/lib/site_perl/5.8.8/Try/Tiny.pm line 76
	eval {...} called at /opt/perl430-27-O0-5.8.8/lib/site_perl/5.8.8/Try/Tiny.pm line 72
	Try::Tiny::try(CODE(0xc83cdc0), Try::Tiny::Catch=REF(0xc77faec)) called at /opt/perl430-27-O0-5.8.8/lib/site_perl/5.8.8/Class/Load.pm line 186
	Class::Load::try_load_class("ComponentUI::TestModel", undef) called at /opt/perl430-27-O0-5.8.8/lib/site_perl/5.8.8/Class/Load.pm line 41
	Class::Load::load_class("ComponentUI::TestModel") called at /root/.cpan/build/Reaction-0.002005-3voQhw/blib/lib/Catalyst/Model/Reaction/InterfaceModel/DBIC.pm line 24
	Catalyst::Model::Reaction::InterfaceModel::DBIC::COMPONENT("ComponentUI::Model::TestModel", "ComponentUI", HASH(0xc986910)) called at /opt/perl430-27-O0-5.8.8/lib/site_perl/5.8.8/Catalyst.pm line 2760
	eval {...} called at /opt/perl430-27-O0-5.8.8/lib/site_perl/5.8.8/Catalyst.pm line 2760
	Catalyst::setup_component("ComponentUI", "ComponentUI::Model::TestModel") called at /opt/perl430-27-O0-5.8.8/lib/site_perl/5.8.8/Catalyst.pm line 2690
	Catalyst::setup_components("ComponentUI") called at /opt/perl430-27-O0-5.8.8/lib/site_perl/5.8.8/Catalyst.pm line 1216
	Catalyst::setup("ComponentUI") called at /root/.cpan/build/Reaction-0.002005-3voQhw/blib/lib/ComponentUI.pm line 32
	require ComponentUI.pm called at /opt/perl430-27-O0-5.8.8/lib/site_perl/5.8.8/Module/Runtime.pm line 313
	Module::Runtime::require_module("ComponentUI") called at /opt/perl430-27-O0-5.8.8/lib/site_perl/5.8.8/Class/Load.pm line 180
	Class::Load::try {...} () called at /opt/perl430-27-O0-5.8.8/lib/site_perl/5.8.8/Try/Tiny.pm line 76
	eval {...} called at /opt/perl430-27-O0-5.8.8/lib/site_perl/5.8.8/Try/Tiny.pm line 72
	Try::Tiny::try(CODE(0x9dbef60), Try::Tiny::Catch=REF(0x9dc9518)) called at /opt/perl430-27-O0-5.8.8/lib/site_perl/5.8.8/Class/Load.pm line 186
	Class::Load::try_load_class("ComponentUI", undef) called at /opt/perl430-27-O0-5.8.8/lib/site_perl/5.8.8/Class/Load.pm line 41
	Class::Load::load_class("ComponentUI") called at /opt/perl430-27-O0-5.8.8/lib/site_perl/5.8.8/Test/WWW/Mechanize/Catalyst.pm line 245
	Test::WWW::Mechanize::Catalyst::import("Test::WWW::Mechanize::Catalyst", "ComponentUI") called at t/uncheck_bool_field.t line 6
	main::BEGIN() called at /root/.cpan/build/Reaction-0.002005-3voQhw/blib/lib/ComponentUI/TestModel/Foo.pm line 0
	eval {...} called at /root/.cpan/build/Reaction-0.002005-3voQhw/blib/lib/ComponentUI/TestModel/Foo.pm line 0
Class::MOP::load_class is deprecated at /opt/perl430-27-O0-5.8.8/lib/site_perl/5.8.8/i686-linux-thread-multi-64int-ld/Class/MOP.pm line 68.
	Class::MOP::load_class("ComponentUI::RenderingContext::Site") called at /root/.cpan/build/Reaction-0.002005-3voQhw/blib/lib/Reaction/UI/View.pm line 125
	eval {...} called at /root/.cpan/build/Reaction-0.002005-3voQhw/blib/lib/Reaction/UI/View.pm line 125
	Reaction::UI::View::find_related_class(ComponentUI::View::Site=HASH(0xcde9400), "RenderingContext") called at /root/.cpan/build/Reaction-0.002005-3voQhw/blib/lib/Reaction/UI/View.pm line 43
	Reaction::UI::View::_build_rendering_context_class(ComponentUI::View::Site=HASH(0xcde9400)) called at reader Reaction::UI::View::rendering_context_class (defined at /root/.cpan/build/Reaction-0.002005-3voQhw/blib/lib/Reaction/UI/View.pm line 29) line 7
	Reaction::UI::View::rendering_context_class(ComponentUI::View::Site=HASH(0xcde9400)) called at /root/.cpan/build/Reaction-0.002005-3voQhw/blib/lib/Reaction/UI/View.pm line 134
	Reaction::UI::View::create_rendering_context(ComponentUI::View::Site=HASH(0xcde9400)) called at /root/.cpan/build/Reaction-0.002005-3voQhw/blib/lib/Reaction/UI/View.pm line 60
	Reaction::UI::View::render_window(ComponentUI::View::Site=HASH(0xcde9400), Reaction::UI::Window=HASH(0xd09f728)) called at /root/.cpan/build/Reaction-0.002005-3voQhw/blib/lib/Reaction/UI/Window.pm line 74
	Reaction::UI::Window::flush_view(Reaction::UI::Window=HASH(0xd09f728)) called at /root/.cpan/build/Reaction-0.002005-3voQhw/blib/lib/Reaction/UI/Window.pm line 36
	Reaction::UI::Window::flush(Reaction::UI::Window=HASH(0xd09f728)) called at /root/.cpan/build/Reaction-0.002005-3voQhw/blib/lib/Reaction/UI/Controller/Root.pm line 38
	Reaction::UI::Controller::Root::end(ComponentUI::Controller::Root=HASH(0xd09f7e8), ComponentUI=HASH(0xd08cd68)) called at /opt/perl430-27-O0-5.8.8/lib/site_perl/5.8.8/Catalyst/Action.pm line 65
	Catalyst::Action::execute(Catalyst::Action=HASH(0xcf68b7c), ComponentUI::Controller::Root=HASH(0xd09f7e8), ComponentUI=HASH(0xd08cd68)) called at /opt/perl430-27-O0-5.8.8/lib/site_perl/5.8.8/Catalyst.pm line 1770
	eval {...} called at /opt/perl430-27-O0-5.8.8/lib/site_perl/5.8.8/Catalyst.pm line 1770
	Catalyst::execute(ComponentUI=HASH(0xd08cd68), "ComponentUI::Controller::Root", Catalyst::Action=HASH(0xcf68b7c)) called at /opt/perl430-27-O0-5.8.8/lib/site_perl/5.8.8/Catalyst/Action.pm line 60
	Catalyst::Action::dispatch(Catalyst::Action=HASH(0xcf68b7c), ComponentUI=HASH(0xd08cd68)) called at /opt/perl430-27-O0-5.8.8/lib/site_perl/5.8.8/Catalyst/Controller.pm line 174
	Catalyst::Controller::_END(ComponentUI::Controller::TestModel::Baz=HASH(0xd09a9f4), ComponentUI=HASH(0xd08cd68)) called at /opt/perl430-27-O0-5.8.8/lib/site_perl/5.8.8/Catalyst/Action.pm line 65
	Catalyst::Action::execute(Catalyst::Action=HASH(0xcee87cc), ComponentUI::Controller::TestModel::Baz=HASH(0xd09a9f4), ComponentUI=HASH(0xd08cd68)) called at /opt/perl430-27-O0-5.8.8/lib/site_perl/5.8.8/Catalyst.pm line 1770
	eval {...} called at /opt/perl430-27-O0-5.8.8/lib/site_perl/5.8.8/Catalyst.pm line 1770
	Catalyst::execute(ComponentUI=HASH(0xd08cd68), "ComponentUI::Controller::TestModel::Baz", Catalyst::Action=HASH(0xcee87cc)) called at /opt/perl430-27-O0-5.8.8/lib/site_perl/5.8.8/Catalyst/Action.pm line 60
	Catalyst::Action::dispatch(Catalyst::Action=HASH(0xcee87cc), ComponentUI=HASH(0xd08cd68)) called at /opt/perl430-27-O0-5.8.8/lib/site_perl/5.8.8/Catalyst/Dispatcher.pm line 258
	Catalyst::Dispatcher::_do_forward(Catalyst::Dispatcher=HASH(0xa497304), "forward", ComponentUI=HASH(0xd08cd68), "_END") called at /opt/perl430-27-O0-5.8.8/lib/site_perl/5.8.8/Catalyst/Dispatcher.pm line 238
	Catalyst::Dispatcher::forward(Catalyst::Dispatcher=HASH(0xa497304), ComponentUI=HASH(0xd08cd68), "_END") called at /opt/perl430-27-O0-5.8.8/lib/site_perl/5.8.8/Catalyst.pm line 398
	Catalyst::forward(ComponentUI=HASH(0xd08cd68), "_END") called at /opt/perl430-27-O0-5.8.8/lib/site_perl/5.8.8/Catalyst/Controller.pm line 138
	Catalyst::Controller::_DISPATCH(ComponentUI::Controller::TestModel::Baz=HASH(0xd09a9f4), ComponentUI=HASH(0xd08cd68)) called at /opt/perl430-27-O0-5.8.8/lib/site_perl/5.8.8/Catalyst/Action.pm line 65
	Catalyst::Action::execute(Catalyst::Action=HASH(0xcee526c), ComponentUI::Controller::TestModel::Baz=HASH(0xd09a9f4), ComponentUI=HASH(0xd08cd68)) called at /opt/perl430-27-O0-5.8.8/lib/site_perl/5.8.8/Catalyst.pm line 1770
	eval {...} called at /opt/perl430-27-O0-5.8.8/lib/site_perl/5.8.8/Catalyst.pm line 1770
	Catalyst::execute(ComponentUI=HASH(0xd08cd68), "ComponentUI::Controller::TestModel::Baz", Catalyst::Action=HASH(0xcee526c)) called at /opt/perl430-27-O0-5.8.8/lib/site_perl/5.8.8/Catalyst/Action.pm line 60
	Catalyst::Action::dispatch(Catalyst::Action=HASH(0xcee526c), ComponentUI=HASH(0xd08cd68)) called at /opt/perl430-27-O0-5.8.8/lib/site_perl/5.8.8/Catalyst/Dispatcher.pm line 258
	Catalyst::Dispatcher::_do_forward(Catalyst::Dispatcher=HASH(0xa497304), "forward", ComponentUI=HASH(0xd08cd68), "/testmodel/baz/_DISPATCH") called at /opt/perl430-27-O0-5.8.8/lib/site_perl/5.8.8/Catalyst/Dispatcher.pm line 238
	Catalyst::Dispatcher::forward(Catalyst::Dispatcher=HASH(0xa497304), ComponentUI=HASH(0xd08cd68), "/testmodel/baz/_DISPATCH") called at /opt/perl430-27-O0-5.8.8/lib/site_perl/5.8.8/Catalyst.pm line 398
	Catalyst::forward(ComponentUI=HASH(0xd08cd68), "/testmodel/baz/_DISPATCH") called at /opt/perl430-27-O0-5.8.8/lib/site_perl/5.8.8/Catalyst/Dispatcher.pm line 106
	Catalyst::Dispatcher::dispatch(Catalyst::Dispatcher=HASH(0xa497304), ComponentUI=HASH(0xd08cd68)) called at /opt/perl430-27-O0-5.8.8/lib/site_perl/5.8.8/Catalyst.pm line 1716
	Catalyst::dispatch(ComponentUI=HASH(0xd08cd68)) called at /opt/perl430-27-O0-5.8.8/lib/site_perl/5.8.8/Catalyst/Plugin/Static/Simple.pm line 86
	Class::MOP::Class:::around(CODE(0xa39bbc8), ComponentUI=HASH(0xd08cd68)) called at /opt/perl430-27-O0-5.8.8/lib/site_perl/5.8.8/i686-linux-thread-multi-64int-ld/Class/MOP/Method/Wrapped.pm line 157
	Class::MOP::Method::Wrapped::__ANON__(ComponentUI=HASH(0xd08cd68)) called at /opt/perl430-27-O0-5.8.8/lib/site_perl/5.8.8/i686-linux-thread-multi-64int-ld/Class/MOP/Method/Wrapped.pm line 86
	ComponentUI::dispatch(ComponentUI=HASH(0xd08cd68)) called at /opt/perl430-27-O0-5.8.8/lib/site_perl/5.8.8/Catalyst.pm line 2100
	Catalyst::try {...} () called at /opt/perl430-27-O0-5.8.8/lib/site_perl/5.8.8/Try/Tiny.pm line 81
	eval {...} called at /opt/perl430-27-O0-5.8.8/lib/site_perl/5.8.8/Try/Tiny.pm line 72
	Try::Tiny::try(CODE(0xd08c90c), Try::Tiny::Catch=REF(0xd0557d0)) called at /opt/perl430-27-O0-5.8.8/lib/site_perl/5.8.8/Catalyst.pm line 2109
	Catalyst::handle_request("ComponentUI", "env", HASH(0xd0872e4), "response_cb", CODE(0xd08c834)) called at /opt/perl430-27-O0-5.8.8/lib/site_perl/5.8.8/Catalyst/Engine.pm line 798
	Catalyst::Engine::__ANON__(CODE(0xd08c834)) called at /opt/perl430-27-O0-5.8.8/lib/site_perl/5.8.8/Plack/Middleware/HTTPExceptions.pm line 32
	Plack::Middleware::HTTPExceptions::try {...} () called at /opt/perl430-27-O0-5.8.8/lib/site_perl/5.8.8/Try/Tiny.pm line 81
	eval {...} called at /opt/perl430-27-O0-5.8.8/lib/site_perl/5.8.8/Try/Tiny.pm line 72
	Try::Tiny::try(CODE(0xd055698), Try::Tiny::Catch=REF(0xd087710)) called at /opt/perl430-27-O0-5.8.8/lib/site_perl/5.8.8/Plack/Middleware/HTTPExceptions.pm line 41
	Plack::Middleware::HTTPExceptions::__ANON__(CODE(0xd055524)) called at /opt/perl430-27-O0-5.8.8/lib/site_perl/5.8.8/Plack/Util.pm line 301
	Plack::Util::__ANON__(CODE(0xd0553b0)) called at /opt/perl430-27-O0-5.8.8/lib/site_perl/5.8.8/Plack/Util.pm line 301
	Plack::Util::__ANON__(CODE(0xd05523c)) called at /opt/perl430-27-O0-5.8.8/lib/site_perl/5.8.8/Plack/Util.pm line 301
	Plack::Util::__ANON__(CODE(0xd0551e8)) called at /opt/perl430-27-O0-5.8.8/lib/site_perl/5.8.8/HTTP/Message/PSGI.pm line 100
	HTTP::Message::PSGI::res_from_psgi(CODE(0xd054bb8)) called at /opt/perl430-27-O0-5.8.8/lib/site_perl/5.8.8/HTTP/Message/PSGI.pm line 156
	HTTP::Response::from_psgi("HTTP::Response", CODE(0xd054bb8)) called at /opt/perl430-27-O0-5.8.8/lib/site_perl/5.8.8/Plack/Test/MockHTTP.pm line 24
	Plack::Test::MockHTTP::try {...} () called at /opt/perl430-27-O0-5.8.8/lib/site_perl/5.8.8/Try/Tiny.pm line 76
	eval {...} called at /opt/perl430-27-O0-5.8.8/lib/site_perl/5.8.8/Try/Tiny.pm line 72
	Try::Tiny::try(CODE(0xd04aa0c), Try::Tiny::Catch=REF(0xcf4de64)) called at /opt/perl430-27-O0-5.8.8/lib/site_perl/5.8.8/Plack/Test/MockHTTP.pm line 27
	Plack::Test::MockHTTP::request(Plack::Test::MockHTTP=HASH(0xd04a700), HTTP::Request=HASH(0xd03e098)) called at /opt/perl430-27-O0-5.8.8/lib/site_perl/5.8.8/Plack/Test.pm line 38
	Plack::Test::__ANON__(HTTP::Request=HASH(0xd03e098)) called at /opt/perl430-27-O0-5.8.8/lib/site_perl/5.8.8/Catalyst/Test.pm line 281
	Catalyst::Test::__ANON__(CODE(0xd04a634)) called at /opt/perl430-27-O0-5.8.8/lib/site_perl/5.8.8/Plack/Test.pm line 38
	Plack::Test::test_psgi("app", CODE(0xd04a358), "mangle_response", CODE(0x9c2f248), "app", CODE(0xd04a520), "client", CODE(0xd04a58c)) called at /opt/perl430-27-O0-5.8.8/lib/site_perl/5.8.8/Catalyst/Test.pm line 284
	Catalyst::Test::_request(HASH(0xd04a328), HTTP::Request=HASH(0xd03e098)) called at /opt/perl430-27-O0-5.8.8/lib/site_perl/5.8.8/Catalyst/Test.pm line 327
	Catalyst::Test::_local_request("ComponentUI", HTTP::Request=HASH(0xd03e098)) called at /opt/perl430-27-O0-5.8.8/lib/site_perl/5.8.8/Test/WWW/Mechanize/Catalyst.pm line 174
	Test::WWW::Mechanize::Catalyst::_do_catalyst_request(Test::WWW::Mechanize::Catalyst=HASH(0xcf75840), HTTP::Request=HASH(0xd03e098)) called at /opt/perl430-27-O0-5.8.8/lib/site_perl/5.8.8/Test/WWW/Mechanize/Catalyst.pm line 78
	Test::WWW::Mechanize::Catalyst::_make_request(Test::WWW::Mechanize::Catalyst=HASH(0xcf75840), HTTP::Request=HASH(0xd03e098)) called at /opt/perl430-27-O0-5.8.8/lib/site_perl/5.8.8/WWW/Mechanize.pm line 2312
	WWW::Mechanize::request(Test::WWW::Mechanize::Catalyst=HASH(0xcf75840), HTTP::Request=HASH(0xd03e098)) called at /opt/perl430-27-O0-5.8.8/lib/site_perl/5.8.8/LWP/UserAgent.pm line 411
	LWP::UserAgent::get(Test::WWW::Mechanize::Catalyst=HASH(0xcf75840), "http://localhost/testmodel/baz/id/1/update") called at /opt/perl430-27-O0-5.8.8/lib/site_perl/5.8.8/WWW/Mechanize.pm line 407
	WWW::Mechanize::get(Test::WWW::Mechanize::Catalyst=HASH(0xcf75840), "http://localhost/testmodel/baz/id/1/update") called at /opt/perl430-27-O0-5.8.8/lib/site_perl/5.8.8/Test/WWW/Mechanize.pm line 159
	Test::WWW::Mechanize::get_ok(Test::WWW::Mechanize::Catalyst=HASH(0xcf75840), "http://localhost/testmodel/baz/id/1/update") called at t/uncheck_bool_field.t line 9
Class::MOP::is_class_loaded is deprecated at /opt/perl430-27-O0-5.8.8/lib/site_perl/5.8.8/i686-linux-thread-multi-64int-ld/Class/MOP.pm line 86.
	Class::MOP::is_class_loaded("ComponentUI::UI::Widget::SiteLayout") called at /root/.cpan/build/Reaction-0.002005-3voQhw/blib/lib/Reaction/UI/Skin.pm line 178
	Reaction::UI::Skin::widget_class_for(Reaction::UI::Skin=HASH(0xd2efc0c), Reaction::UI::LayoutSet::TT=HASH(0xd30161c)) called at /root/.cpan/build/Reaction-0.002005-3voQhw/blib/lib/Reaction/UI/LayoutSet.pm line 28
	Reaction::UI::LayoutSet::BUILD(Reaction::UI::LayoutSet::TT=HASH(0xd30161c), HASH(0xd3015d4)) called at constructor Reaction::UI::LayoutSet::TT::new (defined at /root/.cpan/build/Reaction-0.002005-3voQhw/blib/lib/Reaction/UI/LayoutSet/TT.pm line 43) line 69
	Reaction::UI::LayoutSet::TT::new("Reaction::UI::LayoutSet::TT", "name", "site_layout", "skin", Reaction::UI::Skin=HASH(0xd2efc0c), "tt_object", Template=HASH(0xcdd3e80), "source_file", Path::Class::File=HASH(0xd301154), ...) called at /root/.cpan/build/Reaction-0.002005-3voQhw/blib/lib/Reaction/UI/Skin.pm line 114
	Reaction::UI::Skin::_create_layout_set(Reaction::UI::Skin=HASH(0xd2efc0c), "site_layout", ARRAY(0xd2ee5d4), Reaction::UI::Skin=HASH(0xd2efc0c)) called at /root/.cpan/build/Reaction-0.002005-3voQhw/blib/lib/Reaction/UI/Skin.pm line 110
	Reaction::UI::Skin::create_layout_set(Reaction::UI::Skin=HASH(0xd2efc0c), "site_layout") called at /root/.cpan/build/Reaction-0.002005-3voQhw/blib/lib/Reaction/UI/LayoutSet.pm line 83
	Reaction::UI::LayoutSet::_load_file(Reaction::UI::LayoutSet::TT=HASH(0xd2f664c), Path::Class::File=HASH(0xd2f00e0), HASH(0xd2fd664)) called at /root/.cpan/build/Reaction-0.002005-3voQhw/blib/lib/Reaction/UI/LayoutSet.pm line 27
	Reaction::UI::LayoutSet::BUILD(Reaction::UI::LayoutSet::TT=HASH(0xd2f664c), HASH(0xd2fd664)) called at constructor Reaction::UI::LayoutSet::TT::new (defined at /root/.cpan/build/Reaction-0.002005-3voQhw/blib/lib/Reaction/UI/LayoutSet/TT.pm line 43) line 69
	Reaction::UI::LayoutSet::TT::new("Reaction::UI::LayoutSet::TT", "name", "site_layout", "skin", Reaction::UI::Skin=HASH(0xd2eb14c), "next_skin", Reaction::UI::Skin=HASH(0xd2efc0c), "tt_object", Template=HASH(0xcdd3e80), ...) called at /root/.cpan/build/Reaction-0.002005-3voQhw/blib/lib/Reaction/UI/Skin.pm line 114
	Reaction::UI::Skin::_create_layout_set(Reaction::UI::Skin=HASH(0xd2eb14c), "site_layout", ARRAY(0xd2ee0f4), Reaction::UI::Skin=HASH(0xd2eb14c)) called at /root/.cpan/build/Reaction-0.002005-3voQhw/blib/lib/Reaction/UI/Skin.pm line 110
	Reaction::UI::Skin::create_layout_set(Reaction::UI::Skin=HASH(0xd2eb14c), "site_layout") called at /root/.cpan/build/Reaction-0.002005-3voQhw/blib/lib/Reaction/UI/LayoutSet.pm line 83
	Reaction::UI::LayoutSet::_load_file(Reaction::UI::LayoutSet::TT=HASH(0xd2eb500), Path::Class::File=HASH(0xcd14ef4), HASH(0xd2f02c0)) called at /root/.cpan/build/Reaction-0.002005-3voQhw/blib/lib/Reaction/UI/LayoutSet.pm line 27
	Reaction::UI::LayoutSet::BUILD(Reaction::UI::LayoutSet::TT=HASH(0xd2eb500), HASH(0xd2f02c0)) called at constructor Reaction::UI::LayoutSet::TT::new (defined at /root/.cpan/build/Reaction-0.002005-3voQhw/blib/lib/Reaction/UI/LayoutSet/TT.pm line 43) line 69
	Reaction::UI::LayoutSet::TT::new("Reaction::UI::LayoutSet::TT", "name", "site_layout", "skin", Reaction::UI::Skin=HASH(0xd2b8d54), "next_skin", Reaction::UI::Skin=HASH(0xd2eb14c), "tt_object", Template=HASH(0xcdd3e80), ...) called at /root/.cpan/build/Reaction-0.002005-3voQhw/blib/lib/Reaction/UI/Skin.pm line 114
	Reaction::UI::Skin::_create_layout_set(Reaction::UI::Skin=HASH(0xd2b8d54), "site_layout", ARRAY(0xd2b8604), Reaction::UI::Skin=HASH(0xd2b8d54)) called at /root/.cpan/build/Reaction-0.002005-3voQhw/blib/lib/Reaction/UI/Skin.pm line 110
	Reaction::UI::Skin::create_layout_set(Reaction::UI::Skin=HASH(0xd2b8d54), "site_layout") called at /opt/perl430-27-O0-5.8.8/lib/site_perl/5.8.8/i686-linux-thread-multi-64int-ld/Moose/Meta/Method/Delegation.pm line 109
	Reaction::UI::View::create_layout_set(ComponentUI::View::Site=HASH(0xcde9400), "site_layout") called at /root/.cpan/build/Reaction-0.002005-3voQhw/blib/lib/Reaction/UI/View.pm line 99
	Reaction::UI::View::layout_set_for(ComponentUI::View::Site=HASH(0xcde9400), Reaction::UI::ViewPort::SiteLayout=HASH(0xd0a1c18)) called at /root/.cpan/build/Reaction-0.002005-3voQhw/blib/lib/Reaction/UI/View.pm line 78
	Reaction::UI::View::render_viewport_args(ComponentUI::View::Site=HASH(0xcde9400), Reaction::UI::ViewPort::SiteLayout=HASH(0xd0a1c18)) called at /root/.cpan/build/Reaction-0.002005-3voQhw/blib/lib/Reaction/UI/View.pm line 61
	Reaction::UI::View::render_window(ComponentUI::View::Site=HASH(0xcde9400), Reaction::UI::Window=HASH(0xd09f728)) called at /root/.cpan/build/Reaction-0.002005-3voQhw/blib/lib/Reaction/UI/Window.pm line 74
	Reaction::UI::Window::flush_view(Reaction::UI::Window=HASH(0xd09f728)) called at /root/.cpan/build/Reaction-0.002005-3voQhw/blib/lib/Reaction/UI/Window.pm line 36
	Reaction::UI::Window::flush(Reaction::UI::Window=HASH(0xd09f728)) called at /root/.cpan/build/Reaction-0.002005-3voQhw/blib/lib/Reaction/UI/Controller/Root.pm line 38
	Reaction::UI::Controller::Root::end(ComponentUI::Controller::Root=HASH(0xd09f7e8), ComponentUI=HASH(0xd08cd68)) called at /opt/perl430-27-O0-5.8.8/lib/site_perl/5.8.8/Catalyst/Action.pm line 65
	Catalyst::Action::execute(Catalyst::Action=HASH(0xcf68b7c), ComponentUI::Controller::Root=HASH(0xd09f7e8), ComponentUI=HASH(0xd08cd68)) called at /opt/perl430-27-O0-5.8.8/lib/site_perl/5.8.8/Catalyst.pm line 1770
	eval {...} called at /opt/perl430-27-O0-5.8.8/lib/site_perl/5.8.8/Catalyst.pm line 1770
	Catalyst::execute(ComponentUI=HASH(0xd08cd68), "ComponentUI::Controller::Root", Catalyst::Action=HASH(0xcf68b7c)) called at /opt/perl430-27-O0-5.8.8/lib/site_perl/5.8.8/Catalyst/Action.pm line 60
	Catalyst::Action::dispatch(Catalyst::Action=HASH(0xcf68b7c), ComponentUI=HASH(0xd08cd68)) called at /opt/perl430-27-O0-5.8.8/lib/site_perl/5.8.8/Catalyst/Controller.pm line 174
	Catalyst::Controller::_END(ComponentUI::Controller::TestModel::Baz=HASH(0xd09a9f4), ComponentUI=HASH(0xd08cd68)) called at /opt/perl430-27-O0-5.8.8/lib/site_perl/5.8.8/Catalyst/Action.pm line 65
	Catalyst::Action::execute(Catalyst::Action=HASH(0xcee87cc), ComponentUI::Controller::TestModel::Baz=HASH(0xd09a9f4), ComponentUI=HASH(0xd08cd68)) called at /opt/perl430-27-O0-5.8.8/lib/site_perl/5.8.8/Catalyst.pm line 1770
	eval {...} called at /opt/perl430-27-O0-5.8.8/lib/site_perl/5.8.8/Catalyst.pm line 1770
	Catalyst::execute(ComponentUI=HASH(0xd08cd68), "ComponentUI::Controller::TestModel::Baz", Catalyst::Action=HASH(0xcee87cc)) called at /opt/perl430-27-O0-5.8.8/lib/site_perl/5.8.8/Catalyst/Action.pm line 60
	Catalyst::Action::dispatch(Catalyst::Action=HASH(0xcee87cc), ComponentUI=HASH(0xd08cd68)) called at /opt/perl430-27-O0-5.8.8/lib/site_perl/5.8.8/Catalyst/Dispatcher.pm line 258
	Catalyst::Dispatcher::_do_forward(Catalyst::Dispatcher=HASH(0xa497304), "forward", ComponentUI=HASH(0xd08cd68), "_END") called at /opt/perl430-27-O0-5.8.8/lib/site_perl/5.8.8/Catalyst/Dispatcher.pm line 238
	Catalyst::Dispatcher::forward(Catalyst::Dispatcher=HASH(0xa497304), ComponentUI=HASH(0xd08cd68), "_END") called at /opt/perl430-27-O0-5.8.8/lib/site_perl/5.8.8/Catalyst.pm line 398
	Catalyst::forward(ComponentUI=HASH(0xd08cd68), "_END") called at /opt/perl430-27-O0-5.8.8/lib/site_perl/5.8.8/Catalyst/Controller.pm line 138
	Catalyst::Controller::_DISPATCH(ComponentUI::Controller::TestModel::Baz=HASH(0xd09a9f4), ComponentUI=HASH(0xd08cd68)) called at /opt/perl430-27-O0-5.8.8/lib/site_perl/5.8.8/Catalyst/Action.pm line 65
	Catalyst::Action::execute(Catalyst::Action=HASH(0xcee526c), ComponentUI::Controller::TestModel::Baz=HASH(0xd09a9f4), ComponentUI=HASH(0xd08cd68)) called at /opt/perl430-27-O0-5.8.8/lib/site_perl/5.8.8/Catalyst.pm line 1770
	eval {...} called at /opt/perl430-27-O0-5.8.8/lib/site_perl/5.8.8/Catalyst.pm line 1770
	Catalyst::execute(ComponentUI=HASH(0xd08cd68), "ComponentUI::Controller::TestModel::Baz", Catalyst::Action=HASH(0xcee526c)) called at /opt/perl430-27-O0-5.8.8/lib/site_perl/5.8.8/Catalyst/Action.pm line 60
	Catalyst::Action::dispatch(Catalyst::Action=HASH(0xcee526c), ComponentUI=HASH(0xd08cd68)) called at /opt/perl430-27-O0-5.8.8/lib/site_perl/5.8.8/Catalyst/Dispatcher.pm line 258
	Catalyst::Dispatcher::_do_forward(Catalyst::Dispatcher=HASH(0xa497304), "forward", ComponentUI=HASH(0xd08cd68), "/testmodel/baz/_DISPATCH") called at /opt/perl430-27-O0-5.8.8/lib/site_perl/5.8.8/Catalyst/Dispatcher.pm line 238
	Catalyst::Dispatcher::forward(Catalyst::Dispatcher=HASH(0xa497304), ComponentUI=HASH(0xd08cd68), "/testmodel/baz/_DISPATCH") called at /opt/perl430-27-O0-5.8.8/lib/site_perl/5.8.8/Catalyst.pm line 398
	Catalyst::forward(ComponentUI=HASH(0xd08cd68), "/testmodel/baz/_DISPATCH") called at /opt/perl430-27-O0-5.8.8/lib/site_perl/5.8.8/Catalyst/Dispatcher.pm line 106
	Catalyst::Dispatcher::dispatch(Catalyst::Dispatcher=HASH(0xa497304), ComponentUI=HASH(0xd08cd68)) called at /opt/perl430-27-O0-5.8.8/lib/site_perl/5.8.8/Catalyst.pm line 1716
	Catalyst::dispatch(ComponentUI=HASH(0xd08cd68)) called at /opt/perl430-27-O0-5.8.8/lib/site_perl/5.8.8/Catalyst/Plugin/Static/Simple.pm line 86
	Class::MOP::Class:::around(CODE(0xa39bbc8), ComponentUI=HASH(0xd08cd68)) called at /opt/perl430-27-O0-5.8.8/lib/site_perl/5.8.8/i686-linux-thread-multi-64int-ld/Class/MOP/Method/Wrapped.pm line 157
	Class::MOP::Method::Wrapped::__ANON__(ComponentUI=HASH(0xd08cd68)) called at /opt/perl430-27-O0-5.8.8/lib/site_perl/5.8.8/i686-linux-thread-multi-64int-ld/Class/MOP/Method/Wrapped.pm line 86
	ComponentUI::dispatch(ComponentUI=HASH(0xd08cd68)) called at /opt/perl430-27-O0-5.8.8/lib/site_perl/5.8.8/Catalyst.pm line 2100
	Catalyst::try {...} () called at /opt/perl430-27-O0-5.8.8/lib/site_perl/5.8.8/Try/Tiny.pm line 81
	eval {...} called at /opt/perl430-27-O0-5.8.8/lib/site_perl/5.8.8/Try/Tiny.pm line 72
	Try::Tiny::try(CODE(0xd08c90c), Try::Tiny::Catch=REF(0xd0557d0)) called at /opt/perl430-27-O0-5.8.8/lib/site_perl/5.8.8/Catalyst.pm line 2109
	Catalyst::handle_request("ComponentUI", "env", HASH(0xd0872e4), "response_cb", CODE(0xd08c834)) called at /opt/perl430-27-O0-5.8.8/lib/site_perl/5.8.8/Catalyst/Engine.pm line 798
	Catalyst::Engine::__ANON__(CODE(0xd08c834)) called at /opt/perl430-27-O0-5.8.8/lib/site_perl/5.8.8/Plack/Middleware/HTTPExceptions.pm line 32
	Plack::Middleware::HTTPExceptions::try {...} () called at /opt/perl430-27-O0-5.8.8/lib/site_perl/5.8.8/Try/Tiny.pm line 81
	eval {...} called at /opt/perl430-27-O0-5.8.8/lib/site_perl/5.8.8/Try/Tiny.pm line 72
	Try::Tiny::try(CODE(0xd055698), Try::Tiny::Catch=REF(0xd087710)) called at /opt/perl430-27-O0-5.8.8/lib/site_perl/5.8.8/Plack/Middleware/HTTPExceptions.pm line 41
	Plack::Middleware::HTTPExceptions::__ANON__(CODE(0xd055524)) called at /opt/perl430-27-O0-5.8.8/lib/site_perl/5.8.8/Plack/Util.pm line 301
	Plack::Util::__ANON__(CODE(0xd0553b0)) called at /opt/perl430-27-O0-5.8.8/lib/site_perl/5.8.8/Plack/Util.pm line 301
	Plack::Util::__ANON__(CODE(0xd05523c)) called at /opt/perl430-27-O0-5.8.8/lib/site_perl/5.8.8/Plack/Util.pm line 301
	Plack::Util::__ANON__(CODE(0xd0551e8)) called at /opt/perl430-27-O0-5.8.8/lib/site_perl/5.8.8/HTTP/Message/PSGI.pm line 100
	HTTP::Message::PSGI::res_from_psgi(CODE(0xd054bb8)) called at /opt/perl430-27-O0-5.8.8/lib/site_perl/5.8.8/HTTP/Message/PSGI.pm line 156
	HTTP::Response::from_psgi("HTTP::Response", CODE(0xd054bb8)) called at /opt/perl430-27-O0-5.8.8/lib/site_perl/5.8.8/Plack/Test/MockHTTP.pm line 24
	Plack::Test::MockHTTP::try {...} () called at /opt/perl430-27-O0-5.8.8/lib/site_perl/5.8.8/Try/Tiny.pm line 76
	eval {...} called at /opt/perl430-27-O0-5.8.8/lib/site_perl/5.8.8/Try/Tiny.pm line 72
	Try::Tiny::try(CODE(0xd04aa0c), Try::Tiny::Catch=REF(0xcf4de64)) called at /opt/perl430-27-O0-5.8.8/lib/site_perl/5.8.8/Plack/Test/MockHTTP.pm line 27
	Plack::Test::MockHTTP::request(Plack::Test::MockHTTP=HASH(0xd04a700), HTTP::Request=HASH(0xd03e098)) called at /opt/perl430-27-O0-5.8.8/lib/site_perl/5.8.8/Plack/Test.pm line 38
	Plack::Test::__ANON__(HTTP::Request=HASH(0xd03e098)) called at /opt/perl430-27-O0-5.8.8/lib/site_perl/5.8.8/Catalyst/Test.pm line 281
	Catalyst::Test::__ANON__(CODE(0xd04a634)) called at /opt/perl430-27-O0-5.8.8/lib/site_perl/5.8.8/Plack/Test.pm line 38
	Plack::Test::test_psgi("app", CODE(0xd04a358), "mangle_response", CODE(0x9c2f248), "app", CODE(0xd04a520), "client", CODE(0xd04a58c)) called at /opt/perl430-27-O0-5.8.8/lib/site_perl/5.8.8/Catalyst/Test.pm line 284
	Catalyst::Test::_request(HASH(0xd04a328), HTTP::Request=HASH(0xd03e098)) called at /opt/perl430-27-O0-5.8.8/lib/site_perl/5.8.8/Catalyst/Test.pm line 327
	Catalyst::Test::_local_request("ComponentUI", HTTP::Request=HASH(0xd03e098)) called at /opt/perl430-27-O0-5.8.8/lib/site_perl/5.8.8/Test/WWW/Mechanize/Catalyst.pm line 174
	Test::WWW::Mechanize::Catalyst::_do_catalyst_request(Test::WWW::Mechanize::Catalyst=HASH(0xcf75840), HTTP::Request=HASH(0xd03e098)) called at /opt/perl430-27-O0-5.8.8/lib/site_perl/5.8.8/Test/WWW/Mechanize/Catalyst.pm line 78
	Test::WWW::Mechanize::Catalyst::_make_request(Test::WWW::Mechanize::Catalyst=HASH(0xcf75840), HTTP::Request=HASH(0xd03e098)) called at /opt/perl430-27-O0-5.8.8/lib/site_perl/5.8.8/WWW/Mechanize.pm line 2312
	WWW::Mechanize::request(Test::WWW::Mechanize::Catalyst=HASH(0xcf75840), HTTP::Request=HASH(0xd03e098)) called at /opt/perl430-27-O0-5.8.8/lib/site_perl/5.8.8/LWP/UserAgent.pm line 411
	LWP::UserAgent::get(Test::WWW::Mechanize::Catalyst=HASH(0xcf75840), "http://localhost/testmodel/baz/id/1/update") called at /opt/perl430-27-O0-5.8.8/lib/site_perl/5.8.8/WWW/Mechanize.pm line 407
	WWW::Mechanize::get(Test::WWW::Mechanize::Catalyst=HASH(0xcf75840), "http://localhost/testmodel/baz/id/1/update") called at /opt/perl430-27-O0-5.8.8/lib/site_perl/5.8.8/Test/WWW/Mechanize.pm line 159
	Test::WWW::Mechanize::get_ok(Test::WWW::Mechanize::Catalyst=HASH(0xcf75840), "http://localhost/testmodel/baz/id/1/update") called at t/uncheck_bool_field.t line 9
Class::MOP::load_class is deprecated at /opt/perl430-27-O0-5.8.8/lib/site_perl/5.8.8/i686-linux-thread-multi-64int-ld/Class/MOP.pm line 68.
	Class::MOP::load_class("Reaction::UI::Widget::SiteLayout") called at /root/.cpan/build/Reaction-0.002005-3voQhw/blib/lib/Reaction/UI/Skin.pm line 181
	eval {...} called at /root/.cpan/build/Reaction-0.002005-3voQhw/blib/lib/Reaction/UI/Skin.pm line 181
	Reaction::UI::Skin::widget_class_for(Reaction::UI::Skin=HASH(0xd2efc0c), Reaction::UI::LayoutSet::TT=HASH(0xd30161c)) called at /root/.cpan/build/Reaction-0.002005-3voQhw/blib/lib/Reaction/UI/LayoutSet.pm line 28
	Reaction::UI::LayoutSet::BUILD(Reaction::UI::LayoutSet::TT=HASH(0xd30161c), HASH(0xd3015d4)) called at constructor Reaction::UI::LayoutSet::TT::new (defined at /root/.cpan/build/Reaction-0.002005-3voQhw/blib/lib/Reaction/UI/LayoutSet/TT.pm line 43) line 69
	Reaction::UI::LayoutSet::TT::new("Reaction::UI::LayoutSet::TT", "name", "site_layout", "skin", Reaction::UI::Skin=HASH(0xd2efc0c), "tt_object", Template=HASH(0xcdd3e80), "source_file", Path::Class::File=HASH(0xd301154), ...) called at /root/.cpan/build/Reaction-0.002005-3voQhw/blib/lib/Reaction/UI/Skin.pm line 114
	Reaction::UI::Skin::_create_layout_set(Reaction::UI::Skin=HASH(0xd2efc0c), "site_layout", ARRAY(0xd2ee5d4), Reaction::UI::Skin=HASH(0xd2efc0c)) called at /root/.cpan/build/Reaction-0.002005-3voQhw/blib/lib/Reaction/UI/Skin.pm line 110
	Reaction::UI::Skin::create_layout_set(Reaction::UI::Skin=HASH(0xd2efc0c), "site_layout") called at /root/.cpan/build/Reaction-0.002005-3voQhw/blib/lib/Reaction/UI/LayoutSet.pm line 83
	Reaction::UI::LayoutSet::_load_file(Reaction::UI::LayoutSet::TT=HASH(0xd2f664c), Path::Class::File=HASH(0xd2f00e0), HASH(0xd2fd664)) called at /root/.cpan/build/Reaction-0.002005-3voQhw/blib/lib/Reaction/UI/LayoutSet.pm line 27
	Reaction::UI::LayoutSet::BUILD(Reaction::UI::LayoutSet::TT=HASH(0xd2f664c), HASH(0xd2fd664)) called at constructor Reaction::UI::LayoutSet::TT::new (defined at /root/.cpan/build/Reaction-0.002005-3voQhw/blib/lib/Reaction/UI/LayoutSet/TT.pm line 43) line 69
	Reaction::UI::LayoutSet::TT::new("Reaction::UI::LayoutSet::TT", "name", "site_layout", "skin", Reaction::UI::Skin=HASH(0xd2eb14c), "next_skin", Reaction::UI::Skin=HASH(0xd2efc0c), "tt_object", Template=HASH(0xcdd3e80), ...) called at /root/.cpan/build/Reaction-0.002005-3voQhw/blib/lib/Reaction/UI/Skin.pm line 114
	Reaction::UI::Skin::_create_layout_set(Reaction::UI::Skin=HASH(0xd2eb14c), "site_layout", ARRAY(0xd2ee0f4), Reaction::UI::Skin=HASH(0xd2eb14c)) called at /root/.cpan/build/Reaction-0.002005-3voQhw/blib/lib/Reaction/UI/Skin.pm line 110
	Reaction::UI::Skin::create_layout_set(Reaction::UI::Skin=HASH(0xd2eb14c), "site_layout") called at /root/.cpan/build/Reaction-0.002005-3voQhw/blib/lib/Reaction/UI/LayoutSet.pm line 83
	Reaction::UI::LayoutSet::_load_file(Reaction::UI::LayoutSet::TT=HASH(0xd2eb500), Path::Class::File=HASH(0xcd14ef4), HASH(0xd2f02c0)) called at /root/.cpan/build/Reaction-0.002005-3voQhw/blib/lib/Reaction/UI/LayoutSet.pm line 27
	Reaction::UI::LayoutSet::BUILD(Reaction::UI::LayoutSet::TT=HASH(0xd2eb500), HASH(0xd2f02c0)) called at constructor Reaction::UI::LayoutSet::TT::new (defined at /root/.cpan/build/Reaction-0.002005-3voQhw/blib/lib/Reaction/UI/LayoutSet/TT.pm line 43) line 69
	Reaction::UI::LayoutSet::TT::new("Reaction::UI::LayoutSet::TT", "name", "site_layout", "skin", Reaction::UI::Skin=HASH(0xd2b8d54), "next_skin", Reaction::UI::Skin=HASH(0xd2eb14c), "tt_object", Template=HASH(0xcdd3e80), ...) called at /root/.cpan/build/Reaction-0.002005-3voQhw/blib/lib/Reaction/UI/Skin.pm line 114
	Reaction::UI::Skin::_create_layout_set(Reaction::UI::Skin=HASH(0xd2b8d54), "site_layout", ARRAY(0xd2b8604), Reaction::UI::Skin=HASH(0xd2b8d54)) called at /root/.cpan/build/Reaction-0.002005-3voQhw/blib/lib/Reaction/UI/Skin.pm line 110
	Reaction::UI::Skin::create_layout_set(Reaction::UI::Skin=HASH(0xd2b8d54), "site_layout") called at /opt/perl430-27-O0-5.8.8/lib/site_perl/5.8.8/i686-linux-thread-multi-64int-ld/Moose/Meta/Method/Delegation.pm line 109
	Reaction::UI::View::create_layout_set(ComponentUI::View::Site=HASH(0xcde9400), "site_layout") called at /root/.cpan/build/Reaction-0.002005-3voQhw/blib/lib/Reaction/UI/View.pm line 99
	Reaction::UI::View::layout_set_for(ComponentUI::View::Site=HASH(0xcde9400), Reaction::UI::ViewPort::SiteLayout=HASH(0xd0a1c18)) called at /root/.cpan/build/Reaction-0.002005-3voQhw/blib/lib/Reaction/UI/View.pm line 78
	Reaction::UI::View::render_viewport_args(ComponentUI::View::Site=HASH(0xcde9400), Reaction::UI::ViewPort::SiteLayout=HASH(0xd0a1c18)) called at /root/.cpan/build/Reaction-0.002005-3voQhw/blib/lib/Reaction/UI/View.pm line 61
	Reaction::UI::View::render_window(ComponentUI::View::Site=HASH(0xcde9400), Reaction::UI::Window=HASH(0xd09f728)) called at /root/.cpan/build/Reaction-0.002005-3voQhw/blib/lib/Reaction/UI/Window.pm line 74
	Reaction::UI::Window::flush_view(Reaction::UI::Window=HASH(0xd09f728)) called at /root/.cpan/build/Reaction-0.002005-3voQhw/blib/lib/Reaction/UI/Window.pm line 36
	Reaction::UI::Window::flush(Reaction::UI::Window=HASH(0xd09f728)) called at /root/.cpan/build/Reaction-0.002005-3voQhw/blib/lib/Reaction/UI/Controller/Root.pm line 38
	Reaction::UI::Controller::Root::end(ComponentUI::Controller::Root=HASH(0xd09f7e8), ComponentUI=HASH(0xd08cd68)) called at /opt/perl430-27-O0-5.8.8/lib/site_perl/5.8.8/Catalyst/Action.pm line 65
	Catalyst::Action::execute(Catalyst::Action=HASH(0xcf68b7c), ComponentUI::Controller::Root=HASH(0xd09f7e8), ComponentUI=HASH(0xd08cd68)) called at /opt/perl430-27-O0-5.8.8/lib/site_perl/5.8.8/Catalyst.pm line 1770
	eval {...} called at /opt/perl430-27-O0-5.8.8/lib/site_perl/5.8.8/Catalyst.pm line 1770
	Catalyst::execute(ComponentUI=HASH(0xd08cd68), "ComponentUI::Controller::Root", Catalyst::Action=HASH(0xcf68b7c)) called at /opt/perl430-27-O0-5.8.8/lib/site_perl/5.8.8/Catalyst/Action.pm line 60
	Catalyst::Action::dispatch(Catalyst::Action=HASH(0xcf68b7c), ComponentUI=HASH(0xd08cd68)) called at /opt/perl430-27-O0-5.8.8/lib/site_perl/5.8.8/Catalyst/Controller.pm line 174
	Catalyst::Controller::_END(ComponentUI::Controller::TestModel::Baz=HASH(0xd09a9f4), ComponentUI=HASH(0xd08cd68)) called at /opt/perl430-27-O0-5.8.8/lib/site_perl/5.8.8/Catalyst/Action.pm line 65
	Catalyst::Action::execute(Catalyst::Action=HASH(0xcee87cc), ComponentUI::Controller::TestModel::Baz=HASH(0xd09a9f4), ComponentUI=HASH(0xd08cd68)) called at /opt/perl430-27-O0-5.8.8/lib/site_perl/5.8.8/Catalyst.pm line 1770
	eval {...} called at /opt/perl430-27-O0-5.8.8/lib/site_perl/5.8.8/Catalyst.pm line 1770
	Catalyst::execute(ComponentUI=HASH(0xd08cd68), "ComponentUI::Controller::TestModel::Baz", Catalyst::Action=HASH(0xcee87cc)) called at /opt/perl430-27-O0-5.8.8/lib/site_perl/5.8.8/Catalyst/Action.pm line 60
	Catalyst::Action::dispatch(Catalyst::Action=HASH(0xcee87cc), ComponentUI=HASH(0xd08cd68)) called at /opt/perl430-27-O0-5.8.8/lib/site_perl/5.8.8/Catalyst/Dispatcher.pm line 258
	Catalyst::Dispatcher::_do_forward(Catalyst::Dispatcher=HASH(0xa497304), "forward", ComponentUI=HASH(0xd08cd68), "_END") called at /opt/perl430-27-O0-5.8.8/lib/site_perl/5.8.8/Catalyst/Dispatcher.pm line 238
	Catalyst::Dispatcher::forward(Catalyst::Dispatcher=HASH(0xa497304), ComponentUI=HASH(0xd08cd68), "_END") called at /opt/perl430-27-O0-5.8.8/lib/site_perl/5.8.8/Catalyst.pm line 398
	Catalyst::forward(ComponentUI=HASH(0xd08cd68), "_END") called at /opt/perl430-27-O0-5.8.8/lib/site_perl/5.8.8/Catalyst/Controller.pm line 138
	Catalyst::Controller::_DISPATCH(ComponentUI::Controller::TestModel::Baz=HASH(0xd09a9f4), ComponentUI=HASH(0xd08cd68)) called at /opt/perl430-27-O0-5.8.8/lib/site_perl/5.8.8/Catalyst/Action.pm line 65
	Catalyst::Action::execute(Catalyst::Action=HASH(0xcee526c), ComponentUI::Controller::TestModel::Baz=HASH(0xd09a9f4), ComponentUI=HASH(0xd08cd68)) called at /opt/perl430-27-O0-5.8.8/lib/site_perl/5.8.8/Catalyst.pm line 1770
	eval {...} called at /opt/perl430-27-O0-5.8.8/lib/site_perl/5.8.8/Catalyst.pm line 1770
	Catalyst::execute(ComponentUI=HASH(0xd08cd68), "ComponentUI::Controller::TestModel::Baz", Catalyst::Action=HASH(0xcee526c)) called at /opt/perl430-27-O0-5.8.8/lib/site_perl/5.8.8/Catalyst/Action.pm line 60
	Catalyst::Action::dispatch(Catalyst::Action=HASH(0xcee526c), ComponentUI=HASH(0xd08cd68)) called at /opt/perl430-27-O0-5.8.8/lib/site_perl/5.8.8/Catalyst/Dispatcher.pm line 258
	Catalyst::Dispatcher::_do_forward(Catalyst::Dispatcher=HASH(0xa497304), "forward", ComponentUI=HASH(0xd08cd68), "/testmodel/baz/_DISPATCH") called at /opt/perl430-27-O0-5.8.8/lib/site_perl/5.8.8/Catalyst/Dispatcher.pm line 238
	Catalyst::Dispatcher::forward(Catalyst::Dispatcher=HASH(0xa497304), ComponentUI=HASH(0xd08cd68), "/testmodel/baz/_DISPATCH") called at /opt/perl430-27-O0-5.8.8/lib/site_perl/5.8.8/Catalyst.pm line 398
	Catalyst::forward(ComponentUI=HASH(0xd08cd68), "/testmodel/baz/_DISPATCH") called at /opt/perl430-27-O0-5.8.8/lib/site_perl/5.8.8/Catalyst/Dispatcher.pm line 106
	Catalyst::Dispatcher::dispatch(Catalyst::Dispatcher=HASH(0xa497304), ComponentUI=HASH(0xd08cd68)) called at /opt/perl430-27-O0-5.8.8/lib/site_perl/5.8.8/Catalyst.pm line 1716
	Catalyst::dispatch(ComponentUI=HASH(0xd08cd68)) called at /opt/perl430-27-O0-5.8.8/lib/site_perl/5.8.8/Catalyst/Plugin/Static/Simple.pm line 86
	Class::MOP::Class:::around(CODE(0xa39bbc8), ComponentUI=HASH(0xd08cd68)) called at /opt/perl430-27-O0-5.8.8/lib/site_perl/5.8.8/i686-linux-thread-multi-64int-ld/Class/MOP/Method/Wrapped.pm line 157
	Class::MOP::Method::Wrapped::__ANON__(ComponentUI=HASH(0xd08cd68)) called at /opt/perl430-27-O0-5.8.8/lib/site_perl/5.8.8/i686-linux-thread-multi-64int-ld/Class/MOP/Method/Wrapped.pm line 86
	ComponentUI::dispatch(ComponentUI=HASH(0xd08cd68)) called at /opt/perl430-27-O0-5.8.8/lib/site_perl/5.8.8/Catalyst.pm line 2100
	Catalyst::try {...} () called at /opt/perl430-27-O0-5.8.8/lib/site_perl/5.8.8/Try/Tiny.pm line 81
	eval {...} called at /opt/perl430-27-O0-5.8.8/lib/site_perl/5.8.8/Try/Tiny.pm line 72
	Try::Tiny::try(CODE(0xd08c90c), Try::Tiny::Catch=REF(0xd0557d0)) called at /opt/perl430-27-O0-5.8.8/lib/site_perl/5.8.8/Catalyst.pm line 2109
	Catalyst::handle_request("ComponentUI", "env", HASH(0xd0872e4), "response_cb", CODE(0xd08c834)) called at /opt/perl430-27-O0-5.8.8/lib/site_perl/5.8.8/Catalyst/Engine.pm line 798
	Catalyst::Engine::__ANON__(CODE(0xd08c834)) called at /opt/perl430-27-O0-5.8.8/lib/site_perl/5.8.8/Plack/Middleware/HTTPExceptions.pm line 32
	Plack::Middleware::HTTPExceptions::try {...} () called at /opt/perl430-27-O0-5.8.8/lib/site_perl/5.8.8/Try/Tiny.pm line 81
	eval {...} called at /opt/perl430-27-O0-5.8.8/lib/site_perl/5.8.8/Try/Tiny.pm line 72
	Try::Tiny::try(CODE(0xd055698), Try::Tiny::Catch=REF(0xd087710)) called at /opt/perl430-27-O0-5.8.8/lib/site_perl/5.8.8/Plack/Middleware/HTTPExceptions.pm line 41
	Plack::Middleware::HTTPExceptions::__ANON__(CODE(0xd055524)) called at /opt/perl430-27-O0-5.8.8/lib/site_perl/5.8.8/Plack/Util.pm line 301
	Plack::Util::__ANON__(CODE(0xd0553b0)) called at /opt/perl430-27-O0-5.8.8/lib/site_perl/5.8.8/Plack/Util.pm line 301
	Plack::Util::__ANON__(CODE(0xd05523c)) called at /opt/perl430-27-O0-5.8.8/lib/site_perl/5.8.8/Plack/Util.pm line 301
	Plack::Util::__ANON__(CODE(0xd0551e8)) called at /opt/perl430-27-O0-5.8.8/lib/site_perl/5.8.8/HTTP/Message/PSGI.pm line 100
	HTTP::Message::PSGI::res_from_psgi(CODE(0xd054bb8)) called at /opt/perl430-27-O0-5.8.8/lib/site_perl/5.8.8/HTTP/Message/PSGI.pm line 156
	HTTP::Response::from_psgi("HTTP::Response", CODE(0xd054bb8)) called at /opt/perl430-27-O0-5.8.8/lib/site_perl/5.8.8/Plack/Test/MockHTTP.pm line 24
	Plack::Test::MockHTTP::try {...} () called at /opt/perl430-27-O0-5.8.8/lib/site_perl/5.8.8/Try/Tiny.pm line 76
	eval {...} called at /opt/perl430-27-O0-5.8.8/lib/site_perl/5.8.8/Try/Tiny.pm line 72
	Try::Tiny::try(CODE(0xd04aa0c), Try::Tiny::Catch=REF(0xcf4de64)) called at /opt/perl430-27-O0-5.8.8/lib/site_perl/5.8.8/Plack/Test/MockHTTP.pm line 27
	Plack::Test::MockHTTP::request(Plack::Test::MockHTTP=HASH(0xd04a700), HTTP::Request=HASH(0xd03e098)) called at /opt/perl430-27-O0-5.8.8/lib/site_perl/5.8.8/Plack/Test.pm line 38
	Plack::Test::__ANON__(HTTP::Request=HASH(0xd03e098)) called at /opt/perl430-27-O0-5.8.8/lib/site_perl/5.8.8/Catalyst/Test.pm line 281
	Catalyst::Test::__ANON__(CODE(0xd04a634)) called at /opt/perl430-27-O0-5.8.8/lib/site_perl/5.8.8/Plack/Test.pm line 38
	Plack::Test::test_psgi("app", CODE(0xd04a358), "mangle_response", CODE(0x9c2f248), "app", CODE(0xd04a520), "client", CODE(0xd04a58c)) called at /opt/perl430-27-O0-5.8.8/lib/site_perl/5.8.8/Catalyst/Test.pm line 284
	Catalyst::Test::_request(HASH(0xd04a328), HTTP::Request=HASH(0xd03e098)) called at /opt/perl430-27-O0-5.8.8/lib/site_perl/5.8.8/Catalyst/Test.pm line 327
	Catalyst::Test::_local_request("ComponentUI", HTTP::Request=HASH(0xd03e098)) called at /opt/perl430-27-O0-5.8.8/lib/site_perl/5.8.8/Test/WWW/Mechanize/Catalyst.pm line 174
	Test::WWW::Mechanize::Catalyst::_do_catalyst_request(Test::WWW::Mechanize::Catalyst=HASH(0xcf75840), HTTP::Request=HASH(0xd03e098)) called at /opt/perl430-27-O0-5.8.8/lib/site_perl/5.8.8/Test/WWW/Mechanize/Catalyst.pm line 78
	Test::WWW::Mechanize::Catalyst::_make_request(Test::WWW::Mechanize::Catalyst=HASH(0xcf75840), HTTP::Request=HASH(0xd03e098)) called at /opt/perl430-27-O0-5.8.8/lib/site_perl/5.8.8/WWW/Mechanize.pm line 2312
	WWW::Mechanize::request(Test::WWW::Mechanize::Catalyst=HASH(0xcf75840), HTTP::Request=HASH(0xd03e098)) called at /opt/perl430-27-O0-5.8.8/lib/site_perl/5.8.8/LWP/UserAgent.pm line 411
	LWP::UserAgent::get(Test::WWW::Mechanize::Catalyst=HASH(0xcf75840), "http://localhost/testmodel/baz/id/1/update") called at /opt/perl430-27-O0-5.8.8/lib/site_perl/5.8.8/WWW/Mechanize.pm line 407
	WWW::Mechanize::get(Test::WWW::Mechanize::Catalyst=HASH(0xcf75840), "http://localhost/testmodel/baz/id/1/update") called at /opt/perl430-27-O0-5.8.8/lib/site_perl/5.8.8/Test/WWW/Mechanize.pm line 159
	Test::WWW::Mechanize::get_ok(Test::WWW::Mechanize::Catalyst=HASH(0xcf75840), "http://localhost/testmodel/baz/id/1/update") called at t/uncheck_bool_field.t line 9
t/uncheck_bool_field.t ...... ok
All tests successful.
Files=9, Tests=604, 140 wallclock secs ( 0.52 usr  0.05 sys + 129.81 cusr  2.80 csys = 133.18 CPU)
Result: PASS

------------------------------
PREREQUISITES
------------------------------

Prerequisite modules loaded:

requires:

    Module                                  Need      Have       
    --------------------------------------- --------- -----------
    aliased                                 0.22      0.31       
    Catalyst                                5.80002   5.90075    
    Catalyst::Component::ACCEPT_CONTEXT     0.05      0.07       
    Catalyst::Component::InstancePerContext 0.001001  0.001001   
    Catalyst::Model::DBIC::Schema           0.23      0.65       
    Catalyst::Plugin::ConfigLoader          0.23      0.34       
    Catalyst::Plugin::I18N                  0.09      0.10       
    Catalyst::Plugin::Static::Simple        0.21      0.32       
    Catalyst::View::TT                      0.29      0.41       
    Class::MOP                              0.81      2.1213     
    Config::General                         2.42      2.56       
    Crypt::Eksblowfish::Bcrypt              0.005     0.009      
    DateTime                                0.47      1.12       
    DateTime::Event::Recurrence             0.16      0.16       
    DateTime::Span                          0         0          
    DBIx::Class                             0.08100   0.082801_01
    DBIx::Class::IntrospectableM2M          0.001001  0.001001   
    Devel::Declare                          0.005000  0.006017   
    Email::Valid                            0.181     1.195      
    ExtUtils::MakeMaker                     6.11      6.98       
    File::ShareDir                          1.00      1.102      
    File::Spec                              3.29      3.47       
    JSON                                    0         2.90       
    metaclass                               0.81      2.1213     
    Method::Signatures::Simple              0.03      1.07       
    Moose                                   0.74      2.1213     
    MooseX::MethodAttributes                0.18      0.29       
    MooseX::Role::Parameterized             0.24      1.08       
    MooseX::Types                           0.10      0.45       
    MooseX::Types::Common                   0.001000  0.001012   
    MooseX::Types::DateTime                 0.03      0.10       
    MooseX::Types::URI                      0.02      0.07       
    namespace::clean                        0.11      0.25       
    Path::Class::Dir                        0         0.35       
    Path::Class::File                       0         0.35       
    perl                                    5.008001  5.008008   
    Scalar::Util                            1.19      1.41       
    signatures                              0.05      0.09       
    SQL::Translator                         0.11002   0.11020    
    Sub::Exporter                           0.982     0.987      
    Sub::Name                               0.04      0.12       
    Template                                2.20      2.26       
    Test::Class                             0.31      0.47       
    Test::Memory::Cycle                     1.04      1.04       
    Test::WWW::Mechanize::Catalyst          0.51      0.59       
    Time::ParseDate                         2006.0814 2013.1113  
    URI                                     1.37      1.64       

build_requires:

    Module                                  Need      Have       
    --------------------------------------- --------- -----------
    ExtUtils::MakeMaker                     6.42      6.98       
    SQL::Translator                         0.11002   0.11020    
    Test::Class                             0.31      0.47       
    Test::Memory::Cycle                     1.04      1.04       
    Test::WWW::Mechanize::Catalyst          0.51      0.59       

configure_requires:

    Module                                  Need      Have       
    --------------------------------------- --------- -----------
    ExtUtils::MakeMaker                     6.42      6.98       


------------------------------
ENVIRONMENT AND OTHER CONTEXT
------------------------------

Environment variables:

    AUTOMATED_TESTING = 1
    LANG = en_US.utf8
    NONINTERACTIVE_TESTING = 1
    PATH = /usr/lib/qt-3.3/bin:/usr/kerberos/sbin:/usr/kerberos/bin:/usr/lib/ccache:/usr/local/sbin:/usr/sbin:/sbin:/usr/local/bin:/usr/bin:/bin:/opt/real/RealPlayer:/root/bin:/opt/real/RealPlayer
    PERL5LIB = 
    PERL5OPT = 
    PERL5_CPANPLUS_IS_RUNNING = 31451
    PERL5_CPAN_IS_RUNNING = 31451
    PERL_MM_USE_DEFAULT = 1
    SHELL = /bin/bash
    TERM = xterm

Perl special variables (and OS-specific diagnostics, for MSWin32):

    $^X = /opt/perl430-27-O0-5.8.8/bin/perl
    $UID/$EUID = 0 / 0
    $GID = 0 10 6 4 3 2 1 0
    $EGID = 0 10 6 4 3 2 1 0

Perl module toolchain versions installed:

    Module              Have    
    ------------------- --------
    CPAN                2.05    
    CPAN::Meta          2.142690
    Cwd                 3.47    
    ExtUtils::CBuilder  0.280220
    ExtUtils::Command   1.18    
    ExtUtils::Install   2.04    
    ExtUtils::MakeMaker 6.98    
    ExtUtils::Manifest  1.68    
    ExtUtils::ParseXS   3.24    
    File::Spec          3.47    
    JSON                2.90    
    JSON::PP            2.27300 
    Module::Build       0.4210  
    Module::Signature   0.73    
    Parse::CPAN::Meta   1.4414  
    Test::Harness       3.33    
    Test::More          1.001008
    YAML                1.13    
    YAML::Syck          1.27    
    version             0.9909  


--

Summary of my perl5 (revision 5 version 8 subversion 8) configuration:
  Platform:
    osname=linux, osvers=2.6.27.25-78.2.56.fc9.i686, archname=i686-linux-thread-multi-64int-ld
    uname='linux localhost.localdomain 2.6.27.25-78.2.56.fc9.i686 #1 smp thu jun 18 12:47:50 edt 2009 i686 i686 i386 gnulinux '
    config_args='-Dcc=gcc -Dprefix=/opt/perl430-27-O0-5.8.8 -DDEBUGGING'
    hint=recommended, useposix=true, d_sigaction=define
    usethreads=define use5005threads=undef useithreads=define usemultiplicity=define
    useperlio=define d_sfio=undef uselargefiles=define usesocks=undef
    use64bitint=define use64bitall=undef uselongdouble=define
    usemymalloc=y, bincompat5005=undef
  Compiler:
    cc='gcc', ccflags ='-D_REENTRANT -D_GNU_SOURCE -DTHREADS_HAVE_PIDS -fno-strict-aliasing -pipe -Wdeclaration-after-statement -I/usr/local/include -D_LARGEFILE_SOURCE -D_FILE_OFFSET_BITS=64 -I/usr/include/gdbm',
    optimize='-O0',
    cppflags='-D_REENTRANT -D_GNU_SOURCE -DTHREADS_HAVE_PIDS -fno-strict-aliasing -pipe -Wdeclaration-after-statement -I/usr/local/include -I/usr/include/gdbm'
    ccversion='', gccversion='4.3.0 20080428 (Red Hat 4.3.0-8)', gccosandvers=''
    intsize=4, longsize=4, ptrsize=4, doublesize=8, byteorder=12345678
    d_longlong=define, longlongsize=8, d_longdbl=define, longdblsize=12
    ivtype='long long', ivsize=8, nvtype='long double', nvsize=12, Off_t='off_t', lseeksize=8
    alignbytes=4, prototype=define
  Linker and Libraries:
    ld='gcc', ldflags =' -L/usr/local/lib'
    libpth=/usr/local/lib /lib /usr/lib
    libs=-lnsl -lgdbm -ldb -ldl -lm -lcrypt -lutil -lpthread -lc
    perllibs=-lnsl -ldl -lm -lcrypt -lutil -lpthread -lc
    libc=/lib/libc-2.8.so, so=so, useshrplib=true, libperl=libperl.so
    gnulibc_version='2.8'
  Dynamic Linking:
    dlsrc=dl_dlopen.xs, dlext=so, d_dlsymun=undef, ccdlflags='-Wl,-E -Wl,-rpath,/opt/perl430-27-O0-5.8.8/lib/5.8.8/i686-linux-thread-multi-64int-ld/CORE'
    cccdlflags='-fpic', lddlflags='-shared -L/usr/local/lib'


Characteristics of this binary (from libperl): 
  Compile-time options: MULTIPLICITY MYMALLOC PERL_IMPLICIT_CONTEXT
                        PERL_MALLOC_WRAP THREADS_HAVE_PIDS USE_64_BIT_INT
                        USE_ITHREADS USE_LARGE_FILES USE_LONG_DOUBLE
                        USE_PERLIO USE_REENTRANT_API
  Built under linux
  Compiled at Oct  7 2014 11:41:24
  %ENV:
    PERL5LIB=""
    PERL5OPT=""
    PERL5_CPANPLUS_IS_RUNNING="31451"
    PERL5_CPAN_IS_RUNNING="31451"
    PERL_MM_USE_DEFAULT="1"
  @INC:
    /opt/perl430-27-O0-5.8.8/lib/5.8.8/i686-linux-thread-multi-64int-ld
    /opt/perl430-27-O0-5.8.8/lib/5.8.8
    /opt/perl430-27-O0-5.8.8/lib/site_perl/5.8.8/i686-linux-thread-multi-64int-ld
    /opt/perl430-27-O0-5.8.8/lib/site_perl/5.8.8
    /opt/perl430-27-O0-5.8.8/lib/site_perl
    .