IO-Socket-SSL v2.085 Perl 5 v5.18.3 OpenBSD.amd64-openbsd-thread-multi
- Status
- Pass
- From
- Chris Williams (BINGOS)
- Dist
-
IO-Socket-SSL v2.085
- Platform
- Perl 5 v5.18.3 OpenBSD.amd64-openbsd-thread-multi
- Date
- 2024-02-18 14:22:09
- ID
- 19a600b8-ce69-11ee-98b0-b3c3213a625c
This distribution has been tested as part of the CPAN Testers
project, supporting the Perl programming language. See
http://wiki.cpantesters.org/ for more information or email
questions to cpan-testers-discuss@perl.org
--
Dear Steffen Ullrich,
This is a computer-generated error report created automatically by
CPANPLUS, version 0.9914. Testers personal comments may appear
at the end of this report.
Thank you for uploading your work to CPAN. Congratulations!
All tests were successful.
TEST RESULTS:
Below is the error stack from stage 'make test':
PERL_DL_NONLAZY=1 "/home/cpan/pit/thr/perl-5.18.3/bin/perl" "-MExtUtils::Command::MM" "-MTest::Harness" "-e" "undef *Test::Harness::Switches; test_harness(0, 'blib/lib', 'blib/arch')" t/*.t t/external/*.t
# openssl version compiled=0x20000000 linked=0x20000000 -- LibreSSL 3.7.2
# Net::SSLeay version=1.94
# parent IO::Socket::INET version=1.33
t/01loadmodule.t .................. ok
t/acceptSSL-timeout.t ............. ok
t/alpn.t .......................... ok
t/auto_verify_hostname.t .......... ok
t/cert_formats.t .................. ok
t/cert_no_file.t .................. ok
t/compatibility.t ................. ok
t/connectSSL-timeout.t ............ ok
t/core.t .......................... ok
t/dhe.t ........................... ok
t/ecdhe.t ......................... ok
# tcp connect to www.chksum.de:443 ok
# fingerprint matches
# validation with default CA w/o OCSP ok
# got stapled response as expected
# validation with default CA with OCSP defaults ok
# validation with default CA with OCSP full chain ok
# tcp connect to www.bild.de:443 ok
# fingerprint matches
# validation with default CA w/o OCSP ok
# validation with default CA with OCSP defaults ok
# validation with default CA with OCSP full chain ok
# tcp connect to revoked.grc.com:443 ok
t/external/ocsp.t ................. ok
# found 133 CA certs
# have root CA for www.bild.de in store
# 5 connections to www.bild.de ok
# have root CA for www.yahoo.com in store
# 5 connections to www.yahoo.com ok
# have root CA for www.comdirect.de in store
# 5 connections to www.comdirect.de ok
# fingerprint www.comdirect.de matches
# have root CA for meine.deutsche-bank.de in store
# 5 connections to meine.deutsche-bank.de ok
# fingerprint meine.deutsche-bank.de matches
# have root CA for www.twitter.com in store
# 5 connections to www.twitter.com ok
# have root CA for www.facebook.com in store
# 5 connections to www.facebook.com ok
# have root CA for www.live.com in store
# 5 connections to www.live.com ok
# fingerprint www.live.com matches
t/external/usable_ca.t ............ ok
t/io-socket-inet6.t ............... skipped: no IO::Socket::INET6 available
t/io-socket-ip.t .................. skipped: usable IO::Socket::IP is not available
t/memleak_bad_handshake.t ......... ok
t/mitm.t .......................... ok
t/multiple-cert-rsa-ecc.t ......... ok
t/nonblock.t ...................... ok
t/npn.t ........................... skipped: NPN not available in Net::SSLeay
# -- test: newINET start_SSL stop_SSL start_SSL
# server accepted new client
# wait for initial data from client
# got 0x666f6f from client
# server: got plain data at start of connection
# server: TLS upgrade
# server: TLS downgrade
# server: TLS upgrade#2
# -- test: newSSL stop_SSL connect_SSL
# server accepted new client
# wait for initial data from client
# got 0x160303 from client
# server: TLS upgrade
# server: TLS downgrade
# server: TLS upgrade#2
# -- test: newSSL:0 connect_SSL stop_SSL connect_SSL
# server accepted new client
# wait for initial data from client
# got 0x666f6f from client
# server: got plain data at start of connection
# server: TLS upgrade
# server: TLS downgrade
# server: TLS upgrade#2
# -- test: newSSL:0 start_SSL stop_SSL connect_SSL
# server accepted new client
# wait for initial data from client
# got 0x666f6f from client
# server: got plain data at start of connection
# server: TLS upgrade
# server: TLS downgrade
# server: TLS upgrade#2
# server accepted new client
# wait for initial data from client
# got 0x656e64 from client
# client requested end of tests
t/plain_upgrade_downgrade.t ....... ok
# looks like OpenSSL was compiled without SSLv3 support
t/protocol_version.t .............. ok
t/public_suffix_lib_encode_idn.t .. ok
t/public_suffix_lib_libidn.t ...... ok
t/public_suffix_lib_uri.t ......... ok
t/public_suffix_ssl.t ............. ok
t/readline.t ...................... ok
t/session_cache.t ................. ok
# listen at 127.0.0.1:15495
# listen at 127.0.0.1:32624
# connect to 0: success reuse=0 version=TLSv1_2
# connect to 0: success reuse=1 version=TLSv1_2
# connect to 1: success reuse=1 version=TLSv1_2
# connect to 1: success reuse=0 version=TLSv1_2
# connect to 0: success reuse=0 version=TLSv1_2
# connect to 0: success reuse=1 version=TLSv1_2
t/session_ticket.t ................ ok
t/sessions.t ...................... ok
t/set_curves.t .................... ok
t/signal-readline.t ............... ok
t/sni.t ........................... ok
t/sni_verify.t .................... ok
t/start-stopssl.t ................. ok
t/startssl-failed.t ............... ok
t/startssl.t ...................... ok
t/sysread_write.t ................. ok
t/verify_fingerprint.t ............ ok
t/verify_hostname.t ............... ok
t/verify_hostname_standalone.t .... ok
t/verify_partial_chain.t .......... ok
All tests successful.
Files=42, Tests=800, 63 wallclock secs ( 0.36 usr 0.25 sys + 9.68 cusr 2.61 csys = 12.90 CPU)
Result: PASS
PREREQUISITES:
Here is a list of prerequisites you specified and versions we
managed to load:
Module Name Have Want
ExtUtils::MakeMaker 7.70 0
Net::SSLeay 1.94 1.46
Scalar::Util 1.27 0
Perl module toolchain versions installed:
Module Name Have
CPANPLUS 0.9914
CPANPLUS::Dist::Build 0.90
Cwd 3.75
ExtUtils::CBuilder 0.280236
ExtUtils::Command 7.70
ExtUtils::Install 2.22
ExtUtils::MakeMaker 7.70
ExtUtils::Manifest 1.75
ExtUtils::ParseXS 3.51
File::Spec 3.75
Module::Build 0.4234
Pod::Parser 1.60
Pod::Simple 3.28
Test2 1.302198
Test::Harness 3.48
Test::More 1.302198
version 0.9930
******************************** NOTE ********************************
The comments above are created mechanically, possibly without manual
checking by the sender. As there are many people performing automatic
tests on each upload to CPAN, it is likely that you will receive
identical messages about the same problem.
If you believe that the message is mistaken, please reply to the first
one with correction and/or additional informations, and do not take
it personally. We appreciate your patience. :)
**********************************************************************
Additional comments:
This report was machine-generated by CPANPLUS::Dist::YACSmoke 1.08.
Powered by minismokebox version 0.68
CPANPLUS is prefering Build.PL
------------------------------
ENVIRONMENT AND OTHER CONTEXT
------------------------------
Environment variables:
AUTOMATED_TESTING = 1
NONINTERACTIVE_TESTING = 1
PATH = /home/cpan/bin:/bin:/sbin:/usr/bin:/usr/sbin:/usr/X11R6/bin:/usr/local/bin:/usr/local/sbin
PERL5LIB = /home/cpan/pit/jail/IBmyFOEUeX/lib/perl5:/home/cpan/pit/thr/conf/perl-5.18.3/.cpanplus/5.18.3/build/iB5sSNUMuK/IO-Socket-SSL-2.085/blib/lib:/home/cpan/pit/thr/conf/perl-5.18.3/.cpanplus/5.18.3/build/iB5sSNUMuK/IO-Socket-SSL-2.085/blib/arch
PERL5_CPANPLUS_IS_RUNNING = 96518
PERL5_CPANPLUS_IS_VERSION = 0.9914
PERL5_MINISMOKEBOX = 0.68
PERL5_YACSMOKE_BASE = /home/cpan/pit/thr/conf/perl-5.18.3
PERL_EXTUTILS_AUTOINSTALL = --defaultdeps
PERL_LOCAL_LIB_ROOT = /home/cpan/pit/jail/IBmyFOEUeX
PERL_MB_OPT = --install_base "/home/cpan/pit/jail/IBmyFOEUeX"
PERL_MM_OPT = INSTALL_BASE=/home/cpan/pit/jail/IBmyFOEUeX
PERL_MM_USE_DEFAULT = 1
PERL_USE_UNSAFE_INC = 1
SHELL = /usr/local/bin/bash
TERM = screen.xterm-256color
Perl special variables (and OS-specific diagnostics, for MSWin32):
Perl: $^X = /home/cpan/pit/thr/perl-5.18.3/bin/perl
UID: $< = 1001
EUID: $> = 1001
GID: $( = 1001 1001
EGID: $) = 1001 1001
-------------------------------
--
Summary of my perl5 (revision 5 version 18 subversion 3) configuration:
Platform:
osname=openbsd, osvers=7.3, archname=OpenBSD.amd64-openbsd-thread-multi
uname='openbsd overture.bingosnet.co.uk 7.3 generic#1072 amd64 '
config_args='-des -Dprefix=/home/cpan/pit/thr/perl-5.18.3 -Dusethreads'
hint=recommended, useposix=true, d_sigaction=define
useithreads=define, usemultiplicity=define
useperlio=define, d_sfio=undef, uselargefiles=define, usesocks=undef
use64bitint=define, use64bitall=define, uselongdouble=undef
usemymalloc=n, bincompat5005=undef
Compiler:
cc='cc', ccflags ='-pthread -fno-strict-aliasing -pipe -fstack-protector -I/usr/local/include',
optimize='-O2',
cppflags='-pthread -fno-strict-aliasing -pipe -fstack-protector -I/usr/local/include'
ccversion='', gccversion='OpenBSD Clang 13.0.0', gccosandvers=''
intsize=4, longsize=8, ptrsize=8, doublesize=8, byteorder=12345678
d_longlong=define, longlongsize=8, d_longdbl=define, longdblsize=16
ivtype='long', ivsize=8, nvtype='double', nvsize=8, Off_t='off_t', lseeksize=8
alignbytes=8, prototype=define
Linker and Libraries:
ld='cc', ldflags ='-pthread -Wl,-E -fstack-protector -L/usr/local/lib'
libpth=/usr/local/lib /usr/lib
libs=-lgdbm -lm -lutil -lc
perllibs=-lm -lutil -lc
libc=/usr/lib/libc.so.97.0, so=so, useshrplib=false, libperl=libperl.a
gnulibc_version=''
Dynamic Linking:
dlsrc=dl_dlopen.xs, dlext=so, d_dlsymun=undef, ccdlflags=' '
cccdlflags='-DPIC -fPIC ', lddlflags='-shared -fPIC -L/usr/local/lib -fstack-protector'
Characteristics of this binary (from libperl):
Compile-time options: HAS_TIMES MULTIPLICITY PERLIO_LAYERS
PERL_DONT_CREATE_GVSV
PERL_HASH_FUNC_ONE_AT_A_TIME_HARD
PERL_IMPLICIT_CONTEXT PERL_MALLOC_WRAP
PERL_PRESERVE_IVUV PERL_SAWAMPERSAND USE_64_BIT_ALL
USE_64_BIT_INT USE_ITHREADS USE_LARGE_FILES
USE_LOCALE USE_LOCALE_COLLATE USE_LOCALE_CTYPE
USE_LOCALE_NUMERIC USE_PERLIO USE_PERL_ATOF
USE_REENTRANT_API
Locally applied patches:
Devel::PatchPerl 2.08
Built under openbsd
Compiled at May 30 2023 06:06:40
%ENV:
PERL5LIB="/home/cpan/pit/jail/IBmyFOEUeX/lib/perl5:/home/cpan/pit/thr/conf/perl-5.18.3/.cpanplus/5.18.3/build/iB5sSNUMuK/IO-Socket-SSL-2.085/blib/lib:/home/cpan/pit/thr/conf/perl-5.18.3/.cpanplus/5.18.3/build/iB5sSNUMuK/IO-Socket-SSL-2.085/blib/arch"
PERL5_CPANPLUS_IS_RUNNING="96518"
PERL5_CPANPLUS_IS_VERSION="0.9914"
PERL5_MINISMOKEBOX="0.68"
PERL5_YACSMOKE_BASE="/home/cpan/pit/thr/conf/perl-5.18.3"
PERL_EXTUTILS_AUTOINSTALL="--defaultdeps"
PERL_LOCAL_LIB_ROOT="/home/cpan/pit/jail/IBmyFOEUeX"
PERL_MB_OPT="--install_base "/home/cpan/pit/jail/IBmyFOEUeX""
PERL_MM_OPT="INSTALL_BASE=/home/cpan/pit/jail/IBmyFOEUeX"
PERL_MM_USE_DEFAULT="1"
PERL_USE_UNSAFE_INC="1"
@INC:
/home/cpan/pit/jail/IBmyFOEUeX/lib/perl5/5.18.3/OpenBSD.amd64-openbsd-thread-multi
/home/cpan/pit/jail/IBmyFOEUeX/lib/perl5/5.18.3
/home/cpan/pit/jail/IBmyFOEUeX/lib/perl5/OpenBSD.amd64-openbsd-thread-multi
/home/cpan/pit/jail/IBmyFOEUeX/lib/perl5
/home/cpan/pit/thr/conf/perl-5.18.3/.cpanplus/5.18.3/build/iB5sSNUMuK/IO-Socket-SSL-2.085/blib/lib
/home/cpan/pit/thr/conf/perl-5.18.3/.cpanplus/5.18.3/build/iB5sSNUMuK/IO-Socket-SSL-2.085/blib/arch
/home/cpan/pit/thr/perl-5.18.3/lib/site_perl/5.18.3/OpenBSD.amd64-openbsd-thread-multi
/home/cpan/pit/thr/perl-5.18.3/lib/site_perl/5.18.3
/home/cpan/pit/thr/perl-5.18.3/lib/5.18.3/OpenBSD.amd64-openbsd-thread-multi
/home/cpan/pit/thr/perl-5.18.3/lib/5.18.3
.