File-DataClass v0.73.1 Perl 5 v5.36.1 RC2 x86_64-linux

Status
Pass
From
Andreas J. König (ANDK)
Dist
File-DataClass v0.73.1
Platform
Perl 5 v5.36.1 RC2 x86_64-linux
Date
2023-04-15 04:15:05
ID
198d35e2-db44-11ed-a6a6-09c26b45e3f2
This distribution has been tested as part of the CPAN Testers
project, supporting the Perl programming language.  See
http://wiki.cpantesters.org/ for more information or email
questions to cpan-testers-discuss@perl.org


--
Dear Peter Flanigan,

This is a computer-generated report for File-DataClass-0.73.1
on perl 5.36.1, created by CPAN-Reporter-1.2018.

Thank you for uploading your work to CPAN.  Congratulations!
All tests were successful.

Sections of this report:

    * Tester comments
    * Program output
    * Prerequisites
    * Environment and other context

------------------------------
TESTER COMMENTS
------------------------------

Additional comments from tester:

this report is from an automated smoke testing program
and was not reviewed by a human for accuracy

------------------------------
PROGRAM OUTPUT
------------------------------

Output from './Build test':


OS: linux, Host: k93focal

=== Environment variables ===

    $AUTHOR_TESTING                   undef
    $AUTOMATED_TESTING                1
    $EXTENDED_TESTING                 undef
    $NONINTERACTIVE_TESTING           undef
    $PERL_CPAN_REPORTER_CONFIG        undef
    $PERL_CR_SMOKER_CURRENT           undef
    $PERL5_CPAN_IS_RUNNING            2344
    $PERL5_CPANPLUS_IS_VERSION        undef
    $TEST_CRITIC                      undef
    $TEST_SPELLING                    undef

Versions for all modules listed in MYMETA.json (including optional ones):

=== Configure Requires ===

    Module          Want   Have
    ------------- ------ ------
    Module::Build 0.4004 0.4232
    version         0.88 0.9929

=== Build Requires ===

    Module          Want   Have
    ------------- ------ ------
    Module::Build 0.4004 0.4232
    version         0.88 0.9929

=== Test Requires ===

    Module             Want     Have
    ---------------- ------ --------
    Capture::Tiny      0.30     0.48
    File::Spec          any     3.84
    File::pushd        1.00    1.016
    Module::Build    0.4004   0.4232
    Module::Metadata    any 1.000037
    Path::Tiny        0.013    0.144
    Sys::Hostname       any     1.24
    Test::Deep        0.117    1.204
    Test::Requires     0.06     0.11
    Text::Diff         1.37     1.45
    version            0.88   0.9929

=== Test Recommends ===

    Module         Want     Have
    ---------- -------- --------
    CPAN::Meta 2.120900 2.150010

=== Runtime Requires ===

    Module                   Want     Have
    -------------------- -------- --------
    Cache::FastMmap          1.40     1.57
    Class::Null          2.110730 2.110730
    File::Path               2.09     2.18
    File::ReadBackwards      1.05     1.06
    Hash::Merge             0.200    0.302
    JSON::MaybeXS           1.003 1.004004
    Module::Pluggable         5.1      5.2
    Module::Runtime         0.014    0.016
    Moo                  2.000001 2.005005
    Sub::Install            0.928    0.929
    Subclass::Of            0.003    0.009
    Try::Tiny                0.22     0.31
    Type::Tiny           1.000002 2.004000
    Unexpected            v0.39.0    1.0.1
    boolean                  0.45     0.46
    namespace::autoclean     0.26     0.29
    namespace::clean         0.25     0.27

t/00report-metadata.t .. ok
t/02pod.t .............. skipped: POD test only for developers
t/03podcoverage.t ...... skipped: POD coverage test only for developers
t/05kwalitee.t ......... skipped: Kwalitee test only for developers
t/06yaml.t ............. skipped: YAML test only for developers
t/07podspelling.t ...... skipped: POD spelling test only for developers
t/10exception.t ........ ok
t/12types.t ............ ok
t/13functions.t ........ ok
t/15io.t ............... ok
t/17constraints.t ...... ok
t/20data-class.t ....... ok
t/21hash-merge.t ....... ok
t/50json.t ............. ok
All tests successful.
Files=14, Tests=198,  5 wallclock secs ( 0.05 usr  0.29 sys +  3.93 cusr  0.78 csys =  5.05 CPU)
Result: PASS

------------------------------
PREREQUISITES
------------------------------

Prerequisite modules loaded:

requires:

    Module               Need     Have    
    -------------------- -------- --------
    boolean              0.45     0.46    
    Cache::FastMmap      1.40     1.57    
    Class::Null          2.110730 2.110730
    File::Path           2.09     2.18    
    File::ReadBackwards  1.05     1.06    
    Hash::Merge          0.200    0.302   
    JSON::MaybeXS        1.003    1.004004
    Module::Pluggable    5.1      5.2     
    Module::Runtime      0.014    0.016   
    Moo                  2.000001 2.005005
    namespace::autoclean 0.26     0.29    
    namespace::clean     0.25     0.27    
    perl                 5.010001 5.036001
    Sub::Install         0.928    0.929   
    Subclass::Of         0.003    0.009   
    Try::Tiny            0.22     0.31    
    Type::Tiny           1.000002 2.004000
    Unexpected           v0.39.0  1.0.1   

build_requires:

    Module               Need     Have    
    -------------------- -------- --------
    Capture::Tiny        0.30     0.48    
    File::pushd          1.00     1.016   
    File::Spec           0        3.84    
    Module::Build        0.4004   0.4232  
    Module::Metadata     0        1.000037
    Path::Tiny           0.013    0.144   
    Sys::Hostname        0        1.24    
    Test::Deep           0.117    1.204   
    Test::Requires       0.06     0.11    
    Text::Diff           1.37     1.45    
    version              0.88     0.9929  

configure_requires:

    Module               Need     Have    
    -------------------- -------- --------
    Module::Build        0.4004   0.4232  
    version              0.88     0.9929  


------------------------------
ENVIRONMENT AND OTHER CONTEXT
------------------------------

Environment variables:

    AUTOMATED_TESTING = 1
    LANG = en_US.UTF-8
    PATH = /home/sand/bin:/usr/local/bin:/usr/local/sbin:/usr/sbin:/usr/bin:/sbin:/bin:/usr/games:/usr/local/games:/snap/bin:/usr/local/perl/bin:/usr/X11/bin
    PERL = /tmp/basesmoker-reloperl-i2ki/bin/perl
    PERL5LIB = /tmp/loop_over_bdir-2335-t_FVso/App-nrun-v1.1.2-0/blib/arch:/tmp/loop_over_bdir-2335-t_FVso/App-nrun-v1.1.2-0/blib/lib:/tmp/loop_over_bdir-2335-t_FVso/Net-ISP-Balance-1.31-0/blib/arch:/tmp/loop_over_bdir-2335-t_FVso/Net-ISP-Balance-1.31-0/blib/lib:/tmp/loop_over_bdir-2335-t_FVso/Simulation-Automate-1.0.1-0/blib/arch:/tmp/loop_over_bdir-2335-t_FVso/Simulation-Automate-1.0.1-0/blib/lib:/tmp/loop_over_bdir-2335-t_FVso/NoZone-1.3-0/blib/arch:/tmp/loop_over_bdir-2335-t_FVso/NoZone-1.3-0/blib/lib:/tmp/loop_over_bdir-2335-t_FVso/LCFG-Build-Skeleton-0.5.0-0/blib/arch:/tmp/loop_over_bdir-2335-t_FVso/LCFG-Build-Skeleton-0.5.0-0/blib/lib:/tmp/loop_over_bdir-2335-t_FVso/Devel-Required-0.16-0/blib/arch:/tmp/loop_over_bdir-2335-t_FVso/Devel-Required-0.16-0/blib/lib:/tmp/loop_over_bdir-2335-t_FVso/Dpkg-1.21.19-0/blib/arch:/tmp/loop_over_bdir-2335-t_FVso/Dpkg-1.21.19-0/blib/lib:/tmp/loop_over_bdir-2335-t_FVso/makepp-1.19-0/blib/arch:/tmp/loop_over_bdir-2335-t_FVso/makepp-1.19-0/blib/lib
    PERL5OPT = 
    PERL5_CPANPLUS_IS_RUNNING = 2344
    PERL5_CPAN_IS_RUNNING = 2344
    PERL_CANARY_STABILITY_NOPROMPT = 1
    PERL_MM_USE_DEFAULT = 1
    PERL_USE_UNSAFE_INC = 1
    SHELL = /usr/bin/zsh
    TERM = screen

Perl special variables (and OS-specific diagnostics, for MSWin32):

    $^X = /tmp/basesmoker-reloperl-i2ki/bin/perl
    $UID/$EUID = 1005 / 1005
    $GID = 1005 1005
    $EGID = 1005 1005

Perl module toolchain versions installed:

    Module              Have    
    ------------------- --------
    CPAN                2.34    
    CPAN::Meta          2.150010
    Cwd                 3.84    
    ExtUtils::CBuilder  0.280236
    ExtUtils::Command   7.70    
    ExtUtils::Install   2.20    
    ExtUtils::MakeMaker 7.70    
    ExtUtils::Manifest  1.73    
    ExtUtils::ParseXS   3.45    
    File::Spec          3.84    
    JSON                4.10    
    JSON::PP            4.16    
    Module::Build       0.4232  
    Module::Signature   0.88    
    Parse::CPAN::Meta   2.150010
    Test::Harness       3.44    
    Test::More          1.302194
    YAML                1.30    
    YAML::Syck          1.34    
    version             0.9929  


--

Summary of my perl5 (revision 5 version 36 subversion 1) configuration:
  Commit id: 2e60932a0e378da53c04b82e8983d9cef4dcacba
  Platform:
    osname=linux
    osvers=5.4.0-146-generic
    archname=x86_64-linux
    uname='linux k93focal 5.4.0-146-generic #163-ubuntu smp fri mar 17 18:26:02 utc 2023 x86_64 x86_64 x86_64 gnulinux '
    config_args='-Dprefix=/home/sand/src/perl/repoperls/installed-perls/host/k93focal/v5.36.1-RC2/b254 -Dmyhostname=k93focal -Dinstallusrbinperl=n -Uversiononly -Dusedevel -des -Ui_db -Dlibswanted=cl pthread socket inet nsl gdbm dbm malloc dl ld sun m crypt sec util c cposix posix ucb BSD gdbm_compat -Uuseithreads -Uuselongdouble -DEBUGGING=both'
    hint=recommended
    useposix=true
    d_sigaction=define
    useithreads=undef
    usemultiplicity=undef
    use64bitint=define
    use64bitall=define
    uselongdouble=undef
    usemymalloc=n
    default_inc_excludes_dot=define
  Compiler:
    cc='cc'
    ccflags ='-fwrapv -DDEBUGGING -fno-strict-aliasing -pipe -fstack-protector-strong -I/usr/local/include -D_LARGEFILE_SOURCE -D_FILE_OFFSET_BITS=64'
    optimize='-O2 -g'
    cppflags='-fwrapv -DDEBUGGING -fno-strict-aliasing -pipe -fstack-protector-strong -I/usr/local/include'
    ccversion=''
    gccversion='9.4.0'
    gccosandvers=''
    intsize=4
    longsize=8
    ptrsize=8
    doublesize=8
    byteorder=12345678
    doublekind=3
    d_longlong=define
    longlongsize=8
    d_longdbl=define
    longdblsize=16
    longdblkind=3
    ivtype='long'
    ivsize=8
    nvtype='double'
    nvsize=8
    Off_t='off_t'
    lseeksize=8
    alignbytes=8
    prototype=define
  Linker and Libraries:
    ld='cc'
    ldflags =' -fstack-protector-strong -L/usr/local/lib'
    libpth=/usr/local/lib /usr/lib/x86_64-linux-gnu /usr/lib /usr/lib64
    libs=-lpthread -lnsl -ldl -lm -lcrypt -lutil -lc
    perllibs=-lpthread -lnsl -ldl -lm -lcrypt -lutil -lc
    libc=libc-2.31.so
    so=so
    useshrplib=false
    libperl=libperl.a
    gnulibc_version='2.31'
  Dynamic Linking:
    dlsrc=dl_dlopen.xs
    dlext=so
    d_dlsymun=undef
    ccdlflags='-Wl,-E'
    cccdlflags='-fPIC'
    lddlflags='-shared -O2 -g -L/usr/local/lib -fstack-protector-strong'


Characteristics of this binary (from libperl): 
  Compile-time options:
    DEBUGGING
    HAS_TIMES
    PERLIO_LAYERS
    PERL_COPY_ON_WRITE
    PERL_DONT_CREATE_GVSV
    PERL_MALLOC_WRAP
    PERL_OP_PARENT
    PERL_PRESERVE_IVUV
    PERL_USE_DEVEL
    USE_64_BIT_ALL
    USE_64_BIT_INT
    USE_LARGE_FILES
    USE_LOCALE
    USE_LOCALE_COLLATE
    USE_LOCALE_CTYPE
    USE_LOCALE_NUMERIC
    USE_LOCALE_TIME
    USE_PERLIO
    USE_PERL_ATOF
  Locally applied patches:
    RC2
  Built under linux
  Compiled at Apr 12 2023 00:34:39
  %ENV:
    PERL="/tmp/basesmoker-reloperl-i2ki/bin/perl"
    PERL5LIB="/tmp/loop_over_bdir-2335-t_FVso/App-nrun-v1.1.2-0/blib/arch:/tmp/loop_over_bdir-2335-t_FVso/App-nrun-v1.1.2-0/blib/lib:/tmp/loop_over_bdir-2335-t_FVso/Net-ISP-Balance-1.31-0/blib/arch:/tmp/loop_over_bdir-2335-t_FVso/Net-ISP-Balance-1.31-0/blib/lib:/tmp/loop_over_bdir-2335-t_FVso/Simulation-Automate-1.0.1-0/blib/arch:/tmp/loop_over_bdir-2335-t_FVso/Simulation-Automate-1.0.1-0/blib/lib:/tmp/loop_over_bdir-2335-t_FVso/NoZone-1.3-0/blib/arch:/tmp/loop_over_bdir-2335-t_FVso/NoZone-1.3-0/blib/lib:/tmp/loop_over_bdir-2335-t_FVso/LCFG-Build-Skeleton-0.5.0-0/blib/arch:/tmp/loop_over_bdir-2335-t_FVso/LCFG-Build-Skeleton-0.5.0-0/blib/lib:/tmp/loop_over_bdir-2335-t_FVso/Devel-Required-0.16-0/blib/arch:/tmp/loop_over_bdir-2335-t_FVso/Devel-Required-0.16-0/blib/lib:/tmp/loop_over_bdir-2335-t_FVso/Dpkg-1.21.19-0/blib/arch:/tmp/loop_over_bdir-2335-t_FVso/Dpkg-1.21.19-0/blib/lib:/tmp/loop_over_bdir-2335-t_FVso/makepp-1.19-0/blib/arch:/tmp/loop_over_bdir-2335-t_FVso/makepp-1.19-0/blib/lib"
    PERL5OPT=""
    PERL5_CPANPLUS_IS_RUNNING="2344"
    PERL5_CPAN_IS_RUNNING="2344"
    PERL_CANARY_STABILITY_NOPROMPT="1"
    PERL_MM_USE_DEFAULT="1"
    PERL_USE_UNSAFE_INC="1"
  @INC:
    /tmp/loop_over_bdir-2335-t_FVso/App-nrun-v1.1.2-0/blib/arch
    /tmp/loop_over_bdir-2335-t_FVso/App-nrun-v1.1.2-0/blib/lib
    /tmp/loop_over_bdir-2335-t_FVso/Net-ISP-Balance-1.31-0/blib/arch
    /tmp/loop_over_bdir-2335-t_FVso/Net-ISP-Balance-1.31-0/blib/lib
    /tmp/loop_over_bdir-2335-t_FVso/Simulation-Automate-1.0.1-0/blib/arch
    /tmp/loop_over_bdir-2335-t_FVso/Simulation-Automate-1.0.1-0/blib/lib
    /tmp/loop_over_bdir-2335-t_FVso/NoZone-1.3-0/blib/arch
    /tmp/loop_over_bdir-2335-t_FVso/NoZone-1.3-0/blib/lib
    /tmp/loop_over_bdir-2335-t_FVso/LCFG-Build-Skeleton-0.5.0-0/blib/arch
    /tmp/loop_over_bdir-2335-t_FVso/LCFG-Build-Skeleton-0.5.0-0/blib/lib
    /tmp/loop_over_bdir-2335-t_FVso/Devel-Required-0.16-0/blib/arch
    /tmp/loop_over_bdir-2335-t_FVso/Devel-Required-0.16-0/blib/lib
    /tmp/loop_over_bdir-2335-t_FVso/Dpkg-1.21.19-0/blib/arch
    /tmp/loop_over_bdir-2335-t_FVso/Dpkg-1.21.19-0/blib/lib
    /tmp/loop_over_bdir-2335-t_FVso/makepp-1.19-0/blib/arch
    /tmp/loop_over_bdir-2335-t_FVso/makepp-1.19-0/blib/lib
    /home/sand/src/perl/repoperls/installed-perls/host/k93focal/v5.36.1-RC2/b254/lib/site_perl/5.36.1/x86_64-linux
    /home/sand/src/perl/repoperls/installed-perls/host/k93focal/v5.36.1-RC2/b254/lib/site_perl/5.36.1
    /home/sand/src/perl/repoperls/installed-perls/host/k93focal/v5.36.1-RC2/b254/lib/5.36.1/x86_64-linux
    /home/sand/src/perl/repoperls/installed-perls/host/k93focal/v5.36.1-RC2/b254/lib/5.36.1
    .