next-XS v1.0.7 Perl 5 v5.20.0 darwin-2level
- Status
- Pass
- From
- Neil Bowers
- Dist
-
next-XS v1.0.7
- Platform
- Perl 5 v5.20.0 darwin-2level
- Date
- 2021-05-24T15:31:24
- ID
- 197548ca-bca5-11eb-b712-9531e559c3fa
This distribution has been tested as part of the CPAN Testers
project, supporting the Perl programming language. See
http://wiki.cpantesters.org/ for more information or email
questions to cpan-testers-discuss@perl.org
--
Dear Oleg Pronin,
This is a computer-generated report for next-XS-1.0.7
on perl 5.20.0, created by CPAN-Reporter-1.2018.
Thank you for uploading your work to CPAN. Congratulations!
All tests were successful.
Sections of this report:
* Tester comments
* Program output
* Prerequisites
* Environment and other context
------------------------------
TESTER COMMENTS
------------------------------
Additional comments from tester:
none provided
------------------------------
PROGRAM OUTPUT
------------------------------
Output from '/usr/bin/make test':
"/usr/local/perl/520/bin/perl" -MExtUtils::Command::MM -e 'cp_nonempty' -- XS.bs blib/arch/auto/next/XS/XS.bs 644
PERL_DL_NONLAZY=1 "/usr/local/perl/520/bin/perl" "-MExtUtils::Command::MM" "-MTest::Harness" "-e" "undef *Test::Harness::Switches; test_harness(0, 'blib/lib', 'blib/arch')" t/*.t t/perl/*.t
t/00-use.t ................. ok
t/01-next-replace.t ........ ok
t/02-super.t ............... ok
t/perl/complex_c3.t ........ ok
t/perl/complex_c3_utf8.t ... ok
t/perl/next_edgecases.t .... ok
t/perl/next_goto.t ......... ok
t/perl/next_goto_utf8.t .... ok
t/perl/next_inanon.t ....... ok
t/perl/next_inanon_utf8.t .. ok
t/perl/next_ineval.t ....... ok
t/perl/next_ineval_utf8.t .. ok
t/perl/next_method.t ....... ok
t/perl/next_method_utf8.t .. ok
t/perl/next_NEXT.t ......... ok
t/perl/next_NEXT_utf8.t .... ok
t/perl/next_skip.t ......... ok
t/perl/next_skip_utf8.t .... ok
All tests successful.
Files=18, Tests=94, 2 wallclock secs ( 0.12 usr 0.06 sys + 0.92 cusr 0.24 csys = 1.34 CPU)
Result: PASS
------------------------------
PREREQUISITES
------------------------------
Prerequisite modules loaded:
requires:
Module Need Have
------------ -------- --------
perl 5.018000 5.020000
XS::Install v1.3.3 1.3.3
build_requires:
Module Need Have
------------ -------- --------
Test::Deep 0 1.120
Test::More 0 1.302177
Test::Simple 0.96 1.302177
configure_requires:
Module Need Have
------------ -------- --------
XS::Install v1.2.10 1.3.3
------------------------------
ENVIRONMENT AND OTHER CONTEXT
------------------------------
Environment variables:
PATH = /usr/local/apache/bin:/usr/local/bin:/usr/local/bin:/usr/bin:/bin:/usr/sbin:/sbin:/Applications/VMware Fusion.app/Contents/Public:/usr/local/go/bin:/opt/X11/bin:/usr/local/git/bin
PERL5LIB =
PERL5OPT =
PERL5_CPANPLUS_IS_RUNNING = 32680
PERL5_CPAN_IS_RUNNING = 32680
SHELL = /bin/sh
TERM = xterm
Perl special variables (and OS-specific diagnostics, for MSWin32):
$^X = /usr/local/perl/520/bin/perl
$UID/$EUID = 0 / 0
$GID = 0 0 1 2 3 4 5 8 9 12 20 29 61 80 701 702 33
$EGID = 0 0 1 2 3 4 5 8 9 12 20 29 61 80 701 702 33
Perl module toolchain versions installed:
Module Have
------------------- --------
CPAN 2.05
CPAN::Meta 2.143240
Cwd 3.47
ExtUtils::CBuilder 0.280216
ExtUtils::Command 7.62
ExtUtils::Install 2.06
ExtUtils::MakeMaker 7.62
ExtUtils::Manifest 1.70
ExtUtils::ParseXS 3.35
File::Spec 3.47
JSON 2.90
JSON::PP 2.27203
Module::Build 0.4205
Module::Signature 0.73
Parse::CPAN::Meta 1.4414
Test::Harness 3.30
Test::More 1.302177
YAML 0.90
YAML::Syck n/a
version 0.9908
--
Summary of my perl5 (revision 5 version 20 subversion 0) configuration:
Platform:
osname=darwin, osvers=12.5.0, archname=darwin-2level
uname='darwin tucumcari 12.5.0 darwin kernel version 12.5.0: sun sep 29 13:33:47 pdt 2013; root:xnu-2050.48.12~1release_x86_64 x86_64 '
config_args='-Dprefix=/usr/local/perl/520'
hint=recommended, useposix=true, d_sigaction=define
useithreads=undef, usemultiplicity=undef
use64bitint=define, use64bitall=define, uselongdouble=undef
usemymalloc=n, bincompat5005=undef
Compiler:
cc='gcc', ccflags ='-fno-common -DPERL_DARWIN -fno-strict-aliasing -pipe -fstack-protector -I/usr/local/include -I/opt/local/include',
optimize='-O3',
cppflags='-fno-common -DPERL_DARWIN -fno-strict-aliasing -pipe -fstack-protector -I/usr/local/include -I/opt/local/include'
ccversion='', gccversion='4.2.1 (Based on Apple Inc. build 5658) (LLVM build 2336.11.00)', gccosandvers=''
intsize=4, longsize=8, ptrsize=8, doublesize=8, byteorder=12345678
d_longlong=define, longlongsize=8, d_longdbl=define, longdblsize=16
ivtype='long', ivsize=8, nvtype='double', nvsize=8, Off_t='off_t', lseeksize=8
alignbytes=8, prototype=define
Linker and Libraries:
ld='env MACOSX_DEPLOYMENT_TARGET=10.3 gcc', ldflags =' -fstack-protector -L/usr/local/lib -L/opt/local/lib'
libpth=/usr/local/lib /usr/lib /opt/local/lib
libs=-lgdbm -ldbm -ldl -lm -lutil -lc
perllibs=-ldl -lm -lutil -lc
libc=, so=dylib, useshrplib=false, libperl=libperl.a
gnulibc_version=''
Dynamic Linking:
dlsrc=dl_dlopen.xs, dlext=bundle, d_dlsymun=undef, ccdlflags=' '
cccdlflags=' ', lddlflags=' -bundle -undefined dynamic_lookup -L/usr/local/lib -L/opt/local/lib -fstack-protector'
Characteristics of this binary (from libperl):
Compile-time options: HAS_TIMES PERLIO_LAYERS PERL_DONT_CREATE_GVSV
PERL_HASH_FUNC_ONE_AT_A_TIME_HARD PERL_MALLOC_WRAP
PERL_NEW_COPY_ON_WRITE PERL_PRESERVE_IVUV
USE_64_BIT_ALL USE_64_BIT_INT USE_LARGE_FILES
USE_LOCALE USE_LOCALE_COLLATE USE_LOCALE_CTYPE
USE_LOCALE_NUMERIC USE_PERLIO USE_PERL_ATOF
Built under darwin
Compiled at May 27 2014 16:26:34
%ENV:
PERL5LIB=""
PERL5OPT=""
PERL5_CPANPLUS_IS_RUNNING="32680"
PERL5_CPAN_IS_RUNNING="32680"
@INC:
/usr/local/perl/520/lib/site_perl/5.20.0/darwin-2level
/usr/local/perl/520/lib/site_perl/5.20.0
/usr/local/perl/520/lib/5.20.0/darwin-2level
/usr/local/perl/520/lib/5.20.0
.