Report for Set-Object-1.35

Back
From: metabase:user:fb19509c-17e3-11e3-a14d-fdb79081a995
Subject: PASS Set-Object-1.35 v5.25.0 Mac OS X
Date: 2016-05-16T20:59:37Z

This distribution has been tested as part of the CPAN Testers
project, supporting the Perl programming language.  See
http://wiki.cpantesters.org/ for more information or email
questions to cpan-testers-discuss@perl.org


--
Dear RURBAN,

This is a computer-generated report for Set-Object-1.35
on perl 5.25.0, created by App::cpanminus::reporter 0.17 (1.7041).

Thank you for uploading your work to CPAN.  Congratulations!
All tests were successful.

Sections of this report:

    * Tester comments
    * Program output
    * Prerequisites
    * Environment and other context

------------------------------
TESTER COMMENTS
------------------------------

Additional comments from tester:

none provided

------------------------------
PROGRAM OUTPUT
------------------------------

Output from '':

Building and testing Set-Object-1.35
AutoSplitting blib/lib/Set/Object.pm (blib/lib/auto/Set/Object)
Running Mkbootstrap for Object ()
chmod 644 "Object.bs"
"/Users/ether/perl5/perlbrew/perls/25.0/bin/perl5.25.0" -MExtUtils::Command::MM -e 'cp_nonempty' -- Object.bs blib/arch/auto/Set/Object/Object.bs 644
"/Users/ether/perl5/perlbrew/perls/25.0/bin/perl5.25.0" "/Users/ether/perl5/perlbrew/perls/25.0/lib/5.25.0/ExtUtils/xsubpp"  -typemap '/Users/ether/perl5/perlbrew/perls/25.0/lib/5.25.0/ExtUtils/typemap' -typemap '/Users/ether/.cpanm/work/1463429036.72504/Set-Object-1.35/typemap'  Object.xs > Object.xsc
mv Object.xsc Object.c
cc -c   -fno-common -DPERL_DARWIN -fno-strict-aliasing -pipe -fstack-protector -I/opt/local/include -O3   -DVERSION=\"1.35\" -DXS_VERSION=\"1.35\"  "-I/Users/ether/perl5/perlbrew/perls/25.0/lib/5.25.0/darwin-2level/CORE"   Object.c 
Object.xs:980:3: warning: expression result unused [-Wunused-value]
  POPs;
  ^~~~
/Users/ether/perl5/perlbrew/perls/25.0/lib/5.25.0/darwin-2level/CORE/pp.h:175:16: note: expanded from macro 'POPs'
#define POPs            (*sp--)
                         ^~~~~
1 warning generated.
rm -f blib/arch/auto/Set/Object/Object.bundle
env MACOSX_DEPLOYMENT_TARGET=10.3 cc  -bundle -undefined dynamic_lookup -L/opt/local/lib -fstack-protector -o blib/arch/auto/Set/Object/Object.bundle  Object.o  \
	      \
	  
chmod 755 blib/arch/auto/Set/Object/Object.bundle
Manifying 3 pod documents
"/Users/ether/perl5/perlbrew/perls/25.0/bin/perl5.25.0" -MExtUtils::Command::MM -e 'cp_nonempty' -- Object.bs blib/arch/auto/Set/Object/Object.bs 644
PERL_DL_NONLAZY=1 "/Users/ether/perl5/perlbrew/perls/25.0/bin/perl5.25.0" "-MExtUtils::Command::MM" "-MTest::Harness" "-e" "undef *Test::Harness::Switches; test_harness(0, 'blib/lib', 'blib/arch')" t/ingy/arrayref.t t/misc/kwalitee.t t/misc/leaks.t t/misc/leaktrace.t t/misc/manifest.t t/misc/meta.t t/misc/more_leaks.t t/misc/perl_minimum_version.t t/misc/pod.t t/misc/pod_coverage.t t/misc/segfault.t t/misc/threads.t t/misc/undef.t t/object/abuse.t t/object/clear.t t/object/difference.t t/object/equal.t t/object/flags.t t/object/includes.t t/object/insert.t t/object/intersection.t t/object/members.t t/object/properties.t t/object/refcount.t t/object/remove.t t/object/set_subclass.t t/object/storable.t t/object/subsuper.t t/object/symmetric_difference.t t/object/union.t t/object/weakref.t t/scalar/basic.t t/scalar/basic_overload.t t/scalar/boolean.t t/scalar/clear.t t/scalar/compare.t t/scalar/custom_display.t t/scalar/difference.t t/scalar/each.t t/scalar/has.t t/scalar/intersection.t t/scalar/member.t t/scalar/misc.t t/scalar/set_set.t t/scalar/storable.t t/scalar/symmdiff.t t/scalar/union.t t/scalar/unique.t
t/misc/kwalitee.t ................ skipped: This test is only run for the module author
t/ingy/arrayref.t ................ ok
t/misc/manifest.t ................ skipped: Author tests not required for installation
t/misc/leaks.t ................... ok
t/misc/leaktrace.t ............... ok
t/misc/meta.t .................... skipped: This test is only run for the module author
t/misc/perl_minimum_version.t .... skipped: Author tests not required for installation
t/misc/pod_coverage.t ............ ok
t/misc/segfault.t ................ ok
t/misc/threads.t ................. skipped: threads missing
t/misc/pod.t ..................... ok
t/object/clear.t ................. ok
t/object/difference.t ............ ok
t/misc/undef.t ................... ok
t/object/equal.t ................. ok
t/object/abuse.t ................. ok
t/object/flags.t ................. ok
t/object/intersection.t .......... ok
t/object/members.t ............... ok
t/object/insert.t ................ ok
t/object/includes.t .............. ok
t/object/refcount.t .............. ok
t/misc/more_leaks.t .............. ok
t/object/properties.t ............ ok
t/object/subsuper.t .............. ok
t/object/remove.t ................ ok
t/object/set_subclass.t .......... ok
t/object/symmetric_difference.t .. ok
t/object/storable.t .............. ok
t/object/union.t ................. ok
t/scalar/boolean.t ............... ok
t/scalar/clear.t ................. ok
t/scalar/basic.t ................. ok
t/scalar/basic_overload.t ........ ok
t/scalar/compare.t ............... ok
t/object/weakref.t ............... ok
t/scalar/custom_display.t ........ ok
t/scalar/difference.t ............ ok
t/scalar/has.t ................... ok
t/scalar/member.t ................ ok
t/scalar/intersection.t .......... ok
t/scalar/misc.t .................. ok
t/scalar/each.t .................. skipped: TO-DO
t/scalar/symmdiff.t .............. ok
t/scalar/union.t ................. ok
t/scalar/unique.t ................ ok
t/scalar/set_set.t ............... ok
t/scalar/storable.t .............. ok
All tests successful.
Files=48, Tests=458,  1 wallclock secs ( 0.20 usr  0.10 sys +  3.04 cusr  0.39 csys =  3.73 CPU)
Result: PASS

------------------------------
PREREQUISITES
------------------------------

Prerequisite modules loaded:

    No requirements found

------------------------------
ENVIRONMENT AND OTHER CONTEXT
------------------------------

Environment variables:

    HARNESS_OPTIONS = j5:c
    LANG = en_CA.UTF-8
    NO_NETWORK_TESTING = 1
    PATH = /Users/ether/.perlbrew/libs/25.0@std/bin:/Users/ether/perl5/perlbrew/bin:/Users/ether/perl5/perlbrew/perls/25.0/bin:/Users/ether/bin:/Users/ether/git/misc/install/bourbon/bin:/Users/ether/git/misc/install/generic/bin:/opt/local/bin:/opt/local/sbin:/Users/ether/git/git-hub/lib:/Users/ether/src/CE/devtools:/Users/ether/git/CE/devtools:/Users/ether/src/CE/bin:/Users/ether/git/CE/bin:/usr/bin:/bin:/usr/sbin:/sbin:/usr/local/bin:/opt/local/share/git-core/contrib/workdir
    PERL5LIB = /Users/ether/.perlbrew/libs/25.0@std/lib/perl5
    PERLBREW_BASHRC_VERSION = 0.75
    PERLBREW_HOME = /Users/ether/.perlbrew
    PERLBREW_LIB = std
    PERLBREW_MANPATH = /Users/ether/.perlbrew/libs/25.0@std/man:/Users/ether/perl5/perlbrew/perls/25.0/man
    PERLBREW_PATH = /Users/ether/.perlbrew/libs/25.0@std/bin:/Users/ether/perl5/perlbrew/bin:/Users/ether/perl5/perlbrew/perls/25.0/bin
    PERLBREW_PERL = 25.0
    PERLBREW_ROOT = /Users/ether/perl5/perlbrew
    PERLBREW_VERSION = 0.75
    PERLDOC_PAGER = less -sicMr
    PERL_AUTOINSTALL_PREFER_CPAN = 1
    PERL_INSTALL_QUIET = 1
    PERL_LOCAL_LIB_ROOT = /Users/ether/.perlbrew/libs/25.0@std
    PERL_MB_OPT = --install_base /Users/ether/.perlbrew/libs/25.0@std
    PERL_MM_OPT = INSTALL_BASE=/Users/ether/.perlbrew/libs/25.0@std
    SHELL = /bin/bash
    TERM = xterm-color
    TMPDIR = /var/folders/kx/9dgyhhpn2yb7v2mggnr385fr0000gn/T/

Perl special variables (and OS-specific diagnostics, for MSWin32):

    EGID = 20 20 402 401 12 33 61 79 80 81 98 100 204
    EUID = 501
    EXECUTABLE_NAME = /Users/ether/perl5/perlbrew/perls/25.0/bin/perl5.25.0
    GID = 20 20 402 401 12 33 61 79 80 81 98 100 204
    UID = 501

Perl module toolchain versions installed:

    Module              Have        
    ------------------- ------------
    CPAN                2.11        
    CPAN::Meta          2.150005    
    Cwd                 3.63        
    ExtUtils::CBuilder  0.280225    
    ExtUtils::Command   7.17_01     
    ExtUtils::Install   2.04        
    ExtUtils::MakeMaker 7.17_01     
    ExtUtils::Manifest  1.70        
    ExtUtils::ParseXS   3.31        
    File::Spec          3.63        
    JSON                2.90        
    JSON::PP            2.27400     
    Module::Build       0.4218      
    Module::Signature   n/a         
    Parse::CPAN::Meta   1.4419      
    Test::Harness       3.36        
    Test::More          1.302014_010
    YAML                1.15        
    YAML::Syck          1.29        
    version             0.9916      


--

Summary of my perl5 (revision 5 version 25 subversion 0) configuration:
   
  Platform:
    osname=darwin, osvers=12.6.0, archname=darwin-2level
    uname='darwin bourbon 12.6.0 darwin kernel version 12.6.0: wed mar 18 16:23:48 pdt 2015; root:xnu-2050.48.19~1release_x86_64 x86_64 '
    config_args='-de -Dprefix=/Users/ether/perl5/perlbrew/perls/25.0 -Dman1dir=none -Dman3dir=none -Dusedevel -Aeval:scriptdir=/Users/ether/perl5/perlbrew/perls/25.0/bin'
    hint=recommended, useposix=true, d_sigaction=define
    useithreads=undef, usemultiplicity=undef
    use64bitint=define, use64bitall=define, uselongdouble=undef
    usemymalloc=n, bincompat5005=undef
  Compiler:
    cc='cc', ccflags ='-fno-common -DPERL_DARWIN -fno-strict-aliasing -pipe -fstack-protector -I/opt/local/include',
    optimize='-O3',
    cppflags='-fno-common -DPERL_DARWIN -fno-strict-aliasing -pipe -fstack-protector -I/opt/local/include'
    ccversion='', gccversion='4.2.1 Compatible Apple LLVM 4.2 (clang-425.0.28)', gccosandvers=''
    intsize=4, longsize=8, ptrsize=8, doublesize=8, byteorder=12345678, doublekind=3
    d_longlong=define, longlongsize=8, d_longdbl=define, longdblsize=16, longdblkind=3
    ivtype='long', ivsize=8, nvtype='double', nvsize=8, Off_t='off_t', lseeksize=8
    alignbytes=8, prototype=define
  Linker and Libraries:
    ld='env MACOSX_DEPLOYMENT_TARGET=10.3 cc', ldflags =' -fstack-protector -L/opt/local/lib'
    libpth=/usr/bin/../lib/clang/4.2/lib /usr/lib /opt/local/lib
    libs=-lpthread -lgdbm -ldbm -ldl -lm -lutil -lc
    perllibs=-lpthread -ldl -lm -lutil -lc
    libc=, so=dylib, useshrplib=false, libperl=libperl.a
    gnulibc_version=''
  Dynamic Linking:
    dlsrc=dl_dlopen.xs, dlext=bundle, d_dlsymun=undef, ccdlflags=' '
    cccdlflags=' ', lddlflags=' -bundle -undefined dynamic_lookup -L/opt/local/lib -fstack-protector'


Characteristics of this binary (from libperl): 
  Compile-time options: HAS_TIMES PERLIO_LAYERS PERL_COPY_ON_WRITE
                        PERL_DONT_CREATE_GVSV
                        PERL_HASH_FUNC_ONE_AT_A_TIME_HARD PERL_MALLOC_WRAP
                        PERL_PRESERVE_IVUV PERL_USE_DEVEL USE_64_BIT_ALL
                        USE_64_BIT_INT USE_LARGE_FILES USE_LOCALE
                        USE_LOCALE_COLLATE USE_LOCALE_CTYPE
                        USE_LOCALE_NUMERIC USE_LOCALE_TIME USE_PERLIO
                        USE_PERL_ATOF
  Locally applied patches:
	Devel::PatchPerl 1.38
  Built under darwin
  Compiled at May  9 2016 12:19:29
  %ENV:
    PERL5LIB="/Users/ether/.perlbrew/libs/25.0@std/lib/perl5"
    PERLBREW_BASHRC_VERSION="0.75"
    PERLBREW_HOME="/Users/ether/.perlbrew"
    PERLBREW_LIB="std"
    PERLBREW_MANPATH="/Users/ether/.perlbrew/libs/25.0@std/man:/Users/ether/perl5/perlbrew/perls/25.0/man"
    PERLBREW_PATH="/Users/ether/.perlbrew/libs/25.0@std/bin:/Users/ether/perl5/perlbrew/bin:/Users/ether/perl5/perlbrew/perls/25.0/bin"
    PERLBREW_PERL="25.0"
    PERLBREW_ROOT="/Users/ether/perl5/perlbrew"
    PERLBREW_VERSION="0.75"
    PERLDOC_PAGER="less -sicMr"
    PERL_AUTOINSTALL_PREFER_CPAN="1"
    PERL_INSTALL_QUIET="1"
    PERL_LOCAL_LIB_ROOT="/Users/ether/.perlbrew/libs/25.0@std"
    PERL_MB_OPT="--install_base /Users/ether/.perlbrew/libs/25.0@std"
    PERL_MM_OPT="INSTALL_BASE=/Users/ether/.perlbrew/libs/25.0@std"
  @INC:
    /Users/ether/.perlbrew/libs/25.0@std/lib/perl5/darwin-2level
    /Users/ether/.perlbrew/libs/25.0@std/lib/perl5
    /Users/ether/perl5/perlbrew/perls/25.0/lib/site_perl/5.25.0/darwin-2level
    /Users/ether/perl5/perlbrew/perls/25.0/lib/site_perl/5.25.0
    /Users/ether/perl5/perlbrew/perls/25.0/lib/5.25.0/darwin-2level
    /Users/ether/perl5/perlbrew/perls/25.0/lib/5.25.0
    .