Report for Plack-Debugger-0.03

Back
From: metabase:user:b53c7f44-4c0e-11e4-9ced-a04ade49192c
Subject: PASS Plack-Debugger-0.03 v5.12.1 GNU/Linux
Date: 2015-03-30T03:16:04Z

This distribution has been tested as part of the CPAN Testers
project, supporting the Perl programming language.  See
http://wiki.cpantesters.org/ for more information or email
questions to cpan-testers-discuss@perl.org


--
Dear Stevan Little,

This is a computer-generated report for Plack-Debugger-0.03
on perl 5.12.1, created by CPAN-Reporter-1.2011.

Thank you for uploading your work to CPAN.  Congratulations!
All tests were successful.

Sections of this report:

    * Tester comments
    * Program output
    * Prerequisites
    * Environment and other context

------------------------------
TESTER COMMENTS
------------------------------

Additional comments from tester:

this report is from an automated smoke testing program
and was not reviewed by a human for accuracy

------------------------------
PROGRAM OUTPUT
------------------------------

Output from '/usr/bin/make test':

Skip blib/lib/auto/share/dist/Plack-Debugger/js/plack-debugger.js (unchanged)
Skip blib/lib/auto/share/dist/Plack-Debugger/js/jquery.js (unchanged)
Skip blib/lib/auto/share/dist/Plack-Debugger/css/plack-debugger.css (unchanged)
PERL_DL_NONLAZY=1 "/opt/perl492-32-O0-5.12.1/bin/perl" "-MExtUtils::Command::MM" "-MTest::Harness" "-e" "undef *Test::Harness::Switches; test_harness(0, 'blib/lib', 'blib/arch')" t/*.t
t/001.basic.t ....................... ok
# ... sleeping for a second to ensure mtime is different enough
t/020-storage.t ..................... ok
t/030-injector.t .................... ok
t/031-injector-status-codes.t ....... ok
t/040-collector.t ................... ok
t/041-collector-error-handling.t .... ok
t/042-collector-no-cleanup-phase.t .. ok
# ... sleeping for a second to ensure mtime is different enough
t/050-app-debugger.t ................ ok
t/051-app-debugger-errors.t ......... ok
t/100-lpw-2014-examples.t ........... ok
All tests successful.
Files=10, Tests=143, 23 wallclock secs ( 0.35 usr  0.04 sys +  8.77 cusr  0.58 csys =  9.74 CPU)
Result: PASS

------------------------------
PREREQUISITES
------------------------------

Prerequisite modules loaded:

requires:

    Module                  Need Have    
    ----------------------- ---- --------
    Config                  0    0       
    File::ShareDir          0    1.102   
    File::Spec              0    3.47    
    HTTP::Status            0    6.03    
    JSON::XS                0    3.01    
    Module::Versions        0    0.02    
    Plack                   0    1.0034  
    POSIX                   0    1.19    
    Scalar::Util            0    1.41    
    Time::HiRes             0    1.9726  
    Try::Tiny               0    0.22    

build_requires:

    Module                  Need Have    
    ----------------------- ---- --------
    ExtUtils::MakeMaker     0    7.04    
    HTTP::Request::Common   0    6.04    
    Path::Class             0    0.35    
    Test::Fatal             0    0.014   
    Test::More              0.88 1.001014
    Test::Warn              0    0.30    
    UUID::Tiny              0    1.04    

configure_requires:

    Module                  Need Have    
    ----------------------- ---- --------
    ExtUtils::MakeMaker     0    7.04    
    File::ShareDir::Install 0.06 0.10    


------------------------------
ENVIRONMENT AND OTHER CONTEXT
------------------------------

Environment variables:

    AUTOMATED_TESTING = 1
    LANG = en_US.utf8
    MB_TEST_EXPERIMENTAL = 1
    MOD_PERL = 0
    NONINTERACTIVE_TESTING = 1
    PATH = /usr/lib/qt-3.3/bin:/usr/kerberos/sbin:/usr/kerberos/bin:/usr/lib/ccache:/usr/local/sbin:/usr/sbin:/sbin:/usr/local/bin:/usr/bin:/bin:/usr/lib/firebird/bin:/opt/real/RealPlayer:/root/bin:/usr/lib/firebird/bin:/opt/real/RealPlayer
    PERL5LIB = 
    PERL5OPT = 
    PERL5_CPANPLUS_IS_RUNNING = 3356
    PERL5_CPAN_IS_RUNNING = 3356
    PERL_ANYEVENT_MODEL = POE
    PERL_EXTUTILS_AUTOINSTALL = --defaultdeps
    PERL_MM_USE_DEFAULT = 1
    SHELL = /bin/bash
    TERM = xterm

Perl special variables (and OS-specific diagnostics, for MSWin32):

    $^X = /opt/perl492-32-O0-5.12.1/bin/perl
    $UID/$EUID = 0 / 0
    $GID = 0 0 1 2 3 4 6 10
    $EGID = 0 0 1 2 3 4 6 10

Perl module toolchain versions installed:

    Module              Have    
    ------------------- --------
    CPAN                2.10    
    CPAN::Meta          2.150001
    Cwd                 3.47    
    ExtUtils::CBuilder  0.280220
    ExtUtils::Command   1.20    
    ExtUtils::Install   2.04    
    ExtUtils::MakeMaker 7.04    
    ExtUtils::Manifest  1.70    
    ExtUtils::ParseXS   3.24    
    File::Spec          3.47    
    JSON                2.90    
    JSON::PP            2.27300 
    Module::Build       0.4211  
    Module::Signature   0.73    
    Parse::CPAN::Meta   1.4414  
    Test::Harness       3.35    
    Test::More          1.001014
    YAML                1.14    
    YAML::Syck          1.29    
    version             0.9912  


--

Summary of my perl5 (revision 5 version 12 subversion 1) configuration:
   
  Platform:
    osname=linux, osvers=2.6.32.63, archname=i686-linux-thread-multi-64int-ld
    uname='linux localhost.localdomain 2.6.32.63 #2 smp fri jan 30 10:45:01 pst 2015 i686 i686 i386 gnulinux '
    config_args='-Dcc=/opt/492/bin/gcc -Dprefix=/opt/perl492-32-O0-5.12.1 -DDEBUGGING'
    hint=recommended, useposix=true, d_sigaction=define
    useithreads=define, usemultiplicity=define
    useperlio=define, d_sfio=undef, uselargefiles=define, usesocks=undef
    use64bitint=define, use64bitall=undef, uselongdouble=define
    usemymalloc=y, bincompat5005=undef
  Compiler:
    cc='/opt/492/bin/gcc', ccflags ='-D_REENTRANT -D_GNU_SOURCE -DDEBUGGING -fno-strict-aliasing -pipe -fstack-protector -I/usr/local/include -D_LARGEFILE_SOURCE -D_FILE_OFFSET_BITS=64',
    optimize='-O0 -g',
    cppflags='-D_REENTRANT -D_GNU_SOURCE -DDEBUGGING -fno-strict-aliasing -pipe -fstack-protector -I/usr/local/include'
    ccversion='', gccversion='4.9.2', gccosandvers=''
    intsize=4, longsize=4, ptrsize=4, doublesize=8, byteorder=12345678
    d_longlong=define, longlongsize=8, d_longdbl=define, longdblsize=12
    ivtype='long long', ivsize=8, nvtype='long double', nvsize=12, Off_t='off_t', lseeksize=8
    alignbytes=4, prototype=define
  Linker and Libraries:
    ld='/opt/492/bin/gcc', ldflags =' -fstack-protector -L/usr/local/lib'
    libpth=/usr/local/lib /lib /usr/lib
    libs=-lnsl -lgdbm -ldb -ldl -lm -lcrypt -lutil -lpthread -lc
    perllibs=-lnsl -ldl -lm -lcrypt -lutil -lpthread -lc
    libc=/lib/libc-2.8.so, so=so, useshrplib=true, libperl=libperl.so
    gnulibc_version='2.8'
  Dynamic Linking:
    dlsrc=dl_dlopen.xs, dlext=so, d_dlsymun=undef, ccdlflags='-Wl,-E -Wl,-rpath,/opt/perl492-32-O0-5.12.1/lib/5.12.1/i686-linux-thread-multi-64int-ld/CORE'
    cccdlflags='-fPIC', lddlflags='-shared -O0 -g -L/usr/local/lib -fstack-protector'


Characteristics of this binary (from libperl): 
  Compile-time options: DEBUGGING MULTIPLICITY MYMALLOC PERL_DONT_CREATE_GVSV
                        PERL_IMPLICIT_CONTEXT PERL_MAD PERL_MALLOC_WRAP
                        PERL_TRACK_MEMPOOL USE_64_BIT_INT USE_FAST_STDIO
                        USE_ITHREADS USE_LARGE_FILES USE_LONG_DOUBLE
                        USE_PERLIO USE_PERL_ATOF USE_REENTRANT_API
  Built under linux
  Compiled at Mar 14 2015 02:38:07
  %ENV:
    PERL5LIB=""
    PERL5OPT=""
    PERL5_CPANPLUS_IS_RUNNING="3356"
    PERL5_CPAN_IS_RUNNING="3356"
    PERL_ANYEVENT_MODEL="POE"
    PERL_EXTUTILS_AUTOINSTALL="--defaultdeps"
    PERL_MM_USE_DEFAULT="1"
  @INC:
    /opt/perl492-32-O0-5.12.1/lib/site_perl/5.12.1/i686-linux-thread-multi-64int-ld
    /opt/perl492-32-O0-5.12.1/lib/site_perl/5.12.1
    /opt/perl492-32-O0-5.12.1/lib/5.12.1/i686-linux-thread-multi-64int-ld
    /opt/perl492-32-O0-5.12.1/lib/5.12.1
    .