XML-Rabbit v0.4.1 Perl 5 v5.16.3 x86_64-linux-thread-multi

Status
Pass
From
Nigel Horne
Dist
XML-Rabbit v0.4.1
Platform
Perl 5 v5.16.3 x86_64-linux-thread-multi
Date
2017-08-18 20:37:48
ID
19374dcc-8455-11e7-933a-881d62460493
This distribution has been tested as part of the CPAN Testers
project, supporting the Perl programming language.  See
http://wiki.cpantesters.org/ for more information or email
questions to cpan-testers-discuss@perl.org


--
Dear Robin Smidsrod,

This is a computer-generated report for XML-Rabbit-0.4.1
on perl 5.16.3, created by CPAN-Reporter-1.2018.

Thank you for uploading your work to CPAN.  Congratulations!
All tests were successful.

Sections of this report:

    * Tester comments
    * Program output
    * Prerequisites
    * Environment and other context

------------------------------
TESTER COMMENTS
------------------------------

Additional comments from tester:

this report is from an automated smoke testing program
and was not reviewed by a human for accuracy

------------------------------
PROGRAM OUTPUT
------------------------------

Output from '/usr/bin/make test':

PERL_DL_NONLAZY=1 "/home/njh/perl5/perlbrew/perls/perl-5.16.3/bin/perl" "-MExtUtils::Command::MM" "-MTest::Harness" "-e" "undef *Test::Harness::Switches; test_harness(0, 'blib/lib', 'blib/arch')" t/*.t t/regression/*.t
# Detected libxml2 version: 20904
t/01_libxml_version.t ................. ok
# Testing XML::Rabbit 0.4.1, Perl 5.016003, /home/njh/perl5/perlbrew/perls/perl-5.16.3/bin/perl
t/00_load.t ........................... ok
t/10_parse_xhtml_fh.t ................. ok
t/10_parse_xhtml_file.t ............... ok
t/10_parse_xhtml_string.t ............. ok
t/11_parse_imsqti.t ................... ok
t/12_xpath_value_map.t ................ ok
t/13_xpath_object_map.t ............... ok
t/14_sugar_parse_xhtml_file.t ......... ok
t/16_sugar_xpath_value_map.t .......... ok
t/15_sugar_parse_imsqti.t ............. ok
t/17_sugar_xpath_object_map.t ......... ok
t/author-critic.t ..................... skipped: these tests are for testing by the author
t/18_dump_xml.t ....................... ok
t/release-eol.t ....................... skipped: these tests are for release candidate testing
t/release-kwalitee.t .................. skipped: these tests are for release candidate testing
t/release-no-tabs.t ................... skipped: these tests are for release candidate testing
t/20_RT_81519.t ....................... ok
t/release-pod-coverage.t .............. skipped: these tests are for release candidate testing
t/release-pod-syntax.t ................ skipped: these tests are for release candidate testing
t/19_RT_71815.t ....................... ok
t/regression/node_attribute_traits.t .. ok
All tests successful.
Files=22, Tests=165,  1 wallclock secs ( 0.08 usr  0.02 sys +  4.81 cusr  0.35 csys =  5.26 CPU)
Result: PASS

------------------------------
PREREQUISITES
------------------------------

Prerequisite modules loaded:

requires:

    Module                       Need Have    
    ---------------------------- ---- --------
    Carp                         0    1.32    
    Class::Load                  0    0.20    
    Encode                       0    2.92    
    Moose                        0.89 2.1005  
    Moose::Exporter              0    2.1005  
    Moose::Role                  0    2.1005  
    Moose::Util::TypeConstraints 0    2.1005  
    MooseX::Role::Parameterized  0    1.10    
    namespace::autoclean         0    0.28    
    Perl6::Junction              0    1.60000 
    Scalar::Util                 0    1.35    
    strict                       0    1.07    
    warnings                     0    1.13    
    XML::LibXML                  1.70 2.0108  

build_requires:

    Module                       Need Have    
    ---------------------------- ---- --------
    lib                          0    0.63    
    Test::Exception              0    0.43    
    Test::More                   0    1.302062
    utf8                         0    1.09    

configure_requires:

    Module                       Need Have    
    ---------------------------- ---- --------
    ExtUtils::MakeMaker          6.30 7.24    
    XML::LibXML                  1.70 2.0108  


------------------------------
ENVIRONMENT AND OTHER CONTEXT
------------------------------

Environment variables:

    AUTOMATED_TESTING = 1
    HARNESS_OPTIONS = j4
    LANG = en_GB.UTF-8
    LANGUAGE = en_GB:en
    PATH = /home/njh/perl5/perlbrew/bin:/home/njh/perl5/perlbrew/perls/perl-5.16.3/bin:/home/njh/perl5/perlbrew/bin:/usr/bin:/bin
    PERL5LIB = /home/njh/.cpan/build/Perl6-Junction-1.60000-1/blib/arch:/home/njh/.cpan/build/Perl6-Junction-1.60000-1/blib/lib:/home/njh/.cpan/build/Regexp-DefaultFlags-0.01-3/blib/arch:/home/njh/.cpan/build/Regexp-DefaultFlags-0.01-3/blib/lib:/home/njh/.cpan/build/MooseX-Singleton-0.30-3/blib/arch:/home/njh/.cpan/build/MooseX-Singleton-0.30-3/blib/lib:/home/njh/.cpan/build/MooseX-Has-Sugar-1.000006-5/blib/arch:/home/njh/.cpan/build/MooseX-Has-Sugar-1.000006-5/blib/lib:/home/njh/.cpan/build/Modern-Perl-1.20170117-60/blib/arch:/home/njh/.cpan/build/Modern-Perl-1.20170117-60/blib/lib
    PERL5OPT = 
    PERL5_CPANPLUS_IS_RUNNING = 13062
    PERL5_CPAN_IS_RUNNING = 13062
    PERLBREW_BASHRC_VERSION = 0.73
    PERLBREW_HOME = /home/njh/.perlbrew
    PERLBREW_LIB = 
    PERLBREW_MANPATH = /home/njh/perl5/perlbrew/perls/perl-5.16.3/man
    PERLBREW_PATH = /home/njh/perl5/perlbrew/bin:/home/njh/perl5/perlbrew/perls/perl-5.16.3/bin
    PERLBREW_PERL = perl-5.16.3
    PERLBREW_ROOT = /home/njh/perl5/perlbrew
    PERLBREW_VERSION = 0.73
    PERL_LOCAL_LIB_ROOT = 
    SHELL = /bin/sh

Perl special variables (and OS-specific diagnostics, for MSWin32):

    $^X = /home/njh/perl5/perlbrew/perls/perl-5.16.3/bin/perl
    $UID/$EUID = 1000 / 1000
    $GID = 1000 4 24 25 29 30 44 46 108 112 1000
    $EGID = 1000 4 24 25 29 30 44 46 108 112 1000

Perl module toolchain versions installed:

    Module              Have    
    ------------------- --------
    CPAN                2.16    
    CPAN::Meta          2.150005
    Cwd                 3.40    
    ExtUtils::CBuilder  0.280216
    ExtUtils::Command   7.24    
    ExtUtils::Install   1.58    
    ExtUtils::MakeMaker 7.24    
    ExtUtils::Manifest  1.70    
    ExtUtils::ParseXS   3.30    
    File::Spec          3.40    
    JSON                2.93    
    JSON::PP            2.27400 
    Module::Build       0.4206  
    Module::Signature   0.73    
    Parse::CPAN::Meta   1.4422  
    Test::Harness       3.36    
    Test::More          1.302062
    YAML                1.23    
    YAML::Syck          1.30    
    version             0.9904  


--

Summary of my perl5 (revision 5 version 16 subversion 3) configuration:
   
  Platform:
    osname=linux, osvers=3.2.0-4-amd64, archname=x86_64-linux-thread-multi
    uname='linux nigelhorne.force9.co.uk 3.2.0-4-amd64 #1 smp debian 3.2.32-1 x86_64 gnulinux '
    config_args='-de -Dprefix=/home/njh/perl5/perlbrew/perls/perl-5.16.3 -Duseithreads -Dusemultiplicity -Accflags=-O2 -W -Wformat=2 -Wswitch -Wshadow -Wwrite-strings -Wuninitialized -Wall -pipe -mtune=native -march=native -fomit-frame-pointer -msse2 -msse -mmmx -mfpmath=sse -pedantic -D_FORTIFY_SOURCE=2 -Wpointer-arith -Wstrict-prototypes -fstack-protector -Wstack-protector -Wextra -Wbad-function-cast -Wcast-align -Wcast-qual -Wdisabled-optimization -Wendif-labels -Wfloat-equal -Wformat-nonliteral -Winline -Wmissing-declarations -Wmissing-prototypes -Wnested-externs -Wpointer-arith -Wundef -Wformat-security -ftree-vectorize -fassociative-math -ftree-vectorizer-verbose=2 -Aeval:scriptdir=/home/njh/perl5/perlbrew/perls/perl-5.16.3/bin'
    hint=recommended, useposix=true, d_sigaction=define
    useithreads=define, usemultiplicity=define
    useperlio=define, d_sfio=undef, uselargefiles=define, usesocks=undef
    use64bitint=define, use64bitall=define, uselongdouble=undef
    usemymalloc=n, bincompat5005=undef
  Compiler:
    cc='cc', ccflags ='-D_REENTRANT -D_GNU_SOURCE -O2 -W -Wformat=2 -Wswitch -Wshadow -Wwrite-strings -Wuninitialized -Wall -pipe -mtune=native -march=native -fomit-frame-pointer -msse2 -msse -mmmx -mfpmath=sse -pedantic -D_FORTIFY_SOURCE=2 -Wpointer-arith -Wstrict-prototypes -fstack-protector -Wstack-protector -Wextra -Wbad-function-cast -Wcast-align -Wcast-qual -Wdisabled-optimization -Wendif-labels -Wfloat-equal -Wformat-nonliteral -Winline -Wmissing-declarations -Wmissing-prototypes -Wnested-externs -Wpointer-arith -Wundef -Wformat-security -ftree-vectorize -fassociative-math -ftree-vectorizer-verbose=2 -fno-strict-aliasing -I/usr/local/include -D_LARGEFILE_SOURCE -D_FILE_OFFSET_BITS=64',
    optimize='-O2',
    cppflags='-D_REENTRANT -D_GNU_SOURCE -O2 -W -Wformat=2 -Wswitch -Wshadow -Wwrite-strings -Wuninitialized -Wall -pipe -mtune=native -march=native -fomit-frame-pointer -msse2 -msse -mmmx -mfpmath=sse -pedantic -D_FORTIFY_SOURCE=2 -Wpointer-arith -Wstrict-prototypes -fstack-protector -Wstack-protector -Wextra -Wbad-function-cast -Wcast-align -Wcast-qual -Wdisabled-optimization -Wendif-labels -Wfloat-equal -Wformat-nonliteral -Winline -Wmissing-declarations -Wmissing-prototypes -Wnested-externs -Wpointer-arith -Wundef -Wformat-security -ftree-vectorize -fassociative-math -ftree-vectorizer-verbose=2 -fno-strict-aliasing -I/usr/local/include'
    ccversion='', gccversion='4.7.2', gccosandvers=''
    intsize=4, longsize=8, ptrsize=8, doublesize=8, byteorder=12345678
    d_longlong=define, longlongsize=8, d_longdbl=define, longdblsize=16
    ivtype='long', ivsize=8, nvtype='double', nvsize=8, Off_t='off_t', lseeksize=8
    alignbytes=8, prototype=define
  Linker and Libraries:
    ld='cc', ldflags =' -fstack-protector -L/usr/local/lib'
    libpth=/usr/local/lib /lib/x86_64-linux-gnu /lib/../lib /usr/lib/x86_64-linux-gnu /usr/lib/../lib /lib /usr/lib
    libs=-lnsl -lgdbm -ldb -ldl -lm -lcrypt -lutil -lpthread -lc -lgdbm_compat
    perllibs=-lnsl -ldl -lm -lcrypt -lutil -lpthread -lc
    libc=, so=so, useshrplib=false, libperl=libperl.a
    gnulibc_version='2.13'
  Dynamic Linking:
    dlsrc=dl_dlopen.xs, dlext=so, d_dlsymun=undef, ccdlflags='-Wl,-E'
    cccdlflags='-fPIC', lddlflags='-shared -O2 -L/usr/local/lib -fstack-protector'


Characteristics of this binary (from libperl): 
  Compile-time options: HAS_TIMES MULTIPLICITY PERLIO_LAYERS
                        PERL_DONT_CREATE_GVSV PERL_IMPLICIT_CONTEXT
                        PERL_MALLOC_WRAP PERL_PRESERVE_IVUV USE_64_BIT_ALL
                        USE_64_BIT_INT USE_ITHREADS USE_LARGE_FILES
                        USE_LOCALE USE_LOCALE_COLLATE USE_LOCALE_CTYPE
                        USE_LOCALE_NUMERIC USE_PERLIO USE_PERL_ATOF
                        USE_REENTRANT_API
  Built under linux
  Compiled at Mar 22 2013 12:27:08
  %ENV:
    PERL5LIB="/home/njh/.cpan/build/Perl6-Junction-1.60000-1/blib/arch:/home/njh/.cpan/build/Perl6-Junction-1.60000-1/blib/lib:/home/njh/.cpan/build/Regexp-DefaultFlags-0.01-3/blib/arch:/home/njh/.cpan/build/Regexp-DefaultFlags-0.01-3/blib/lib:/home/njh/.cpan/build/MooseX-Singleton-0.30-3/blib/arch:/home/njh/.cpan/build/MooseX-Singleton-0.30-3/blib/lib:/home/njh/.cpan/build/MooseX-Has-Sugar-1.000006-5/blib/arch:/home/njh/.cpan/build/MooseX-Has-Sugar-1.000006-5/blib/lib:/home/njh/.cpan/build/Modern-Perl-1.20170117-60/blib/arch:/home/njh/.cpan/build/Modern-Perl-1.20170117-60/blib/lib"
    PERL5OPT=""
    PERL5_CPANPLUS_IS_RUNNING="13062"
    PERL5_CPAN_IS_RUNNING="13062"
    PERLBREW_BASHRC_VERSION="0.73"
    PERLBREW_HOME="/home/njh/.perlbrew"
    PERLBREW_LIB=""
    PERLBREW_MANPATH="/home/njh/perl5/perlbrew/perls/perl-5.16.3/man"
    PERLBREW_PATH="/home/njh/perl5/perlbrew/bin:/home/njh/perl5/perlbrew/perls/perl-5.16.3/bin"
    PERLBREW_PERL="perl-5.16.3"
    PERLBREW_ROOT="/home/njh/perl5/perlbrew"
    PERLBREW_VERSION="0.73"
    PERL_LOCAL_LIB_ROOT=""
  @INC:
    /home/njh/.cpan/build/Perl6-Junction-1.60000-1/blib/arch
    /home/njh/.cpan/build/Perl6-Junction-1.60000-1/blib/lib
    /home/njh/.cpan/build/Regexp-DefaultFlags-0.01-3/blib/arch
    /home/njh/.cpan/build/Regexp-DefaultFlags-0.01-3/blib/lib
    /home/njh/.cpan/build/MooseX-Singleton-0.30-3/blib/arch
    /home/njh/.cpan/build/MooseX-Singleton-0.30-3/blib/lib
    /home/njh/.cpan/build/MooseX-Has-Sugar-1.000006-5/blib/arch
    /home/njh/.cpan/build/MooseX-Has-Sugar-1.000006-5/blib/lib
    /home/njh/.cpan/build/Modern-Perl-1.20170117-60/blib/arch
    /home/njh/.cpan/build/Modern-Perl-1.20170117-60/blib/lib
    /home/njh/perl5/perlbrew/perls/perl-5.16.3/lib/site_perl/5.16.3/x86_64-linux-thread-multi
    /home/njh/perl5/perlbrew/perls/perl-5.16.3/lib/site_perl/5.16.3
    /home/njh/perl5/perlbrew/perls/perl-5.16.3/lib/5.16.3/x86_64-linux-thread-multi
    /home/njh/perl5/perlbrew/perls/perl-5.16.3/lib/5.16.3
    .