Net-Curl-Parallel v2.0.0 Perl 5 v5.18.2 x86_64-linux
- Status
- Pass
- From
- Slaven Rezić (SREZIC)
- Dist
-
Net-Curl-Parallel v2.0.0
- Platform
- Perl 5 v5.18.2 x86_64-linux
- Date
- 2018-09-19 05:51:48
- ID
- 19078c82-bbd0-11e8-a862-d937161ac2d7
This distribution has been tested as part of the CPAN Testers
project, supporting the Perl programming language. See
http://wiki.cpantesters.org/ for more information or email
questions to cpan-testers-discuss@perl.org
--
Dear Rob Kinyon,
This is a computer-generated report for Net-Curl-Parallel-2.0.0
on perl 5.18.2, created by CPAN-Reporter-1.2018.
Thank you for uploading your work to CPAN. Congratulations!
All tests were successful.
Sections of this report:
* Tester comments
* Program output
* Prerequisites
* Environment and other context
------------------------------
TESTER COMMENTS
------------------------------
Additional comments from tester:
none provided
------------------------------
PROGRAM OUTPUT
------------------------------
Output from '/usr/bin/make test':
PERL_DL_NONLAZY=1 "/bbbike/perl-5.18.2/bin/perl" "-MExtUtils::Command::MM" "-MTest::Harness" "-e" "undef *Test::Harness::Switches; test_harness(0, 'blib/lib', 'blib/arch')" t/*.t t/Net/Curl/*.t t/Net/Curl/Parallel/*.t
#
# Versions for all modules listed in MYMETA.json (including optional ones):
#
# === Configure Requires ===
#
# Module Want Have
# ------------------- ---- ----
# ExtUtils::MakeMaker any 7.34
#
# === Build Requires ===
#
# Module Want Have
# ------------------- ---- ----
# ExtUtils::MakeMaker any 7.34
#
# === Test Requires ===
#
# Module Want Have
# -------------------------- ---- --------
# Carp any 1.38
# Exporter any 5.72
# ExtUtils::MakeMaker any 7.34
# File::Spec any 3.74
# Perl::Critic any 1.130
# Scalar::Util any 1.50
# Test2::API any 1.302136
# Test2::IPC any 1.302136
# Test2::Plugin::SpecDeclare any 0.000003
# Test2::Suite any 0.000114
# Test2::Todo any 0.000114
# Test2::Tools::Explain any 0.02
# Test2::Tools::Spec any 0.000114
# Test2::V0 any 0.000114
# Test::HTTP::MockServer any 0.0.1
# Test::MockModule any 0.170.0
# Test::MockTime any 0.17
# Test::More any 1.302136
# Test::Perl::Critic any 1.03
# Test::Pod any 1.52
# namespace::autoclean any 0.28
# parent any 0.236
# strictures any 2.000004
#
# === Test Recommends ===
#
# Module Want Have
# ---------- -------- --------
# CPAN::Meta 2.120900 2.150010
#
# === Runtime Requires ===
#
# Module Want Have
# ---------------- ---- --------
# Data::Printer any 0.40
# File::Find::Rule any 0.34
# Guard any 1.023
# HTTP::Parser::XS any 0.17
# HTTP::Response any 6.18
# Moo any 2.003004
# Net::Curl::Easy any 0.38
# Net::Curl::Multi any 0.38
# Path::Tiny any 0.108
# Type::Library any 1.004000
# Type::Utils any 1.004000
# Types::Standard any 1.004000
# URI::Fast any 0.40
#
t/00-report-prereqs.t ............. ok
t/Net/Curl/Parallel.t ............. ok
t/Net/Curl/Parallel/add_try.t ..... ok
t/Net/Curl/Parallel/collect.t ..... ok
t/Net/Curl/Parallel/fetch.t ....... ok
t/Net/Curl/Parallel/max_curls.t ... ok
t/Net/Curl/Parallel/perform.t ..... ok
t/Net/Curl/Parallel/Response.t .... ok
t/Net/Curl/Parallel/setup_curl.t .. ok
t/Net/Curl/Parallel/Types.t ....... ok
t/perlcritic.t .................... skipped: Author test. Set $ENV{TEST_AUTHOR} to a true value to run.
t/pod.t ........................... ok
All tests successful.
Files=12, Tests=48, 3 wallclock secs ( 0.04 usr 0.04 sys + 1.66 cusr 0.47 csys = 2.21 CPU)
Result: PASS
------------------------------
PREREQUISITES
------------------------------
Prerequisite modules loaded:
requires:
Module Need Have
-------------------------- -------- --------
Data::Printer 0 0.40
File::Find::Rule 0 0.34
Guard 0 1.023
HTTP::Parser::XS 0 0.17
HTTP::Response 0 6.18
Moo 0 2.003004
Net::Curl::Easy 0 0.38
Net::Curl::Multi 0 0.38
Path::Tiny 0 0.108
perl 5.014000 5.018002
Type::Library 0 1.004000
Type::Utils 0 1.004000
Types::Standard 0 1.004000
URI::Fast 0 0.40
build_requires:
Module Need Have
-------------------------- -------- --------
Carp 0 1.38
Exporter 0 5.72
ExtUtils::MakeMaker 0 7.34
File::Spec 0 3.74
namespace::autoclean 0 0.28
parent 0 0.236
Perl::Critic 0 1.130
Scalar::Util 0 1.50
strictures 0 2.000004
Test2::API 0 1.302136
Test2::IPC 0 1.302136
Test2::Plugin::SpecDeclare 0 0.000003
Test2::Suite 0 0.000114
Test2::Todo 0 0.000114
Test2::Tools::Explain 0 0.02
Test2::Tools::Spec 0 0.000114
Test2::V0 0 0.000114
Test::HTTP::MockServer 0 0.0.1
Test::MockModule 0 0.170.0
Test::MockTime 0 0.17
Test::More 0 1.302136
Test::Perl::Critic 0 1.03
Test::Pod 0 1.52
configure_requires:
Module Need Have
-------------------------- -------- --------
ExtUtils::MakeMaker 0 7.34
------------------------------
ENVIRONMENT AND OTHER CONTEXT
------------------------------
Environment variables:
LANG = C
LC_ALL = de_DE.UTF-8
PATH = /usr/local/bin:/usr/bin:/bin:/usr/local/sbin:/usr/sbin:/sbin:/home/cpansand/bin/linux-gnu:/home/cpansand/bin/sh:/home/cpansand/bin:/usr/games:/home/cpansand/devel:/home/eserte/src/srezic-misc/scripts
PERL5LIB = /home/cpansand/.cpan/build/2018091901/Test-HTTP-MockServer-v0.0.1-13/blib/arch:/home/cpansand/.cpan/build/2018091901/Test-HTTP-MockServer-v0.0.1-13/blib/lib
PERL5OPT =
PERL5_CPANPLUS_IS_RUNNING = 9981
PERL5_CPAN_IS_RUNNING = 9981
PERL5_CPAN_IS_RUNNING_IN_RECURSION = 5817,9981
PERLDOC = -MPod::Perldoc::ToTextOverstrike
PERL_BATCH = yes
PERL_CANARY_STABILITY_NOPROMPT = 1
PERL_CPAN_REPORTER_CONFIG = /var/tmp/cpansmoker-1023/2018091901/cpanreporter_000_config.ini
PERL_EXTUTILS_AUTOINSTALL = --defaultdeps
PERL_PARALLEL_SMOKER = yes
PERL_USE_UNSAFE_INC = 1
SHELL = /bin/zsh
TERM = screen
TMPDIR = /var/tmp/cpansmoker-1023/2018091901
Perl special variables (and OS-specific diagnostics, for MSWin32):
$^X = /bbbike/perl-5.18.2/bin/perl
$UID/$EUID = 1023 / 1023
$GID = 1023 1023
$EGID = 1023 1023
Perl module toolchain versions installed:
Module Have
------------------- --------
CPAN 2.16
CPAN::Meta 2.150010
Cwd 3.74
ExtUtils::CBuilder 0.280230
ExtUtils::Command 7.34
ExtUtils::Install 2.14
ExtUtils::MakeMaker 7.34
ExtUtils::Manifest 1.71
ExtUtils::ParseXS 3.30
File::Spec 3.74
JSON 2.97001
JSON::PP 2.96
Module::Build 0.4224
Module::Signature 0.81
Parse::CPAN::Meta 2.150010
Test::Harness 3.42
Test::More 1.302136
YAML 1.24
YAML::Syck 1.30
version 0.9918
--
Summary of my perl5 (revision 5 version 18 subversion 2) configuration:
Platform:
osname=linux, osvers=3.16.0-4-amd64, archname=x86_64-linux
uname='linux eserte 3.16.0-4-amd64 #1 smp debian 3.16.7-ckt25-2 (2016-04-08) x86_64 gnulinux '
config_args='-ds -e -Dprefix=/opt/perl-5.18.2 -Dcf_email=srezic@cpan.org'
hint=recommended, useposix=true, d_sigaction=define
useithreads=undef, usemultiplicity=undef
useperlio=define, d_sfio=undef, uselargefiles=define, usesocks=undef
use64bitint=define, use64bitall=define, uselongdouble=undef
usemymalloc=n, bincompat5005=undef
Compiler:
cc='cc', ccflags ='-fno-strict-aliasing -pipe -fstack-protector -I/usr/local/include -D_LARGEFILE_SOURCE -D_FILE_OFFSET_BITS=64',
optimize='-O2',
cppflags='-fno-strict-aliasing -pipe -fstack-protector -I/usr/local/include'
ccversion='', gccversion='4.9.2', gccosandvers=''
intsize=4, longsize=8, ptrsize=8, doublesize=8, byteorder=12345678
d_longlong=define, longlongsize=8, d_longdbl=define, longdblsize=16
ivtype='long', ivsize=8, nvtype='double', nvsize=8, Off_t='off_t', lseeksize=8
alignbytes=8, prototype=define
Linker and Libraries:
ld='cc', ldflags =' -fstack-protector -L/usr/local/lib'
libpth=/usr/local/lib /lib/x86_64-linux-gnu /lib/../lib /usr/lib/x86_64-linux-gnu /usr/lib/../lib /lib /usr/lib
libs=-lnsl -lgdbm -ldb -ldl -lm -lcrypt -lutil -lc -lgdbm_compat
perllibs=-lnsl -ldl -lm -lcrypt -lutil -lc
libc=, so=so, useshrplib=false, libperl=libperl.a
gnulibc_version='2.19'
Dynamic Linking:
dlsrc=dl_dlopen.xs, dlext=so, d_dlsymun=undef, ccdlflags='-Wl,-E'
cccdlflags='-fPIC', lddlflags='-shared -O2 -L/usr/local/lib -fstack-protector'
Characteristics of this binary (from libperl):
Compile-time options: HAS_TIMES PERLIO_LAYERS PERL_DONT_CREATE_GVSV
PERL_HASH_FUNC_ONE_AT_A_TIME_HARD PERL_MALLOC_WRAP
PERL_PRESERVE_IVUV PERL_SAWAMPERSAND USE_64_BIT_ALL
USE_64_BIT_INT USE_LARGE_FILES USE_LOCALE
USE_LOCALE_COLLATE USE_LOCALE_CTYPE
USE_LOCALE_NUMERIC USE_PERLIO USE_PERL_ATOF
Built under linux
Compiled at May 7 2016 16:24:49
%ENV:
PERL5LIB="/home/cpansand/.cpan/build/2018091901/Test-HTTP-MockServer-v0.0.1-13/blib/arch:/home/cpansand/.cpan/build/2018091901/Test-HTTP-MockServer-v0.0.1-13/blib/lib"
PERL5OPT=""
PERL5_CPANPLUS_IS_RUNNING="9981"
PERL5_CPAN_IS_RUNNING="9981"
PERL5_CPAN_IS_RUNNING_IN_RECURSION="5817,9981"
PERLDOC="-MPod::Perldoc::ToTextOverstrike"
PERL_BATCH="yes"
PERL_CANARY_STABILITY_NOPROMPT="1"
PERL_CPAN_REPORTER_CONFIG="/var/tmp/cpansmoker-1023/2018091901/cpanreporter_000_config.ini"
PERL_EXTUTILS_AUTOINSTALL="--defaultdeps"
PERL_PARALLEL_SMOKER="yes"
PERL_USE_UNSAFE_INC="1"
@INC:
/home/cpansand/.cpan/build/2018091901/Test-HTTP-MockServer-v0.0.1-13/blib/arch
/home/cpansand/.cpan/build/2018091901/Test-HTTP-MockServer-v0.0.1-13/blib/lib
/opt/perl-5.18.2/lib/site_perl/5.18.2/x86_64-linux
/opt/perl-5.18.2/lib/site_perl/5.18.2
/opt/perl-5.18.2/lib/5.18.2/x86_64-linux
/opt/perl-5.18.2/lib/5.18.2
.