Task-FreecellSolver-Testing-MultiConfig v0.0.6 Perl 5 v5.30.2 amd64-freebsd
- Status
- Pass
- From
- Slaven Rezić
- Dist
-
Task-FreecellSolver-Testing-MultiConfig v0.0.6
- Platform
- Perl 5 v5.30.2 amd64-freebsd
- Date
- 2021-12-08 07:11:43
- ID
- 18cada92-57f6-11ec-b0d1-035b1f24ea8f
This distribution has been tested as part of the CPAN Testers
project, supporting the Perl programming language. See
http://wiki.cpantesters.org/ for more information or email
questions to cpan-testers-discuss@perl.org
--
Dear Shlomi Fish,
This is a computer-generated report for Task-FreecellSolver-Testing-MultiConfig-0.0.6
on perl 5.30.2, created by CPAN-Reporter-1.2018.
Thank you for uploading your work to CPAN. Congratulations!
All tests were successful.
Sections of this report:
* Tester comments
* Program output
* Prerequisites
* Environment and other context
------------------------------
TESTER COMMENTS
------------------------------
Additional comments from tester:
none provided
------------------------------
PROGRAM OUTPUT
------------------------------
Output from './Build test':
t/00-compile.t ... ok
# Testing Task::FreecellSolver::Testing::MultiConfig 0.0.6, Perl 5.030002, /usr/perl5.30.2p/bin/perl5.30.2
t/00-load.t ...... ok
t/placeholder.t .. ok
All tests successful.
Files=3, Tests=3, 0 wallclock secs ( 0.02 usr 0.02 sys + 0.17 cusr 0.13 csys = 0.35 CPU)
Result: PASS
------------------------------
PREREQUISITES
------------------------------
Prerequisite modules loaded:
requires:
Module Need Have
------------------------------------- ----- --------
App::Deps::Verify 0 0.12.0
App::Docmake 0 0.1003
Code::TidyAll::Plugin::ClangFormat 0 0.0.2
Code::TidyAll::Plugin::ESLint 0 1.000000
Code::TidyAll::Plugin::TSLint 0 1.000001
Dir::Manifest 0 0.6.1
Dist::Zilla::Plugin::Test::Kwalitee 0 2.12
Dist::Zilla::Plugin::Test::TidyAll 0 0.04
! Dist::Zilla::PluginBundle::SHLOMIF 0 n/a
HTML::Spelling::Site::Whitelist 0 0.6.0
HTML::Toc 0 1.12
HTML::TocGenerator 0 1.12
Markdent 0 0.40
Math::RNG::Microsoft 0 0.0.5
Parallel::ForkManager::Segmented 0 0.10.1
perl 5.012 5.030002
Perl::Critic::Freenode 0 v1.0.0
Pod::Coverage::TrustPod 0 0.100005
Pod::Weaver::PluginBundle::SHLOMIF 0 0.001004
Pod::Weaver::Section::Support 0 1.013
strict 0 1.11
Task::FreecellSolver::Testing 0 0.0.12
Template 0 3.009
Template::Stash 0 3.009
Test::File::Find::CaseCollide 0 0.2.0
! Test::HTML::Recursive::DeprecatedTags 0 broken
Test::Perl::Critic::Policy 0 1.140
Test::Pod 0 1.52
Test::Pod::Coverage 0 1.10
Text::WrapAsUtf8 0 0.0.2
warnings 0 1.44
build_requires:
Module Need Have
------------------------------------- ----- --------
File::Spec 0 3.78
IO::Handle 0 1.45
IPC::Open3 0 1.20
Module::Build 0.28 0.4231
Test::More 0.88 1.302188
configure_requires:
Module Need Have
------------------------------------- ----- --------
Module::Build 0.28 0.4231
------------------------------
ENVIRONMENT AND OTHER CONTEXT
------------------------------
Environment variables:
PATH = /usr/local/bin:/usr/bin:/bin:/usr/local/sbin:/usr/sbin:/sbin:/home/cpansand/bin/sh:/home/cpansand/bin:/usr/games:/home/cpansand/devel:/usr/home/eserte/src/srezic-misc/scripts
PERL5LIB = /home/cpansand/.cpan/build/2021120807/Text-WrapAsUtf8-0.0.2-2/blib/arch:/home/cpansand/.cpan/build/2021120807/Text-WrapAsUtf8-0.0.2-2/blib/lib:/home/cpansand/.cpan/build/2021120807/Pod-Weaver-PluginBundle-SHLOMIF-0.001004-2/blib/arch:/home/cpansand/.cpan/build/2021120807/Pod-Weaver-PluginBundle-SHLOMIF-0.001004-2/blib/lib:/home/cpansand/.cpan/build/2021120807/HTML-Toc-1.12-2/blib/arch:/home/cpansand/.cpan/build/2021120807/HTML-Toc-1.12-2/blib/lib:/home/cpansand/.cpan/build/2021120807/Code-TidyAll-Plugin-TSLint-0.001-2/blib/arch:/home/cpansand/.cpan/build/2021120807/Code-TidyAll-Plugin-TSLint-0.001-2/blib/lib:/home/cpansand/.cpan/build/2021120807/Code-TidyAll-Plugin-ESLint-1.000000-2/blib/arch:/home/cpansand/.cpan/build/2021120807/Code-TidyAll-Plugin-ESLint-1.000000-2/blib/lib:/home/cpansand/.cpan/build/2021120807/App-XML-DocBook-Builder-0.1003-2/blib/arch:/home/cpansand/.cpan/build/2021120807/App-XML-DocBook-Builder-0.1003-2/blib/lib
PERL5OPT =
PERL5_CPANPLUS_IS_RUNNING = 78061
PERL5_CPAN_IS_RUNNING = 78061
PERL5_CPAN_IS_RUNNING_IN_RECURSION = 74160,78061
PERL_BATCH = yes
PERL_CANARY_STABILITY_NOPROMPT = 1
PERL_CPAN_REPORTER_CONFIG = /var/tmp/cpansmoker-1023/2021120807/cpanreporter_000_config.ini
PERL_EXTUTILS_AUTOINSTALL = --defaultdeps
PERL_USE_UNSAFE_INC = 1
SHELL = /bin/sh
TMPDIR = /var/tmp/cpansmoker-1023/2021120807
Perl special variables (and OS-specific diagnostics, for MSWin32):
$^X = /usr/perl5.30.2p/bin/perl5.30.2
$UID/$EUID = 1023 / 1023
$GID = 1023 1023
$EGID = 1023 1023
Perl module toolchain versions installed:
Module Have
------------------- --------
CPAN 2.29
CPAN::Meta 2.150010
Cwd 3.78
ExtUtils::CBuilder 0.280235
ExtUtils::Command 7.62
ExtUtils::Install 2.20
ExtUtils::MakeMaker 7.62
ExtUtils::Manifest 1.72
ExtUtils::ParseXS 3.40
File::Spec 3.78
JSON 4.03
JSON::PP 4.06
Module::Build 0.4231
Module::Signature 0.87
Parse::CPAN::Meta 2.150010
Test::Harness 3.42
Test::More 1.302188
YAML 1.30
YAML::Syck 1.34
version 0.9924
--
Summary of my perl5 (revision 5 version 30 subversion 2) configuration:
Platform:
osname=freebsd
osvers=12.1-stable
archname=amd64-freebsd
uname='freebsd cloud1.bbbike.org 12.1-stable freebsd 12.1-stable 300cf9f9b89(stable12) generic amd64 '
config_args='-ds -e -Dprefix=/usr/perl5.30.2p -Dcf_email=srezic@cpan.org -Doptimize=-O2 -pipe'
hint=recommended
useposix=true
d_sigaction=define
useithreads=undef
usemultiplicity=undef
use64bitint=define
use64bitall=define
uselongdouble=undef
usemymalloc=n
default_inc_excludes_dot=define
bincompat5005=undef
Compiler:
cc='cc'
ccflags ='-DHAS_FPSETMASK -DHAS_FLOATINGPOINT_H -fno-strict-aliasing -pipe -fstack-protector-strong -I/usr/local/include'
optimize='-O2 -pipe'
cppflags='-DHAS_FPSETMASK -DHAS_FLOATINGPOINT_H -fno-strict-aliasing -pipe -fstack-protector-strong -I/usr/local/include'
ccversion=''
gccversion='FreeBSD Clang 9.0.1 (git@github.com:llvm/llvm-project.git c1a0a213378a458fbea1a5c77b315c7dce08fd05)'
gccosandvers=''
intsize=4
longsize=8
ptrsize=8
doublesize=8
byteorder=12345678
doublekind=3
d_longlong=define
longlongsize=8
d_longdbl=define
longdblsize=16
longdblkind=3
ivtype='long'
ivsize=8
nvtype='double'
nvsize=8
Off_t='off_t'
lseeksize=8
alignbytes=8
prototype=define
Linker and Libraries:
ld='cc'
ldflags ='-pthread -Wl,-E -fstack-protector-strong -L/usr/local/lib'
libpth=/usr/lib /usr/local/lib /usr/lib/clang/9.0.1/lib /usr/lib
libs=-lpthread -lgdbm -ldl -lm -lcrypt -lutil -lc
perllibs=-lpthread -ldl -lm -lcrypt -lutil -lc
libc=
so=so
useshrplib=false
libperl=libperl.a
gnulibc_version=''
Dynamic Linking:
dlsrc=dl_dlopen.xs
dlext=so
d_dlsymun=undef
ccdlflags=' '
cccdlflags='-DPIC -fPIC'
lddlflags='-shared -L/usr/local/lib -fstack-protector-strong'
Characteristics of this binary (from libperl):
Compile-time options:
HAS_TIMES
PERLIO_LAYERS
PERL_COPY_ON_WRITE
PERL_DONT_CREATE_GVSV
PERL_MALLOC_WRAP
PERL_OP_PARENT
PERL_PRESERVE_IVUV
USE_64_BIT_ALL
USE_64_BIT_INT
USE_LARGE_FILES
USE_LOCALE
USE_LOCALE_COLLATE
USE_LOCALE_CTYPE
USE_LOCALE_NUMERIC
USE_LOCALE_TIME
USE_PERLIO
USE_PERL_ATOF
Built under freebsd
Compiled at Mar 14 2020 21:35:07
%ENV:
PERL5LIB="/home/cpansand/.cpan/build/2021120807/Text-WrapAsUtf8-0.0.2-2/blib/arch:/home/cpansand/.cpan/build/2021120807/Text-WrapAsUtf8-0.0.2-2/blib/lib:/home/cpansand/.cpan/build/2021120807/Pod-Weaver-PluginBundle-SHLOMIF-0.001004-2/blib/arch:/home/cpansand/.cpan/build/2021120807/Pod-Weaver-PluginBundle-SHLOMIF-0.001004-2/blib/lib:/home/cpansand/.cpan/build/2021120807/HTML-Toc-1.12-2/blib/arch:/home/cpansand/.cpan/build/2021120807/HTML-Toc-1.12-2/blib/lib:/home/cpansand/.cpan/build/2021120807/Code-TidyAll-Plugin-TSLint-0.001-2/blib/arch:/home/cpansand/.cpan/build/2021120807/Code-TidyAll-Plugin-TSLint-0.001-2/blib/lib:/home/cpansand/.cpan/build/2021120807/Code-TidyAll-Plugin-ESLint-1.000000-2/blib/arch:/home/cpansand/.cpan/build/2021120807/Code-TidyAll-Plugin-ESLint-1.000000-2/blib/lib:/home/cpansand/.cpan/build/2021120807/App-XML-DocBook-Builder-0.1003-2/blib/arch:/home/cpansand/.cpan/build/2021120807/App-XML-DocBook-Builder-0.1003-2/blib/lib"
PERL5OPT=""
PERL5_CPANPLUS_IS_RUNNING="78061"
PERL5_CPAN_IS_RUNNING="78061"
PERL5_CPAN_IS_RUNNING_IN_RECURSION="74160,78061"
PERL_BATCH="yes"
PERL_CANARY_STABILITY_NOPROMPT="1"
PERL_CPAN_REPORTER_CONFIG="/var/tmp/cpansmoker-1023/2021120807/cpanreporter_000_config.ini"
PERL_EXTUTILS_AUTOINSTALL="--defaultdeps"
PERL_USE_UNSAFE_INC="1"
@INC:
/home/cpansand/.cpan/build/2021120807/Text-WrapAsUtf8-0.0.2-2/blib/arch
/home/cpansand/.cpan/build/2021120807/Text-WrapAsUtf8-0.0.2-2/blib/lib
/home/cpansand/.cpan/build/2021120807/Pod-Weaver-PluginBundle-SHLOMIF-0.001004-2/blib/arch
/home/cpansand/.cpan/build/2021120807/Pod-Weaver-PluginBundle-SHLOMIF-0.001004-2/blib/lib
/home/cpansand/.cpan/build/2021120807/HTML-Toc-1.12-2/blib/arch
/home/cpansand/.cpan/build/2021120807/HTML-Toc-1.12-2/blib/lib
/home/cpansand/.cpan/build/2021120807/Code-TidyAll-Plugin-TSLint-0.001-2/blib/arch
/home/cpansand/.cpan/build/2021120807/Code-TidyAll-Plugin-TSLint-0.001-2/blib/lib
/home/cpansand/.cpan/build/2021120807/Code-TidyAll-Plugin-ESLint-1.000000-2/blib/arch
/home/cpansand/.cpan/build/2021120807/Code-TidyAll-Plugin-ESLint-1.000000-2/blib/lib
/home/cpansand/.cpan/build/2021120807/App-XML-DocBook-Builder-0.1003-2/blib/arch
/home/cpansand/.cpan/build/2021120807/App-XML-DocBook-Builder-0.1003-2/blib/lib
/usr/perl5.30.2p/lib/site_perl/5.30.2/amd64-freebsd
/usr/perl5.30.2p/lib/site_perl/5.30.2
/usr/perl5.30.2p/lib/5.30.2/amd64-freebsd
/usr/perl5.30.2p/lib/5.30.2
.