Data-NestedParams v0.07 Perl 5 v5.41.10 i86pc-solaris-thread-multi-64
- Status
- Pass
- From
- Carlos Guevara
- Dist
-
Data-NestedParams v0.07
- Platform
- Perl 5 v5.41.10 i86pc-solaris-thread-multi-64
- Date
- 2025-03-15 18:48:33
- ID
- 18c02fcc-01ce-11f0-b6db-c57517ecffab
This distribution has been tested as part of the CPAN Testers
project, supporting the Perl programming language. See
http://wiki.cpantesters.org/ for more information or email
questions to cpan-testers-discuss@perl.org
--
Dear Tokuhiro Matsuno'xmp,
This is a computer-generated report for Data-NestedParams-0.07
on perl 5.41.10, created by CPAN-Reporter-1.2020.
Thank you for uploading your work to CPAN. Congratulations!
All tests were successful.
Sections of this report:
* Tester comments
* Program output
* Prerequisites
* Environment and other context
------------------------------
TESTER COMMENTS
------------------------------
Additional comments from tester:
this report is from an automated smoke testing program
and was not reviewed by a human for accuracy
------------------------------
PROGRAM OUTPUT
------------------------------
Output from './Build test':
t/00_compile.t ... ok
# --- Testing ---
# --- input: ['a','x']
# --- expected: {'a' => 'x'}
# --- got: {'a' => 'x'}
# --- Testing ---
# --- input: ['foo','bar','foo','quux']
# --- expected: {'foo' => 'quux'}
# --- got: {'foo' => 'quux'}
# --- Testing ---
# --- input: ['a[]','x','a[]','y']
# --- expected: {'a' => ['x','y']}
# --- got: {'a' => ['x','y']}
# --- Testing ---
# --- input: ['a[foo]','x']
# --- expected: {'a' => {'foo' => 'x'}}
# --- got: {'a' => {'foo' => 'x'}}
# --- Testing ---
# --- input: ['a[foo][bar]','x']
# --- expected: {'a' => {'foo' => {'bar' => 'x'}}}
# --- got: {'a' => {'foo' => {'bar' => 'x'}}}
# --- Testing ---
# --- input: ['a[foo][bar][]','x']
# --- expected: {'a' => {'foo' => {'bar' => ['x']}}}
# --- got: {'a' => {'foo' => {'bar' => ['x']}}}
# --- Testing ---
# --- input: ['a[fo-o]','x','a[ba_r]','x']
# --- expected: {'a' => {'fo-o' => 'x','ba_r' => 'x'}}
# --- got: {'a' => {'ba_r' => 'x','fo-o' => 'x'}}
# --- Testing ---
# --- input: ['a[]','J','a[]','T','a[]','K']
# --- expected: {'a' => ['J','T','K']}
# --- got: {'a' => ['J','T','K']}
# --- Testing ---
# --- input: ['r[p1]','a','r[p2]','c']
# --- expected: {'r' => {'p1' => 'a','p2' => 'c'}}
# --- got: {'r' => {'p2' => 'c','p1' => 'a'}}
t/01_simple.t .... ok
# ===
# --- input: ['foo']
# --- expected: {'foo' => undef}
# --- got: {'foo' => undef}
# ===
# --- input: ['foo','']
# --- expected: {'foo' => ''}
# --- got: {'foo' => ''}
# ===
# --- input: ['foo','bar']
# --- expected: {'foo' => 'bar'}
# --- got: {'foo' => 'bar'}
# ===
# --- input: ['foo','"bar"']
# --- expected: {'foo' => '"bar"'}
# --- got: {'foo' => '"bar"'}
# ===
# --- input: ['foo','bar','foo','quux']
# --- expected: {'foo' => 'quux'}
# --- got: {'foo' => 'quux'}
# ===
# --- input: ['foo','','foo','']
# --- expected: {'foo' => ''}
# --- got: {'foo' => ''}
# ===
# --- input: ['foo',1,'bar',2]
# --- expected: {'foo' => '1','bar' => '2'}
# --- got: {'foo' => 1,'bar' => 2}
# ===
# --- input: ['foo','1','bar',2]
# --- expected: {'foo' => '1','bar' => '2'}
# --- got: {'foo' => '1','bar' => 2}
# ===
# --- input: ['foo','bar','baz','']
# --- expected: {'baz' => '','foo' => 'bar'}
# --- got: {'baz' => '','foo' => 'bar'}
# ===
# --- input: ['my weird field','q1!2"\'w$5&7/z8)?']
# --- expected: {'my weird field' => 'q1!2"\'w$5&7/z8)?'}
# --- got: {'my weird field' => 'q1!2"\'w$5&7/z8)?'}
# ===
# --- input: ['a','b','pid=1234',1023]
# --- expected: {'pid=1234' => '1023','a' => 'b'}
# --- got: {'pid=1234' => 1023,'a' => 'b'}
# ===
# --- input: ['foo[]',undef]
# --- expected: {'foo' => [undef]}
# --- got: {'foo' => [undef]}
# ===
# --- input: ['foo[]','']
# --- expected: {'foo' => ['']}
# --- got: {'foo' => ['']}
# ===
# --- input: ['foo[]','bar']
# --- expected: {'foo' => ['bar']}
# --- got: {'foo' => ['bar']}
# ===
# --- input: ['foo[]','bar','foo',undef]
# --- expected: {'foo' => undef}
# --- got: {'foo' => undef}
# ===
# --- input: ['foo[]','bar','foo[',undef]
# --- expected: {'foo[' => undef,'foo' => ['bar']}
# --- got: {'foo[' => undef,'foo' => ['bar']}
# ===
# --- input: ['foo[]','bar','foo[','baz']
# --- expected: {'foo[' => 'baz','foo' => ['bar']}
# --- got: {'foo' => ['bar'],'foo[' => 'baz'}
# ===
# --- input: ['foo[]','bar','foo[]',undef]
# --- expected: {'foo' => ['bar',undef]}
# --- got: {'foo' => ['bar',undef]}
# ===
# --- input: ['foo[]','bar','foo[]','']
# --- expected: {'foo' => ['bar','']}
# --- got: {'foo' => ['bar','']}
# ===
# --- input: ['foo[]',1,'foo[]',2]
# --- expected: {'foo' => ['1','2']}
# --- got: {'foo' => [1,2]}
# ===
# --- input: ['foo','bar','baz[]',1,'baz[]',2,'baz[]',3]
# --- expected: {'baz' => ['1','2','3'],'foo' => 'bar'}
# --- got: {'baz' => [1,2,3],'foo' => 'bar'}
# ===
# --- input: ['foo[]','bar','baz[]',1,'baz[]',2,'baz[]',3]
# --- expected: {'baz' => ['1','2','3'],'foo' => ['bar']}
# --- got: {'foo' => ['bar'],'baz' => [1,2,3]}
# ===
# --- input: ['x[y][z]',1]
# --- expected: {'x' => {'y' => {'z' => '1'}}}
# --- got: {'x' => {'y' => {'z' => 1}}}
# ===
# --- input: ['x[y][z][]',1]
# --- expected: {'x' => {'y' => {'z' => ['1']}}}
# --- got: {'x' => {'y' => {'z' => [1]}}}
# ===
# --- input: ['x[y][z]',1,'x[y][z]',2]
# --- expected: {'x' => {'y' => {'z' => '2'}}}
# --- got: {'x' => {'y' => {'z' => 2}}}
# ===
# --- input: ['x[y][z][]',1,'x[y][z][]',2]
# --- expected: {'x' => {'y' => {'z' => ['1','2']}}}
# --- got: {'x' => {'y' => {'z' => [1,2]}}}
# ===
# --- input: ['x[y][][z]','1']
# --- expected: {'x' => {'y' => [{'z' => '1'}]}}
# --- got: {'x' => {'y' => [{'z' => '1'}]}}
# ===
# --- input: ['x[y][][z][]',1]
# --- expected: {'x' => {'y' => [{'z' => ['1']}]}}
# --- got: {'x' => {'y' => [{'z' => [1]}]}}
# ===
# --- input: ['x[y][][z]',1,'x[y][][w]',2]
# --- expected: {'x' => {'y' => [{'w' => '2','z' => '1'}]}}
# --- got: {'x' => {'y' => [{'w' => 2,'z' => 1}]}}
# ===
# --- input: ['x[y][][v][w]',1]
# --- expected: {'x' => {'y' => [{'v' => {'w' => '1'}}]}}
# --- got: {'x' => {'y' => [{'v' => {'w' => 1}}]}}
# ===
# --- input: ['x[y][][z]',1,'x[y][][v][w]',2]
# --- expected: {'x' => {'y' => [{'z' => '1','v' => {'w' => '2'}}]}}
# --- got: {'x' => {'y' => [{'v' => {'w' => 2},'z' => 1}]}}
# ===
# --- input: ['x[y][][z]',1,'x[y][][z]',2]
# --- expected: {'x' => {'y' => [{'z' => '1'},{'z' => '2'}]}}
# --- got: {'x' => {'y' => [{'z' => 1},{'z' => 2}]}}
# ===
# --- input: ['x[y][][z]',1,'x[y][][w]','a','x[y][][z]',2,'x[y][][w]',3]
# --- expected: {'x' => {'y' => [{'z' => '1','w' => 'a'},{'w' => '3','z' => '2'}]}}
# --- got: {'x' => {'y' => [{'z' => 1,'w' => 'a'},{'z' => 2,'w' => 3}]}}
t/02_rack.t ...... ok
t/03_collapse.t .. ok
All tests successful.
Files=4, Tests=48, 0 wallclock secs ( 0.03 usr 0.01 sys + 0.20 cusr 0.05 csys = 0.29 CPU)
Result: PASS
------------------------------
PREREQUISITES
------------------------------
Prerequisite modules loaded:
requires:
Module Need Have
---------------- -------- --------
perl 5.008005 5.041010
build_requires:
Module Need Have
---------------- -------- --------
Test::Base::Less 0.12 0.13
Test::Deep 0 1.204
Test::More 0.98 1.302209
configure_requires:
Module Need Have
---------------- -------- --------
Module::Build 0.38 0.4234
------------------------------
ENVIRONMENT AND OTHER CONTEXT
------------------------------
Environment variables:
AUTOMATED_TESTING = 1
DATE_MANIP_TEST_DM5 = 1
LANG = en_US.UTF-8
LC_ALL = C
NONINTERACTIVE_TESTING = 1
NO_NETWORK_TESTING = 1
PATH = /export/home/cpan/bin/perl/bin:/usr/bin:/usr/sbin:/sbin:/opt/ooce/bin:/usr/gnu/bin
PERL5LIB =
PERL5OPT =
PERL5_CPANPLUS_IS_RUNNING = 9734
PERL5_CPAN_IS_RUNNING = 9734
PERL_MM_USE_DEFAULT = 1
PERL_USE_UNSAFE_INC = 1
SHELL = /bin/bash
TERM = screen
Perl special variables (and OS-specific diagnostics, for MSWin32):
$^X = /export/home/cpan/bin/perl/bin/perl5.41.10
$UID/$EUID = 101 / 101
$GID = 1 1
$EGID = 1 1
Perl module toolchain versions installed:
Module Have
------------------- --------
CPAN 2.38
CPAN::Meta 2.150010
Cwd 3.92
ExtUtils::CBuilder 0.280240
ExtUtils::Command 7.72
ExtUtils::Install 2.22
ExtUtils::MakeMaker 7.72
ExtUtils::Manifest 1.75
ExtUtils::ParseXS 3.57
File::Spec 3.93
JSON 4.10
JSON::PP 4.16
Module::Build 0.4234
Module::Signature 0.89
Parse::CPAN::Meta 2.150010
Test2 1.302209
Test::Harness 3.50
Test::More 1.302209
YAML 1.31
YAML::Syck 1.34
version 0.9933
--
Summary of my perl5 (revision 5 version 41 subversion 10) configuration:
Commit id: dbe37414ccd0f34ff1638f49deb9955648e98099
Platform:
osname=solaris
osvers=2.11
archname=i86pc-solaris-thread-multi-64
uname='sunos cjg-omniosce 5.11 omnios-r151050-daf07d448c8 i86pc i386 i86pc '
config_args='-des -Dprefix=/export/home/cpan/bin/perl -Dscriptdir=/export/home/cpan/bin/perl/bin -Dusedevel -Duse64bitall -Dcc=gcc -Duseithreads'
hint=recommended
useposix=true
d_sigaction=define
useithreads=define
usemultiplicity=define
use64bitint=define
use64bitall=define
uselongdouble=undef
usemymalloc=n
default_inc_excludes_dot=define
Compiler:
cc='gcc'
ccflags ='-D_REENTRANT -m64 -fwrapv -fno-strict-aliasing -pipe -fstack-protector-strong -D_LARGEFILE_SOURCE -D_FILE_OFFSET_BITS=64 -D_FORTIFY_SOURCE=2'
optimize='-O'
cppflags='-D_REENTRANT -m64 -fwrapv -fno-strict-aliasing -pipe -fstack-protector-strong'
ccversion=''
gccversion='13.2.0'
gccosandvers=''
intsize=4
longsize=8
ptrsize=8
doublesize=8
byteorder=12345678
doublekind=3
d_longlong=define
longlongsize=8
d_longdbl=define
longdblsize=16
longdblkind=3
ivtype='long'
ivsize=8
nvtype='double'
nvsize=8
Off_t='off_t'
lseeksize=8
alignbytes=8
prototype=define
Linker and Libraries:
ld='gcc'
ldflags =' -m64 -fstack-protector-strong -L/usr/gnu/lib '
libpth=/opt/gcc-13/lib /usr/lib /usr/gnu/lib /usr/ccs/lib
libs=-lpthread -lsocket -lnsl -ldl -lm -lc
perllibs=-lpthread -lsocket -lnsl -ldl -lm -lc
libc=/lib/libc.so
so=so
useshrplib=true
libperl=libperl.so
gnulibc_version=''
Dynamic Linking:
dlsrc=dl_dlopen.xs
dlext=so
d_dlsymun=undef
ccdlflags=' -R /export/home/cpan/bin/perl/lib/5.41.10/i86pc-solaris-thread-multi-64/CORE'
cccdlflags='-fPIC'
lddlflags=' -shared -m64 -L/usr/gnu/lib -fstack-protector-strong'
Characteristics of this binary (from libperl):
Compile-time options:
HAS_LONG_DOUBLE
HAS_STRTOLD
HAS_TIMES
MULTIPLICITY
PERLIO_LAYERS
PERL_COPY_ON_WRITE
PERL_DONT_CREATE_GVSV
PERL_HASH_FUNC_SIPHASH13
PERL_HASH_USE_SBOX32
PERL_MALLOC_WRAP
PERL_OP_PARENT
PERL_PRESERVE_IVUV
PERL_USE_DEVEL
PERL_USE_SAFE_PUTENV
USE_64_BIT_ALL
USE_64_BIT_INT
USE_ITHREADS
USE_LARGE_FILES
USE_LOCALE
USE_LOCALE_COLLATE
USE_LOCALE_CTYPE
USE_LOCALE_NUMERIC
USE_LOCALE_TIME
USE_PERLIO
USE_PERL_ATOF
USE_REENTRANT_API
USE_THREAD_SAFE_LOCALE
Built under solaris
Compiled at Mar 14 2025 03:32:31
%ENV:
PERL5LIB=""
PERL5OPT=""
PERL5_CPANPLUS_IS_RUNNING="9734"
PERL5_CPAN_IS_RUNNING="9734"
PERL_MM_USE_DEFAULT="1"
PERL_USE_UNSAFE_INC="1"
@INC:
/export/home/cpan/bin/perl/lib/site_perl/5.41.10/i86pc-solaris-thread-multi-64
/export/home/cpan/bin/perl/lib/site_perl/5.41.10
/export/home/cpan/bin/perl/lib/5.41.10/i86pc-solaris-thread-multi-64
/export/home/cpan/bin/perl/lib/5.41.10
.