Syntax-Keyword-Try v0.28 Perl 5 v5.34.1 darwin-2level
- Status
- Pass
- From
- Dist
-
Syntax-Keyword-Try v0.28
- Platform
- Perl 5 v5.34.1 darwin-2level
- Date
- 2023-01-08 06:24:24
- ID
- 188daf50-8f1d-11ed-a3fb-1a8990cdc2d3
This distribution has been tested as part of the CPAN Testers
project, supporting the Perl programming language. See
http://wiki.cpantesters.org/ for more information or email
questions to cpan-testers-discuss@perl.org
--
Dear PEVANS,
This is a computer-generated report for Syntax-Keyword-Try-0.28
on perl 5.34.1, created by App::cpanminus::reporter 0.17 (1.7046).
Thank you for uploading your work to CPAN. Congratulations!
All tests were successful.
Sections of this report:
* Tester comments
* Program output
* Prerequisites
* Environment and other context
------------------------------
TESTER COMMENTS
------------------------------
Additional comments from tester:
none provided
------------------------------
PROGRAM OUTPUT
------------------------------
Output from '':
Building and testing Syntax-Keyword-Try-0.28
Building Syntax-Keyword-Try
cc -I/Volumes/chambord/Users/ether/perl5/perlbrew/perls/34.1/lib/5.34.1/darwin-2level/CORE -DVERSION="0.28" -DXS_VERSION="0.28" -Ihax -I. -c -fno-common -DPERL_DARWIN -mmacosx-version-min=13.1 -fno-strict-aliasing -pipe -fstack-protector-strong -I/opt/local/include -DPERL_USE_SAFE_PUTENV -Wno-error=implicit-function-declaration -O3 -o lib/Syntax/Keyword/Try.o lib/Syntax/Keyword/Try.c
In file included from lib/Syntax/Keyword/Try.xs:7:
In file included from /Volumes/chambord/Users/ether/perl5/perlbrew/perls/34.1/lib/5.34.1/darwin-2level/CORE/perl.h:4085:
In file included from /Volumes/chambord/Users/ether/perl5/perlbrew/perls/34.1/lib/5.34.1/darwin-2level/CORE/hv.h:659:
In file included from /Volumes/chambord/Users/ether/perl5/perlbrew/perls/34.1/lib/5.34.1/darwin-2level/CORE/hv_func.h:34:
In file included from /Volumes/chambord/Users/ether/perl5/perlbrew/perls/34.1/lib/5.34.1/darwin-2level/CORE/sbox32_hash.h:4:
/Volumes/chambord/Users/ether/perl5/perlbrew/perls/34.1/lib/5.34.1/darwin-2level/CORE/zaphod32_hash.h:150:5: warning: '(' and '{' tokens introducing statement expression appear in different macro expansion contexts [-Wcompound-token-split-by-macro]
ZAPHOD32_SCRAMBLE32(state[0],0x9fade23b);
^~~~~~~~~~~~~~~~~~~~~~~~~~~~~~~~~~~~~~~~
/Volumes/chambord/Users/ether/perl5/perlbrew/perls/34.1/lib/5.34.1/darwin-2level/CORE/zaphod32_hash.h:80:38: note: expanded from macro 'ZAPHOD32_SCRAMBLE32'
#define ZAPHOD32_SCRAMBLE32(v,prime) STMT_START { \
^~~~~~~~~~
/Volumes/chambord/Users/ether/perl5/perlbrew/perls/34.1/lib/5.34.1/darwin-2level/CORE/perl.h:737:29: note: expanded from macro 'STMT_START'
# define STMT_START (void)( /* gcc supports "({ STATEMENTS; })" */
^
/Volumes/chambord/Users/ether/perl5/perlbrew/perls/34.1/lib/5.34.1/darwin-2level/CORE/zaphod32_hash.h:150:5: note: '{' token is here
ZAPHOD32_SCRAMBLE32(state[0],0x9fade23b);
^~~~~~~~~~~~~~~~~~~~~~~~~~~~~~~~~~~~~~~~
/Volumes/chambord/Users/ether/perl5/perlbrew/perls/34.1/lib/5.34.1/darwin-2level/CORE/zaphod32_hash.h:80:49: note: expanded from macro 'ZAPHOD32_SCRAMBLE32'
#define ZAPHOD32_SCRAMBLE32(v,prime) STMT_START { \
^
/Volumes/chambord/Users/ether/perl5/perlbrew/perls/34.1/lib/5.34.1/darwin-2level/CORE/zaphod32_hash.h:150:5: warning: '}' and ')' tokens terminating statement expression appear in different macro expansion contexts [-Wcompound-token-split-by-macro]
ZAPHOD32_SCRAMBLE32(state[0],0x9fade23b);
^~~~~~~~~~~~~~~~~~~~~~~~~~~~~~~~~~~~~~~~
/Volumes/chambord/Users/ether/perl5/perlbrew/perls/34.1/lib/5.34.1/darwin-2level/CORE/zaphod32_hash.h:87:41: note: expanded from macro 'ZAPHOD32_SCRAMBLE32'
v ^= (v>>23); \
^
/Volumes/chambord/Users/ether/perl5/perlbrew/perls/34.1/lib/5.34.1/darwin-2level/CORE/zaphod32_hash.h:150:5: note: ')' token is here
ZAPHOD32_SCRAMBLE32(state[0],0x9fade23b);
^~~~~~~~~~~~~~~~~~~~~~~~~~~~~~~~~~~~~~~~
/Volumes/chambord/Users/ether/perl5/perlbrew/perls/34.1/lib/5.34.1/darwin-2level/CORE/zaphod32_hash.h:88:3: note: expanded from macro 'ZAPHOD32_SCRAMBLE32'
} STMT_END
^~~~~~~~
/Volumes/chambord/Users/ether/perl5/perlbrew/perls/34.1/lib/5.34.1/darwin-2level/CORE/perl.h:738:21: note: expanded from macro 'STMT_END'
# define STMT_END )
^
In file included from lib/Syntax/Keyword/Try.xs:7:
In file included from /Volumes/chambord/Users/ether/perl5/perlbrew/perls/34.1/lib/5.34.1/darwin-2level/CORE/perl.h:4085:
In file included from /Volumes/chambord/Users/ether/perl5/perlbrew/perls/34.1/lib/5.34.1/darwin-2level/CORE/hv.h:659:
In file included from /Volumes/chambord/Users/ether/perl5/perlbrew/perls/34.1/lib/5.34.1/darwin-2level/CORE/hv_func.h:34:
In file included from /Volumes/chambord/Users/ether/perl5/perlbrew/perls/34.1/lib/5.34.1/darwin-2level/CORE/sbox32_hash.h:4:
/Volumes/chambord/Users/ether/perl5/perlbrew/perls/34.1/lib/5.34.1/darwin-2level/CORE/zaphod32_hash.h:151:5: warning: '(' and '{' tokens introducing statement expression appear in different macro expansion contexts [-Wcompound-token-split-by-macro]
ZAPHOD32_SCRAMBLE32(state[1],0xaa6f908d);
^~~~~~~~~~~~~~~~~~~~~~~~~~~~~~~~~~~~~~~~
/Volumes/chambord/Users/ether/perl5/perlbrew/perls/34.1/lib/5.34.1/darwin-2level/CORE/zaphod32_hash.h:80:38: note: expanded from macro 'ZAPHOD32_SCRAMBLE32'
#define ZAPHOD32_SCRAMBLE32(v,prime) STMT_START { \
^~~~~~~~~~
/Volumes/chambord/Users/ether/perl5/perlbrew/perls/34.1/lib/5.34.1/darwin-2level/CORE/perl.h:737:29: note: expanded from macro 'STMT_START'
# define STMT_START (void)( /* gcc supports "({ STATEMENTS; })" */
^
/Volumes/chambord/Users/ether/perl5/perlbrew/perls/34.1/lib/5.34.1/darwin-2level/CORE/zaphod32_hash.h:151:5: note: '{' token is here
ZAPHOD32_SCRAMBLE32(state[1],0xaa6f908d);
^~~~~~~~~~~~~~~~~~~~~~~~~~~~~~~~~~~~~~~~
/Volumes/chambord/Users/ether/perl5/perlbrew/perls/34.1/lib/5.34.1/darwin-2level/CORE/zaphod32_hash.h:80:49: note: expanded from macro 'ZAPHOD32_SCRAMBLE32'
#define ZAPHOD32_SCRAMBLE32(v,prime) STMT_START { \
^
/Volumes/chambord/Users/ether/perl5/perlbrew/perls/34.1/lib/5.34.1/darwin-2level/CORE/zaphod32_hash.h:151:5: warning: '}' and ')' tokens terminating statement expression appear in different macro expansion contexts [-Wcompound-token-split-by-macro]
ZAPHOD32_SCRAMBLE32(state[1],0xaa6f908d);
^~~~~~~~~~~~~~~~~~~~~~~~~~~~~~~~~~~~~~~~
/Volumes/chambord/Users/ether/perl5/perlbrew/perls/34.1/lib/5.34.1/darwin-2level/CORE/zaphod32_hash.h:87:41: note: expanded from macro 'ZAPHOD32_SCRAMBLE32'
v ^= (v>>23); \
^
/Volumes/chambord/Users/ether/perl5/perlbrew/perls/34.1/lib/5.34.1/darwin-2level/CORE/zaphod32_hash.h:151:5: note: ')' token is here
ZAPHOD32_SCRAMBLE32(state[1],0xaa6f908d);
^~~~~~~~~~~~~~~~~~~~~~~~~~~~~~~~~~~~~~~~
/Volumes/chambord/Users/ether/perl5/perlbrew/perls/34.1/lib/5.34.1/darwin-2level/CORE/zaphod32_hash.h:88:3: note: expanded from macro 'ZAPHOD32_SCRAMBLE32'
} STMT_END
^~~~~~~~
/Volumes/chambord/Users/ether/perl5/perlbrew/perls/34.1/lib/5.34.1/darwin-2level/CORE/perl.h:738:21: note: expanded from macro 'STMT_END'
# define STMT_END )
^
In file included from lib/Syntax/Keyword/Try.xs:7:
In file included from /Volumes/chambord/Users/ether/perl5/perlbrew/perls/34.1/lib/5.34.1/darwin-2level/CORE/perl.h:4085:
In file included from /Volumes/chambord/Users/ether/perl5/perlbrew/perls/34.1/lib/5.34.1/darwin-2level/CORE/hv.h:659:
In file included from /Volumes/chambord/Users/ether/perl5/perlbrew/perls/34.1/lib/5.34.1/darwin-2level/CORE/hv_func.h:34:
In file included from /Volumes/chambord/Users/ether/perl5/perlbrew/perls/34.1/lib/5.34.1/darwin-2level/CORE/sbox32_hash.h:4:
/Volumes/chambord/Users/ether/perl5/perlbrew/perls/34.1/lib/5.34.1/darwin-2level/CORE/zaphod32_hash.h:152:5: warning: '(' and '{' tokens introducing statement expression appear in different macro expansion contexts [-Wcompound-token-split-by-macro]
ZAPHOD32_SCRAMBLE32(state[2],0xcdf6b72d);
^~~~~~~~~~~~~~~~~~~~~~~~~~~~~~~~~~~~~~~~
/Volumes/chambord/Users/ether/perl5/perlbrew/perls/34.1/lib/5.34.1/darwin-2level/CORE/zaphod32_hash.h:80:38: note: expanded from macro 'ZAPHOD32_SCRAMBLE32'
#define ZAPHOD32_SCRAMBLE32(v,prime) STMT_START { \
^~~~~~~~~~
/Volumes/chambord/Users/ether/perl5/perlbrew/perls/34.1/lib/5.34.1/darwin-2level/CORE/perl.h:737:29: note: expanded from macro 'STMT_START'
# define STMT_START (void)( /* gcc supports "({ STATEMENTS; })" */
^
/Volumes/chambord/Users/ether/perl5/perlbrew/perls/34.1/lib/5.34.1/darwin-2level/CORE/zaphod32_hash.h:152:5: note: '{' token is here
ZAPHOD32_SCRAMBLE32(state[2],0xcdf6b72d);
^~~~~~~~~~~~~~~~~~~~~~~~~~~~~~~~~~~~~~~~
/Volumes/chambord/Users/ether/perl5/perlbrew/perls/34.1/lib/5.34.1/darwin-2level/CORE/zaphod32_hash.h:80:49: note: expanded from macro 'ZAPHOD32_SCRAMBLE32'
#define ZAPHOD32_SCRAMBLE32(v,prime) STMT_START { \
^
/Volumes/chambord/Users/ether/perl5/perlbrew/perls/34.1/lib/5.34.1/darwin-2level/CORE/zaphod32_hash.h:152:5: warning: '}' and ')' tokens terminating statement expression appear in different macro expansion contexts [-Wcompound-token-split-by-macro]
ZAPHOD32_SCRAMBLE32(state[2],0xcdf6b72d);
^~~~~~~~~~~~~~~~~~~~~~~~~~~~~~~~~~~~~~~~
/Volumes/chambord/Users/ether/perl5/perlbrew/perls/34.1/lib/5.34.1/darwin-2level/CORE/zaphod32_hash.h:87:41: note: expanded from macro 'ZAPHOD32_SCRAMBLE32'
v ^= (v>>23); \
^
/Volumes/chambord/Users/ether/perl5/perlbrew/perls/34.1/lib/5.34.1/darwin-2level/CORE/zaphod32_hash.h:152:5: note: ')' token is here
ZAPHOD32_SCRAMBLE32(state[2],0xcdf6b72d);
^~~~~~~~~~~~~~~~~~~~~~~~~~~~~~~~~~~~~~~~
/Volumes/chambord/Users/ether/perl5/perlbrew/perls/34.1/lib/5.34.1/darwin-2level/CORE/zaphod32_hash.h:88:3: note: expanded from macro 'ZAPHOD32_SCRAMBLE32'
} STMT_END
^~~~~~~~
/Volumes/chambord/Users/ether/perl5/perlbrew/perls/34.1/lib/5.34.1/darwin-2level/CORE/perl.h:738:21: note: expanded from macro 'STMT_END'
# define STMT_END )
^
In file included from lib/Syntax/Keyword/Try.xs:7:
In file included from /Volumes/chambord/Users/ether/perl5/perlbrew/perls/34.1/lib/5.34.1/darwin-2level/CORE/perl.h:4085:
In file included from /Volumes/chambord/Users/ether/perl5/perlbrew/perls/34.1/lib/5.34.1/darwin-2level/CORE/hv.h:659:
In file included from /Volumes/chambord/Users/ether/perl5/perlbrew/perls/34.1/lib/5.34.1/darwin-2level/CORE/hv_func.h:34:
In file included from /Volumes/chambord/Users/ether/perl5/perlbrew/perls/34.1/lib/5.34.1/darwin-2level/CORE/sbox32_hash.h:4:
/Volumes/chambord/Users/ether/perl5/perlbrew/perls/34.1/lib/5.34.1/darwin-2level/CORE/zaphod32_hash.h:156:5: warning: '(' and '{' tokens introducing statement expression appear in different macro expansion contexts [-Wcompound-token-split-by-macro]
ZAPHOD32_MIX(state[0],state[1],state[2],"ZAPHOD32 SEED-STATE A 1/4");
^~~~~~~~~~~~~~~~~~~~~~~~~~~~~~~~~~~~~~~~~~~~~~~~~~~~~~~~~~~~~~~~~~~~
/Volumes/chambord/Users/ether/perl5/perlbrew/perls/34.1/lib/5.34.1/darwin-2level/CORE/zaphod32_hash.h:116:37: note: expanded from macro 'ZAPHOD32_MIX'
#define ZAPHOD32_MIX(v0,v1,v2,text) STMT_START { \
^~~~~~~~~~
/Volumes/chambord/Users/ether/perl5/perlbrew/perls/34.1/lib/5.34.1/darwin-2level/CORE/perl.h:737:29: note: expanded from macro 'STMT_START'
# define STMT_START (void)( /* gcc supports "({ STATEMENTS; })" */
^
/Volumes/chambord/Users/ether/perl5/perlbrew/perls/34.1/lib/5.34.1/darwin-2level/CORE/zaphod32_hash.h:156:5: note: '{' token is here
ZAPHOD32_MIX(state[0],state[1],state[2],"ZAPHOD32 SEED-STATE A 1/4");
^~~~~~~~~~~~~~~~~~~~~~~~~~~~~~~~~~~~~~~~~~~~~~~~~~~~~~~~~~~~~~~~~~~~
/Volumes/chambord/Users/ether/perl5/perlbrew/perls/34.1/lib/5.34.1/darwin-2level/CORE/zaphod32_hash.h:116:48: note: expanded from macro 'ZAPHOD32_MIX'
#define ZAPHOD32_MIX(v0,v1,v2,text) STMT_START { \
^
/Volumes/chambord/Users/ether/perl5/perlbrew/perls/34.1/lib/5.34.1/darwin-2level/CORE/zaphod32_hash.h:156:5: warning: '}' and ')' tokens terminating statement expression appear in different macro expansion contexts [-Wcompound-token-split-by-macro]
ZAPHOD32_MIX(state[0],state[1],state[2],"ZAPHOD32 SEED-STATE A 1/4");
^~~~~~~~~~~~~~~~~~~~~~~~~~~~~~~~~~~~~~~~~~~~~~~~~~~~~~~~~~~~~~~~~~~~
/Volumes/chambord/Users/ether/perl5/perlbrew/perls/34.1/lib/5.34.1/darwin-2level/CORE/zaphod32_hash.h:124:32: note: expanded from macro 'ZAPHOD32_MIX'
v2 = ROTR32(v2, 7) ^ v0; \
^
/Volumes/chambord/Users/ether/perl5/perlbrew/perls/34.1/lib/5.34.1/darwin-2level/CORE/zaphod32_hash.h:156:5: note: ')' token is here
ZAPHOD32_MIX(state[0],state[1],state[2],"ZAPHOD32 SEED-STATE A 1/4");
^~~~~~~~~~~~~~~~~~~~~~~~~~~~~~~~~~~~~~~~~~~~~~~~~~~~~~~~~~~~~~~~~~~~
/Volumes/chambord/Users/ether/perl5/perlbrew/perls/34.1/lib/5.34.1/darwin-2level/CORE/zaphod32_hash.h:125:3: note: expanded from macro 'ZAPHOD32_MIX'
} STMT_END
^~~~~~~~
/Volumes/chambord/Users/ether/perl5/perlbrew/perls/34.1/lib/5.34.1/darwin-2level/CORE/perl.h:738:21: note: expanded from macro 'STMT_END'
# define STMT_END )
^
In file included from lib/Syntax/Keyword/Try.xs:7:
In file included from /Volumes/chambord/Users/ether/perl5/perlbrew/perls/34.1/lib/5.34.1/darwin-2level/CORE/perl.h:4085:
In file included from /Volumes/chambord/Users/ether/perl5/perlbrew/perls/34.1/lib/5.34.1/darwin-2level/CORE/hv.h:659:
In file included from /Volumes/chambord/Users/ether/perl5/perlbrew/perls/34.1/lib/5.34.1/darwin-2level/CORE/hv_func.h:34:
In file included from /Volumes/chambord/Users/ether/perl5/perlbrew/perls/34.1/lib/5.34.1/darwin-2level/CORE/sbox32_hash.h:4:
/Volumes/chambord/Users/ether/perl5/perlbrew/perls/34.1/lib/5.34.1/darwin-2level/CORE/zaphod32_hash.h:157:5: warning: '(' and '{' tokens introducing statement expression appear in different macro expansion contexts [-Wcompound-token-split-by-macro]
ZAPHOD32_MIX(state[0],state[1],state[2],"ZAPHOD32 SEED-STATE A 2/4");
^~~~~~~~~~~~~~~~~~~~~~~~~~~~~~~~~~~~~~~~~~~~~~~~~~~~~~~~~~~~~~~~~~~~
/Volumes/chambord/Users/ether/perl5/perlbrew/perls/34.1/lib/5.34.1/darwin-2level/CORE/zaphod32_hash.h:116:37: note: expanded from macro 'ZAPHOD32_MIX'
#define ZAPHOD32_MIX(v0,v1,v2,text) STMT_START { \
^~~~~~~~~~
/Volumes/chambord/Users/ether/perl5/perlbrew/perls/34.1/lib/5.34.1/darwin-2level/CORE/perl.h:737:29: note: expanded from macro 'STMT_START'
# define STMT_START (void)( /* gcc supports "({ STATEMENTS; })" */
^
/Volumes/chambord/Users/ether/perl5/perlbrew/perls/34.1/lib/5.34.1/darwin-2level/CORE/zaphod32_hash.h:157:5: note: '{' token is here
ZAPHOD32_MIX(state[0],state[1],state[2],"ZAPHOD32 SEED-STATE A 2/4");
^~~~~~~~~~~~~~~~~~~~~~~~~~~~~~~~~~~~~~~~~~~~~~~~~~~~~~~~~~~~~~~~~~~~
/Volumes/chambord/Users/ether/perl5/perlbrew/perls/34.1/lib/5.34.1/darwin-2level/CORE/zaphod32_hash.h:116:48: note: expanded from macro 'ZAPHOD32_MIX'
#define ZAPHOD32_MIX(v0,v1,v2,text) STMT_START { \
^
/Volumes/chambord/Users/ether/perl5/perlbrew/perls/34.1/lib/5.34.1/darwin-2level/CORE/zaphod32_hash.h:157:5: warning: '}' and ')' tokens terminating statement expression appear in different macro expansion contexts [-Wcompound-token-split-by-macro]
ZAPHOD32_MIX(state[0],state[1],state[2],"ZAPHOD32 SEED-STATE A 2/4");
^~~~~~~~~~~~~~~~~~~~~~~~~~~~~~~~~~~~~~~~~~~~~~~~~~~~~~~~~~~~~~~~~~~~
/Volumes/chambord/Users/ether/perl5/perlbrew/perls/34.1/lib/5.34.1/darwin-2level/CORE/zaphod32_hash.h:124:32: note: expanded from macro 'ZAPHOD32_MIX'
v2 = ROTR32(v2, 7) ^ v0; \
^
/Volumes/chambord/Users/ether/perl5/perlbrew/perls/34.1/lib/5.34.1/darwin-2level/CORE/zaphod32_hash.h:157:5: note: ')' token is here
ZAPHOD32_MIX(state[0],state[1],state[2],"ZAPHOD32 SEED-STATE A 2/4");
^~~~~~~~~~~~~~~~~~~~~~~~~~~~~~~~~~~~~~~~~~~~~~~~~~~~~~~~~~~~~~~~~~~~
/Volumes/chambord/Users/ether/perl5/perlbrew/perls/34.1/lib/5.34.1/darwin-2level/CORE/zaphod32_hash.h:125:3: note: expanded from macro 'ZAPHOD32_MIX'
} STMT_END
^~~~~~~~
/Volumes/chambord/Users/ether/perl5/perlbrew/perls/34.1/lib/5.34.1/darwin-2level/CORE/perl.h:738:21: note: expanded from macro 'STMT_END'
# define STMT_END )
^
In file included from lib/Syntax/Keyword/Try.xs:7:
In file included from /Volumes/chambord/Users/ether/perl5/perlbrew/perls/34.1/lib/5.34.1/darwin-2level/CORE/perl.h:4085:
In file included from /Volumes/chambord/Users/ether/perl5/perlbrew/perls/34.1/lib/5.34.1/darwin-2level/CORE/hv.h:659:
In file included from /Volumes/chambord/Users/ether/perl5/perlbrew/perls/34.1/lib/5.34.1/darwin-2level/CORE/hv_func.h:34:
In file included from /Volumes/chambord/Users/ether/perl5/perlbrew/perls/34.1/lib/5.34.1/darwin-2level/CORE/sbox32_hash.h:4:
/Volumes/chambord/Users/ether/perl5/perlbrew/perls/34.1/lib/5.34.1/darwin-2level/CORE/zaphod32_hash.h:158:5: warning: '(' and '{' tokens introducing statement expression appear in different macro expansion contexts [-Wcompound-token-split-by-macro]
ZAPHOD32_MIX(state[0],state[1],state[2],"ZAPHOD32 SEED-STATE A 3/4");
^~~~~~~~~~~~~~~~~~~~~~~~~~~~~~~~~~~~~~~~~~~~~~~~~~~~~~~~~~~~~~~~~~~~
/Volumes/chambord/Users/ether/perl5/perlbrew/perls/34.1/lib/5.34.1/darwin-2level/CORE/zaphod32_hash.h:116:37: note: expanded from macro 'ZAPHOD32_MIX'
#define ZAPHOD32_MIX(v0,v1,v2,text) STMT_START { \
^~~~~~~~~~
/Volumes/chambord/Users/ether/perl5/perlbrew/perls/34.1/lib/5.34.1/darwin-2level/CORE/perl.h:737:29: note: expanded from macro 'STMT_START'
# define STMT_START (void)( /* gcc supports "({ STATEMENTS; })" */
^
/Volumes/chambord/Users/ether/perl5/perlbrew/perls/34.1/lib/5.34.1/darwin-2level/CORE/zaphod32_hash.h:158:5: note: '{' token is here
ZAPHOD32_MIX(state[0],state[1],state[2],"ZAPHOD32 SEED-STATE A 3/4");
^~~~~~~~~~~~~~~~~~~~~~~~~~~~~~~~~~~~~~~~~~~~~~~~~~~~~~~~~~~~~~~~~~~~
/Volumes/chambord/Users/ether/perl5/perlbrew/perls/34.1/lib/5.34.1/darwin-2level/CORE/zaphod32_hash.h:116:48: note: expanded from macro 'ZAPHOD32_MIX'
#define ZAPHOD32_MIX(v0,v1,v2,text) STMT_START { \
^
/Volumes/chambord/Users/ether/perl5/perlbrew/perls/34.1/lib/5.34.1/darwin-2level/CORE/zaphod32_hash.h:158:5: warning: '}' and ')' tokens terminating statement expression appear in different macro expansion contexts [-Wcompound-token-split-by-macro]
ZAPHOD32_MIX(state[0],state[1],state[2],"ZAPHOD32 SEED-STATE A 3/4");
^~~~~~~~~~~~~~~~~~~~~~~~~~~~~~~~~~~~~~~~~~~~~~~~~~~~~~~~~~~~~~~~~~~~
/Volumes/chambord/Users/ether/perl5/perlbrew/perls/34.1/lib/5.34.1/darwin-2level/CORE/zaphod32_hash.h:124:32: note: expanded from macro 'ZAPHOD32_MIX'
v2 = ROTR32(v2, 7) ^ v0; \
^
/Volumes/chambord/Users/ether/perl5/perlbrew/perls/34.1/lib/5.34.1/darwin-2level/CORE/zaphod32_hash.h:158:5: note: ')' token is here
ZAPHOD32_MIX(state[0],state[1],state[2],"ZAPHOD32 SEED-STATE A 3/4");
^~~~~~~~~~~~~~~~~~~~~~~~~~~~~~~~~~~~~~~~~~~~~~~~~~~~~~~~~~~~~~~~~~~~
/Volumes/chambord/Users/ether/perl5/perlbrew/perls/34.1/lib/5.34.1/darwin-2level/CORE/zaphod32_hash.h:125:3: note: expanded from macro 'ZAPHOD32_MIX'
} STMT_END
^~~~~~~~
/Volumes/chambord/Users/ether/perl5/perlbrew/perls/34.1/lib/5.34.1/darwin-2level/CORE/perl.h:738:21: note: expanded from macro 'STMT_END'
# define STMT_END )
^
In file included from lib/Syntax/Keyword/Try.xs:7:
In file included from /Volumes/chambord/Users/ether/perl5/perlbrew/perls/34.1/lib/5.34.1/darwin-2level/CORE/perl.h:4085:
In file included from /Volumes/chambord/Users/ether/perl5/perlbrew/perls/34.1/lib/5.34.1/darwin-2level/CORE/hv.h:659:
In file included from /Volumes/chambord/Users/ether/perl5/perlbrew/perls/34.1/lib/5.34.1/darwin-2level/CORE/hv_func.h:34:
In file included from /Volumes/chambord/Users/ether/perl5/perlbrew/perls/34.1/lib/5.34.1/darwin-2level/CORE/sbox32_hash.h:4:
/Volumes/chambord/Users/ether/perl5/perlbrew/perls/34.1/lib/5.34.1/darwin-2level/CORE/zaphod32_hash.h:159:5: warning: '(' and '{' tokens introducing statement expression appear in different macro expansion contexts [-Wcompound-token-split-by-macro]
ZAPHOD32_MIX(state[0],state[1],state[2],"ZAPHOD32 SEED-STATE A 4/4");
^~~~~~~~~~~~~~~~~~~~~~~~~~~~~~~~~~~~~~~~~~~~~~~~~~~~~~~~~~~~~~~~~~~~
/Volumes/chambord/Users/ether/perl5/perlbrew/perls/34.1/lib/5.34.1/darwin-2level/CORE/zaphod32_hash.h:116:37: note: expanded from macro 'ZAPHOD32_MIX'
#define ZAPHOD32_MIX(v0,v1,v2,text) STMT_START { \
^~~~~~~~~~
/Volumes/chambord/Users/ether/perl5/perlbrew/perls/34.1/lib/5.34.1/darwin-2level/CORE/perl.h:737:29: note: expanded from macro 'STMT_START'
# define STMT_START (void)( /* gcc supports "({ STATEMENTS; })" */
^
/Volumes/chambord/Users/ether/perl5/perlbrew/perls/34.1/lib/5.34.1/darwin-2level/CORE/zaphod32_hash.h:159:5: note: '{' token is here
ZAPHOD32_MIX(state[0],state[1],state[2],"ZAPHOD32 SEED-STATE A 4/4");
^~~~~~~~~~~~~~~~~~~~~~~~~~~~~~~~~~~~~~~~~~~~~~~~~~~~~~~~~~~~~~~~~~~~
/Volumes/chambord/Users/ether/perl5/perlbrew/perls/34.1/lib/5.34.1/darwin-2level/CORE/zaphod32_hash.h:116:48: note: expanded from macro 'ZAPHOD32_MIX'
#define ZAPHOD32_MIX(v0,v1,v2,text) STMT_START { \
^
/Volumes/chambord/Users/ether/perl5/perlbrew/perls/34.1/lib/5.34.1/darwin-2level/CORE/zaphod32_hash.h:159:5: warning: '}' and ')' tokens terminating statement expression appear in different macro expansion contexts [-Wcompound-token-split-by-macro]
ZAPHOD32_MIX(state[0],state[1],state[2],"ZAPHOD32 SEED-STATE A 4/4");
^~~~~~~~~~~~~~~~~~~~~~~~~~~~~~~~~~~~~~~~~~~~~~~~~~~~~~~~~~~~~~~~~~~~
/Volumes/chambord/Users/ether/perl5/perlbrew/perls/34.1/lib/5.34.1/darwin-2level/CORE/zaphod32_hash.h:124:32: note: expanded from macro 'ZAPHOD32_MIX'
v2 = ROTR32(v2, 7) ^ v0; \
^
/Volumes/chambord/Users/ether/perl5/perlbrew/perls/34.1/lib/5.34.1/darwin-2level/CORE/zaphod32_hash.h:159:5: note: ')' token is here
ZAPHOD32_MIX(state[0],state[1],state[2],"ZAPHOD32 SEED-STATE A 4/4");
^~~~~~~~~~~~~~~~~~~~~~~~~~~~~~~~~~~~~~~~~~~~~~~~~~~~~~~~~~~~~~~~~~~~
/Volumes/chambord/Users/ether/perl5/perlbrew/perls/34.1/lib/5.34.1/darwin-2level/CORE/zaphod32_hash.h:125:3: note: expanded from macro 'ZAPHOD32_MIX'
} STMT_END
^~~~~~~~
/Volumes/chambord/Users/ether/perl5/perlbrew/perls/34.1/lib/5.34.1/darwin-2level/CORE/perl.h:738:21: note: expanded from macro 'STMT_END'
# define STMT_END )
^
In file included from lib/Syntax/Keyword/Try.xs:7:
In file included from /Volumes/chambord/Users/ether/perl5/perlbrew/perls/34.1/lib/5.34.1/darwin-2level/CORE/perl.h:4085:
In file included from /Volumes/chambord/Users/ether/perl5/perlbrew/perls/34.1/lib/5.34.1/darwin-2level/CORE/hv.h:659:
In file included from /Volumes/chambord/Users/ether/perl5/perlbrew/perls/34.1/lib/5.34.1/darwin-2level/CORE/hv_func.h:34:
In file included from /Volumes/chambord/Users/ether/perl5/perlbrew/perls/34.1/lib/5.34.1/darwin-2level/CORE/sbox32_hash.h:4:
/Volumes/chambord/Users/ether/perl5/perlbrew/perls/34.1/lib/5.34.1/darwin-2level/CORE/zaphod32_hash.h:162:5: warning: '(' and '{' tokens introducing statement expression appear in different macro expansion contexts [-Wcompound-token-split-by-macro]
ZAPHOD32_SCRAMBLE32(state[0],0xc95d22a9);
^~~~~~~~~~~~~~~~~~~~~~~~~~~~~~~~~~~~~~~~
/Volumes/chambord/Users/ether/perl5/perlbrew/perls/34.1/lib/5.34.1/darwin-2level/CORE/zaphod32_hash.h:80:38: note: expanded from macro 'ZAPHOD32_SCRAMBLE32'
#define ZAPHOD32_SCRAMBLE32(v,prime) STMT_START { \
^~~~~~~~~~
/Volumes/chambord/Users/ether/perl5/perlbrew/perls/34.1/lib/5.34.1/darwin-2level/CORE/perl.h:737:29: note: expanded from macro 'STMT_START'
# define STMT_START (void)( /* gcc supports "({ STATEMENTS; })" */
^
/Volumes/chambord/Users/ether/perl5/perlbrew/perls/34.1/lib/5.34.1/darwin-2level/CORE/zaphod32_hash.h:162:5: note: '{' token is here
ZAPHOD32_SCRAMBLE32(state[0],0xc95d22a9);
^~~~~~~~~~~~~~~~~~~~~~~~~~~~~~~~~~~~~~~~
/Volumes/chambord/Users/ether/perl5/perlbrew/perls/34.1/lib/5.34.1/darwin-2level/CORE/zaphod32_hash.h:80:49: note: expanded from macro 'ZAPHOD32_SCRAMBLE32'
#define ZAPHOD32_SCRAMBLE32(v,prime) STMT_START { \
^
/Volumes/chambord/Users/ether/perl5/perlbrew/perls/34.1/lib/5.34.1/darwin-2level/CORE/zaphod32_hash.h:162:5: warning: '}' and ')' tokens terminating statement expression appear in different macro expansion contexts [-Wcompound-token-split-by-macro]
ZAPHOD32_SCRAMBLE32(state[0],0xc95d22a9);
^~~~~~~~~~~~~~~~~~~~~~~~~~~~~~~~~~~~~~~~
/Volumes/chambord/Users/ether/perl5/perlbrew/perls/34.1/lib/5.34.1/darwin-2level/CORE/zaphod32_hash.h:87:41: note: expanded from macro 'ZAPHOD32_SCRAMBLE32'
v ^= (v>>23); \
^
/Volumes/chambord/Users/ether/perl5/perlbrew/perls/34.1/lib/5.34.1/darwin-2level/CORE/zaphod32_hash.h:162:5: note: ')' token is here
ZAPHOD32_SCRAMBLE32(state[0],0xc95d22a9);
^~~~~~~~~~~~~~~~~~~~~~~~~~~~~~~~~~~~~~~~
/Volumes/chambord/Users/ether/perl5/perlbrew/perls/34.1/lib/5.34.1/darwin-2level/CORE/zaphod32_hash.h:88:3: note: expanded from macro 'ZAPHOD32_SCRAMBLE32'
} STMT_END
^~~~~~~~
/Volumes/chambord/Users/ether/perl5/perlbrew/perls/34.1/lib/5.34.1/darwin-2level/CORE/perl.h:738:21: note: expanded from macro 'STMT_END'
# define STMT_END )
^
In file included from lib/Syntax/Keyword/Try.xs:7:
In file included from /Volumes/chambord/Users/ether/perl5/perlbrew/perls/34.1/lib/5.34.1/darwin-2level/CORE/perl.h:4085:
In file included from /Volumes/chambord/Users/ether/perl5/perlbrew/perls/34.1/lib/5.34.1/darwin-2level/CORE/hv.h:659:
In file included from /Volumes/chambord/Users/ether/perl5/perlbrew/perls/34.1/lib/5.34.1/darwin-2level/CORE/hv_func.h:34:
In file included from /Volumes/chambord/Users/ether/perl5/perlbrew/perls/34.1/lib/5.34.1/darwin-2level/CORE/sbox32_hash.h:4:
/Volumes/chambord/Users/ether/perl5/perlbrew/perls/34.1/lib/5.34.1/darwin-2level/CORE/zaphod32_hash.h:163:5: warning: '(' and '{' tokens introducing statement expression appear in different macro expansion contexts [-Wcompound-token-split-by-macro]
ZAPHOD32_SCRAMBLE32(state[1],0x8497242b);
^~~~~~~~~~~~~~~~~~~~~~~~~~~~~~~~~~~~~~~~
/Volumes/chambord/Users/ether/perl5/perlbrew/perls/34.1/lib/5.34.1/darwin-2level/CORE/zaphod32_hash.h:80:38: note: expanded from macro 'ZAPHOD32_SCRAMBLE32'
#define ZAPHOD32_SCRAMBLE32(v,prime) STMT_START { \
^~~~~~~~~~
/Volumes/chambord/Users/ether/perl5/perlbrew/perls/34.1/lib/5.34.1/darwin-2level/CORE/perl.h:737:29: note: expanded from macro 'STMT_START'
# define STMT_START (void)( /* gcc supports "({ STATEMENTS; })" */
^
/Volumes/chambord/Users/ether/perl5/perlbrew/perls/34.1/lib/5.34.1/darwin-2level/CORE/zaphod32_hash.h:163:5: note: '{' token is here
ZAPHOD32_SCRAMBLE32(state[1],0x8497242b);
^~~~~~~~~~~~~~~~~~~~~~~~~~~~~~~~~~~~~~~~
/Volumes/chambord/Users/ether/perl5/perlbrew/perls/34.1/lib/5.34.1/darwin-2level/CORE/zaphod32_hash.h:80:49: note: expanded from macro 'ZAPHOD32_SCRAMBLE32'
#define ZAPHOD32_SCRAMBLE32(v,prime) STMT_START { \
^
/Volumes/chambord/Users/ether/perl5/perlbrew/perls/34.1/lib/5.34.1/darwin-2level/CORE/zaphod32_hash.h:163:5: warning: '}' and ')' tokens terminating statement expression appear in different macro expansion contexts [-Wcompound-token-split-by-macro]
ZAPHOD32_SCRAMBLE32(state[1],0x8497242b);
^~~~~~~~~~~~~~~~~~~~~~~~~~~~~~~~~~~~~~~~
/Volumes/chambord/Users/ether/perl5/perlbrew/perls/34.1/lib/5.34.1/darwin-2level/CORE/zaphod32_hash.h:87:41: note: expanded from macro 'ZAPHOD32_SCRAMBLE32'
v ^= (v>>23); \
^
/Volumes/chambord/Users/ether/perl5/perlbrew/perls/34.1/lib/5.34.1/darwin-2level/CORE/zaphod32_hash.h:163:5: note: ')' token is here
ZAPHOD32_SCRAMBLE32(state[1],0x8497242b);
^~~~~~~~~~~~~~~~~~~~~~~~~~~~~~~~~~~~~~~~
/Volumes/chambord/Users/ether/perl5/perlbrew/perls/34.1/lib/5.34.1/darwin-2level/CORE/zaphod32_hash.h:88:3: note: expanded from macro 'ZAPHOD32_SCRAMBLE32'
} STMT_END
^~~~~~~~
/Volumes/chambord/Users/ether/perl5/perlbrew/perls/34.1/lib/5.34.1/darwin-2level/CORE/perl.h:738:21: note: expanded from macro 'STMT_END'
# define STMT_END )
^
In file included from lib/Syntax/Keyword/Try.xs:7:
In file included from /Volumes/chambord/Users/ether/perl5/perlbrew/perls/34.1/lib/5.34.1/darwin-2level/CORE/perl.h:4085:
In file included from /Volumes/chambord/Users/ether/perl5/perlbrew/perls/34.1/lib/5.34.1/darwin-2level/CORE/hv.h:659:
In file included from /Volumes/chambord/Users/ether/perl5/perlbrew/perls/34.1/lib/5.34.1/darwin-2level/CORE/hv_func.h:34:
In file included from /Volumes/chambord/Users/ether/perl5/perlbrew/perls/34.1/lib/5.34.1/darwin-2level/CORE/sbox32_hash.h:4:
/Volumes/chambord/Users/ether/perl5/perlbrew/perls/34.1/lib/5.34.1/darwin-2level/CORE/zaphod32_hash.h:164:5: warning: '(' and '{' tokens introducing statement expression appear in different macro expansion contexts [-Wcompound-token-split-by-macro]
ZAPHOD32_SCRAMBLE32(state[2],0x9c5cc4e9);
^~~~~~~~~~~~~~~~~~~~~~~~~~~~~~~~~~~~~~~~
/Volumes/chambord/Users/ether/perl5/perlbrew/perls/34.1/lib/5.34.1/darwin-2level/CORE/zaphod32_hash.h:80:38: note: expanded from macro 'ZAPHOD32_SCRAMBLE32'
#define ZAPHOD32_SCRAMBLE32(v,prime) STMT_START { \
^~~~~~~~~~
/Volumes/chambord/Users/ether/perl5/perlbrew/perls/34.1/lib/5.34.1/darwin-2level/CORE/perl.h:737:29: note: expanded from macro 'STMT_START'
# define STMT_START (void)( /* gcc supports "({ STATEMENTS; })" */
^
/Volumes/chambord/Users/ether/perl5/perlbrew/perls/34.1/lib/5.34.1/darwin-2level/CORE/zaphod32_hash.h:164:5: note: '{' token is here
ZAPHOD32_SCRAMBLE32(state[2],0x9c5cc4e9);
^~~~~~~~~~~~~~~~~~~~~~~~~~~~~~~~~~~~~~~~
/Volumes/chambord/Users/ether/perl5/perlbrew/perls/34.1/lib/5.34.1/darwin-2level/CORE/zaphod32_hash.h:80:49: note: expanded from macro 'ZAPHOD32_SCRAMBLE32'
#define ZAPHOD32_SCRAMBLE32(v,prime) STMT_START { \
^
/Volumes/chambord/Users/ether/perl5/perlbrew/perls/34.1/lib/5.34.1/darwin-2level/CORE/zaphod32_hash.h:164:5: warning: '}' and ')' tokens terminating statement expression appear in different macro expansion contexts [-Wcompound-token-split-by-macro]
ZAPHOD32_SCRAMBLE32(state[2],0x9c5cc4e9);
^~~~~~~~~~~~~~~~~~~~~~~~~~~~~~~~~~~~~~~~
/Volumes/chambord/Users/ether/perl5/perlbrew/perls/34.1/lib/5.34.1/darwin-2level/CORE/zaphod32_hash.h:87:41: note: expanded from macro 'ZAPHOD32_SCRAMBLE32'
v ^= (v>>23); \
^
/Volumes/chambord/Users/ether/perl5/perlbrew/perls/34.1/lib/5.34.1/darwin-2level/CORE/zaphod32_hash.h:164:5: note: ')' token is here
ZAPHOD32_SCRAMBLE32(state[2],0x9c5cc4e9);
^~~~~~~~~~~~~~~~~~~~~~~~~~~~~~~~~~~~~~~~
/Volumes/chambord/Users/ether/perl5/perlbrew/perls/34.1/lib/5.34.1/darwin-2level/CORE/zaphod32_hash.h:88:3: note: expanded from macro 'ZAPHOD32_SCRAMBLE32'
} STMT_END
^~~~~~~~
/Volumes/chambord/Users/ether/perl5/perlbrew/perls/34.1/lib/5.34.1/darwin-2level/CORE/perl.h:738:21: note: expanded from macro 'STMT_END'
# define STMT_END )
^
In file included from lib/Syntax/Keyword/Try.xs:7:
In file included from /Volumes/chambord/Users/ether/perl5/perlbrew/perls/34.1/lib/5.34.1/darwin-2level/CORE/perl.h:4085:
In file included from /Volumes/chambord/Users/ether/perl5/perlbrew/perls/34.1/lib/5.34.1/darwin-2level/CORE/hv.h:659:
In file included from /Volumes/chambord/Users/ether/perl5/perlbrew/perls/34.1/lib/5.34.1/darwin-2level/CORE/hv_func.h:34:
In file included from /Volumes/chambord/Users/ether/perl5/perlbrew/perls/34.1/lib/5.34.1/darwin-2level/CORE/sbox32_hash.h:4:
/Volumes/chambord/Users/ether/perl5/perlbrew/perls/34.1/lib/5.34.1/darwin-2level/CORE/zaphod32_hash.h:167:5: warning: '(' and '{' tokens introducing statement expression appear in different macro expansion contexts [-Wcompound-token-split-by-macro]
ZAPHOD32_MIX(state[0],state[1],state[2],"ZAPHOD32 SEED-STATE B 1/5");
^~~~~~~~~~~~~~~~~~~~~~~~~~~~~~~~~~~~~~~~~~~~~~~~~~~~~~~~~~~~~~~~~~~~
/Volumes/chambord/Users/ether/perl5/perlbrew/perls/34.1/lib/5.34.1/darwin-2level/CORE/zaphod32_hash.h:116:37: note: expanded from macro 'ZAPHOD32_MIX'
#define ZAPHOD32_MIX(v0,v1,v2,text) STMT_START { \
^~~~~~~~~~
/Volumes/chambord/Users/ether/perl5/perlbrew/perls/34.1/lib/5.34.1/darwin-2level/CORE/perl.h:737:29: note: expanded from macro 'STMT_START'
# define STMT_START (void)( /* gcc supports "({ STATEMENTS; })" */
^
/Volumes/chambord/Users/ether/perl5/perlbrew/perls/34.1/lib/5.34.1/darwin-2level/CORE/zaphod32_hash.h:167:5: note: '{' token is here
ZAPHOD32_MIX(state[0],state[1],state[2],"ZAPHOD32 SEED-STATE B 1/5");
^~~~~~~~~~~~~~~~~~~~~~~~~~~~~~~~~~~~~~~~~~~~~~~~~~~~~~~~~~~~~~~~~~~~
/Volumes/chambord/Users/ether/perl5/perlbrew/perls/34.1/lib/5.34.1/darwin-2level/CORE/zaphod32_hash.h:116:48: note: expanded from macro 'ZAPHOD32_MIX'
#define ZAPHOD32_MIX(v0,v1,v2,text) STMT_START { \
^
/Volumes/chambord/Users/ether/perl5/perlbrew/perls/34.1/lib/5.34.1/darwin-2level/CORE/zaphod32_hash.h:167:5: warning: '}' and ')' tokens terminating statement expression appear in different macro expansion contexts [-Wcompound-token-split-by-macro]
ZAPHOD32_MIX(state[0],state[1],state[2],"ZAPHOD32 SEED-STATE B 1/5");
^~~~~~~~~~~~~~~~~~~~~~~~~~~~~~~~~~~~~~~~~~~~~~~~~~~~~~~~~~~~~~~~~~~~
/Volumes/chambord/Users/ether/perl5/perlbrew/perls/34.1/lib/5.34.1/darwin-2level/CORE/zaphod32_hash.h:124:32: note: expanded from macro 'ZAPHOD32_MIX'
v2 = ROTR32(v2, 7) ^ v0; \
^
/Volumes/chambord/Users/ether/perl5/perlbrew/perls/34.1/lib/5.34.1/darwin-2level/CORE/zaphod32_hash.h:167:5: note: ')' token is here
ZAPHOD32_MIX(state[0],state[1],state[2],"ZAPHOD32 SEED-STATE B 1/5");
^~~~~~~~~~~~~~~~~~~~~~~~~~~~~~~~~~~~~~~~~~~~~~~~~~~~~~~~~~~~~~~~~~~~
/Volumes/chambord/Users/ether/perl5/perlbrew/perls/34.1/lib/5.34.1/darwin-2level/CORE/zaphod32_hash.h:125:3: note: expanded from macro 'ZAPHOD32_MIX'
} STMT_END
^~~~~~~~
/Volumes/chambord/Users/ether/perl5/perlbrew/perls/34.1/lib/5.34.1/darwin-2level/CORE/perl.h:738:21: note: expanded from macro 'STMT_END'
# define STMT_END )
^
In file included from lib/Syntax/Keyword/Try.xs:7:
In file included from /Volumes/chambord/Users/ether/perl5/perlbrew/perls/34.1/lib/5.34.1/darwin-2level/CORE/perl.h:4085:
In file included from /Volumes/chambord/Users/ether/perl5/perlbrew/perls/34.1/lib/5.34.1/darwin-2level/CORE/hv.h:659:
In file included from /Volumes/chambord/Users/ether/perl5/perlbrew/perls/34.1/lib/5.34.1/darwin-2level/CORE/hv_func.h:34:
In file included from /Volumes/chambord/Users/ether/perl5/perlbrew/perls/34.1/lib/5.34.1/darwin-2level/CORE/sbox32_hash.h:4:
/Volumes/chambord/Users/ether/perl5/perlbrew/perls/34.1/lib/5.34.1/darwin-2level/CORE/zaphod32_hash.h:168:5: warning: '(' and '{' tokens introducing statement expression appear in different macro expansion contexts [-Wcompound-token-split-by-macro]
ZAPHOD32_MIX(state[0],state[1],state[2],"ZAPHOD32 SEED-STATE B 2/5");
^~~~~~~~~~~~~~~~~~~~~~~~~~~~~~~~~~~~~~~~~~~~~~~~~~~~~~~~~~~~~~~~~~~~
/Volumes/chambord/Users/ether/perl5/perlbrew/perls/34.1/lib/5.34.1/darwin-2level/CORE/zaphod32_hash.h:116:37: note: expanded from macro 'ZAPHOD32_MIX'
#define ZAPHOD32_MIX(v0,v1,v2,text) STMT_START { \
^~~~~~~~~~
/Volumes/chambord/Users/ether/perl5/perlbrew/perls/34.1/lib/5.34.1/darwin-2level/CORE/perl.h:737:29: note: expanded from macro 'STMT_START'
# define STMT_START (void)( /* gcc supports "({ STATEMENTS; })" */
^
/Volumes/chambord/Users/ether/perl5/perlbrew/perls/34.1/lib/5.34.1/darwin-2level/CORE/zaphod32_hash.h:168:5: note: '{' token is here
ZAPHOD32_MIX(state[0],state[1],state[2],"ZAPHOD32 SEED-STATE B 2/5");
^~~~~~~~~~~~~~~~~~~~~~~~~~~~~~~~~~~~~~~~~~~~~~~~~~~~~~~~~~~~~~~~~~~~
/Volumes/chambord/Users/ether/perl5/perlbrew/perls/34.1/lib/5.34.1/darwin-2level/CORE/zaphod32_hash.h:116:48: note: expanded from macro 'ZAPHOD32_MIX'
#define ZAPHOD32_MIX(v0,v1,v2,text) STMT_START { \
^
/Volumes/chambord/Users/ether/perl5/perlbrew/perls/34.1/lib/5.34.1/darwin-2level/CORE/zaphod32_hash.h:168:5: warning: '}' and ')' tokens terminating statement expression appear in different macro expansion contexts [-Wcompound-token-split-by-macro]
ZAPHOD32_MIX(state[0],state[1],state[2],"ZAPHOD32 SEED-STATE B 2/5");
^~~~~~~~~~~~~~~~~~~~~~~~~~~~~~~~~~~~~~~~~~~~~~~~~~~~~~~~~~~~~~~~~~~~
/Volumes/chambord/Users/ether/perl5/perlbrew/perls/34.1/lib/5.34.1/darwin-2level/CORE/zaphod32_hash.h:124:32: note: expanded from macro 'ZAPHOD32_MIX'
v2 = ROTR32(v2, 7) ^ v0; \
^
/Volumes/chambord/Users/ether/perl5/perlbrew/perls/34.1/lib/5.34.1/darwin-2level/CORE/zaphod32_hash.h:168:5: note: ')' token is here
ZAPHOD32_MIX(state[0],state[1],state[2],"ZAPHOD32 SEED-STATE B 2/5");
^~~~~~~~~~~~~~~~~~~~~~~~~~~~~~~~~~~~~~~~~~~~~~~~~~~~~~~~~~~~~~~~~~~~
/Volumes/chambord/Users/ether/perl5/perlbrew/perls/34.1/lib/5.34.1/darwin-2level/CORE/zaphod32_hash.h:125:3: note: expanded from macro 'ZAPHOD32_MIX'
} STMT_END
^~~~~~~~
/Volumes/chambord/Users/ether/perl5/perlbrew/perls/34.1/lib/5.34.1/darwin-2level/CORE/perl.h:738:21: note: expanded from macro 'STMT_END'
# define STMT_END )
^
In file included from lib/Syntax/Keyword/Try.xs:7:
In file included from /Volumes/chambord/Users/ether/perl5/perlbrew/perls/34.1/lib/5.34.1/darwin-2level/CORE/perl.h:4085:
In file included from /Volumes/chambord/Users/ether/perl5/perlbrew/perls/34.1/lib/5.34.1/darwin-2level/CORE/hv.h:659:
In file included from /Volumes/chambord/Users/ether/perl5/perlbrew/perls/34.1/lib/5.34.1/darwin-2level/CORE/hv_func.h:34:
In file included from /Volumes/chambord/Users/ether/perl5/perlbrew/perls/34.1/lib/5.34.1/darwin-2level/CORE/sbox32_hash.h:4:
/Volumes/chambord/Users/ether/perl5/perlbrew/perls/34.1/lib/5.34.1/darwin-2level/CORE/zaphod32_hash.h:169:5: warning: '(' and '{' tokens introducing statement expression appear in different macro expansion contexts [-Wcompound-token-split-by-macro]
ZAPHOD32_MIX(state[0],state[1],state[2],"ZAPHOD32 SEED-STATE B 3/5");
^~~~~~~~~~~~~~~~~~~~~~~~~~~~~~~~~~~~~~~~~~~~~~~~~~~~~~~~~~~~~~~~~~~~
/Volumes/chambord/Users/ether/perl5/perlbrew/perls/34.1/lib/5.34.1/darwin-2level/CORE/zaphod32_hash.h:116:37: note: expanded from macro 'ZAPHOD32_MIX'
#define ZAPHOD32_MIX(v0,v1,v2,text) STMT_START { \
^~~~~~~~~~
/Volumes/chambord/Users/ether/perl5/perlbrew/perls/34.1/lib/5.34.1/darwin-2level/CORE/perl.h:737:29: note: expanded from macro 'STMT_START'
# define STMT_START (void)( /* gcc supports "({ STATEMENTS; })" */
^
/Volumes/chambord/Users/ether/perl5/perlbrew/perls/34.1/lib/5.34.1/darwin-2level/CORE/zaphod32_hash.h:169:5: note: '{' token is here
ZAPHOD32_MIX(state[0],state[1],state[2],"ZAPHOD32 SEED-STATE B 3/5");
^~~~~~~~~~~~~~~~~~~~~~~~~~~~~~~~~~~~~~~~~~~~~~~~~~~~~~~~~~~~~~~~~~~~
/Volumes/chambord/Users/ether/perl5/perlbrew/perls/34.1/lib/5.34.1/darwin-2level/CORE/zaphod32_hash.h:116:48: note: expanded from macro 'ZAPHOD32_MIX'
#define ZAPHOD32_MIX(v0,v1,v2,text) STMT_START { \
^
/Volumes/chambord/Users/ether/perl5/perlbrew/perls/34.1/lib/5.34.1/darwin-2level/CORE/zaphod32_hash.h:169:5: warning: '}' and ')' tokens terminating statement expression appear in different macro expansion contexts [-Wcompound-token-split-by-macro]
ZAPHOD32_MIX(state[0],state[1],state[2],"ZAPHOD32 SEED-STATE B 3/5");
^~~~~~~~~~~~~~~~~~~~~~~~~~~~~~~~~~~~~~~~~~~~~~~~~~~~~~~~~~~~~~~~~~~~
/Volumes/chambord/Users/ether/perl5/perlbrew/perls/34.1/lib/5.34.1/darwin-2level/CORE/zaphod32_hash.h:124:32: note: expanded from macro 'ZAPHOD32_MIX'
v2 = ROTR32(v2, 7) ^ v0; \
^
/Volumes/chambord/Users/ether/perl5/perlbrew/perls/34.1/lib/5.34.1/darwin-2level/CORE/zaphod32_hash.h:169:5: note: ')' token is here
ZAPHOD32_MIX(state[0],state[1],state[2],"ZAPHOD32 SEED-STATE B 3/5");
^~~~~~~~~~~~~~~~~~~~~~~~~~~~~~~~~~~~~~~~~~~~~~~~~~~~~~~~~~~~~~~~~~~~
/Volumes/chambord/Users/ether/perl5/perlbrew/perls/34.1/lib/5.34.1/darwin-2level/CORE/zaphod32_hash.h:125:3: note: expanded from macro 'ZAPHOD32_MIX'
} STMT_END
^~~~~~~~
/Volumes/chambord/Users/ether/perl5/perlbrew/perls/34.1/lib/5.34.1/darwin-2level/CORE/perl.h:738:21: note: expanded from macro 'STMT_END'
# define STMT_END )
^
In file included from lib/Syntax/Keyword/Try.xs:7:
In file included from /Volumes/chambord/Users/ether/perl5/perlbrew/perls/34.1/lib/5.34.1/darwin-2level/CORE/perl.h:4085:
In file included from /Volumes/chambord/Users/ether/perl5/perlbrew/perls/34.1/lib/5.34.1/darwin-2level/CORE/hv.h:659:
In file included from /Volumes/chambord/Users/ether/perl5/perlbrew/perls/34.1/lib/5.34.1/darwin-2level/CORE/hv_func.h:34:
In file included from /Volumes/chambord/Users/ether/perl5/perlbrew/perls/34.1/lib/5.34.1/darwin-2level/CORE/sbox32_hash.h:4:
/Volumes/chambord/Users/ether/perl5/perlbrew/perls/34.1/lib/5.34.1/darwin-2level/CORE/zaphod32_hash.h:170:5: warning: '(' and '{' tokens introducing statement expression appear in different macro expansion contexts [-Wcompound-token-split-by-macro]
ZAPHOD32_MIX(state[0],state[1],state[2],"ZAPHOD32 SEED-STATE B 4/5");
^~~~~~~~~~~~~~~~~~~~~~~~~~~~~~~~~~~~~~~~~~~~~~~~~~~~~~~~~~~~~~~~~~~~
/Volumes/chambord/Users/ether/perl5/perlbrew/perls/34.1/lib/5.34.1/darwin-2level/CORE/zaphod32_hash.h:116:37: note: expanded from macro 'ZAPHOD32_MIX'
#define ZAPHOD32_MIX(v0,v1,v2,text) STMT_START { \
^~~~~~~~~~
/Volumes/chambord/Users/ether/perl5/perlbrew/perls/34.1/lib/5.34.1/darwin-2level/CORE/perl.h:737:29: note: expanded from macro 'STMT_START'
# define STMT_START (void)( /* gcc supports "({ STATEMENTS; })" */
^
/Volumes/chambord/Users/ether/perl5/perlbrew/perls/34.1/lib/5.34.1/darwin-2level/CORE/zaphod32_hash.h:170:5: note: '{' token is here
ZAPHOD32_MIX(state[0],state[1],state[2],"ZAPHOD32 SEED-STATE B 4/5");
^~~~~~~~~~~~~~~~~~~~~~~~~~~~~~~~~~~~~~~~~~~~~~~~~~~~~~~~~~~~~~~~~~~~
/Volumes/chambord/Users/ether/perl5/perlbrew/perls/34.1/lib/5.34.1/darwin-2level/CORE/zaphod32_hash.h:116:48: note: expanded from macro 'ZAPHOD32_MIX'
#define ZAPHOD32_MIX(v0,v1,v2,text) STMT_START { \
^
/Volumes/chambord/Users/ether/perl5/perlbrew/perls/34.1/lib/5.34.1/darwin-2level/CORE/zaphod32_hash.h:170:5: warning: '}' and ')' tokens terminating statement expression appear in different macro expansion contexts [-Wcompound-token-split-by-macro]
ZAPHOD32_MIX(state[0],state[1],state[2],"ZAPHOD32 SEED-STATE B 4/5");
^~~~~~~~~~~~~~~~~~~~~~~~~~~~~~~~~~~~~~~~~~~~~~~~~~~~~~~~~~~~~~~~~~~~
/Volumes/chambord/Users/ether/perl5/perlbrew/perls/34.1/lib/5.34.1/darwin-2level/CORE/zaphod32_hash.h:124:32: note: expanded from macro 'ZAPHOD32_MIX'
v2 = ROTR32(v2, 7) ^ v0; \
^
/Volumes/chambord/Users/ether/perl5/perlbrew/perls/34.1/lib/5.34.1/darwin-2level/CORE/zaphod32_hash.h:170:5: note: ')' token is here
ZAPHOD32_MIX(state[0],state[1],state[2],"ZAPHOD32 SEED-STATE B 4/5");
^~~~~~~~~~~~~~~~~~~~~~~~~~~~~~~~~~~~~~~~~~~~~~~~~~~~~~~~~~~~~~~~~~~~
/Volumes/chambord/Users/ether/perl5/perlbrew/perls/34.1/lib/5.34.1/darwin-2level/CORE/zaphod32_hash.h:125:3: note: expanded from macro 'ZAPHOD32_MIX'
} STMT_END
^~~~~~~~
/Volumes/chambord/Users/ether/perl5/perlbrew/perls/34.1/lib/5.34.1/darwin-2level/CORE/perl.h:738:21: note: expanded from macro 'STMT_END'
# define STMT_END )
^
In file included from lib/Syntax/Keyword/Try.xs:7:
In file included from /Volumes/chambord/Users/ether/perl5/perlbrew/perls/34.1/lib/5.34.1/darwin-2level/CORE/perl.h:4085:
In file included from /Volumes/chambord/Users/ether/perl5/perlbrew/perls/34.1/lib/5.34.1/darwin-2level/CORE/hv.h:659:
In file included from /Volumes/chambord/Users/ether/perl5/perlbrew/perls/34.1/lib/5.34.1/darwin-2level/CORE/hv_func.h:34:
In file included from /Volumes/chambord/Users/ether/perl5/perlbrew/perls/34.1/lib/5.34.1/darwin-2level/CORE/sbox32_hash.h:4:
/Volumes/chambord/Users/ether/perl5/perlbrew/perls/34.1/lib/5.34.1/darwin-2level/CORE/zaphod32_hash.h:171:5: warning: '(' and '{' tokens introducing statement expression appear in different macro expansion contexts [-Wcompound-token-split-by-macro]
ZAPHOD32_MIX(state[0],state[1],state[2],"ZAPHOD32 SEED-STATE B 5/5");
^~~~~~~~~~~~~~~~~~~~~~~~~~~~~~~~~~~~~~~~~~~~~~~~~~~~~~~~~~~~~~~~~~~~
/Volumes/chambord/Users/ether/perl5/perlbrew/perls/34.1/lib/5.34.1/darwin-2level/CORE/zaphod32_hash.h:116:37: note: expanded from macro 'ZAPHOD32_MIX'
#define ZAPHOD32_MIX(v0,v1,v2,text) STMT_START { \
^~~~~~~~~~
/Volumes/chambord/Users/ether/perl5/perlbrew/perls/34.1/lib/5.34.1/darwin-2level/CORE/perl.h:737:29: note: expanded from macro 'STMT_START'
# define STMT_START (void)( /* gcc supports "({ STATEMENTS; })" */
^
/Volumes/chambord/Users/ether/perl5/perlbrew/perls/34.1/lib/5.34.1/darwin-2level/CORE/zaphod32_hash.h:171:5: note: '{' token is here
ZAPHOD32_MIX(state[0],state[1],state[2],"ZAPHOD32 SEED-STATE B 5/5");
^~~~~~~~~~~~~~~~~~~~~~~~~~~~~~~~~~~~~~~~~~~~~~~~~~~~~~~~~~~~~~~~~~~~
/Volumes/chambord/Users/ether/perl5/perlbrew/perls/34.1/lib/5.34.1/darwin-2level/CORE/zaphod32_hash.h:116:48: note: expanded from macro 'ZAPHOD32_MIX'
#define ZAPHOD32_MIX(v0,v1,v2,text) STMT_START { \
^
/Volumes/chambord/Users/ether/perl5/perlbrew/perls/34.1/lib/5.34.1/darwin-2level/CORE/zaphod32_hash.h:171:5: warning: '}' and ')' tokens terminating statement expression appear in different macro expansion contexts [-Wcompound-token-split-by-macro]
ZAPHOD32_MIX(state[0],state[1],state[2],"ZAPHOD32 SEED-STATE B 5/5");
^~~~~~~~~~~~~~~~~~~~~~~~~~~~~~~~~~~~~~~~~~~~~~~~~~~~~~~~~~~~~~~~~~~~
/Volumes/chambord/Users/ether/perl5/perlbrew/perls/34.1/lib/5.34.1/darwin-2level/CORE/zaphod32_hash.h:124:32: note: expanded from macro 'ZAPHOD32_MIX'
v2 = ROTR32(v2, 7) ^ v0; \
^
/Volumes/chambord/Users/ether/perl5/perlbrew/perls/34.1/lib/5.34.1/darwin-2level/CORE/zaphod32_hash.h:171:5: note: ')' token is here
ZAPHOD32_MIX(state[0],state[1],state[2],"ZAPHOD32 SEED-STATE B 5/5");
^~~~~~~~~~~~~~~~~~~~~~~~~~~~~~~~~~~~~~~~~~~~~~~~~~~~~~~~~~~~~~~~~~~~
/Volumes/chambord/Users/ether/perl5/perlbrew/perls/34.1/lib/5.34.1/darwin-2level/CORE/zaphod32_hash.h:125:3: note: expanded from macro 'ZAPHOD32_MIX'
} STMT_END
^~~~~~~~
/Volumes/chambord/Users/ether/perl5/perlbrew/perls/34.1/lib/5.34.1/darwin-2level/CORE/perl.h:738:21: note: expanded from macro 'STMT_END'
# define STMT_END )
^
In file included from lib/Syntax/Keyword/Try.xs:7:
In file included from /Volumes/chambord/Users/ether/perl5/perlbrew/perls/34.1/lib/5.34.1/darwin-2level/CORE/perl.h:4085:
In file included from /Volumes/chambord/Users/ether/perl5/perlbrew/perls/34.1/lib/5.34.1/darwin-2level/CORE/hv.h:659:
In file included from /Volumes/chambord/Users/ether/perl5/perlbrew/perls/34.1/lib/5.34.1/darwin-2level/CORE/hv_func.h:34:
In file included from /Volumes/chambord/Users/ether/perl5/perlbrew/perls/34.1/lib/5.34.1/darwin-2level/CORE/sbox32_hash.h:4:
/Volumes/chambord/Users/ether/perl5/perlbrew/perls/34.1/lib/5.34.1/darwin-2level/CORE/zaphod32_hash.h:247:13: warning: '(' and '{' tokens introducing statement expression appear in different macro expansion contexts [-Wcompound-token-split-by-macro]
ZAPHOD32_MIX(v0,v1,v2,"MIX 2-WORDS A");
^~~~~~~~~~~~~~~~~~~~~~~~~~~~~~~~~~~~~~
/Volumes/chambord/Users/ether/perl5/perlbrew/perls/34.1/lib/5.34.1/darwin-2level/CORE/zaphod32_hash.h:116:37: note: expanded from macro 'ZAPHOD32_MIX'
#define ZAPHOD32_MIX(v0,v1,v2,text) STMT_START { \
^~~~~~~~~~
/Volumes/chambord/Users/ether/perl5/perlbrew/perls/34.1/lib/5.34.1/darwin-2level/CORE/perl.h:737:29: note: expanded from macro 'STMT_START'
# define STMT_START (void)( /* gcc supports "({ STATEMENTS; })" */
^
/Volumes/chambord/Users/ether/perl5/perlbrew/perls/34.1/lib/5.34.1/darwin-2level/CORE/zaphod32_hash.h:247:13: note: '{' token is here
ZAPHOD32_MIX(v0,v1,v2,"MIX 2-WORDS A");
^~~~~~~~~~~~~~~~~~~~~~~~~~~~~~~~~~~~~~
/Volumes/chambord/Users/ether/perl5/perlbrew/perls/34.1/lib/5.34.1/darwin-2level/CORE/zaphod32_hash.h:116:48: note: expanded from macro 'ZAPHOD32_MIX'
#define ZAPHOD32_MIX(v0,v1,v2,text) STMT_START { \
^
/Volumes/chambord/Users/ether/perl5/perlbrew/perls/34.1/lib/5.34.1/darwin-2level/CORE/zaphod32_hash.h:247:13: warning: '}' and ')' tokens terminating statement expression appear in different macro expansion contexts [-Wcompound-token-split-by-macro]
ZAPHOD32_MIX(v0,v1,v2,"MIX 2-WORDS A");
^~~~~~~~~~~~~~~~~~~~~~~~~~~~~~~~~~~~~~
/Volumes/chambord/Users/ether/perl5/perlbrew/perls/34.1/lib/5.34.1/darwin-2level/CORE/zaphod32_hash.h:124:32: note: expanded from macro 'ZAPHOD32_MIX'
v2 = ROTR32(v2, 7) ^ v0; \
^
/Volumes/chambord/Users/ether/perl5/perlbrew/perls/34.1/lib/5.34.1/darwin-2level/CORE/zaphod32_hash.h:247:13: note: ')' token is here
ZAPHOD32_MIX(v0,v1,v2,"MIX 2-WORDS A");
^~~~~~~~~~~~~~~~~~~~~~~~~~~~~~~~~~~~~~
/Volumes/chambord/Users/ether/perl5/perlbrew/perls/34.1/lib/5.34.1/darwin-2level/CORE/zaphod32_hash.h:125:3: note: expanded from macro 'ZAPHOD32_MIX'
} STMT_END
^~~~~~~~
/Volumes/chambord/Users/ether/perl5/perlbrew/perls/34.1/lib/5.34.1/darwin-2level/CORE/perl.h:738:21: note: expanded from macro 'STMT_END'
# define STMT_END )
^
In file included from lib/Syntax/Keyword/Try.xs:7:
In file included from /Volumes/chambord/Users/ether/perl5/perlbrew/perls/34.1/lib/5.34.1/darwin-2level/CORE/perl.h:4085:
In file included from /Volumes/chambord/Users/ether/perl5/perlbrew/perls/34.1/lib/5.34.1/darwin-2level/CORE/hv.h:659:
In file included from /Volumes/chambord/Users/ether/perl5/perlbrew/perls/34.1/lib/5.34.1/darwin-2level/CORE/hv_func.h:34:
In file included from /Volumes/chambord/Users/ether/perl5/perlbrew/perls/34.1/lib/5.34.1/darwin-2level/CORE/sbox32_hash.h:4:
/Volumes/chambord/Users/ether/perl5/perlbrew/perls/34.1/lib/5.34.1/darwin-2level/CORE/zaphod32_hash.h:268:5: warning: '(' and '{' tokens introducing statement expression appear in different macro expansion contexts [-Wcompound-token-split-by-macro]
ZAPHOD32_FINALIZE(v0,v1,v2);
^~~~~~~~~~~~~~~~~~~~~~~~~~~
/Volumes/chambord/Users/ether/perl5/perlbrew/perls/34.1/lib/5.34.1/darwin-2level/CORE/zaphod32_hash.h:90:37: note: expanded from macro 'ZAPHOD32_FINALIZE'
#define ZAPHOD32_FINALIZE(v0,v1,v2) STMT_START { \
^~~~~~~~~~
/Volumes/chambord/Users/ether/perl5/perlbrew/perls/34.1/lib/5.34.1/darwin-2level/CORE/perl.h:737:29: note: expanded from macro 'STMT_START'
# define STMT_START (void)( /* gcc supports "({ STATEMENTS; })" */
^
/Volumes/chambord/Users/ether/perl5/perlbrew/perls/34.1/lib/5.34.1/darwin-2level/CORE/zaphod32_hash.h:268:5: note: '{' token is here
ZAPHOD32_FINALIZE(v0,v1,v2);
^~~~~~~~~~~~~~~~~~~~~~~~~~~
/Volumes/chambord/Users/ether/perl5/perlbrew/perls/34.1/lib/5.34.1/darwin-2level/CORE/zaphod32_hash.h:90:48: note: expanded from macro 'ZAPHOD32_FINALIZE'
#define ZAPHOD32_FINALIZE(v0,v1,v2) STMT_START { \
^
/Volumes/chambord/Users/ether/perl5/perlbrew/perls/34.1/lib/5.34.1/darwin-2level/CORE/zaphod32_hash.h:268:5: warning: '}' and ')' tokens terminating statement expression appear in different macro expansion contexts [-Wcompound-token-split-by-macro]
ZAPHOD32_FINALIZE(v0,v1,v2);
^~~~~~~~~~~~~~~~~~~~~~~~~~~
/Volumes/chambord/Users/ether/perl5/perlbrew/perls/34.1/lib/5.34.1/darwin-2level/CORE/zaphod32_hash.h:113:36: note: expanded from macro 'ZAPHOD32_FINALIZE'
v1 = ROTL32(v1, 17); \
^
/Volumes/chambord/Users/ether/perl5/perlbrew/perls/34.1/lib/5.34.1/darwin-2level/CORE/zaphod32_hash.h:268:5: note: ')' token is here
ZAPHOD32_FINALIZE(v0,v1,v2);
^~~~~~~~~~~~~~~~~~~~~~~~~~~
/Volumes/chambord/Users/ether/perl5/perlbrew/perls/34.1/lib/5.34.1/darwin-2level/CORE/zaphod32_hash.h:114:3: note: expanded from macro 'ZAPHOD32_FINALIZE'
} STMT_END
^~~~~~~~
/Volumes/chambord/Users/ether/perl5/perlbrew/perls/34.1/lib/5.34.1/darwin-2level/CORE/perl.h:738:21: note: expanded from macro 'STMT_END'
# define STMT_END )
^
In file included from lib/Syntax/Keyword/Try.xs:7:
In file included from /Volumes/chambord/Users/ether/perl5/perlbrew/perls/34.1/lib/5.34.1/darwin-2level/CORE/perl.h:4085:
In file included from /Volumes/chambord/Users/ether/perl5/perlbrew/perls/34.1/lib/5.34.1/darwin-2level/CORE/hv.h:659:
In file included from /Volumes/chambord/Users/ether/perl5/perlbrew/perls/34.1/lib/5.34.1/darwin-2level/CORE/hv_func.h:34:
/Volumes/chambord/Users/ether/perl5/perlbrew/perls/34.1/lib/5.34.1/darwin-2level/CORE/sbox32_hash.h:1448:9: warning: '(' and '{' tokens introducing statement expression appear in different macro expansion contexts [-Wcompound-token-split-by-macro]
SBOX32_MIX3(s0,s1,s2,"SEED STATE");
^~~~~~~~~~~~~~~~~~~~~~~~~~~~~~~~~~
/Volumes/chambord/Users/ether/perl5/perlbrew/perls/34.1/lib/5.34.1/darwin-2level/CORE/sbox32_hash.h:99:36: note: expanded from macro 'SBOX32_MIX3'
#define SBOX32_MIX3(v0,v1,v2,text) STMT_START { \
^~~~~~~~~~
/Volumes/chambord/Users/ether/perl5/perlbrew/perls/34.1/lib/5.34.1/darwin-2level/CORE/perl.h:737:29: note: expanded from macro 'STMT_START'
# define STMT_START (void)( /* gcc supports "({ STATEMENTS; })" */
^
/Volumes/chambord/Users/ether/perl5/perlbrew/perls/34.1/lib/5.34.1/darwin-2level/CORE/sbox32_hash.h:1448:9: note: '{' token is here
SBOX32_MIX3(s0,s1,s2,"SEED STATE");
^~~~~~~~~~~~~~~~~~~~~~~~~~~~~~~~~~
/Volumes/chambord/Users/ether/perl5/perlbrew/perls/34.1/lib/5.34.1/darwin-2level/CORE/sbox32_hash.h:99:47: note: expanded from macro 'SBOX32_MIX3'
#define SBOX32_MIX3(v0,v1,v2,text) STMT_START { \
^
/Volumes/chambord/Users/ether/perl5/perlbrew/perls/34.1/lib/5.34.1/darwin-2level/CORE/sbox32_hash.h:1448:9: warning: '}' and ')' tokens terminating statement expression appear in different macro expansion contexts [-Wcompound-token-split-by-macro]
SBOX32_MIX3(s0,s1,s2,"SEED STATE");
^~~~~~~~~~~~~~~~~~~~~~~~~~~~~~~~~~
/Volumes/chambord/Users/ether/perl5/perlbrew/perls/34.1/lib/5.34.1/darwin-2level/CORE/sbox32_hash.h:107:32: note: expanded from macro 'SBOX32_MIX3'
v2 = ROTR32(v2, 7) ^ v0; \
^
/Volumes/chambord/Users/ether/perl5/perlbrew/perls/34.1/lib/5.34.1/darwin-2level/CORE/sbox32_hash.h:1448:9: note: ')' token is here
SBOX32_MIX3(s0,s1,s2,"SEED STATE");
^~~~~~~~~~~~~~~~~~~~~~~~~~~~~~~~~~
/Volumes/chambord/Users/ether/perl5/perlbrew/perls/34.1/lib/5.34.1/darwin-2level/CORE/sbox32_hash.h:108:3: note: expanded from macro 'SBOX32_MIX3'
} STMT_END
^~~~~~~~
/Volumes/chambord/Users/ether/perl5/perlbrew/perls/34.1/lib/5.34.1/darwin-2level/CORE/perl.h:738:21: note: expanded from macro 'STMT_END'
# define STMT_END )
^
In file included from lib/Syntax/Keyword/Try.xs:7:
In file included from /Volumes/chambord/Users/ether/perl5/perlbrew/perls/34.1/lib/5.34.1/darwin-2level/CORE/perl.h:4085:
In file included from /Volumes/chambord/Users/ether/perl5/perlbrew/perls/34.1/lib/5.34.1/darwin-2level/CORE/hv.h:659:
In file included from /Volumes/chambord/Users/ether/perl5/perlbrew/perls/34.1/lib/5.34.1/darwin-2level/CORE/hv_func.h:34:
/Volumes/chambord/Users/ether/perl5/perlbrew/perls/34.1/lib/5.34.1/darwin-2level/CORE/sbox32_hash.h:1453:13: warning: '(' and '{' tokens introducing statement expression appear in different macro expansion contexts [-Wcompound-token-split-by-macro]
XORSHIFT96_set(*state_cursor,s0,s1,s2,t1);
^~~~~~~~~~~~~~~~~~~~~~~~~~~~~~~~~~~~~~~~~
/Volumes/chambord/Users/ether/perl5/perlbrew/perls/34.1/lib/5.34.1/darwin-2level/CORE/sbox32_hash.h:1393:35: note: expanded from macro 'XORSHIFT96_set'
#define XORSHIFT96_set(r,x,y,z,t) STMT_START { \
^~~~~~~~~~
/Volumes/chambord/Users/ether/perl5/perlbrew/perls/34.1/lib/5.34.1/darwin-2level/CORE/perl.h:737:29: note: expanded from macro 'STMT_START'
# define STMT_START (void)( /* gcc supports "({ STATEMENTS; })" */
^
/Volumes/chambord/Users/ether/perl5/perlbrew/perls/34.1/lib/5.34.1/darwin-2level/CORE/sbox32_hash.h:1453:13: note: '{' token is here
XORSHIFT96_set(*state_cursor,s0,s1,s2,t1);
^~~~~~~~~~~~~~~~~~~~~~~~~~~~~~~~~~~~~~~~~
/Volumes/chambord/Users/ether/perl5/perlbrew/perls/34.1/lib/5.34.1/darwin-2level/CORE/sbox32_hash.h:1393:46: note: expanded from macro 'XORSHIFT96_set'
#define XORSHIFT96_set(r,x,y,z,t) STMT_START { \
^
/Volumes/chambord/Users/ether/perl5/perlbrew/perls/34.1/lib/5.34.1/darwin-2level/CORE/sbox32_hash.h:1453:13: warning: '}' and ')' tokens terminating statement expression appear in different macro expansion contexts [-Wcompound-token-split-by-macro]
XORSHIFT96_set(*state_cursor,s0,s1,s2,t1);
^~~~~~~~~~~~~~~~~~~~~~~~~~~~~~~~~~~~~~~~~
/Volumes/chambord/Users/ether/perl5/perlbrew/perls/34.1/lib/5.34.1/darwin-2level/CORE/sbox32_hash.h:1396:57: note: expanded from macro 'XORSHIFT96_set'
r = z = (z ^ ( z >> 26 ) ) ^ ( t ^ ( t >> 5 ) ); \
^
/Volumes/chambord/Users/ether/perl5/perlbrew/perls/34.1/lib/5.34.1/darwin-2level/CORE/sbox32_hash.h:1453:13: note: ')' token is here
XORSHIFT96_set(*state_cursor,s0,s1,s2,t1);
^~~~~~~~~~~~~~~~~~~~~~~~~~~~~~~~~~~~~~~~~
/Volumes/chambord/Users/ether/perl5/perlbrew/perls/34.1/lib/5.34.1/darwin-2level/CORE/sbox32_hash.h:1397:3: note: expanded from macro 'XORSHIFT96_set'
} STMT_END
^~~~~~~~
/Volumes/chambord/Users/ether/perl5/perlbrew/perls/34.1/lib/5.34.1/darwin-2level/CORE/perl.h:738:21: note: expanded from macro 'STMT_END'
# define STMT_END )
^
In file included from lib/Syntax/Keyword/Try.xs:7:
In file included from /Volumes/chambord/Users/ether/perl5/perlbrew/perls/34.1/lib/5.34.1/darwin-2level/CORE/perl.h:4085:
In file included from /Volumes/chambord/Users/ether/perl5/perlbrew/perls/34.1/lib/5.34.1/darwin-2level/CORE/hv.h:659:
In file included from /Volumes/chambord/Users/ether/perl5/perlbrew/perls/34.1/lib/5.34.1/darwin-2level/CORE/hv_func.h:34:
/Volumes/chambord/Users/ether/perl5/perlbrew/perls/34.1/lib/5.34.1/darwin-2level/CORE/sbox32_hash.h:1456:5: warning: '(' and '{' tokens introducing statement expression appear in different macro expansion contexts [-Wcompound-token-split-by-macro]
XORSHIFT96_set(*state,s0,s1,s2,t2);
^~~~~~~~~~~~~~~~~~~~~~~~~~~~~~~~~~
/Volumes/chambord/Users/ether/perl5/perlbrew/perls/34.1/lib/5.34.1/darwin-2level/CORE/sbox32_hash.h:1393:35: note: expanded from macro 'XORSHIFT96_set'
#define XORSHIFT96_set(r,x,y,z,t) STMT_START { \
^~~~~~~~~~
/Volumes/chambord/Users/ether/perl5/perlbrew/perls/34.1/lib/5.34.1/darwin-2level/CORE/perl.h:737:29: note: expanded from macro 'STMT_START'
# define STMT_START (void)( /* gcc supports "({ STATEMENTS; })" */
^
/Volumes/chambord/Users/ether/perl5/perlbrew/perls/34.1/lib/5.34.1/darwin-2level/CORE/sbox32_hash.h:1456:5: note: '{' token is here
XORSHIFT96_set(*state,s0,s1,s2,t2);
^~~~~~~~~~~~~~~~~~~~~~~~~~~~~~~~~~
/Volumes/chambord/Users/ether/perl5/perlbrew/perls/34.1/lib/5.34.1/darwin-2level/CORE/sbox32_hash.h:1393:46: note: expanded from macro 'XORSHIFT96_set'
#define XORSHIFT96_set(r,x,y,z,t) STMT_START { \
^
/Volumes/chambord/Users/ether/perl5/perlbrew/perls/34.1/lib/5.34.1/darwin-2level/CORE/sbox32_hash.h:1456:5: warning: '}' and ')' tokens terminating statement expression appear in different macro expansion contexts [-Wcompound-token-split-by-macro]
XORSHIFT96_set(*state,s0,s1,s2,t2);
^~~~~~~~~~~~~~~~~~~~~~~~~~~~~~~~~~
/Volumes/chambord/Users/ether/perl5/perlbrew/perls/34.1/lib/5.34.1/darwin-2level/CORE/sbox32_hash.h:1396:57: note: expanded from macro 'XORSHIFT96_set'
r = z = (z ^ ( z >> 26 ) ) ^ ( t ^ ( t >> 5 ) ); \
^
/Volumes/chambord/Users/ether/perl5/perlbrew/perls/34.1/lib/5.34.1/darwin-2level/CORE/sbox32_hash.h:1456:5: note: ')' token is here
XORSHIFT96_set(*state,s0,s1,s2,t2);
^~~~~~~~~~~~~~~~~~~~~~~~~~~~~~~~~~
/Volumes/chambord/Users/ether/perl5/perlbrew/perls/34.1/lib/5.34.1/darwin-2level/CORE/sbox32_hash.h:1397:3: note: expanded from macro 'XORSHIFT96_set'
} STMT_END
^~~~~~~~
/Volumes/chambord/Users/ether/perl5/perlbrew/perls/34.1/lib/5.34.1/darwin-2level/CORE/perl.h:738:21: note: expanded from macro 'STMT_END'
# define STMT_END )
^
In file included from lib/Syntax/Keyword/Try.xs:7:
In file included from /Volumes/chambord/Users/ether/perl5/perlbrew/perls/34.1/lib/5.34.1/darwin-2level/CORE/perl.h:4085:
In file included from /Volumes/chambord/Users/ether/perl5/perlbrew/perls/34.1/lib/5.34.1/darwin-2level/CORE/hv.h:659:
In file included from /Volumes/chambord/Users/ether/perl5/perlbrew/perls/34.1/lib/5.34.1/darwin-2level/CORE/hv_func.h:34:
/Volumes/chambord/Users/ether/perl5/perlbrew/perls/34.1/lib/5.34.1/darwin-2level/CORE/sbox32_hash.h:1482:9: warning: '(' and '{' tokens introducing statement expression appear in different macro expansion contexts [-Wcompound-token-split-by-macro]
SBOX32_MIX4(s0,s1,s2,s3,"SEED STATE");
^~~~~~~~~~~~~~~~~~~~~~~~~~~~~~~~~~~~~
/Volumes/chambord/Users/ether/perl5/perlbrew/perls/34.1/lib/5.34.1/darwin-2level/CORE/sbox32_hash.h:85:39: note: expanded from macro 'SBOX32_MIX4'
#define SBOX32_MIX4(v0,v1,v2,v3,text) STMT_START { \
^~~~~~~~~~
/Volumes/chambord/Users/ether/perl5/perlbrew/perls/34.1/lib/5.34.1/darwin-2level/CORE/perl.h:737:29: note: expanded from macro 'STMT_START'
# define STMT_START (void)( /* gcc supports "({ STATEMENTS; })" */
^
/Volumes/chambord/Users/ether/perl5/perlbrew/perls/34.1/lib/5.34.1/darwin-2level/CORE/sbox32_hash.h:1482:9: note: '{' token is here
SBOX32_MIX4(s0,s1,s2,s3,"SEED STATE");
^~~~~~~~~~~~~~~~~~~~~~~~~~~~~~~~~~~~~
/Volumes/chambord/Users/ether/perl5/perlbrew/perls/34.1/lib/5.34.1/darwin-2level/CORE/sbox32_hash.h:85:50: note: expanded from macro 'SBOX32_MIX4'
#define SBOX32_MIX4(v0,v1,v2,v3,text) STMT_START { \
^
/Volumes/chambord/Users/ether/perl5/perlbrew/perls/34.1/lib/5.34.1/darwin-2level/CORE/sbox32_hash.h:1482:9: warning: '}' and ')' tokens terminating statement expression appear in different macro expansion contexts [-Wcompound-token-split-by-macro]
SBOX32_MIX4(s0,s1,s2,s3,"SEED STATE");
^~~~~~~~~~~~~~~~~~~~~~~~~~~~~~~~~~~~~
/Volumes/chambord/Users/ether/perl5/perlbrew/perls/34.1/lib/5.34.1/darwin-2level/CORE/sbox32_hash.h:96:37: note: expanded from macro 'SBOX32_MIX4'
v2 = ROTL32(v2, 4) - v0; \
^
/Volumes/chambord/Users/ether/perl5/perlbrew/perls/34.1/lib/5.34.1/darwin-2level/CORE/sbox32_hash.h:1482:9: note: ')' token is here
SBOX32_MIX4(s0,s1,s2,s3,"SEED STATE");
^~~~~~~~~~~~~~~~~~~~~~~~~~~~~~~~~~~~~
/Volumes/chambord/Users/ether/perl5/perlbrew/perls/34.1/lib/5.34.1/darwin-2level/CORE/sbox32_hash.h:97:3: note: expanded from macro 'SBOX32_MIX4'
} STMT_END
^~~~~~~~
/Volumes/chambord/Users/ether/perl5/perlbrew/perls/34.1/lib/5.34.1/darwin-2level/CORE/perl.h:738:21: note: expanded from macro 'STMT_END'
# define STMT_END )
^
In file included from lib/Syntax/Keyword/Try.xs:7:
In file included from /Volumes/chambord/Users/ether/perl5/perlbrew/perls/34.1/lib/5.34.1/darwin-2level/CORE/perl.h:4085:
In file included from /Volumes/chambord/Users/ether/perl5/perlbrew/perls/34.1/lib/5.34.1/darwin-2level/CORE/hv.h:659:
In file included from /Volumes/chambord/Users/ether/perl5/perlbrew/perls/34.1/lib/5.34.1/darwin-2level/CORE/hv_func.h:34:
/Volumes/chambord/Users/ether/perl5/perlbrew/perls/34.1/lib/5.34.1/darwin-2level/CORE/sbox32_hash.h:1487:13: warning: '(' and '{' tokens introducing statement expression appear in different macro expansion contexts [-Wcompound-token-split-by-macro]
XORSHIFT128_set(*state_cursor,s0,s1,s2,s3,t1);
^~~~~~~~~~~~~~~~~~~~~~~~~~~~~~~~~~~~~~~~~~~~~
/Volumes/chambord/Users/ether/perl5/perlbrew/perls/34.1/lib/5.34.1/darwin-2level/CORE/sbox32_hash.h:1399:38: note: expanded from macro 'XORSHIFT128_set'
#define XORSHIFT128_set(r,x,y,z,w,t) STMT_START { \
^~~~~~~~~~
/Volumes/chambord/Users/ether/perl5/perlbrew/perls/34.1/lib/5.34.1/darwin-2level/CORE/perl.h:737:29: note: expanded from macro 'STMT_START'
# define STMT_START (void)( /* gcc supports "({ STATEMENTS; })" */
^
/Volumes/chambord/Users/ether/perl5/perlbrew/perls/34.1/lib/5.34.1/darwin-2level/CORE/sbox32_hash.h:1487:13: note: '{' token is here
XORSHIFT128_set(*state_cursor,s0,s1,s2,s3,t1);
^~~~~~~~~~~~~~~~~~~~~~~~~~~~~~~~~~~~~~~~~~~~~
/Volumes/chambord/Users/ether/perl5/perlbrew/perls/34.1/lib/5.34.1/darwin-2level/CORE/sbox32_hash.h:1399:49: note: expanded from macro 'XORSHIFT128_set'
#define XORSHIFT128_set(r,x,y,z,w,t) STMT_START { \
^
/Volumes/chambord/Users/ether/perl5/perlbrew/perls/34.1/lib/5.34.1/darwin-2level/CORE/sbox32_hash.h:1487:13: warning: '}' and ')' tokens terminating statement expression appear in different macro expansion contexts [-Wcompound-token-split-by-macro]
XORSHIFT128_set(*state_cursor,s0,s1,s2,s3,t1);
^~~~~~~~~~~~~~~~~~~~~~~~~~~~~~~~~~~~~~~~~~~~~
/Volumes/chambord/Users/ether/perl5/perlbrew/perls/34.1/lib/5.34.1/darwin-2level/CORE/sbox32_hash.h:1402:57: note: expanded from macro 'XORSHIFT128_set'
r = w = ( w ^ ( w >> 29 ) ) ^ ( t ^ ( t >> 12 ) ); \
^
/Volumes/chambord/Users/ether/perl5/perlbrew/perls/34.1/lib/5.34.1/darwin-2level/CORE/sbox32_hash.h:1487:13: note: ')' token is here
XORSHIFT128_set(*state_cursor,s0,s1,s2,s3,t1);
^~~~~~~~~~~~~~~~~~~~~~~~~~~~~~~~~~~~~~~~~~~~~
/Volumes/chambord/Users/ether/perl5/perlbrew/perls/34.1/lib/5.34.1/darwin-2level/CORE/sbox32_hash.h:1403:3: note: expanded from macro 'XORSHIFT128_set'
} STMT_END
^~~~~~~~
/Volumes/chambord/Users/ether/perl5/perlbrew/perls/34.1/lib/5.34.1/darwin-2level/CORE/perl.h:738:21: note: expanded from macro 'STMT_END'
# define STMT_END )
^
In file included from lib/Syntax/Keyword/Try.xs:7:
In file included from /Volumes/chambord/Users/ether/perl5/perlbrew/perls/34.1/lib/5.34.1/darwin-2level/CORE/perl.h:4085:
In file included from /Volumes/chambord/Users/ether/perl5/perlbrew/perls/34.1/lib/5.34.1/darwin-2level/CORE/hv.h:659:
In file included from /Volumes/chambord/Users/ether/perl5/perlbrew/perls/34.1/lib/5.34.1/darwin-2level/CORE/hv_func.h:34:
/Volumes/chambord/Users/ether/perl5/perlbrew/perls/34.1/lib/5.34.1/darwin-2level/CORE/sbox32_hash.h:1490:5: warning: '(' and '{' tokens introducing statement expression appear in different macro expansion contexts [-Wcompound-token-split-by-macro]
XORSHIFT128_set(*state,s0,s1,s2,s3,t2);
^~~~~~~~~~~~~~~~~~~~~~~~~~~~~~~~~~~~~~
/Volumes/chambord/Users/ether/perl5/perlbrew/perls/34.1/lib/5.34.1/darwin-2level/CORE/sbox32_hash.h:1399:38: note: expanded from macro 'XORSHIFT128_set'
#define XORSHIFT128_set(r,x,y,z,w,t) STMT_START { \
^~~~~~~~~~
/Volumes/chambord/Users/ether/perl5/perlbrew/perls/34.1/lib/5.34.1/darwin-2level/CORE/perl.h:737:29: note: expanded from macro 'STMT_START'
# define STMT_START (void)( /* gcc supports "({ STATEMENTS; })" */
^
/Volumes/chambord/Users/ether/perl5/perlbrew/perls/34.1/lib/5.34.1/darwin-2level/CORE/sbox32_hash.h:1490:5: note: '{' token is here
XORSHIFT128_set(*state,s0,s1,s2,s3,t2);
^~~~~~~~~~~~~~~~~~~~~~~~~~~~~~~~~~~~~~
/Volumes/chambord/Users/ether/perl5/perlbrew/perls/34.1/lib/5.34.1/darwin-2level/CORE/sbox32_hash.h:1399:49: note: expanded from macro 'XORSHIFT128_set'
#define XORSHIFT128_set(r,x,y,z,w,t) STMT_START { \
^
/Volumes/chambord/Users/ether/perl5/perlbrew/perls/34.1/lib/5.34.1/darwin-2level/CORE/sbox32_hash.h:1490:5: warning: '}' and ')' tokens terminating statement expression appear in different macro expansion contexts [-Wcompound-token-split-by-macro]
XORSHIFT128_set(*state,s0,s1,s2,s3,t2);
^~~~~~~~~~~~~~~~~~~~~~~~~~~~~~~~~~~~~~
/Volumes/chambord/Users/ether/perl5/perlbrew/perls/34.1/lib/5.34.1/darwin-2level/CORE/sbox32_hash.h:1402:57: note: expanded from macro 'XORSHIFT128_set'
r = w = ( w ^ ( w >> 29 ) ) ^ ( t ^ ( t >> 12 ) ); \
^
/Volumes/chambord/Users/ether/perl5/perlbrew/perls/34.1/lib/5.34.1/darwin-2level/CORE/sbox32_hash.h:1490:5: note: ')' token is here
XORSHIFT128_set(*state,s0,s1,s2,s3,t2);
^~~~~~~~~~~~~~~~~~~~~~~~~~~~~~~~~~~~~~
/Volumes/chambord/Users/ether/perl5/perlbrew/perls/34.1/lib/5.34.1/darwin-2level/CORE/sbox32_hash.h:1403:3: note: expanded from macro 'XORSHIFT128_set'
} STMT_END
^~~~~~~~
/Volumes/chambord/Users/ether/perl5/perlbrew/perls/34.1/lib/5.34.1/darwin-2level/CORE/perl.h:738:21: note: expanded from macro 'STMT_END'
# define STMT_END )
^
In file included from lib/Syntax/Keyword/Try.xs:7:
In file included from /Volumes/chambord/Users/ether/perl5/perlbrew/perls/34.1/lib/5.34.1/darwin-2level/CORE/perl.h:4085:
In file included from /Volumes/chambord/Users/ether/perl5/perlbrew/perls/34.1/lib/5.34.1/darwin-2level/CORE/hv.h:659:
In file included from /Volumes/chambord/Users/ether/perl5/perlbrew/perls/34.1/lib/5.34.1/darwin-2level/CORE/hv_func.h:77:
/Volumes/chambord/Users/ether/perl5/perlbrew/perls/34.1/lib/5.34.1/darwin-2level/CORE/perl_siphash.h:117:6: warning: '(' and '{' tokens introducing statement expression appear in different macro expansion contexts [-Wcompound-token-split-by-macro]
,SIPROUND;
^~~~~~~~
/Volumes/chambord/Users/ether/perl5/perlbrew/perls/34.1/lib/5.34.1/darwin-2level/CORE/perl_siphash.h:18:3: note: expanded from macro 'SIPROUND'
STMT_START { \
^~~~~~~~~~
/Volumes/chambord/Users/ether/perl5/perlbrew/perls/34.1/lib/5.34.1/darwin-2level/CORE/perl.h:737:29: note: expanded from macro 'STMT_START'
# define STMT_START (void)( /* gcc supports "({ STATEMENTS; })" */
^
/Volumes/chambord/Users/ether/perl5/perlbrew/perls/34.1/lib/5.34.1/darwin-2level/CORE/perl_siphash.h:62:5: note: expanded from macro 'PERL_SIPHASH_FNC'
SIP_ROUNDS; \
^~~~~~~~~~
/Volumes/chambord/Users/ether/perl5/perlbrew/perls/34.1/lib/5.34.1/darwin-2level/CORE/perl_siphash.h:117:6: note: '{' token is here
,SIPROUND;
^~~~~~~~
/Volumes/chambord/Users/ether/perl5/perlbrew/perls/34.1/lib/5.34.1/darwin-2level/CORE/perl_siphash.h:18:14: note: expanded from macro 'SIPROUND'
STMT_START { \
^
/Volumes/chambord/Users/ether/perl5/perlbrew/perls/34.1/lib/5.34.1/darwin-2level/CORE/perl_siphash.h:62:5: note: expanded from macro 'PERL_SIPHASH_FNC'
SIP_ROUNDS; \
^~~~~~~~~~
/Volumes/chambord/Users/ether/perl5/perlbrew/perls/34.1/lib/5.34.1/darwin-2level/CORE/perl_siphash.h:117:6: warning: '}' and ')' tokens terminating statement expression appear in different macro expansion contexts [-Wcompound-token-split-by-macro]
,SIPROUND;
^~~~~~~~
/Volumes/chambord/Users/ether/perl5/perlbrew/perls/34.1/lib/5.34.1/darwin-2level/CORE/perl_siphash.h:23:3: note: expanded from macro 'SIPROUND'
} STMT_END
^
/Volumes/chambord/Users/ether/perl5/perlbrew/perls/34.1/lib/5.34.1/darwin-2level/CORE/perl_siphash.h:62:5: note: expanded from macro 'PERL_SIPHASH_FNC'
SIP_ROUNDS; \
^~~~~~~~~~
/Volumes/chambord/Users/ether/perl5/perlbrew/perls/34.1/lib/5.34.1/darwin-2level/CORE/perl_siphash.h:117:6: note: ')' token is here
,SIPROUND;
^~~~~~~~
/Volumes/chambord/Users/ether/perl5/perlbrew/perls/34.1/lib/5.34.1/darwin-2level/CORE/perl_siphash.h:23:5: note: expanded from macro 'SIPROUND'
} STMT_END
^~~~~~~~
/Volumes/chambord/Users/ether/perl5/perlbrew/perls/34.1/lib/5.34.1/darwin-2level/CORE/perl.h:738:21: note: expanded from macro 'STMT_END'
# define STMT_END )
^
/Volumes/chambord/Users/ether/perl5/perlbrew/perls/34.1/lib/5.34.1/darwin-2level/CORE/perl_siphash.h:62:5: note: expanded from macro 'PERL_SIPHASH_FNC'
SIP_ROUNDS; \
^~~~~~~~~~
/Volumes/chambord/Users/ether/perl5/perlbrew/perls/34.1/lib/5.34.1/darwin-2level/CORE/perl_siphash.h:117:6: warning: '(' and '{' tokens introducing statement expression appear in different macro expansion contexts [-Wcompound-token-split-by-macro]
,SIPROUND;
^~~~~~~~
/Volumes/chambord/Users/ether/perl5/perlbrew/perls/34.1/lib/5.34.1/darwin-2level/CORE/perl_siphash.h:18:3: note: expanded from macro 'SIPROUND'
STMT_START { \
^~~~~~~~~~
/Volumes/chambord/Users/ether/perl5/perlbrew/perls/34.1/lib/5.34.1/darwin-2level/CORE/perl.h:737:29: note: expanded from macro 'STMT_START'
# define STMT_START (void)( /* gcc supports "({ STATEMENTS; })" */
^
/Volumes/chambord/Users/ether/perl5/perlbrew/perls/34.1/lib/5.34.1/darwin-2level/CORE/perl_siphash.h:81:3: note: expanded from macro 'PERL_SIPHASH_FNC'
SIP_ROUNDS; \
^~~~~~~~~~
/Volumes/chambord/Users/ether/perl5/perlbrew/perls/34.1/lib/5.34.1/darwin-2level/CORE/perl_siphash.h:117:6: note: '{' token is here
,SIPROUND;
^~~~~~~~
/Volumes/chambord/Users/ether/perl5/perlbrew/perls/34.1/lib/5.34.1/darwin-2level/CORE/perl_siphash.h:18:14: note: expanded from macro 'SIPROUND'
STMT_START { \
^
/Volumes/chambord/Users/ether/perl5/perlbrew/perls/34.1/lib/5.34.1/darwin-2level/CORE/perl_siphash.h:81:3: note: expanded from macro 'PERL_SIPHASH_FNC'
SIP_ROUNDS; \
^~~~~~~~~~
/Volumes/chambord/Users/ether/perl5/perlbrew/perls/34.1/lib/5.34.1/darwin-2level/CORE/perl_siphash.h:117:6: warning: '}' and ')' tokens terminating statement expression appear in different macro expansion contexts [-Wcompound-token-split-by-macro]
,SIPROUND;
^~~~~~~~
/Volumes/chambord/Users/ether/perl5/perlbrew/perls/34.1/lib/5.34.1/darwin-2level/CORE/perl_siphash.h:23:3: note: expanded from macro 'SIPROUND'
} STMT_END
^
/Volumes/chambord/Users/ether/perl5/perlbrew/perls/34.1/lib/5.34.1/darwin-2level/CORE/perl_siphash.h:81:3: note: expanded from macro 'PERL_SIPHASH_FNC'
SIP_ROUNDS; \
^~~~~~~~~~
/Volumes/chambord/Users/ether/perl5/perlbrew/perls/34.1/lib/5.34.1/darwin-2level/CORE/perl_siphash.h:117:6: note: ')' token is here
,SIPROUND;
^~~~~~~~
/Volumes/chambord/Users/ether/perl5/perlbrew/perls/34.1/lib/5.34.1/darwin-2level/CORE/perl_siphash.h:23:5: note: expanded from macro 'SIPROUND'
} STMT_END
^~~~~~~~
/Volumes/chambord/Users/ether/perl5/perlbrew/perls/34.1/lib/5.34.1/darwin-2level/CORE/perl.h:738:21: note: expanded from macro 'STMT_END'
# define STMT_END )
^
/Volumes/chambord/Users/ether/perl5/perlbrew/perls/34.1/lib/5.34.1/darwin-2level/CORE/perl_siphash.h:81:3: note: expanded from macro 'PERL_SIPHASH_FNC'
SIP_ROUNDS; \
^~~~~~~~~~
/Volumes/chambord/Users/ether/perl5/perlbrew/perls/34.1/lib/5.34.1/darwin-2level/CORE/perl_siphash.h:118:6: warning: '(' and '{' tokens introducing statement expression appear in different macro expansion contexts [-Wcompound-token-split-by-macro]
,SIPROUND;SIPROUND;SIPROUND;
^~~~~~~~
/Volumes/chambord/Users/ether/perl5/perlbrew/perls/34.1/lib/5.34.1/darwin-2level/CORE/perl_siphash.h:18:3: note: expanded from macro 'SIPROUND'
STMT_START { \
^~~~~~~~~~
/Volumes/chambord/Users/ether/perl5/perlbrew/perls/34.1/lib/5.34.1/darwin-2level/CORE/perl.h:737:29: note: expanded from macro 'STMT_START'
# define STMT_START (void)( /* gcc supports "({ STATEMENTS; })" */
^
/Volumes/chambord/Users/ether/perl5/perlbrew/perls/34.1/lib/5.34.1/darwin-2level/CORE/perl_siphash.h:87:3: note: expanded from macro 'PERL_SIPHASH_FNC'
SIP_FINAL_ROUNDS \
^~~~~~~~~~~~~~~~
/Volumes/chambord/Users/ether/perl5/perlbrew/perls/34.1/lib/5.34.1/darwin-2level/CORE/perl_siphash.h:118:6: note: '{' token is here
,SIPROUND;SIPROUND;SIPROUND;
^~~~~~~~
/Volumes/chambord/Users/ether/perl5/perlbrew/perls/34.1/lib/5.34.1/darwin-2level/CORE/perl_siphash.h:18:14: note: expanded from macro 'SIPROUND'
STMT_START { \
^
/Volumes/chambord/Users/ether/perl5/perlbrew/perls/34.1/lib/5.34.1/darwin-2level/CORE/perl_siphash.h:87:3: note: expanded from macro 'PERL_SIPHASH_FNC'
SIP_FINAL_ROUNDS \
^~~~~~~~~~~~~~~~
/Volumes/chambord/Users/ether/perl5/perlbrew/perls/34.1/lib/5.34.1/darwin-2level/CORE/perl_siphash.h:118:6: warning: '}' and ')' tokens terminating statement expression appear in different macro expansion contexts [-Wcompound-token-split-by-macro]
,SIPROUND;SIPROUND;SIPROUND;
^~~~~~~~
/Volumes/chambord/Users/ether/perl5/perlbrew/perls/34.1/lib/5.34.1/darwin-2level/CORE/perl_siphash.h:23:3: note: expanded from macro 'SIPROUND'
} STMT_END
^
/Volumes/chambord/Users/ether/perl5/perlbrew/perls/34.1/lib/5.34.1/darwin-2level/CORE/perl_siphash.h:87:3: note: expanded from macro 'PERL_SIPHASH_FNC'
SIP_FINAL_ROUNDS \
^~~~~~~~~~~~~~~~
/Volumes/chambord/Users/ether/perl5/perlbrew/perls/34.1/lib/5.34.1/darwin-2level/CORE/perl_siphash.h:118:6: note: ')' token is here
,SIPROUND;SIPROUND;SIPROUND;
^~~~~~~~
/Volumes/chambord/Users/ether/perl5/perlbrew/perls/34.1/lib/5.34.1/darwin-2level/CORE/perl_siphash.h:23:5: note: expanded from macro 'SIPROUND'
} STMT_END
^~~~~~~~
/Volumes/chambord/Users/ether/perl5/perlbrew/perls/34.1/lib/5.34.1/darwin-2level/CORE/perl.h:738:21: note: expanded from macro 'STMT_END'
# define STMT_END )
^
/Volumes/chambord/Users/ether/perl5/perlbrew/perls/34.1/lib/5.34.1/darwin-2level/CORE/perl_siphash.h:87:3: note: expanded from macro 'PERL_SIPHASH_FNC'
SIP_FINAL_ROUNDS \
^~~~~~~~~~~~~~~~
/Volumes/chambord/Users/ether/perl5/perlbrew/perls/34.1/lib/5.34.1/darwin-2level/CORE/perl_siphash.h:118:15: warning: '(' and '{' tokens introducing statement expression appear in different macro expansion contexts [-Wcompound-token-split-by-macro]
,SIPROUND;SIPROUND;SIPROUND;
^~~~~~~~
/Volumes/chambord/Users/ether/perl5/perlbrew/perls/34.1/lib/5.34.1/darwin-2level/CORE/perl_siphash.h:18:3: note: expanded from macro 'SIPROUND'
STMT_START { \
^~~~~~~~~~
/Volumes/chambord/Users/ether/perl5/perlbrew/perls/34.1/lib/5.34.1/darwin-2level/CORE/perl.h:737:29: note: expanded from macro 'STMT_START'
# define STMT_START (void)( /* gcc supports "({ STATEMENTS; })" */
^
/Volumes/chambord/Users/ether/perl5/perlbrew/perls/34.1/lib/5.34.1/darwin-2level/CORE/perl_siphash.h:87:3: note: expanded from macro 'PERL_SIPHASH_FNC'
SIP_FINAL_ROUNDS \
^~~~~~~~~~~~~~~~
/Volumes/chambord/Users/ether/perl5/perlbrew/perls/34.1/lib/5.34.1/darwin-2level/CORE/perl_siphash.h:118:15: note: '{' token is here
,SIPROUND;SIPROUND;SIPROUND;
^~~~~~~~
/Volumes/chambord/Users/ether/perl5/perlbrew/perls/34.1/lib/5.34.1/darwin-2level/CORE/perl_siphash.h:18:14: note: expanded from macro 'SIPROUND'
STMT_START { \
^
/Volumes/chambord/Users/ether/perl5/perlbrew/perls/34.1/lib/5.34.1/darwin-2level/CORE/perl_siphash.h:87:3: note: expanded from macro 'PERL_SIPHASH_FNC'
SIP_FINAL_ROUNDS \
^~~~~~~~~~~~~~~~
/Volumes/chambord/Users/ether/perl5/perlbrew/perls/34.1/lib/5.34.1/darwin-2level/CORE/perl_siphash.h:118:15: warning: '}' and ')' tokens terminating statement expression appear in different macro expansion contexts [-Wcompound-token-split-by-macro]
,SIPROUND;SIPROUND;SIPROUND;
^~~~~~~~
/Volumes/chambord/Users/ether/perl5/perlbrew/perls/34.1/lib/5.34.1/darwin-2level/CORE/perl_siphash.h:23:3: note: expanded from macro 'SIPROUND'
} STMT_END
^
/Volumes/chambord/Users/ether/perl5/perlbrew/perls/34.1/lib/5.34.1/darwin-2level/CORE/perl_siphash.h:87:3: note: expanded from macro 'PERL_SIPHASH_FNC'
SIP_FINAL_ROUNDS \
^~~~~~~~~~~~~~~~
/Volumes/chambord/Users/ether/perl5/perlbrew/perls/34.1/lib/5.34.1/darwin-2level/CORE/perl_siphash.h:118:15: note: ')' token is here
,SIPROUND;SIPROUND;SIPROUND;
^~~~~~~~
/Volumes/chambord/Users/ether/perl5/perlbrew/perls/34.1/lib/5.34.1/darwin-2level/CORE/perl_siphash.h:23:5: note: expanded from macro 'SIPROUND'
} STMT_END
^~~~~~~~
/Volumes/chambord/Users/ether/perl5/perlbrew/perls/34.1/lib/5.34.1/darwin-2level/CORE/perl.h:738:21: note: expanded from macro 'STMT_END'
# define STMT_END )
^
/Volumes/chambord/Users/ether/perl5/perlbrew/perls/34.1/lib/5.34.1/darwin-2level/CORE/perl_siphash.h:87:3: note: expanded from macro 'PERL_SIPHASH_FNC'
SIP_FINAL_ROUNDS \
^~~~~~~~~~~~~~~~
/Volumes/chambord/Users/ether/perl5/perlbrew/perls/34.1/lib/5.34.1/darwin-2level/CORE/perl_siphash.h:118:24: warning: '(' and '{' tokens introducing statement expression appear in different macro expansion contexts [-Wcompound-token-split-by-macro]
,SIPROUND;SIPROUND;SIPROUND;
^~~~~~~~
/Volumes/chambord/Users/ether/perl5/perlbrew/perls/34.1/lib/5.34.1/darwin-2level/CORE/perl_siphash.h:18:3: note: expanded from macro 'SIPROUND'
STMT_START { \
^~~~~~~~~~
/Volumes/chambord/Users/ether/perl5/perlbrew/perls/34.1/lib/5.34.1/darwin-2level/CORE/perl.h:737:29: note: expanded from macro 'STMT_START'
# define STMT_START (void)( /* gcc supports "({ STATEMENTS; })" */
^
/Volumes/chambord/Users/ether/perl5/perlbrew/perls/34.1/lib/5.34.1/darwin-2level/CORE/perl_siphash.h:87:3: note: expanded from macro 'PERL_SIPHASH_FNC'
SIP_FINAL_ROUNDS \
^~~~~~~~~~~~~~~~
/Volumes/chambord/Users/ether/perl5/perlbrew/perls/34.1/lib/5.34.1/darwin-2level/CORE/perl_siphash.h:118:24: note: '{' token is here
,SIPROUND;SIPROUND;SIPROUND;
^~~~~~~~
/Volumes/chambord/Users/ether/perl5/perlbrew/perls/34.1/lib/5.34.1/darwin-2level/CORE/perl_siphash.h:18:14: note: expanded from macro 'SIPROUND'
STMT_START { \
^
/Volumes/chambord/Users/ether/perl5/perlbrew/perls/34.1/lib/5.34.1/darwin-2level/CORE/perl_siphash.h:87:3: note: expanded from macro 'PERL_SIPHASH_FNC'
SIP_FINAL_ROUNDS \
^~~~~~~~~~~~~~~~
/Volumes/chambord/Users/ether/perl5/perlbrew/perls/34.1/lib/5.34.1/darwin-2level/CORE/perl_siphash.h:118:24: warning: '}' and ')' tokens terminating statement expression appear in different macro expansion contexts [-Wcompound-token-split-by-macro]
,SIPROUND;SIPROUND;SIPROUND;
^~~~~~~~
/Volumes/chambord/Users/ether/perl5/perlbrew/perls/34.1/lib/5.34.1/darwin-2level/CORE/perl_siphash.h:23:3: note: expanded from macro 'SIPROUND'
} STMT_END
^
/Volumes/chambord/Users/ether/perl5/perlbrew/perls/34.1/lib/5.34.1/darwin-2level/CORE/perl_siphash.h:87:3: note: expanded from macro 'PERL_SIPHASH_FNC'
SIP_FINAL_ROUNDS \
^~~~~~~~~~~~~~~~
/Volumes/chambord/Users/ether/perl5/perlbrew/perls/34.1/lib/5.34.1/darwin-2level/CORE/perl_siphash.h:118:24: note: ')' token is here
,SIPROUND;SIPROUND;SIPROUND;
^~~~~~~~
/Volumes/chambord/Users/ether/perl5/perlbrew/perls/34.1/lib/5.34.1/darwin-2level/CORE/perl_siphash.h:23:5: note: expanded from macro 'SIPROUND'
} STMT_END
^~~~~~~~
/Volumes/chambord/Users/ether/perl5/perlbrew/perls/34.1/lib/5.34.1/darwin-2level/CORE/perl.h:738:21: note: expanded from macro 'STMT_END'
# define STMT_END )
^
/Volumes/chambord/Users/ether/perl5/perlbrew/perls/34.1/lib/5.34.1/darwin-2level/CORE/perl_siphash.h:87:3: note: expanded from macro 'PERL_SIPHASH_FNC'
SIP_FINAL_ROUNDS \
^~~~~~~~~~~~~~~~
/Volumes/chambord/Users/ether/perl5/perlbrew/perls/34.1/lib/5.34.1/darwin-2level/CORE/perl_siphash.h:123:6: warning: '(' and '{' tokens introducing statement expression appear in different macro expansion contexts [-Wcompound-token-split-by-macro]
,SIPROUND;SIPROUND;
^~~~~~~~
/Volumes/chambord/Users/ether/perl5/perlbrew/perls/34.1/lib/5.34.1/darwin-2level/CORE/perl_siphash.h:18:3: note: expanded from macro 'SIPROUND'
STMT_START { \
^~~~~~~~~~
/Volumes/chambord/Users/ether/perl5/perlbrew/perls/34.1/lib/5.34.1/darwin-2level/CORE/perl.h:737:29: note: expanded from macro 'STMT_START'
# define STMT_START (void)( /* gcc supports "({ STATEMENTS; })" */
^
/Volumes/chambord/Users/ether/perl5/perlbrew/perls/34.1/lib/5.34.1/darwin-2level/CORE/perl_siphash.h:62:5: note: expanded from macro 'PERL_SIPHASH_FNC'
SIP_ROUNDS; \
^~~~~~~~~~
/Volumes/chambord/Users/ether/perl5/perlbrew/perls/34.1/lib/5.34.1/darwin-2level/CORE/perl_siphash.h:123:6: note: '{' token is here
,SIPROUND;SIPROUND;
^~~~~~~~
/Volumes/chambord/Users/ether/perl5/perlbrew/perls/34.1/lib/5.34.1/darwin-2level/CORE/perl_siphash.h:18:14: note: expanded from macro 'SIPROUND'
STMT_START { \
^
/Volumes/chambord/Users/ether/perl5/perlbrew/perls/34.1/lib/5.34.1/darwin-2level/CORE/perl_siphash.h:62:5: note: expanded from macro 'PERL_SIPHASH_FNC'
SIP_ROUNDS; \
^~~~~~~~~~
/Volumes/chambord/Users/ether/perl5/perlbrew/perls/34.1/lib/5.34.1/darwin-2level/CORE/perl_siphash.h:123:6: warning: '}' and ')' tokens terminating statement expression appear in different macro expansion contexts [-Wcompound-token-split-by-macro]
,SIPROUND;SIPROUND;
^~~~~~~~
/Volumes/chambord/Users/ether/perl5/perlbrew/perls/34.1/lib/5.34.1/darwin-2level/CORE/perl_siphash.h:23:3: note: expanded from macro 'SIPROUND'
} STMT_END
^
/Volumes/chambord/Users/ether/perl5/perlbrew/perls/34.1/lib/5.34.1/darwin-2level/CORE/perl_siphash.h:62:5: note: expanded from macro 'PERL_SIPHASH_FNC'
SIP_ROUNDS; \
^~~~~~~~~~
/Volumes/chambord/Users/ether/perl5/perlbrew/perls/34.1/lib/5.34.1/darwin-2level/CORE/perl_siphash.h:123:6: note: ')' token is here
,SIPROUND;SIPROUND;
^~~~~~~~
/Volumes/chambord/Users/ether/perl5/perlbrew/perls/34.1/lib/5.34.1/darwin-2level/CORE/perl_siphash.h:23:5: note: expanded from macro 'SIPROUND'
} STMT_END
^~~~~~~~
/Volumes/chambord/Users/ether/perl5/perlbrew/perls/34.1/lib/5.34.1/darwin-2level/CORE/perl.h:738:21: note: expanded from macro 'STMT_END'
# define STMT_END )
^
/Volumes/chambord/Users/ether/perl5/perlbrew/perls/34.1/lib/5.34.1/darwin-2level/CORE/perl_siphash.h:62:5: note: expanded from macro 'PERL_SIPHASH_FNC'
SIP_ROUNDS; \
^~~~~~~~~~
/Volumes/chambord/Users/ether/perl5/perlbrew/perls/34.1/lib/5.34.1/darwin-2level/CORE/perl_siphash.h:123:15: warning: '(' and '{' tokens introducing statement expression appear in different macro expansion contexts [-Wcompound-token-split-by-macro]
,SIPROUND;SIPROUND;
^~~~~~~~
/Volumes/chambord/Users/ether/perl5/perlbrew/perls/34.1/lib/5.34.1/darwin-2level/CORE/perl_siphash.h:18:3: note: expanded from macro 'SIPROUND'
STMT_START { \
^~~~~~~~~~
/Volumes/chambord/Users/ether/perl5/perlbrew/perls/34.1/lib/5.34.1/darwin-2level/CORE/perl.h:737:29: note: expanded from macro 'STMT_START'
# define STMT_START (void)( /* gcc supports "({ STATEMENTS; })" */
^
/Volumes/chambord/Users/ether/perl5/perlbrew/perls/34.1/lib/5.34.1/darwin-2level/CORE/perl_siphash.h:62:5: note: expanded from macro 'PERL_SIPHASH_FNC'
SIP_ROUNDS; \
^~~~~~~~~~
/Volumes/chambord/Users/ether/perl5/perlbrew/perls/34.1/lib/5.34.1/darwin-2level/CORE/perl_siphash.h:123:15: note: '{' token is here
,SIPROUND;SIPROUND;
^~~~~~~~
/Volumes/chambord/Users/ether/perl5/perlbrew/perls/34.1/lib/5.34.1/darwin-2level/CORE/perl_siphash.h:18:14: note: expanded from macro 'SIPROUND'
STMT_START { \
^
/Volumes/chambord/Users/ether/perl5/perlbrew/perls/34.1/lib/5.34.1/darwin-2level/CORE/perl_siphash.h:62:5: note: expanded from macro 'PERL_SIPHASH_FNC'
SIP_ROUNDS; \
^~~~~~~~~~
/Volumes/chambord/Users/ether/perl5/perlbrew/perls/34.1/lib/5.34.1/darwin-2level/CORE/perl_siphash.h:123:15: warning: '}' and ')' tokens terminating statement expression appear in different macro expansion contexts [-Wcompound-token-split-by-macro]
,SIPROUND;SIPROUND;
^~~~~~~~
/Volumes/chambord/Users/ether/perl5/perlbrew/perls/34.1/lib/5.34.1/darwin-2level/CORE/perl_siphash.h:23:3: note: expanded from macro 'SIPROUND'
} STMT_END
^
/Volumes/chambord/Users/ether/perl5/perlbrew/perls/34.1/lib/5.34.1/darwin-2level/CORE/perl_siphash.h:62:5: note: expanded from macro 'PERL_SIPHASH_FNC'
SIP_ROUNDS; \
^~~~~~~~~~
/Volumes/chambord/Users/ether/perl5/perlbrew/perls/34.1/lib/5.34.1/darwin-2level/CORE/perl_siphash.h:123:15: note: ')' token is here
,SIPROUND;SIPROUND;
^~~~~~~~
/Volumes/chambord/Users/ether/perl5/perlbrew/perls/34.1/lib/5.34.1/darwin-2level/CORE/perl_siphash.h:23:5: note: expanded from macro 'SIPROUND'
} STMT_END
^~~~~~~~
/Volumes/chambord/Users/ether/perl5/perlbrew/perls/34.1/lib/5.34.1/darwin-2level/CORE/perl.h:738:21: note: expanded from macro 'STMT_END'
# define STMT_END )
^
/Volumes/chambord/Users/ether/perl5/perlbrew/perls/34.1/lib/5.34.1/darwin-2level/CORE/perl_siphash.h:62:5: note: expanded from macro 'PERL_SIPHASH_FNC'
SIP_ROUNDS; \
^~~~~~~~~~
/Volumes/chambord/Users/ether/perl5/perlbrew/perls/34.1/lib/5.34.1/darwin-2level/CORE/perl_siphash.h:123:6: warning: '(' and '{' tokens introducing statement expression appear in different macro expansion contexts [-Wcompound-token-split-by-macro]
,SIPROUND;SIPROUND;
^~~~~~~~
/Volumes/chambord/Users/ether/perl5/perlbrew/perls/34.1/lib/5.34.1/darwin-2level/CORE/perl_siphash.h:18:3: note: expanded from macro 'SIPROUND'
STMT_START { \
^~~~~~~~~~
/Volumes/chambord/Users/ether/perl5/perlbrew/perls/34.1/lib/5.34.1/darwin-2level/CORE/perl.h:737:29: note: expanded from macro 'STMT_START'
# define STMT_START (void)( /* gcc supports "({ STATEMENTS; })" */
^
/Volumes/chambord/Users/ether/perl5/perlbrew/perls/34.1/lib/5.34.1/darwin-2level/CORE/perl_siphash.h:81:3: note: expanded from macro 'PERL_SIPHASH_FNC'
SIP_ROUNDS; \
^~~~~~~~~~
/Volumes/chambord/Users/ether/perl5/perlbrew/perls/34.1/lib/5.34.1/darwin-2level/CORE/perl_siphash.h:123:6: note: '{' token is here
,SIPROUND;SIPROUND;
^~~~~~~~
/Volumes/chambord/Users/ether/perl5/perlbrew/perls/34.1/lib/5.34.1/darwin-2level/CORE/perl_siphash.h:18:14: note: expanded from macro 'SIPROUND'
STMT_START { \
^
/Volumes/chambord/Users/ether/perl5/perlbrew/perls/34.1/lib/5.34.1/darwin-2level/CORE/perl_siphash.h:81:3: note: expanded from macro 'PERL_SIPHASH_FNC'
SIP_ROUNDS; \
^~~~~~~~~~
/Volumes/chambord/Users/ether/perl5/perlbrew/perls/34.1/lib/5.34.1/darwin-2level/CORE/perl_siphash.h:123:6: warning: '}' and ')' tokens terminating statement expression appear in different macro expansion contexts [-Wcompound-token-split-by-macro]
,SIPROUND;SIPROUND;
^~~~~~~~
/Volumes/chambord/Users/ether/perl5/perlbrew/perls/34.1/lib/5.34.1/darwin-2level/CORE/perl_siphash.h:23:3: note: expanded from macro 'SIPROUND'
} STMT_END
^
/Volumes/chambord/Users/ether/perl5/perlbrew/perls/34.1/lib/5.34.1/darwin-2level/CORE/perl_siphash.h:81:3: note: expanded from macro 'PERL_SIPHASH_FNC'
SIP_ROUNDS; \
^~~~~~~~~~
/Volumes/chambord/Users/ether/perl5/perlbrew/perls/34.1/lib/5.34.1/darwin-2level/CORE/perl_siphash.h:123:6: note: ')' token is here
,SIPROUND;SIPROUND;
^~~~~~~~
/Volumes/chambord/Users/ether/perl5/perlbrew/perls/34.1/lib/5.34.1/darwin-2level/CORE/perl_siphash.h:23:5: note: expanded from macro 'SIPROUND'
} STMT_END
^~~~~~~~
/Volumes/chambord/Users/ether/perl5/perlbrew/perls/34.1/lib/5.34.1/darwin-2level/CORE/perl.h:738:21: note: expanded from macro 'STMT_END'
# define STMT_END )
^
/Volumes/chambord/Users/ether/perl5/perlbrew/perls/34.1/lib/5.34.1/darwin-2level/CORE/perl_siphash.h:81:3: note: expanded from macro 'PERL_SIPHASH_FNC'
SIP_ROUNDS; \
^~~~~~~~~~
/Volumes/chambord/Users/ether/perl5/perlbrew/perls/34.1/lib/5.34.1/darwin-2level/CORE/perl_siphash.h:123:15: warning: '(' and '{' tokens introducing statement expression appear in different macro expansion contexts [-Wcompound-token-split-by-macro]
,SIPROUND;SIPROUND;
^~~~~~~~
/Volumes/chambord/Users/ether/perl5/perlbrew/perls/34.1/lib/5.34.1/darwin-2level/CORE/perl_siphash.h:18:3: note: expanded from macro 'SIPROUND'
STMT_START { \
^~~~~~~~~~
/Volumes/chambord/Users/ether/perl5/perlbrew/perls/34.1/lib/5.34.1/darwin-2level/CORE/perl.h:737:29: note: expanded from macro 'STMT_START'
# define STMT_START (void)( /* gcc supports "({ STATEMENTS; })" */
^
/Volumes/chambord/Users/ether/perl5/perlbrew/perls/34.1/lib/5.34.1/darwin-2level/CORE/perl_siphash.h:81:3: note: expanded from macro 'PERL_SIPHASH_FNC'
SIP_ROUNDS; \
^~~~~~~~~~
/Volumes/chambord/Users/ether/perl5/perlbrew/perls/34.1/lib/5.34.1/darwin-2level/CORE/perl_siphash.h:123:15: note: '{' token is here
,SIPROUND;SIPROUND;
^~~~~~~~
/Volumes/chambord/Users/ether/perl5/perlbrew/perls/34.1/lib/5.34.1/darwin-2level/CORE/perl_siphash.h:18:14: note: expanded from macro 'SIPROUND'
STMT_START { \
^
/Volumes/chambord/Users/ether/perl5/perlbrew/perls/34.1/lib/5.34.1/darwin-2level/CORE/perl_siphash.h:81:3: note: expanded from macro 'PERL_SIPHASH_FNC'
SIP_ROUNDS; \
^~~~~~~~~~
/Volumes/chambord/Users/ether/perl5/perlbrew/perls/34.1/lib/5.34.1/darwin-2level/CORE/perl_siphash.h:123:15: warning: '}' and ')' tokens terminating statement expression appear in different macro expansion contexts [-Wcompound-token-split-by-macro]
,SIPROUND;SIPROUND;
^~~~~~~~
/Volumes/chambord/Users/ether/perl5/perlbrew/perls/34.1/lib/5.34.1/darwin-2level/CORE/perl_siphash.h:23:3: note: expanded from macro 'SIPROUND'
} STMT_END
^
/Volumes/chambord/Users/ether/perl5/perlbrew/perls/34.1/lib/5.34.1/darwin-2level/CORE/perl_siphash.h:81:3: note: expanded from macro 'PERL_SIPHASH_FNC'
SIP_ROUNDS; \
^~~~~~~~~~
/Volumes/chambord/Users/ether/perl5/perlbrew/perls/34.1/lib/5.34.1/darwin-2level/CORE/perl_siphash.h:123:15: note: ')' token is here
,SIPROUND;SIPROUND;
^~~~~~~~
/Volumes/chambord/Users/ether/perl5/perlbrew/perls/34.1/lib/5.34.1/darwin-2level/CORE/perl_siphash.h:23:5: note: expanded from macro 'SIPROUND'
} STMT_END
^~~~~~~~
/Volumes/chambord/Users/ether/perl5/perlbrew/perls/34.1/lib/5.34.1/darwin-2level/CORE/perl.h:738:21: note: expanded from macro 'STMT_END'
# define STMT_END )
^
/Volumes/chambord/Users/ether/perl5/perlbrew/perls/34.1/lib/5.34.1/darwin-2level/CORE/perl_siphash.h:81:3: note: expanded from macro 'PERL_SIPHASH_FNC'
SIP_ROUNDS; \
^~~~~~~~~~
/Volumes/chambord/Users/ether/perl5/perlbrew/perls/34.1/lib/5.34.1/darwin-2level/CORE/perl_siphash.h:124:6: warning: '(' and '{' tokens introducing statement expression appear in different macro expansion contexts [-Wcompound-token-split-by-macro]
,SIPROUND;SIPROUND;SIPROUND;SIPROUND;
^~~~~~~~
/Volumes/chambord/Users/ether/perl5/perlbrew/perls/34.1/lib/5.34.1/darwin-2level/CORE/perl_siphash.h:18:3: note: expanded from macro 'SIPROUND'
STMT_START { \
^~~~~~~~~~
/Volumes/chambord/Users/ether/perl5/perlbrew/perls/34.1/lib/5.34.1/darwin-2level/CORE/perl.h:737:29: note: expanded from macro 'STMT_START'
# define STMT_START (void)( /* gcc supports "({ STATEMENTS; })" */
^
/Volumes/chambord/Users/ether/perl5/perlbrew/perls/34.1/lib/5.34.1/darwin-2level/CORE/perl_siphash.h:87:3: note: expanded from macro 'PERL_SIPHASH_FNC'
SIP_FINAL_ROUNDS \
^~~~~~~~~~~~~~~~
/Volumes/chambord/Users/ether/perl5/perlbrew/perls/34.1/lib/5.34.1/darwin-2level/CORE/perl_siphash.h:124:6: note: '{' token is here
,SIPROUND;SIPROUND;SIPROUND;SIPROUND;
^~~~~~~~
/Volumes/chambord/Users/ether/perl5/perlbrew/perls/34.1/lib/5.34.1/darwin-2level/CORE/perl_siphash.h:18:14: note: expanded from macro 'SIPROUND'
STMT_START { \
^
/Volumes/chambord/Users/ether/perl5/perlbrew/perls/34.1/lib/5.34.1/darwin-2level/CORE/perl_siphash.h:87:3: note: expanded from macro 'PERL_SIPHASH_FNC'
SIP_FINAL_ROUNDS \
^~~~~~~~~~~~~~~~
/Volumes/chambord/Users/ether/perl5/perlbrew/perls/34.1/lib/5.34.1/darwin-2level/CORE/perl_siphash.h:124:6: warning: '}' and ')' tokens terminating statement expression appear in different macro expansion contexts [-Wcompound-token-split-by-macro]
,SIPROUND;SIPROUND;SIPROUND;SIPROUND;
^~~~~~~~
/Volumes/chambord/Users/ether/perl5/perlbrew/perls/34.1/lib/5.34.1/darwin-2level/CORE/perl_siphash.h:23:3: note: expanded from macro 'SIPROUND'
} STMT_END
^
/Volumes/chambord/Users/ether/perl5/perlbrew/perls/34.1/lib/5.34.1/darwin-2level/CORE/perl_siphash.h:87:3: note: expanded from macro 'PERL_SIPHASH_FNC'
SIP_FINAL_ROUNDS \
^~~~~~~~~~~~~~~~
/Volumes/chambord/Users/ether/perl5/perlbrew/perls/34.1/lib/5.34.1/darwin-2level/CORE/perl_siphash.h:124:6: note: ')' token is here
,SIPROUND;SIPROUND;SIPROUND;SIPROUND;
^~~~~~~~
/Volumes/chambord/Users/ether/perl5/perlbrew/perls/34.1/lib/5.34.1/darwin-2level/CORE/perl_siphash.h:23:5: note: expanded from macro 'SIPROUND'
} STMT_END
^~~~~~~~
/Volumes/chambord/Users/ether/perl5/perlbrew/perls/34.1/lib/5.34.1/darwin-2level/CORE/perl.h:738:21: note: expanded from macro 'STMT_END'
# define STMT_END )
^
/Volumes/chambord/Users/ether/perl5/perlbrew/perls/34.1/lib/5.34.1/darwin-2level/CORE/perl_siphash.h:87:3: note: expanded from macro 'PERL_SIPHASH_FNC'
SIP_FINAL_ROUNDS \
^~~~~~~~~~~~~~~~
/Volumes/chambord/Users/ether/perl5/perlbrew/perls/34.1/lib/5.34.1/darwin-2level/CORE/perl_siphash.h:124:15: warning: '(' and '{' tokens introducing statement expression appear in different macro expansion contexts [-Wcompound-token-split-by-macro]
,SIPROUND;SIPROUND;SIPROUND;SIPROUND;
^~~~~~~~
/Volumes/chambord/Users/ether/perl5/perlbrew/perls/34.1/lib/5.34.1/darwin-2level/CORE/perl_siphash.h:18:3: note: expanded from macro 'SIPROUND'
STMT_START { \
^~~~~~~~~~
/Volumes/chambord/Users/ether/perl5/perlbrew/perls/34.1/lib/5.34.1/darwin-2level/CORE/perl.h:737:29: note: expanded from macro 'STMT_START'
# define STMT_START (void)( /* gcc supports "({ STATEMENTS; })" */
^
/Volumes/chambord/Users/ether/perl5/perlbrew/perls/34.1/lib/5.34.1/darwin-2level/CORE/perl_siphash.h:87:3: note: expanded from macro 'PERL_SIPHASH_FNC'
SIP_FINAL_ROUNDS \
^~~~~~~~~~~~~~~~
/Volumes/chambord/Users/ether/perl5/perlbrew/perls/34.1/lib/5.34.1/darwin-2level/CORE/perl_siphash.h:124:15: note: '{' token is here
,SIPROUND;SIPROUND;SIPROUND;SIPROUND;
^~~~~~~~
/Volumes/chambord/Users/ether/perl5/perlbrew/perls/34.1/lib/5.34.1/darwin-2level/CORE/perl_siphash.h:18:14: note: expanded from macro 'SIPROUND'
STMT_START { \
^
/Volumes/chambord/Users/ether/perl5/perlbrew/perls/34.1/lib/5.34.1/darwin-2level/CORE/perl_siphash.h:87:3: note: expanded from macro 'PERL_SIPHASH_FNC'
SIP_FINAL_ROUNDS \
^~~~~~~~~~~~~~~~
/Volumes/chambord/Users/ether/perl5/perlbrew/perls/34.1/lib/5.34.1/darwin-2level/CORE/perl_siphash.h:124:15: warning: '}' and ')' tokens terminating statement expression appear in different macro expansion contexts [-Wcompound-token-split-by-macro]
,SIPROUND;SIPROUND;SIPROUND;SIPROUND;
^~~~~~~~
/Volumes/chambord/Users/ether/perl5/perlbrew/perls/34.1/lib/5.34.1/darwin-2level/CORE/perl_siphash.h:23:3: note: expanded from macro 'SIPROUND'
} STMT_END
^
/Volumes/chambord/Users/ether/perl5/perlbrew/perls/34.1/lib/5.34.1/darwin-2level/CORE/perl_siphash.h:87:3: note: expanded from macro 'PERL_SIPHASH_FNC'
SIP_FINAL_ROUNDS \
^~~~~~~~~~~~~~~~
/Volumes/chambord/Users/ether/perl5/perlbrew/perls/34.1/lib/5.34.1/darwin-2level/CORE/perl_siphash.h:124:15: note: ')' token is here
,SIPROUND;SIPROUND;SIPROUND;SIPROUND;
^~~~~~~~
/Volumes/chambord/Users/ether/perl5/perlbrew/perls/34.1/lib/5.34.1/darwin-2level/CORE/perl_siphash.h:23:5: note: expanded from macro 'SIPROUND'
} STMT_END
^~~~~~~~
/Volumes/chambord/Users/ether/perl5/perlbrew/perls/34.1/lib/5.34.1/darwin-2level/CORE/perl.h:738:21: note: expanded from macro 'STMT_END'
# define STMT_END )
^
/Volumes/chambord/Users/ether/perl5/perlbrew/perls/34.1/lib/5.34.1/darwin-2level/CORE/perl_siphash.h:87:3: note: expanded from macro 'PERL_SIPHASH_FNC'
SIP_FINAL_ROUNDS \
^~~~~~~~~~~~~~~~
/Volumes/chambord/Users/ether/perl5/perlbrew/perls/34.1/lib/5.34.1/darwin-2level/CORE/perl_siphash.h:124:24: warning: '(' and '{' tokens introducing statement expression appear in different macro expansion contexts [-Wcompound-token-split-by-macro]
,SIPROUND;SIPROUND;SIPROUND;SIPROUND;
^~~~~~~~
/Volumes/chambord/Users/ether/perl5/perlbrew/perls/34.1/lib/5.34.1/darwin-2level/CORE/perl_siphash.h:18:3: note: expanded from macro 'SIPROUND'
STMT_START { \
^~~~~~~~~~
/Volumes/chambord/Users/ether/perl5/perlbrew/perls/34.1/lib/5.34.1/darwin-2level/CORE/perl.h:737:29: note: expanded from macro 'STMT_START'
# define STMT_START (void)( /* gcc supports "({ STATEMENTS; })" */
^
/Volumes/chambord/Users/ether/perl5/perlbrew/perls/34.1/lib/5.34.1/darwin-2level/CORE/perl_siphash.h:87:3: note: expanded from macro 'PERL_SIPHASH_FNC'
SIP_FINAL_ROUNDS \
^~~~~~~~~~~~~~~~
/Volumes/chambord/Users/ether/perl5/perlbrew/perls/34.1/lib/5.34.1/darwin-2level/CORE/perl_siphash.h:124:24: note: '{' token is here
,SIPROUND;SIPROUND;SIPROUND;SIPROUND;
^~~~~~~~
/Volumes/chambord/Users/ether/perl5/perlbrew/perls/34.1/lib/5.34.1/darwin-2level/CORE/perl_siphash.h:18:14: note: expanded from macro 'SIPROUND'
STMT_START { \
^
/Volumes/chambord/Users/ether/perl5/perlbrew/perls/34.1/lib/5.34.1/darwin-2level/CORE/perl_siphash.h:87:3: note: expanded from macro 'PERL_SIPHASH_FNC'
SIP_FINAL_ROUNDS \
^~~~~~~~~~~~~~~~
/Volumes/chambord/Users/ether/perl5/perlbrew/perls/34.1/lib/5.34.1/darwin-2level/CORE/perl_siphash.h:124:24: warning: '}' and ')' tokens terminating statement expression appear in different macro expansion contexts [-Wcompound-token-split-by-macro]
,SIPROUND;SIPROUND;SIPROUND;SIPROUND;
^~~~~~~~
/Volumes/chambord/Users/ether/perl5/perlbrew/perls/34.1/lib/5.34.1/darwin-2level/CORE/perl_siphash.h:23:3: note: expanded from macro 'SIPROUND'
} STMT_END
^
/Volumes/chambord/Users/ether/perl5/perlbrew/perls/34.1/lib/5.34.1/darwin-2level/CORE/perl_siphash.h:87:3: note: expanded from macro 'PERL_SIPHASH_FNC'
SIP_FINAL_ROUNDS \
^~~~~~~~~~~~~~~~
/Volumes/chambord/Users/ether/perl5/perlbrew/perls/34.1/lib/5.34.1/darwin-2level/CORE/perl_siphash.h:124:24: note: ')' token is here
,SIPROUND;SIPROUND;SIPROUND;SIPROUND;
^~~~~~~~
/Volumes/chambord/Users/ether/perl5/perlbrew/perls/34.1/lib/5.34.1/darwin-2level/CORE/perl_siphash.h:23:5: note: expanded from macro 'SIPROUND'
} STMT_END
^~~~~~~~
/Volumes/chambord/Users/ether/perl5/perlbrew/perls/34.1/lib/5.34.1/darwin-2level/CORE/perl.h:738:21: note: expanded from macro 'STMT_END'
# define STMT_END )
^
/Volumes/chambord/Users/ether/perl5/perlbrew/perls/34.1/lib/5.34.1/darwin-2level/CORE/perl_siphash.h:87:3: note: expanded from macro 'PERL_SIPHASH_FNC'
SIP_FINAL_ROUNDS \
^~~~~~~~~~~~~~~~
/Volumes/chambord/Users/ether/perl5/perlbrew/perls/34.1/lib/5.34.1/darwin-2level/CORE/perl_siphash.h:124:33: warning: '(' and '{' tokens introducing statement expression appear in different macro expansion contexts [-Wcompound-token-split-by-macro]
,SIPROUND;SIPROUND;SIPROUND;SIPROUND;
^~~~~~~~
/Volumes/chambord/Users/ether/perl5/perlbrew/perls/34.1/lib/5.34.1/darwin-2level/CORE/perl_siphash.h:18:3: note: expanded from macro 'SIPROUND'
STMT_START { \
^~~~~~~~~~
/Volumes/chambord/Users/ether/perl5/perlbrew/perls/34.1/lib/5.34.1/darwin-2level/CORE/perl.h:737:29: note: expanded from macro 'STMT_START'
# define STMT_START (void)( /* gcc supports "({ STATEMENTS; })" */
^
/Volumes/chambord/Users/ether/perl5/perlbrew/perls/34.1/lib/5.34.1/darwin-2level/CORE/perl_siphash.h:87:3: note: expanded from macro 'PERL_SIPHASH_FNC'
SIP_FINAL_ROUNDS \
^~~~~~~~~~~~~~~~
/Volumes/chambord/Users/ether/perl5/perlbrew/perls/34.1/lib/5.34.1/darwin-2level/CORE/perl_siphash.h:124:33: note: '{' token is here
,SIPROUND;SIPROUND;SIPROUND;SIPROUND;
^~~~~~~~
/Volumes/chambord/Users/ether/perl5/perlbrew/perls/34.1/lib/5.34.1/darwin-2level/CORE/perl_siphash.h:18:14: note: expanded from macro 'SIPROUND'
STMT_START { \
^
/Volumes/chambord/Users/ether/perl5/perlbrew/perls/34.1/lib/5.34.1/darwin-2level/CORE/perl_siphash.h:87:3: note: expanded from macro 'PERL_SIPHASH_FNC'
SIP_FINAL_ROUNDS \
^~~~~~~~~~~~~~~~
/Volumes/chambord/Users/ether/perl5/perlbrew/perls/34.1/lib/5.34.1/darwin-2level/CORE/perl_siphash.h:124:33: warning: '}' and ')' tokens terminating statement expression appear in different macro expansion contexts [-Wcompound-token-split-by-macro]
,SIPROUND;SIPROUND;SIPROUND;SIPROUND;
^~~~~~~~
/Volumes/chambord/Users/ether/perl5/perlbrew/perls/34.1/lib/5.34.1/darwin-2level/CORE/perl_siphash.h:23:3: note: expanded from macro 'SIPROUND'
} STMT_END
^
/Volumes/chambord/Users/ether/perl5/perlbrew/perls/34.1/lib/5.34.1/darwin-2level/CORE/perl_siphash.h:87:3: note: expanded from macro 'PERL_SIPHASH_FNC'
SIP_FINAL_ROUNDS \
^~~~~~~~~~~~~~~~
/Volumes/chambord/Users/ether/perl5/perlbrew/perls/34.1/lib/5.34.1/darwin-2level/CORE/perl_siphash.h:124:33: note: ')' token is here
,SIPROUND;SIPROUND;SIPROUND;SIPROUND;
^~~~~~~~
/Volumes/chambord/Users/ether/perl5/perlbrew/perls/34.1/lib/5.34.1/darwin-2level/CORE/perl_siphash.h:23:5: note: expanded from macro 'SIPROUND'
} STMT_END
^~~~~~~~
/Volumes/chambord/Users/ether/perl5/perlbrew/perls/34.1/lib/5.34.1/darwin-2level/CORE/perl.h:738:21: note: expanded from macro 'STMT_END'
# define STMT_END )
^
/Volumes/chambord/Users/ether/perl5/perlbrew/perls/34.1/lib/5.34.1/darwin-2level/CORE/perl_siphash.h:87:3: note: expanded from macro 'PERL_SIPHASH_FNC'
SIP_FINAL_ROUNDS \
^~~~~~~~~~~~~~~~
In file included from lib/Syntax/Keyword/Try.xs:7:
In file included from /Volumes/chambord/Users/ether/perl5/perlbrew/perls/34.1/lib/5.34.1/darwin-2level/CORE/perl.h:4085:
In file included from /Volumes/chambord/Users/ether/perl5/perlbrew/perls/34.1/lib/5.34.1/darwin-2level/CORE/hv.h:659:
/Volumes/chambord/Users/ether/perl5/perlbrew/perls/34.1/lib/5.34.1/darwin-2level/CORE/hv_func.h:166:5: warning: '(' and '{' tokens introducing statement expression appear in different macro expansion contexts [-Wcompound-token-split-by-macro]
_PERL_HASH_SEED_STATE(seed,(U8*)state);
^~~~~~~~~~~~~~~~~~~~~~~~~~~~~~~~~~~~~~
/Volumes/chambord/Users/ether/perl5/perlbrew/perls/34.1/lib/5.34.1/darwin-2level/CORE/hv_func.h:100:43: note: expanded from macro '_PERL_HASH_SEED_STATE'
#define _PERL_HASH_SEED_STATE(seed,state) STMT_START { \
^~~~~~~~~~
/Volumes/chambord/Users/ether/perl5/perlbrew/perls/34.1/lib/5.34.1/darwin-2level/CORE/perl.h:737:29: note: expanded from macro 'STMT_START'
# define STMT_START (void)( /* gcc supports "({ STATEMENTS; })" */
^
/Volumes/chambord/Users/ether/perl5/perlbrew/perls/34.1/lib/5.34.1/darwin-2level/CORE/hv_func.h:166:5: note: '{' token is here
_PERL_HASH_SEED_STATE(seed,(U8*)state);
^~~~~~~~~~~~~~~~~~~~~~~~~~~~~~~~~~~~~~
/Volumes/chambord/Users/ether/perl5/perlbrew/perls/34.1/lib/5.34.1/darwin-2level/CORE/hv_func.h:100:54: note: expanded from macro '_PERL_HASH_SEED_STATE'
#define _PERL_HASH_SEED_STATE(seed,state) STMT_START { \
^
/Volumes/chambord/Users/ether/perl5/perlbrew/perls/34.1/lib/5.34.1/darwin-2level/CORE/hv_func.h:166:5: warning: '}' and ')' tokens terminating statement expression appear in different macro expansion contexts [-Wcompound-token-split-by-macro]
_PERL_HASH_SEED_STATE(seed,(U8*)state);
^~~~~~~~~~~~~~~~~~~~~~~~~~~~~~~~~~~~~~
/Volumes/chambord/Users/ether/perl5/perlbrew/perls/34.1/lib/5.34.1/darwin-2level/CORE/hv_func.h:102:93: note: expanded from macro '_PERL_HASH_SEED_STATE'
sbox32_seed_state96(seed + __PERL_HASH_SEED_BYTES, state + __PERL_HASH_STATE_BYTES); \
^
/Volumes/chambord/Users/ether/perl5/perlbrew/perls/34.1/lib/5.34.1/darwin-2level/CORE/hv_func.h:166:5: note: ')' token is here
_PERL_HASH_SEED_STATE(seed,(U8*)state);
^~~~~~~~~~~~~~~~~~~~~~~~~~~~~~~~~~~~~~
/Volumes/chambord/Users/ether/perl5/perlbrew/perls/34.1/lib/5.34.1/darwin-2level/CORE/hv_func.h:103:3: note: expanded from macro '_PERL_HASH_SEED_STATE'
} STMT_END
^~~~~~~~
/Volumes/chambord/Users/ether/perl5/perlbrew/perls/34.1/lib/5.34.1/darwin-2level/CORE/perl.h:738:21: note: expanded from macro 'STMT_END'
# define STMT_END )
^
In file included from lib/Syntax/Keyword/Try.xs:7:
In file included from /Volumes/chambord/Users/ether/perl5/perlbrew/perls/34.1/lib/5.34.1/darwin-2level/CORE/perl.h:7109:
/Volumes/chambord/Users/ether/perl5/perlbrew/perls/34.1/lib/5.34.1/darwin-2level/CORE/inline.h:2246:5: warning: '(' and '{' tokens introducing statement expression appear in different macro expansion contexts [-Wcompound-token-split-by-macro]
CX_POP_SAVEARRAY(cx);
^~~~~~~~~~~~~~~~~~~~
/Volumes/chambord/Users/ether/perl5/perlbrew/perls/34.1/lib/5.34.1/darwin-2level/CORE/cop.h:795:5: note: expanded from macro 'CX_POP_SAVEARRAY'
STMT_START { \
^~~~~~~~~~
/Volumes/chambord/Users/ether/perl5/perlbrew/perls/34.1/lib/5.34.1/darwin-2level/CORE/perl.h:737:29: note: expanded from macro 'STMT_START'
# define STMT_START (void)( /* gcc supports "({ STATEMENTS; })" */
^
/Volumes/chambord/Users/ether/perl5/perlbrew/perls/34.1/lib/5.34.1/darwin-2level/CORE/inline.h:2246:5: note: '{' token is here
CX_POP_SAVEARRAY(cx);
^~~~~~~~~~~~~~~~~~~~
/Volumes/chambord/Users/ether/perl5/perlbrew/perls/34.1/lib/5.34.1/darwin-2level/CORE/cop.h:795:16: note: expanded from macro 'CX_POP_SAVEARRAY'
STMT_START { \
^
In file included from lib/Syntax/Keyword/Try.xs:7:
In file included from /Volumes/chambord/Users/ether/perl5/perlbrew/perls/34.1/lib/5.34.1/darwin-2level/CORE/perl.h:7109:
/Volumes/chambord/Users/ether/perl5/perlbrew/perls/34.1/lib/5.34.1/darwin-2level/CORE/inline.h:2246:5: warning: '}' and ')' tokens terminating statement expression appear in different macro expansion contexts [-Wcompound-token-split-by-macro]
CX_POP_SAVEARRAY(cx);
^~~~~~~~~~~~~~~~~~~~
/Volumes/chambord/Users/ether/perl5/perlbrew/perls/34.1/lib/5.34.1/darwin-2level/CORE/cop.h:800:5: note: expanded from macro 'CX_POP_SAVEARRAY'
} STMT_END
^
/Volumes/chambord/Users/ether/perl5/perlbrew/perls/34.1/lib/5.34.1/darwin-2level/CORE/inline.h:2246:5: note: ')' token is here
CX_POP_SAVEARRAY(cx);
^~~~~~~~~~~~~~~~~~~~
/Volumes/chambord/Users/ether/perl5/perlbrew/perls/34.1/lib/5.34.1/darwin-2level/CORE/cop.h:800:7: note: expanded from macro 'CX_POP_SAVEARRAY'
} STMT_END
^~~~~~~~
/Volumes/chambord/Users/ether/perl5/perlbrew/perls/34.1/lib/5.34.1/darwin-2level/CORE/perl.h:738:21: note: expanded from macro 'STMT_END'
# define STMT_END )
^
In file included from lib/Syntax/Keyword/Try.xs:7:
In file included from /Volumes/chambord/Users/ether/perl5/perlbrew/perls/34.1/lib/5.34.1/darwin-2level/CORE/perl.h:7109:
/Volumes/chambord/Users/ether/perl5/perlbrew/perls/34.1/lib/5.34.1/darwin-2level/CORE/inline.h:2252:9: warning: '(' and '{' tokens introducing statement expression appear in different macro expansion contexts [-Wcompound-token-split-by-macro]
CLEAR_ARGARRAY(av);
^~~~~~~~~~~~~~~~~~
/Volumes/chambord/Users/ether/perl5/perlbrew/perls/34.1/lib/5.34.1/darwin-2level/CORE/cop.h:805:5: note: expanded from macro 'CLEAR_ARGARRAY'
STMT_START { \
^~~~~~~~~~
/Volumes/chambord/Users/ether/perl5/perlbrew/perls/34.1/lib/5.34.1/darwin-2level/CORE/perl.h:737:29: note: expanded from macro 'STMT_START'
# define STMT_START (void)( /* gcc supports "({ STATEMENTS; })" */
^
/Volumes/chambord/Users/ether/perl5/perlbrew/perls/34.1/lib/5.34.1/darwin-2level/CORE/inline.h:2252:9: note: '{' token is here
CLEAR_ARGARRAY(av);
^~~~~~~~~~~~~~~~~~
/Volumes/chambord/Users/ether/perl5/perlbrew/perls/34.1/lib/5.34.1/darwin-2level/CORE/cop.h:805:16: note: expanded from macro 'CLEAR_ARGARRAY'
STMT_START { \
^
In file included from lib/Syntax/Keyword/Try.xs:7:
In file included from /Volumes/chambord/Users/ether/perl5/perlbrew/perls/34.1/lib/5.34.1/darwin-2level/CORE/perl.h:7109:
/Volumes/chambord/Users/ether/perl5/perlbrew/perls/34.1/lib/5.34.1/darwin-2level/CORE/inline.h:2252:9: warning: '}' and ')' tokens terminating statement expression appear in different macro expansion contexts [-Wcompound-token-split-by-macro]
CLEAR_ARGARRAY(av);
^~~~~~~~~~~~~~~~~~
/Volumes/chambord/Users/ether/perl5/perlbrew/perls/34.1/lib/5.34.1/darwin-2level/CORE/cop.h:809:5: note: expanded from macro 'CLEAR_ARGARRAY'
} STMT_END
^
/Volumes/chambord/Users/ether/perl5/perlbrew/perls/34.1/lib/5.34.1/darwin-2level/CORE/inline.h:2252:9: note: ')' token is here
CLEAR_ARGARRAY(av);
^~~~~~~~~~~~~~~~~~
/Volumes/chambord/Users/ether/perl5/perlbrew/perls/34.1/lib/5.34.1/darwin-2level/CORE/cop.h:809:7: note: expanded from macro 'CLEAR_ARGARRAY'
} STMT_END
^~~~~~~~
/Volumes/chambord/Users/ether/perl5/perlbrew/perls/34.1/lib/5.34.1/darwin-2level/CORE/perl.h:738:21: note: expanded from macro 'STMT_END'
# define STMT_END )
^
In file included from lib/Syntax/Keyword/Try.xs:28:
hax/perl-additions.c.inc:146:3: warning: '(' and '{' tokens introducing statement expression appear in different macro expansion contexts [-Wcompound-token-split-by-macro]
EXTEND(SP, 2);
^~~~~~~~~~~~~
/Volumes/chambord/Users/ether/perl5/perlbrew/perls/34.1/lib/5.34.1/darwin-2level/CORE/pp.h:388:25: note: expanded from macro 'EXTEND'
# define EXTEND(p,n) STMT_START { \
^~~~~~~~~~
/Volumes/chambord/Users/ether/perl5/perlbrew/perls/34.1/lib/5.34.1/darwin-2level/CORE/perl.h:737:29: note: expanded from macro 'STMT_START'
# define STMT_START (void)( /* gcc supports "({ STATEMENTS; })" */
^
hax/perl-additions.c.inc:146:3: note: '{' token is here
EXTEND(SP, 2);
^~~~~~~~~~~~~
/Volumes/chambord/Users/ether/perl5/perlbrew/perls/34.1/lib/5.34.1/darwin-2level/CORE/pp.h:388:36: note: expanded from macro 'EXTEND'
# define EXTEND(p,n) STMT_START { \
^
In file included from lib/Syntax/Keyword/Try.xs:28:
hax/perl-additions.c.inc:146:3: warning: '}' and ')' tokens terminating statement expression appear in different macro expansion contexts [-Wcompound-token-split-by-macro]
EXTEND(SP, 2);
^~~~~~~~~~~~~
/Volumes/chambord/Users/ether/perl5/perlbrew/perls/34.1/lib/5.34.1/darwin-2level/CORE/pp.h:393:28: note: expanded from macro 'EXTEND'
} } STMT_END
^
hax/perl-additions.c.inc:146:3: note: ')' token is here
EXTEND(SP, 2);
^~~~~~~~~~~~~
/Volumes/chambord/Users/ether/perl5/perlbrew/perls/34.1/lib/5.34.1/darwin-2level/CORE/pp.h:393:30: note: expanded from macro 'EXTEND'
} } STMT_END
^~~~~~~~
/Volumes/chambord/Users/ether/perl5/perlbrew/perls/34.1/lib/5.34.1/darwin-2level/CORE/perl.h:738:21: note: expanded from macro 'STMT_END'
# define STMT_END )
^
In file included from lib/Syntax/Keyword/Try.xs:28:
hax/perl-additions.c.inc:147:3: warning: '(' and '{' tokens introducing statement expression appear in different macro expansion contexts [-Wcompound-token-split-by-macro]
PUSHMARK(SP);
^~~~~~~~~~~~
/Volumes/chambord/Users/ether/perl5/perlbrew/perls/34.1/lib/5.34.1/darwin-2level/CORE/pp.h:69:5: note: expanded from macro 'PUSHMARK'
STMT_START { \
^~~~~~~~~~
/Volumes/chambord/Users/ether/perl5/perlbrew/perls/34.1/lib/5.34.1/darwin-2level/CORE/perl.h:737:29: note: expanded from macro 'STMT_START'
# define STMT_START (void)( /* gcc supports "({ STATEMENTS; })" */
^
hax/perl-additions.c.inc:147:3: note: '{' token is here
PUSHMARK(SP);
^~~~~~~~~~~~
/Volumes/chambord/Users/ether/perl5/perlbrew/perls/34.1/lib/5.34.1/darwin-2level/CORE/pp.h:69:16: note: expanded from macro 'PUSHMARK'
STMT_START { \
^
In file included from lib/Syntax/Keyword/Try.xs:28:
hax/perl-additions.c.inc:147:3: warning: '}' and ')' tokens terminating statement expression appear in different macro expansion contexts [-Wcompound-token-split-by-macro]
PUSHMARK(SP);
^~~~~~~~~~~~
/Volumes/chambord/Users/ether/perl5/perlbrew/perls/34.1/lib/5.34.1/darwin-2level/CORE/pp.h:78:5: note: expanded from macro 'PUSHMARK'
} STMT_END
^
hax/perl-additions.c.inc:147:3: note: ')' token is here
PUSHMARK(SP);
^~~~~~~~~~~~
/Volumes/chambord/Users/ether/perl5/perlbrew/perls/34.1/lib/5.34.1/darwin-2level/CORE/pp.h:78:7: note: expanded from macro 'PUSHMARK'
} STMT_END
^~~~~~~~
/Volumes/chambord/Users/ether/perl5/perlbrew/perls/34.1/lib/5.34.1/darwin-2level/CORE/perl.h:738:21: note: expanded from macro 'STMT_END'
# define STMT_END )
^
In file included from lib/Syntax/Keyword/Try.xs:28:
hax/perl-additions.c.inc:165:3: warning: '(' and '{' tokens introducing statement expression appear in different macro expansion contexts [-Wcompound-token-split-by-macro]
PUSHMARK(SP);
^~~~~~~~~~~~
/Volumes/chambord/Users/ether/perl5/perlbrew/perls/34.1/lib/5.34.1/darwin-2level/CORE/pp.h:69:5: note: expanded from macro 'PUSHMARK'
STMT_START { \
^~~~~~~~~~
/Volumes/chambord/Users/ether/perl5/perlbrew/perls/34.1/lib/5.34.1/darwin-2level/CORE/perl.h:737:29: note: expanded from macro 'STMT_START'
# define STMT_START (void)( /* gcc supports "({ STATEMENTS; })" */
^
hax/perl-additions.c.inc:165:3: note: '{' token is here
PUSHMARK(SP);
^~~~~~~~~~~~
/Volumes/chambord/Users/ether/perl5/perlbrew/perls/34.1/lib/5.34.1/darwin-2level/CORE/pp.h:69:16: note: expanded from macro 'PUSHMARK'
STMT_START { \
^
In file included from lib/Syntax/Keyword/Try.xs:28:
hax/perl-additions.c.inc:165:3: warning: '}' and ')' tokens terminating statement expression appear in different macro expansion contexts [-Wcompound-token-split-by-macro]
PUSHMARK(SP);
^~~~~~~~~~~~
/Volumes/chambord/Users/ether/perl5/perlbrew/perls/34.1/lib/5.34.1/darwin-2level/CORE/pp.h:78:5: note: expanded from macro 'PUSHMARK'
} STMT_END
^
hax/perl-additions.c.inc:165:3: note: ')' token is here
PUSHMARK(SP);
^~~~~~~~~~~~
/Volumes/chambord/Users/ether/perl5/perlbrew/perls/34.1/lib/5.34.1/darwin-2level/CORE/pp.h:78:7: note: expanded from macro 'PUSHMARK'
} STMT_END
^~~~~~~~
/Volumes/chambord/Users/ether/perl5/perlbrew/perls/34.1/lib/5.34.1/darwin-2level/CORE/perl.h:738:21: note: expanded from macro 'STMT_END'
# define STMT_END )
^
lib/Syntax/Keyword/Try.xs:113:7: warning: '(' and '{' tokens introducing statement expression appear in different macro expansion contexts [-Wcompound-token-split-by-macro]
PUSHMARK(SP);
^~~~~~~~~~~~
/Volumes/chambord/Users/ether/perl5/perlbrew/perls/34.1/lib/5.34.1/darwin-2level/CORE/pp.h:69:5: note: expanded from macro 'PUSHMARK'
STMT_START { \
^~~~~~~~~~
/Volumes/chambord/Users/ether/perl5/perlbrew/perls/34.1/lib/5.34.1/darwin-2level/CORE/perl.h:737:29: note: expanded from macro 'STMT_START'
# define STMT_START (void)( /* gcc supports "({ STATEMENTS; })" */
^
lib/Syntax/Keyword/Try.xs:113:7: note: '{' token is here
PUSHMARK(SP);
^~~~~~~~~~~~
/Volumes/chambord/Users/ether/perl5/perlbrew/perls/34.1/lib/5.34.1/darwin-2level/CORE/pp.h:69:16: note: expanded from macro 'PUSHMARK'
STMT_START { \
^
lib/Syntax/Keyword/Try.xs:113:7: warning: '}' and ')' tokens terminating statement expression appear in different macro expansion contexts [-Wcompound-token-split-by-macro]
PUSHMARK(SP);
^~~~~~~~~~~~
/Volumes/chambord/Users/ether/perl5/perlbrew/perls/34.1/lib/5.34.1/darwin-2level/CORE/pp.h:78:5: note: expanded from macro 'PUSHMARK'
} STMT_END
^
lib/Syntax/Keyword/Try.xs:113:7: note: ')' token is here
PUSHMARK(SP);
^~~~~~~~~~~~
/Volumes/chambord/Users/ether/perl5/perlbrew/perls/34.1/lib/5.34.1/darwin-2level/CORE/pp.h:78:7: note: expanded from macro 'PUSHMARK'
} STMT_END
^~~~~~~~
/Volumes/chambord/Users/ether/perl5/perlbrew/perls/34.1/lib/5.34.1/darwin-2level/CORE/perl.h:738:21: note: expanded from macro 'STMT_END'
# define STMT_END )
^
lib/Syntax/Keyword/Try.xs:119:7: warning: '(' and '{' tokens introducing statement expression appear in different macro expansion contexts [-Wcompound-token-split-by-macro]
PUSHMARK(SP);
^~~~~~~~~~~~
/Volumes/chambord/Users/ether/perl5/perlbrew/perls/34.1/lib/5.34.1/darwin-2level/CORE/pp.h:69:5: note: expanded from macro 'PUSHMARK'
STMT_START { \
^~~~~~~~~~
/Volumes/chambord/Users/ether/perl5/perlbrew/perls/34.1/lib/5.34.1/darwin-2level/CORE/perl.h:737:29: note: expanded from macro 'STMT_START'
# define STMT_START (void)( /* gcc supports "({ STATEMENTS; })" */
^
lib/Syntax/Keyword/Try.xs:119:7: note: '{' token is here
PUSHMARK(SP);
^~~~~~~~~~~~
/Volumes/chambord/Users/ether/perl5/perlbrew/perls/34.1/lib/5.34.1/darwin-2level/CORE/pp.h:69:16: note: expanded from macro 'PUSHMARK'
STMT_START { \
^
lib/Syntax/Keyword/Try.xs:119:7: warning: '}' and ')' tokens terminating statement expression appear in different macro expansion contexts [-Wcompound-token-split-by-macro]
PUSHMARK(SP);
^~~~~~~~~~~~
/Volumes/chambord/Users/ether/perl5/perlbrew/perls/34.1/lib/5.34.1/darwin-2level/CORE/pp.h:78:5: note: expanded from macro 'PUSHMARK'
} STMT_END
^
lib/Syntax/Keyword/Try.xs:119:7: note: ')' token is here
PUSHMARK(SP);
^~~~~~~~~~~~
/Volumes/chambord/Users/ether/perl5/perlbrew/perls/34.1/lib/5.34.1/darwin-2level/CORE/pp.h:78:7: note: expanded from macro 'PUSHMARK'
} STMT_END
^~~~~~~~
/Volumes/chambord/Users/ether/perl5/perlbrew/perls/34.1/lib/5.34.1/darwin-2level/CORE/perl.h:738:21: note: expanded from macro 'STMT_END'
# define STMT_END )
^
lib/Syntax/Keyword/Try.xs:120:7: warning: '(' and '{' tokens introducing statement expression appear in different macro expansion contexts [-Wcompound-token-split-by-macro]
XPUSHs(retval);
^~~~~~~~~~~~~~
/Volumes/chambord/Users/ether/perl5/perlbrew/perls/34.1/lib/5.34.1/darwin-2level/CORE/pp.h:479:19: note: expanded from macro 'XPUSHs'
#define XPUSHs(s) STMT_START { EXTEND(sp,1); *++sp = (s); } STMT_END
^~~~~~~~~~
/Volumes/chambord/Users/ether/perl5/perlbrew/perls/34.1/lib/5.34.1/darwin-2level/CORE/perl.h:737:29: note: expanded from macro 'STMT_START'
# define STMT_START (void)( /* gcc supports "({ STATEMENTS; })" */
^
lib/Syntax/Keyword/Try.xs:120:7: note: '{' token is here
XPUSHs(retval);
^~~~~~~~~~~~~~
/Volumes/chambord/Users/ether/perl5/perlbrew/perls/34.1/lib/5.34.1/darwin-2level/CORE/pp.h:479:30: note: expanded from macro 'XPUSHs'
#define XPUSHs(s) STMT_START { EXTEND(sp,1); *++sp = (s); } STMT_END
^
lib/Syntax/Keyword/Try.xs:120:7: warning: '(' and '{' tokens introducing statement expression appear in different macro expansion contexts [-Wcompound-token-split-by-macro]
XPUSHs(retval);
^~~~~~~~~~~~~~
/Volumes/chambord/Users/ether/perl5/perlbrew/perls/34.1/lib/5.34.1/darwin-2level/CORE/pp.h:479:32: note: expanded from macro 'XPUSHs'
#define XPUSHs(s) STMT_START { EXTEND(sp,1); *++sp = (s); } STMT_END
^~~~~~~~~~~~
/Volumes/chambord/Users/ether/perl5/perlbrew/perls/34.1/lib/5.34.1/darwin-2level/CORE/pp.h:388:25: note: expanded from macro 'EXTEND'
# define EXTEND(p,n) STMT_START { \
^~~~~~~~~~
/Volumes/chambord/Users/ether/perl5/perlbrew/perls/34.1/lib/5.34.1/darwin-2level/CORE/perl.h:737:29: note: expanded from macro 'STMT_START'
# define STMT_START (void)( /* gcc supports "({ STATEMENTS; })" */
^
lib/Syntax/Keyword/Try.xs:120:7: note: '{' token is here
XPUSHs(retval);
^~~~~~~~~~~~~~
/Volumes/chambord/Users/ether/perl5/perlbrew/perls/34.1/lib/5.34.1/darwin-2level/CORE/pp.h:479:32: note: expanded from macro 'XPUSHs'
#define XPUSHs(s) STMT_START { EXTEND(sp,1); *++sp = (s); } STMT_END
^~~~~~~~~~~~
/Volumes/chambord/Users/ether/perl5/perlbrew/perls/34.1/lib/5.34.1/darwin-2level/CORE/pp.h:388:36: note: expanded from macro 'EXTEND'
# define EXTEND(p,n) STMT_START { \
^
lib/Syntax/Keyword/Try.xs:120:7: warning: '}' and ')' tokens terminating statement expression appear in different macro expansion contexts [-Wcompound-token-split-by-macro]
XPUSHs(retval);
^~~~~~~~~~~~~~
/Volumes/chambord/Users/ether/perl5/perlbrew/perls/34.1/lib/5.34.1/darwin-2level/CORE/pp.h:479:32: note: expanded from macro 'XPUSHs'
#define XPUSHs(s) STMT_START { EXTEND(sp,1); *++sp = (s); } STMT_END
^~~~~~~~~~~~
/Volumes/chambord/Users/ether/perl5/perlbrew/perls/34.1/lib/5.34.1/darwin-2level/CORE/pp.h:393:28: note: expanded from macro 'EXTEND'
} } STMT_END
^
lib/Syntax/Keyword/Try.xs:120:7: note: ')' token is here
XPUSHs(retval);
^~~~~~~~~~~~~~
/Volumes/chambord/Users/ether/perl5/perlbrew/perls/34.1/lib/5.34.1/darwin-2level/CORE/pp.h:479:32: note: expanded from macro 'XPUSHs'
#define XPUSHs(s) STMT_START { EXTEND(sp,1); *++sp = (s); } STMT_END
^~~~~~~~~~~~
/Volumes/chambord/Users/ether/perl5/perlbrew/perls/34.1/lib/5.34.1/darwin-2level/CORE/pp.h:393:30: note: expanded from macro 'EXTEND'
} } STMT_END
^~~~~~~~
/Volumes/chambord/Users/ether/perl5/perlbrew/perls/34.1/lib/5.34.1/darwin-2level/CORE/perl.h:738:21: note: expanded from macro 'STMT_END'
# define STMT_END )
^
lib/Syntax/Keyword/Try.xs:120:7: warning: '}' and ')' tokens terminating statement expression appear in different macro expansion contexts [-Wcompound-token-split-by-macro]
XPUSHs(retval);
^~~~~~~~~~~~~~
/Volumes/chambord/Users/ether/perl5/perlbrew/perls/34.1/lib/5.34.1/darwin-2level/CORE/pp.h:479:59: note: expanded from macro 'XPUSHs'
#define XPUSHs(s) STMT_START { EXTEND(sp,1); *++sp = (s); } STMT_END
^
lib/Syntax/Keyword/Try.xs:120:7: note: ')' token is here
XPUSHs(retval);
^~~~~~~~~~~~~~
/Volumes/chambord/Users/ether/perl5/perlbrew/perls/34.1/lib/5.34.1/darwin-2level/CORE/pp.h:479:61: note: expanded from macro 'XPUSHs'
#define XPUSHs(s) STMT_START { EXTEND(sp,1); *++sp = (s); } STMT_END
^~~~~~~~
/Volumes/chambord/Users/ether/perl5/perlbrew/perls/34.1/lib/5.34.1/darwin-2level/CORE/perl.h:738:21: note: expanded from macro 'STMT_END'
# define STMT_END )
^
lib/Syntax/Keyword/Try.xs:127:7: warning: '(' and '{' tokens introducing statement expression appear in different macro expansion contexts [-Wcompound-token-split-by-macro]
PUSHMARK(SP);
^~~~~~~~~~~~
/Volumes/chambord/Users/ether/perl5/perlbrew/perls/34.1/lib/5.34.1/darwin-2level/CORE/pp.h:69:5: note: expanded from macro 'PUSHMARK'
STMT_START { \
^~~~~~~~~~
/Volumes/chambord/Users/ether/perl5/perlbrew/perls/34.1/lib/5.34.1/darwin-2level/CORE/perl.h:737:29: note: expanded from macro 'STMT_START'
# define STMT_START (void)( /* gcc supports "({ STATEMENTS; })" */
^
lib/Syntax/Keyword/Try.xs:127:7: note: '{' token is here
PUSHMARK(SP);
^~~~~~~~~~~~
/Volumes/chambord/Users/ether/perl5/perlbrew/perls/34.1/lib/5.34.1/darwin-2level/CORE/pp.h:69:16: note: expanded from macro 'PUSHMARK'
STMT_START { \
^
lib/Syntax/Keyword/Try.xs:127:7: warning: '}' and ')' tokens terminating statement expression appear in different macro expansion contexts [-Wcompound-token-split-by-macro]
PUSHMARK(SP);
^~~~~~~~~~~~
/Volumes/chambord/Users/ether/perl5/perlbrew/perls/34.1/lib/5.34.1/darwin-2level/CORE/pp.h:78:5: note: expanded from macro 'PUSHMARK'
} STMT_END
^
lib/Syntax/Keyword/Try.xs:127:7: note: ')' token is here
PUSHMARK(SP);
^~~~~~~~~~~~
/Volumes/chambord/Users/ether/perl5/perlbrew/perls/34.1/lib/5.34.1/darwin-2level/CORE/pp.h:78:7: note: expanded from macro 'PUSHMARK'
} STMT_END
^~~~~~~~
/Volumes/chambord/Users/ether/perl5/perlbrew/perls/34.1/lib/5.34.1/darwin-2level/CORE/perl.h:738:21: note: expanded from macro 'STMT_END'
# define STMT_END )
^
lib/Syntax/Keyword/Try.xs:130:7: warning: '(' and '{' tokens introducing statement expression appear in different macro expansion contexts [-Wcompound-token-split-by-macro]
EXTEND(SP, retcount);
^~~~~~~~~~~~~~~~~~~~
/Volumes/chambord/Users/ether/perl5/perlbrew/perls/34.1/lib/5.34.1/darwin-2level/CORE/pp.h:388:25: note: expanded from macro 'EXTEND'
# define EXTEND(p,n) STMT_START { \
^~~~~~~~~~
/Volumes/chambord/Users/ether/perl5/perlbrew/perls/34.1/lib/5.34.1/darwin-2level/CORE/perl.h:737:29: note: expanded from macro 'STMT_START'
# define STMT_START (void)( /* gcc supports "({ STATEMENTS; })" */
^
lib/Syntax/Keyword/Try.xs:130:7: note: '{' token is here
EXTEND(SP, retcount);
^~~~~~~~~~~~~~~~~~~~
/Volumes/chambord/Users/ether/perl5/perlbrew/perls/34.1/lib/5.34.1/darwin-2level/CORE/pp.h:388:36: note: expanded from macro 'EXTEND'
# define EXTEND(p,n) STMT_START { \
^
lib/Syntax/Keyword/Try.xs:130:7: warning: '}' and ')' tokens terminating statement expression appear in different macro expansion contexts [-Wcompound-token-split-by-macro]
EXTEND(SP, retcount);
^~~~~~~~~~~~~~~~~~~~
/Volumes/chambord/Users/ether/perl5/perlbrew/perls/34.1/lib/5.34.1/darwin-2level/CORE/pp.h:393:28: note: expanded from macro 'EXTEND'
} } STMT_END
^
lib/Syntax/Keyword/Try.xs:130:7: note: ')' token is here
EXTEND(SP, retcount);
^~~~~~~~~~~~~~~~~~~~
/Volumes/chambord/Users/ether/perl5/perlbrew/perls/34.1/lib/5.34.1/darwin-2level/CORE/pp.h:393:30: note: expanded from macro 'EXTEND'
} } STMT_END
^~~~~~~~
/Volumes/chambord/Users/ether/perl5/perlbrew/perls/34.1/lib/5.34.1/darwin-2level/CORE/perl.h:738:21: note: expanded from macro 'STMT_END'
# define STMT_END )
^
lib/Syntax/Keyword/Try.xs:152:3: warning: '(' and '{' tokens introducing statement expression appear in different macro expansion contexts [-Wcompound-token-split-by-macro]
PUSHMARK(SP);
^~~~~~~~~~~~
/Volumes/chambord/Users/ether/perl5/perlbrew/perls/34.1/lib/5.34.1/darwin-2level/CORE/pp.h:69:5: note: expanded from macro 'PUSHMARK'
STMT_START { \
^~~~~~~~~~
/Volumes/chambord/Users/ether/perl5/perlbrew/perls/34.1/lib/5.34.1/darwin-2level/CORE/perl.h:737:29: note: expanded from macro 'STMT_START'
# define STMT_START (void)( /* gcc supports "({ STATEMENTS; })" */
^
lib/Syntax/Keyword/Try.xs:152:3: note: '{' token is here
PUSHMARK(SP);
^~~~~~~~~~~~
/Volumes/chambord/Users/ether/perl5/perlbrew/perls/34.1/lib/5.34.1/darwin-2level/CORE/pp.h:69:16: note: expanded from macro 'PUSHMARK'
STMT_START { \
^
lib/Syntax/Keyword/Try.xs:152:3: warning: '}' and ')' tokens terminating statement expression appear in different macro expansion contexts [-Wcompound-token-split-by-macro]
PUSHMARK(SP);
^~~~~~~~~~~~
/Volumes/chambord/Users/ether/perl5/perlbrew/perls/34.1/lib/5.34.1/darwin-2level/CORE/pp.h:78:5: note: expanded from macro 'PUSHMARK'
} STMT_END
^
lib/Syntax/Keyword/Try.xs:152:3: note: ')' token is here
PUSHMARK(SP);
^~~~~~~~~~~~
/Volumes/chambord/Users/ether/perl5/perlbrew/perls/34.1/lib/5.34.1/darwin-2level/CORE/pp.h:78:7: note: expanded from macro 'PUSHMARK'
} STMT_END
^~~~~~~~
/Volumes/chambord/Users/ether/perl5/perlbrew/perls/34.1/lib/5.34.1/darwin-2level/CORE/perl.h:738:21: note: expanded from macro 'STMT_END'
# define STMT_END )
^
lib/Syntax/Keyword/Try.xs:614:3: warning: '(' and '{' tokens introducing statement expression appear in different macro expansion contexts [-Wcompound-token-split-by-macro]
XopENTRY_set(&xop_catch, xop_name, "catch");
^~~~~~~~~~~~~~~~~~~~~~~~~~~~~~~~~~~~~~~~~~~
/Volumes/chambord/Users/ether/perl5/perlbrew/perls/34.1/lib/5.34.1/darwin-2level/CORE/op.h:932:5: note: expanded from macro 'XopENTRY_set'
STMT_START { \
^~~~~~~~~~
/Volumes/chambord/Users/ether/perl5/perlbrew/perls/34.1/lib/5.34.1/darwin-2level/CORE/perl.h:737:29: note: expanded from macro 'STMT_START'
# define STMT_START (void)( /* gcc supports "({ STATEMENTS; })" */
^
lib/Syntax/Keyword/Try.xs:614:3: note: '{' token is here
XopENTRY_set(&xop_catch, xop_name, "catch");
^~~~~~~~~~~~~~~~~~~~~~~~~~~~~~~~~~~~~~~~~~~
/Volumes/chambord/Users/ether/perl5/perlbrew/perls/34.1/lib/5.34.1/darwin-2level/CORE/op.h:932:16: note: expanded from macro 'XopENTRY_set'
STMT_START { \
^
lib/Syntax/Keyword/Try.xs:614:3: warning: '}' and ')' tokens terminating statement expression appear in different macro expansion contexts [-Wcompound-token-split-by-macro]
XopENTRY_set(&xop_catch, xop_name, "catch");
^~~~~~~~~~~~~~~~~~~~~~~~~~~~~~~~~~~~~~~~~~~
/Volumes/chambord/Users/ether/perl5/perlbrew/perls/34.1/lib/5.34.1/darwin-2level/CORE/op.h:935:5: note: expanded from macro 'XopENTRY_set'
} STMT_END
^
lib/Syntax/Keyword/Try.xs:614:3: note: ')' token is here
XopENTRY_set(&xop_catch, xop_name, "catch");
^~~~~~~~~~~~~~~~~~~~~~~~~~~~~~~~~~~~~~~~~~~
/Volumes/chambord/Users/ether/perl5/perlbrew/perls/34.1/lib/5.34.1/darwin-2level/CORE/op.h:935:7: note: expanded from macro 'XopENTRY_set'
} STMT_END
^~~~~~~~
/Volumes/chambord/Users/ether/perl5/perlbrew/perls/34.1/lib/5.34.1/darwin-2level/CORE/perl.h:738:21: note: expanded from macro 'STMT_END'
# define STMT_END )
^
lib/Syntax/Keyword/Try.xs:615:3: warning: '(' and '{' tokens introducing statement expression appear in different macro expansion contexts [-Wcompound-token-split-by-macro]
XopENTRY_set(&xop_catch, xop_desc,
^~~~~~~~~~~~~~~~~~~~~~~~~~~~~~~~~~
/Volumes/chambord/Users/ether/perl5/perlbrew/perls/34.1/lib/5.34.1/darwin-2level/CORE/op.h:932:5: note: expanded from macro 'XopENTRY_set'
STMT_START { \
^~~~~~~~~~
/Volumes/chambord/Users/ether/perl5/perlbrew/perls/34.1/lib/5.34.1/darwin-2level/CORE/perl.h:737:29: note: expanded from macro 'STMT_START'
# define STMT_START (void)( /* gcc supports "({ STATEMENTS; })" */
^
lib/Syntax/Keyword/Try.xs:615:3: note: '{' token is here
XopENTRY_set(&xop_catch, xop_desc,
^~~~~~~~~~~~~~~~~~~~~~~~~~~~~~~~~~
/Volumes/chambord/Users/ether/perl5/perlbrew/perls/34.1/lib/5.34.1/darwin-2level/CORE/op.h:932:16: note: expanded from macro 'XopENTRY_set'
STMT_START { \
^
lib/Syntax/Keyword/Try.xs:615:3: warning: '}' and ')' tokens terminating statement expression appear in different macro expansion contexts [-Wcompound-token-split-by-macro]
XopENTRY_set(&xop_catch, xop_desc,
^~~~~~~~~~~~~~~~~~~~~~~~~~~~~~~~~~
/Volumes/chambord/Users/ether/perl5/perlbrew/perls/34.1/lib/5.34.1/darwin-2level/CORE/op.h:935:5: note: expanded from macro 'XopENTRY_set'
} STMT_END
^
lib/Syntax/Keyword/Try.xs:615:3: note: ')' token is here
XopENTRY_set(&xop_catch, xop_desc,
^~~~~~~~~~~~~~~~~~~~~~~~~~~~~~~~~~
/Volumes/chambord/Users/ether/perl5/perlbrew/perls/34.1/lib/5.34.1/darwin-2level/CORE/op.h:935:7: note: expanded from macro 'XopENTRY_set'
} STMT_END
^~~~~~~~
/Volumes/chambord/Users/ether/perl5/perlbrew/perls/34.1/lib/5.34.1/darwin-2level/CORE/perl.h:738:21: note: expanded from macro 'STMT_END'
# define STMT_END )
^
lib/Syntax/Keyword/Try.xs:617:3: warning: '(' and '{' tokens introducing statement expression appear in different macro expansion contexts [-Wcompound-token-split-by-macro]
XopENTRY_set(&xop_catch, xop_class, OA_LOGOP);
^~~~~~~~~~~~~~~~~~~~~~~~~~~~~~~~~~~~~~~~~~~~~
/Volumes/chambord/Users/ether/perl5/perlbrew/perls/34.1/lib/5.34.1/darwin-2level/CORE/op.h:932:5: note: expanded from macro 'XopENTRY_set'
STMT_START { \
^~~~~~~~~~
/Volumes/chambord/Users/ether/perl5/perlbrew/perls/34.1/lib/5.34.1/darwin-2level/CORE/perl.h:737:29: note: expanded from macro 'STMT_START'
# define STMT_START (void)( /* gcc supports "({ STATEMENTS; })" */
^
lib/Syntax/Keyword/Try.xs:617:3: note: '{' token is here
XopENTRY_set(&xop_catch, xop_class, OA_LOGOP);
^~~~~~~~~~~~~~~~~~~~~~~~~~~~~~~~~~~~~~~~~~~~~
/Volumes/chambord/Users/ether/perl5/perlbrew/perls/34.1/lib/5.34.1/darwin-2level/CORE/op.h:932:16: note: expanded from macro 'XopENTRY_set'
STMT_START { \
^
lib/Syntax/Keyword/Try.xs:617:3: warning: '}' and ')' tokens terminating statement expression appear in different macro expansion contexts [-Wcompound-token-split-by-macro]
XopENTRY_set(&xop_catch, xop_class, OA_LOGOP);
^~~~~~~~~~~~~~~~~~~~~~~~~~~~~~~~~~~~~~~~~~~~~
/Volumes/chambord/Users/ether/perl5/perlbrew/perls/34.1/lib/5.34.1/darwin-2level/CORE/op.h:935:5: note: expanded from macro 'XopENTRY_set'
} STMT_END
^
lib/Syntax/Keyword/Try.xs:617:3: note: ')' token is here
XopENTRY_set(&xop_catch, xop_class, OA_LOGOP);
^~~~~~~~~~~~~~~~~~~~~~~~~~~~~~~~~~~~~~~~~~~~~
/Volumes/chambord/Users/ether/perl5/perlbrew/perls/34.1/lib/5.34.1/darwin-2level/CORE/op.h:935:7: note: expanded from macro 'XopENTRY_set'
} STMT_END
^~~~~~~~
/Volumes/chambord/Users/ether/perl5/perlbrew/perls/34.1/lib/5.34.1/darwin-2level/CORE/perl.h:738:21: note: expanded from macro 'STMT_END'
# define STMT_END )
^
lib/Syntax/Keyword/Try.xs:620:3: warning: '(' and '{' tokens introducing statement expression appear in different macro expansion contexts [-Wcompound-token-split-by-macro]
XopENTRY_set(&xop_pushfinally, xop_name, "pushfinally");
^~~~~~~~~~~~~~~~~~~~~~~~~~~~~~~~~~~~~~~~~~~~~~~~~~~~~~~
/Volumes/chambord/Users/ether/perl5/perlbrew/perls/34.1/lib/5.34.1/darwin-2level/CORE/op.h:932:5: note: expanded from macro 'XopENTRY_set'
STMT_START { \
^~~~~~~~~~
/Volumes/chambord/Users/ether/perl5/perlbrew/perls/34.1/lib/5.34.1/darwin-2level/CORE/perl.h:737:29: note: expanded from macro 'STMT_START'
# define STMT_START (void)( /* gcc supports "({ STATEMENTS; })" */
^
lib/Syntax/Keyword/Try.xs:620:3: note: '{' token is here
XopENTRY_set(&xop_pushfinally, xop_name, "pushfinally");
^~~~~~~~~~~~~~~~~~~~~~~~~~~~~~~~~~~~~~~~~~~~~~~~~~~~~~~
/Volumes/chambord/Users/ether/perl5/perlbrew/perls/34.1/lib/5.34.1/darwin-2level/CORE/op.h:932:16: note: expanded from macro 'XopENTRY_set'
STMT_START { \
^
lib/Syntax/Keyword/Try.xs:620:3: warning: '}' and ')' tokens terminating statement expression appear in different macro expansion contexts [-Wcompound-token-split-by-macro]
XopENTRY_set(&xop_pushfinally, xop_name, "pushfinally");
^~~~~~~~~~~~~~~~~~~~~~~~~~~~~~~~~~~~~~~~~~~~~~~~~~~~~~~
/Volumes/chambord/Users/ether/perl5/perlbrew/perls/34.1/lib/5.34.1/darwin-2level/CORE/op.h:935:5: note: expanded from macro 'XopENTRY_set'
} STMT_END
^
lib/Syntax/Keyword/Try.xs:620:3: note: ')' token is here
XopENTRY_set(&xop_pushfinally, xop_name, "pushfinally");
^~~~~~~~~~~~~~~~~~~~~~~~~~~~~~~~~~~~~~~~~~~~~~~~~~~~~~~
/Volumes/chambord/Users/ether/perl5/perlbrew/perls/34.1/lib/5.34.1/darwin-2level/CORE/op.h:935:7: note: expanded from macro 'XopENTRY_set'
} STMT_END
^~~~~~~~
/Volumes/chambord/Users/ether/perl5/perlbrew/perls/34.1/lib/5.34.1/darwin-2level/CORE/perl.h:738:21: note: expanded from macro 'STMT_END'
# define STMT_END )
^
lib/Syntax/Keyword/Try.xs:621:3: warning: '(' and '{' tokens introducing statement expression appear in different macro expansion contexts [-Wcompound-token-split-by-macro]
XopENTRY_set(&xop_pushfinally, xop_desc,
^~~~~~~~~~~~~~~~~~~~~~~~~~~~~~~~~~~~~~~~
/Volumes/chambord/Users/ether/perl5/perlbrew/perls/34.1/lib/5.34.1/darwin-2level/CORE/op.h:932:5: note: expanded from macro 'XopENTRY_set'
STMT_START { \
^~~~~~~~~~
/Volumes/chambord/Users/ether/perl5/perlbrew/perls/34.1/lib/5.34.1/darwin-2level/CORE/perl.h:737:29: note: expanded from macro 'STMT_START'
# define STMT_START (void)( /* gcc supports "({ STATEMENTS; })" */
^
lib/Syntax/Keyword/Try.xs:621:3: note: '{' token is here
XopENTRY_set(&xop_pushfinally, xop_desc,
^~~~~~~~~~~~~~~~~~~~~~~~~~~~~~~~~~~~~~~~
/Volumes/chambord/Users/ether/perl5/perlbrew/perls/34.1/lib/5.34.1/darwin-2level/CORE/op.h:932:16: note: expanded from macro 'XopENTRY_set'
STMT_START { \
^
lib/Syntax/Keyword/Try.xs:621:3: warning: '}' and ')' tokens terminating statement expression appear in different macro expansion contexts [-Wcompound-token-split-by-macro]
XopENTRY_set(&xop_pushfinally, xop_desc,
^~~~~~~~~~~~~~~~~~~~~~~~~~~~~~~~~~~~~~~~
/Volumes/chambord/Users/ether/perl5/perlbrew/perls/34.1/lib/5.34.1/darwin-2level/CORE/op.h:935:5: note: expanded from macro 'XopENTRY_set'
} STMT_END
^
lib/Syntax/Keyword/Try.xs:621:3: note: ')' token is here
XopENTRY_set(&xop_pushfinally, xop_desc,
^~~~~~~~~~~~~~~~~~~~~~~~~~~~~~~~~~~~~~~~
/Volumes/chambord/Users/ether/perl5/perlbrew/perls/34.1/lib/5.34.1/darwin-2level/CORE/op.h:935:7: note: expanded from macro 'XopENTRY_set'
} STMT_END
^~~~~~~~
/Volumes/chambord/Users/ether/perl5/perlbrew/perls/34.1/lib/5.34.1/darwin-2level/CORE/perl.h:738:21: note: expanded from macro 'STMT_END'
# define STMT_END )
^
lib/Syntax/Keyword/Try.xs:623:3: warning: '(' and '{' tokens introducing statement expression appear in different macro expansion contexts [-Wcompound-token-split-by-macro]
XopENTRY_set(&xop_pushfinally, xop_class, OA_SVOP);
^~~~~~~~~~~~~~~~~~~~~~~~~~~~~~~~~~~~~~~~~~~~~~~~~~
/Volumes/chambord/Users/ether/perl5/perlbrew/perls/34.1/lib/5.34.1/darwin-2level/CORE/op.h:932:5: note: expanded from macro 'XopENTRY_set'
STMT_START { \
^~~~~~~~~~
/Volumes/chambord/Users/ether/perl5/perlbrew/perls/34.1/lib/5.34.1/darwin-2level/CORE/perl.h:737:29: note: expanded from macro 'STMT_START'
# define STMT_START (void)( /* gcc supports "({ STATEMENTS; })" */
^
lib/Syntax/Keyword/Try.xs:623:3: note: '{' token is here
XopENTRY_set(&xop_pushfinally, xop_class, OA_SVOP);
^~~~~~~~~~~~~~~~~~~~~~~~~~~~~~~~~~~~~~~~~~~~~~~~~~
/Volumes/chambord/Users/ether/perl5/perlbrew/perls/34.1/lib/5.34.1/darwin-2level/CORE/op.h:932:16: note: expanded from macro 'XopENTRY_set'
STMT_START { \
^
lib/Syntax/Keyword/Try.xs:623:3: warning: '}' and ')' tokens terminating statement expression appear in different macro expansion contexts [-Wcompound-token-split-by-macro]
XopENTRY_set(&xop_pushfinally, xop_class, OA_SVOP);
^~~~~~~~~~~~~~~~~~~~~~~~~~~~~~~~~~~~~~~~~~~~~~~~~~
/Volumes/chambord/Users/ether/perl5/perlbrew/perls/34.1/lib/5.34.1/darwin-2level/CORE/op.h:935:5: note: expanded from macro 'XopENTRY_set'
} STMT_END
^
lib/Syntax/Keyword/Try.xs:623:3: note: ')' token is here
XopENTRY_set(&xop_pushfinally, xop_class, OA_SVOP);
^~~~~~~~~~~~~~~~~~~~~~~~~~~~~~~~~~~~~~~~~~~~~~~~~~
/Volumes/chambord/Users/ether/perl5/perlbrew/perls/34.1/lib/5.34.1/darwin-2level/CORE/op.h:935:7: note: expanded from macro 'XopENTRY_set'
} STMT_END
^~~~~~~~
/Volumes/chambord/Users/ether/perl5/perlbrew/perls/34.1/lib/5.34.1/darwin-2level/CORE/perl.h:738:21: note: expanded from macro 'STMT_END'
# define STMT_END )
^
110 warnings generated.
ExtUtils::Mkbootstrap::Mkbootstrap('blib/arch/auto/Syntax/Keyword/Try/Try.bs')
cc -mmacosx-version-min=13.1 -bundle -undefined dynamic_lookup -L/opt/local/lib -fstack-protector-strong -o blib/arch/auto/Syntax/Keyword/Try/Try.bundle lib/Syntax/Keyword/Try.o
ld: warning: -undefined dynamic_lookup may not work with chained fixups
t/00use.t .............. ok
t/03trycatchfinally.t .. ok
t/10snail.t ............ ok
t/04catch-types.t ...... ok
t/02tryfinally.t ....... ok
t/01trycatch.t ......... ok
t/11loop.t ............. ok
t/12return.t ........... ok
t/13die-in-finally.t ... ok
t/14try-localises.t .... ok
t/16final-expr.t ....... ok
t/15context.t .......... ok
t/30compat.t ........... ok
t/80defer+SKT.t ........ skipped: Syntax::Keyword::Defer >= 0.02 is not available
t/80await+SKT.t ........ skipped: Future is not available
t/90rt123547.t ......... skipped: threads are not supported
t/70deparse.t .......... ok
t/90rt125971.t ......... ok
t/99pod.t .............. ok
All tests successful.
Files=19, Tests=66, 1 wallclock secs ( 0.02 usr 0.02 sys + 0.48 cusr 0.16 csys = 0.68 CPU)
Result: PASS
------------------------------
PREREQUISITES
------------------------------
Prerequisite modules loaded:
No requirements found
------------------------------
ENVIRONMENT AND OTHER CONTEXT
------------------------------
Environment variables:
HARNESS_OPTIONS = j6:c
LANG = en_CA.UTF-8
NO_NETWORK_TESTING = 1
PATH = /Volumes/chambord/Users/ether/.perlbrew/libs/34.1@std/bin:/Volumes/chambord/Users/ether/perl5/perlbrew/bin:/Volumes/chambord/Users/ether/perl5/perlbrew/perls/34.1/bin:/Volumes/chambord/Users/ether/bin:/Volumes/chambord/Users/ether/git/misc/install/advocaat.local/bin:/Volumes/chambord/Users/ether/git/misc/install/generic/bin:/opt/local/bin:/opt/local/sbin:/Volumes/chambord/Users/ether/git/git-hub/lib:/usr/local/bin:/System/Cryptexes/App/usr/bin:/usr/bin:/bin:/usr/sbin:/sbin:/Library/Apple/usr/bin:/opt/local/share/git-core/contrib/workdir
PERL5LIB = /Volumes/chambord/Users/ether/.perlbrew/libs/34.1@std/lib/perl5
PERLBREW_HOME = /Volumes/chambord/Users/ether/.perlbrew
PERLBREW_LIB = std
PERLBREW_MANPATH = /Volumes/chambord/Users/ether/.perlbrew/libs/34.1@std/man:/Volumes/chambord/Users/ether/perl5/perlbrew/perls/34.1/man
PERLBREW_PATH = /Volumes/chambord/Users/ether/.perlbrew/libs/34.1@std/bin:/Volumes/chambord/Users/ether/perl5/perlbrew/bin:/Volumes/chambord/Users/ether/perl5/perlbrew/perls/34.1/bin
PERLBREW_PERL = 34.1
PERLBREW_ROOT = /Volumes/chambord/Users/ether/perl5/perlbrew
PERLBREW_SHELLRC_VERSION = 0.96
PERLBREW_VERSION = 0.96
PERLDOC = -oman
PERLDOC_PAGER = less -sicMr
PERL_AUTOINSTALL_PREFER_CPAN = 1
PERL_INSTALL_QUIET = 1
PERL_LOCAL_LIB_ROOT = /Volumes/chambord/Users/ether/.perlbrew/libs/34.1@std
PERL_MB_OPT = --install_base /Volumes/chambord/Users/ether/.perlbrew/libs/34.1@std
PERL_MM_OPT = INSTALL_BASE=/Volumes/chambord/Users/ether/.perlbrew/libs/34.1@std
PERL_TEST_HARNESS_ASAP = 1
PERL_USE_UNSAFE_INC = 0
SHELL = /bin/bash
TERM = xterm-color
Perl special variables (and OS-specific diagnostics, for MSWin32):
EGID = 20 20 12 61 79 80 81 98 701 704 703 702 33 100 204 250 395
EUID = 502
EXECUTABLE_NAME = /Volumes/chambord/Users/ether/perl5/perlbrew/perls/34.1/bin/perl
GID = 20 20 12 61 79 80 81 98 701 704 703 702 33 100 204 250 395
UID = 502
Perl module toolchain versions installed:
Module Have
------------------- --------
CPAN 2.28
CPAN::Meta 2.150010
Cwd 3.80
ExtUtils::CBuilder 0.280236
ExtUtils::Command 7.62
ExtUtils::Install 2.20
ExtUtils::MakeMaker 7.62
ExtUtils::Manifest 1.73
ExtUtils::ParseXS 3.43
File::Spec 3.80
JSON n/a
JSON::PP 4.06
Module::Build 0.4232
Module::Signature n/a
Parse::CPAN::Meta 2.150010
Test::Harness 3.43
Test::More 1.302183
YAML n/a
YAML::Syck n/a
version 0.9928
--
Summary of my perl5 (revision 5 version 34 subversion 1) configuration:
Platform:
osname=darwin
osvers=22.2.0
archname=darwin-2level
uname='darwin advocaat.local 22.2.0 darwin kernel version 22.2.0: fri nov 11 02:06:26 pst 2022; root:xnu-8792.61.2~4release_arm64_t8112 arm64 '
config_args='-de -Dprefix=/Volumes/chambord/Users/ether/perl5/perlbrew/perls/34.1 -Dman1dir=none -Dman3dir=none -Aeval:scriptdir=/Volumes/chambord/Users/ether/perl5/perlbrew/perls/34.1/bin'
hint=recommended
useposix=true
d_sigaction=define
useithreads=undef
usemultiplicity=undef
use64bitint=define
use64bitall=define
uselongdouble=undef
usemymalloc=n
default_inc_excludes_dot=define
Compiler:
cc='cc'
ccflags ='-fno-common -DPERL_DARWIN -mmacosx-version-min=13.1 -fno-strict-aliasing -pipe -fstack-protector-strong -I/opt/local/include -DPERL_USE_SAFE_PUTENV'
optimize='-O3'
cppflags='-fno-common -DPERL_DARWIN -mmacosx-version-min=13.1 -fno-strict-aliasing -pipe -fstack-protector-strong -I/opt/local/include'
ccversion=''
gccversion='Apple LLVM 14.0.0 (clang-1400.0.29.202)'
gccosandvers=''
intsize=4
longsize=8
ptrsize=8
doublesize=8
byteorder=12345678
doublekind=3
d_longlong=define
longlongsize=8
d_longdbl=define
longdblsize=8
longdblkind=0
ivtype='long'
ivsize=8
nvtype='double'
nvsize=8
Off_t='off_t'
lseeksize=8
alignbytes=8
prototype=define
Linker and Libraries:
ld='cc'
ldflags =' -mmacosx-version-min=13.1 -fstack-protector-strong -L/opt/local/lib'
libpth=/Applications/Xcode.app/Contents/Developer/Toolchains/XcodeDefault.xctoolchain/usr/lib/clang/14.0.0/lib /Applications/Xcode.app/Contents/Developer/Platforms/MacOSX.platform/Developer/SDKs/MacOSX.sdk/usr/lib /Applications/Xcode.app/Contents/Developer/Toolchains/XcodeDefault.xctoolchain/usr/lib /opt/local/lib /usr/lib
libs=-lgdbm
perllibs=
libc=
so=dylib
useshrplib=false
libperl=libperl.a
gnulibc_version=''
Dynamic Linking:
dlsrc=dl_dlopen.xs
dlext=bundle
d_dlsymun=undef
ccdlflags=' '
cccdlflags=' '
lddlflags=' -mmacosx-version-min=13.1 -bundle -undefined dynamic_lookup -L/opt/local/lib -fstack-protector-strong'
Characteristics of this binary (from libperl):
Compile-time options:
HAS_TIMES
PERLIO_LAYERS
PERL_COPY_ON_WRITE
PERL_DONT_CREATE_GVSV
PERL_MALLOC_WRAP
PERL_OP_PARENT
PERL_PRESERVE_IVUV
PERL_USE_SAFE_PUTENV
USE_64_BIT_ALL
USE_64_BIT_INT
USE_LARGE_FILES
USE_LOCALE
USE_LOCALE_COLLATE
USE_LOCALE_CTYPE
USE_LOCALE_NUMERIC
USE_LOCALE_TIME
USE_PERLIO
USE_PERL_ATOF
Built under darwin
Compiled at Dec 20 2022 20:01:45
%ENV:
PERL5LIB="/Volumes/chambord/Users/ether/.perlbrew/libs/34.1@std/lib/perl5"
PERLBREW_HOME="/Volumes/chambord/Users/ether/.perlbrew"
PERLBREW_LIB="std"
PERLBREW_MANPATH="/Volumes/chambord/Users/ether/.perlbrew/libs/34.1@std/man:/Volumes/chambord/Users/ether/perl5/perlbrew/perls/34.1/man"
PERLBREW_PATH="/Volumes/chambord/Users/ether/.perlbrew/libs/34.1@std/bin:/Volumes/chambord/Users/ether/perl5/perlbrew/bin:/Volumes/chambord/Users/ether/perl5/perlbrew/perls/34.1/bin"
PERLBREW_PERL="34.1"
PERLBREW_ROOT="/Volumes/chambord/Users/ether/perl5/perlbrew"
PERLBREW_SHELLRC_VERSION="0.96"
PERLBREW_VERSION="0.96"
PERLDOC="-oman"
PERLDOC_PAGER="less -sicMr"
PERL_AUTOINSTALL_PREFER_CPAN="1"
PERL_INSTALL_QUIET="1"
PERL_LOCAL_LIB_ROOT="/Volumes/chambord/Users/ether/.perlbrew/libs/34.1@std"
PERL_MB_OPT="--install_base /Volumes/chambord/Users/ether/.perlbrew/libs/34.1@std"
PERL_MM_OPT="INSTALL_BASE=/Volumes/chambord/Users/ether/.perlbrew/libs/34.1@std"
PERL_TEST_HARNESS_ASAP="1"
PERL_USE_UNSAFE_INC="0"
@INC:
/Volumes/chambord/Users/ether/.perlbrew/libs/34.1@std/lib/perl5/5.34.1
/Volumes/chambord/Users/ether/.perlbrew/libs/34.1@std/lib/perl5/darwin-2level
/Volumes/chambord/Users/ether/.perlbrew/libs/34.1@std/lib/perl5
/Volumes/chambord/Users/ether/perl5/perlbrew/perls/34.1/lib/site_perl/5.34.1/darwin-2level
/Volumes/chambord/Users/ether/perl5/perlbrew/perls/34.1/lib/site_perl/5.34.1
/Volumes/chambord/Users/ether/perl5/perlbrew/perls/34.1/lib/5.34.1/darwin-2level
/Volumes/chambord/Users/ether/perl5/perlbrew/perls/34.1/lib/5.34.1