Module-Build v0.42_35 Perl 5 v5.12.0 amd64-freebsd

Status
Pass
From
Bartosz Jarzyna
Dist
Module-Build v0.42_35
Platform
Perl 5 v5.12.0 amd64-freebsd
Date
2023-08-13 02:50:00
ID
18823730-3984-11ee-91c5-8727616c60e5
This distribution has been tested as part of the CPAN Testers
project, supporting the Perl programming language.  See
http://wiki.cpantesters.org/ for more information or email
questions to cpan-testers-discuss@perl.org


--
Dear Leon Timmermans,

This is a computer-generated report for Module-Build-0.42_35
on perl 5.12.0, created by CPAN-Reporter-1.2018.

Thank you for uploading your work to CPAN.  Congratulations!
All tests were successful.

Sections of this report:

    * Tester comments
    * Program output
    * Prerequisites
    * Environment and other context

------------------------------
TESTER COMMENTS
------------------------------

Additional comments from tester:

this report is from an automated smoke testing program
and was not reviewed by a human for accuracy

------------------------------
PROGRAM OUTPUT
------------------------------

Output from './Build test':

t/00-compile.t ................. ok
t/PL_files.t ................... ok
t/actions/installdeps.t ........ ok
t/actions/manifest_skip.t ...... ok
t/add_property.t ............... ok
t/add_property_array.t ......... ok
t/add_property_hash.t .......... ok
t/basic.t ...................... ok
t/bundle_inc.t ................. skipped: $ENV{MB_TEST_EXPERIMENTAL} is not set
t/compat.t ..................... ok
t/compat/exit.t ................ ok
t/debug.t ...................... ok
t/destinations.t ............... ok
t/ext.t ........................ ok
t/extend.t ..................... ok
t/files.t ...................... ok
t/help.t ....................... ok
t/install.t .................... ok
t/install_extra_target.t ....... ok
t/manifypods.t ................. ok
t/manifypods_with_utf8.t ....... ok
t/metadata.t ................... ok
t/metadata2.t .................. ok
t/mymeta.t ..................... ok
t/new_from_context.t ........... ok
t/notes.t ...................... ok
t/par.t ........................ skipped: PAR::Dist 0.17 or up not installed to check .par's.
t/parents.t .................... ok
t/perl_mb_opt.t ................ ok
t/pod_parser.t ................. ok
lib/Simple.c:86:5: warning: '(' and '{' tokens introducing statement expression appear in different macro expansion contexts [-Wcompound-token-split-by-macro]
    XSRETURN(1);
    ^~~~~~~~~~~
/home/smoker12/perl5/perlbrew/perls/perl-5.12.0/lib/5.12.0/amd64-freebsd/CORE/XSUB.h:278:5: note: expanded from macro 'XSRETURN'
    STMT_START {                                        \
    ^~~~~~~~~~
/home/smoker12/perl5/perlbrew/perls/perl-5.12.0/lib/5.12.0/amd64-freebsd/CORE/perl.h:459:29: note: expanded from macro 'STMT_START'
#   define STMT_START   (void)( /* gcc supports "({ STATEMENTS; })" */
                              ^
lib/Simple.c:86:5: note: '{' token is here
    XSRETURN(1);
    ^~~~~~~~~~~
/home/smoker12/perl5/perlbrew/perls/perl-5.12.0/lib/5.12.0/amd64-freebsd/CORE/XSUB.h:278:16: note: expanded from macro 'XSRETURN'
    STMT_START {                                        \
               ^
lib/Simple.c:86:5: warning: '}' and ')' tokens terminating statement expression appear in different macro expansion contexts [-Wcompound-token-split-by-macro]
    XSRETURN(1);
    ^~~~~~~~~~~
/home/smoker12/perl5/perlbrew/perls/perl-5.12.0/lib/5.12.0/amd64-freebsd/CORE/XSUB.h:282:5: note: expanded from macro 'XSRETURN'
    } STMT_END
    ^
lib/Simple.c:86:5: note: ')' token is here
    XSRETURN(1);
    ^~~~~~~~~~~
/home/smoker12/perl5/perlbrew/perls/perl-5.12.0/lib/5.12.0/amd64-freebsd/CORE/XSUB.h:282:7: note: expanded from macro 'XSRETURN'
    } STMT_END
      ^~~~~~~~
/home/smoker12/perl5/perlbrew/perls/perl-5.12.0/lib/5.12.0/amd64-freebsd/CORE/perl.h:460:21: note: expanded from macro 'STMT_END'
#   define STMT_END     )
                        ^
lib/Simple.c:106:37: warning: '(' and '{' tokens introducing statement expression appear in different macro expansion contexts [-Wcompound-token-split-by-macro]
        sv_setpv(TARG, RETVAL); XSprePUSH; PUSHTARG;
                                           ^~~~~~~~
/home/smoker12/perl5/perlbrew/perls/perl-5.12.0/lib/5.12.0/amd64-freebsd/CORE/pp.h:292:18: note: expanded from macro 'PUSHTARG'
#define PUSHTARG        STMT_START { SvSETMAGIC(TARG); PUSHs(TARG); } STMT_END
                        ^~~~~~~~~~
/home/smoker12/perl5/perlbrew/perls/perl-5.12.0/lib/5.12.0/amd64-freebsd/CORE/perl.h:459:29: note: expanded from macro 'STMT_START'
#   define STMT_START   (void)( /* gcc supports "({ STATEMENTS; })" */
                              ^
lib/Simple.c:106:37: note: '{' token is here
        sv_setpv(TARG, RETVAL); XSprePUSH; PUSHTARG;
                                           ^~~~~~~~
/home/smoker12/perl5/perlbrew/perls/perl-5.12.0/lib/5.12.0/amd64-freebsd/CORE/pp.h:292:29: note: expanded from macro 'PUSHTARG'
#define PUSHTARG        STMT_START { SvSETMAGIC(TARG); PUSHs(TARG); } STMT_END
                                   ^
lib/Simple.c:106:37: warning: '(' and '{' tokens introducing statement expression appear in different macro expansion contexts [-Wcompound-token-split-by-macro]
        sv_setpv(TARG, RETVAL); XSprePUSH; PUSHTARG;
                                           ^~~~~~~~
/home/smoker12/perl5/perlbrew/perls/perl-5.12.0/lib/5.12.0/amd64-freebsd/CORE/pp.h:292:31: note: expanded from macro 'PUSHTARG'
#define PUSHTARG        STMT_START { SvSETMAGIC(TARG); PUSHs(TARG); } STMT_END
                                     ^~~~~~~~~~~~~~~~
/home/smoker12/perl5/perlbrew/perls/perl-5.12.0/lib/5.12.0/amd64-freebsd/CORE/sv.h:1864:23: note: expanded from macro 'SvSETMAGIC'
#define SvSETMAGIC(x) STMT_START { if (SvSMAGICAL(x)) mg_set(x); } STMT_END
                      ^~~~~~~~~~
/home/smoker12/perl5/perlbrew/perls/perl-5.12.0/lib/5.12.0/amd64-freebsd/CORE/perl.h:459:29: note: expanded from macro 'STMT_START'
#   define STMT_START   (void)( /* gcc supports "({ STATEMENTS; })" */
                              ^
lib/Simple.c:106:37: note: '{' token is here
        sv_setpv(TARG, RETVAL); XSprePUSH; PUSHTARG;
                                           ^~~~~~~~
/home/smoker12/perl5/perlbrew/perls/perl-5.12.0/lib/5.12.0/amd64-freebsd/CORE/pp.h:292:31: note: expanded from macro 'PUSHTARG'
#define PUSHTARG        STMT_START { SvSETMAGIC(TARG); PUSHs(TARG); } STMT_END
                                     ^~~~~~~~~~~~~~~~
/home/smoker12/perl5/perlbrew/perls/perl-5.12.0/lib/5.12.0/amd64-freebsd/CORE/sv.h:1864:34: note: expanded from macro 'SvSETMAGIC'
#define SvSETMAGIC(x) STMT_START { if (SvSMAGICAL(x)) mg_set(x); } STMT_END
                                 ^
lib/Simple.c:106:37: warning: '}' and ')' tokens terminating statement expression appear in different macro expansion contexts [-Wcompound-token-split-by-macro]
        sv_setpv(TARG, RETVAL); XSprePUSH; PUSHTARG;
                                           ^~~~~~~~
/home/smoker12/perl5/perlbrew/perls/perl-5.12.0/lib/5.12.0/amd64-freebsd/CORE/pp.h:292:31: note: expanded from macro 'PUSHTARG'
#define PUSHTARG        STMT_START { SvSETMAGIC(TARG); PUSHs(TARG); } STMT_END
                                     ^~~~~~~~~~~~~~~~
/home/smoker12/perl5/perlbrew/perls/perl-5.12.0/lib/5.12.0/amd64-freebsd/CORE/sv.h:1864:66: note: expanded from macro 'SvSETMAGIC'
#define SvSETMAGIC(x) STMT_START { if (SvSMAGICAL(x)) mg_set(x); } STMT_END
                                                                 ^
lib/Simple.c:106:37: note: ')' token is here
        sv_setpv(TARG, RETVAL); XSprePUSH; PUSHTARG;
                                           ^~~~~~~~
/home/smoker12/perl5/perlbrew/perls/perl-5.12.0/lib/5.12.0/amd64-freebsd/CORE/pp.h:292:31: note: expanded from macro 'PUSHTARG'
#define PUSHTARG        STMT_START { SvSETMAGIC(TARG); PUSHs(TARG); } STMT_END
                                     ^~~~~~~~~~~~~~~~
/home/smoker12/perl5/perlbrew/perls/perl-5.12.0/lib/5.12.0/amd64-freebsd/CORE/sv.h:1864:68: note: expanded from macro 'SvSETMAGIC'
#define SvSETMAGIC(x) STMT_START { if (SvSMAGICAL(x)) mg_set(x); } STMT_END
                                                                   ^~~~~~~~
/home/smoker12/perl5/perlbrew/perls/perl-5.12.0/lib/5.12.0/amd64-freebsd/CORE/perl.h:460:21: note: expanded from macro 'STMT_END'
#   define STMT_END     )
                        ^
lib/Simple.c:106:37: warning: '}' and ')' tokens terminating statement expression appear in different macro expansion contexts [-Wcompound-token-split-by-macro]
        sv_setpv(TARG, RETVAL); XSprePUSH; PUSHTARG;
                                           ^~~~~~~~
/home/smoker12/perl5/perlbrew/perls/perl-5.12.0/lib/5.12.0/amd64-freebsd/CORE/pp.h:292:62: note: expanded from macro 'PUSHTARG'
#define PUSHTARG        STMT_START { SvSETMAGIC(TARG); PUSHs(TARG); } STMT_END
                                                                    ^
lib/Simple.c:106:37: note: ')' token is here
        sv_setpv(TARG, RETVAL); XSprePUSH; PUSHTARG;
                                           ^~~~~~~~
/home/smoker12/perl5/perlbrew/perls/perl-5.12.0/lib/5.12.0/amd64-freebsd/CORE/pp.h:292:64: note: expanded from macro 'PUSHTARG'
#define PUSHTARG        STMT_START { SvSETMAGIC(TARG); PUSHs(TARG); } STMT_END
                                                                      ^~~~~~~~
/home/smoker12/perl5/perlbrew/perls/perl-5.12.0/lib/5.12.0/amd64-freebsd/CORE/perl.h:460:21: note: expanded from macro 'STMT_END'
#   define STMT_END     )
                        ^
lib/Simple.c:108:5: warning: '(' and '{' tokens introducing statement expression appear in different macro expansion contexts [-Wcompound-token-split-by-macro]
    XSRETURN(1);
    ^~~~~~~~~~~
/home/smoker12/perl5/perlbrew/perls/perl-5.12.0/lib/5.12.0/amd64-freebsd/CORE/XSUB.h:278:5: note: expanded from macro 'XSRETURN'
    STMT_START {                                        \
    ^~~~~~~~~~
/home/smoker12/perl5/perlbrew/perls/perl-5.12.0/lib/5.12.0/amd64-freebsd/CORE/perl.h:459:29: note: expanded from macro 'STMT_START'
#   define STMT_START   (void)( /* gcc supports "({ STATEMENTS; })" */
                              ^
lib/Simple.c:108:5: note: '{' token is here
    XSRETURN(1);
    ^~~~~~~~~~~
/home/smoker12/perl5/perlbrew/perls/perl-5.12.0/lib/5.12.0/amd64-freebsd/CORE/XSUB.h:278:16: note: expanded from macro 'XSRETURN'
    STMT_START {                                        \
               ^
lib/Simple.c:108:5: warning: '}' and ')' tokens terminating statement expression appear in different macro expansion contexts [-Wcompound-token-split-by-macro]
    XSRETURN(1);
    ^~~~~~~~~~~
/home/smoker12/perl5/perlbrew/perls/perl-5.12.0/lib/5.12.0/amd64-freebsd/CORE/XSUB.h:282:5: note: expanded from macro 'XSRETURN'
    } STMT_END
    ^
lib/Simple.c:108:5: note: ')' token is here
    XSRETURN(1);
    ^~~~~~~~~~~
/home/smoker12/perl5/perlbrew/perls/perl-5.12.0/lib/5.12.0/amd64-freebsd/CORE/XSUB.h:282:7: note: expanded from macro 'XSRETURN'
    } STMT_END
      ^~~~~~~~
/home/smoker12/perl5/perlbrew/perls/perl-5.12.0/lib/5.12.0/amd64-freebsd/CORE/perl.h:460:21: note: expanded from macro 'STMT_END'
#   define STMT_END     )
                        ^
lib/Simple.c:128:37: warning: '(' and '{' tokens introducing statement expression appear in different macro expansion contexts [-Wcompound-token-split-by-macro]
        sv_setpv(TARG, RETVAL); XSprePUSH; PUSHTARG;
                                           ^~~~~~~~
/home/smoker12/perl5/perlbrew/perls/perl-5.12.0/lib/5.12.0/amd64-freebsd/CORE/pp.h:292:18: note: expanded from macro 'PUSHTARG'
#define PUSHTARG        STMT_START { SvSETMAGIC(TARG); PUSHs(TARG); } STMT_END
                        ^~~~~~~~~~
/home/smoker12/perl5/perlbrew/perls/perl-5.12.0/lib/5.12.0/amd64-freebsd/CORE/perl.h:459:29: note: expanded from macro 'STMT_START'
#   define STMT_START   (void)( /* gcc supports "({ STATEMENTS; })" */
                              ^
lib/Simple.c:128:37: note: '{' token is here
        sv_setpv(TARG, RETVAL); XSprePUSH; PUSHTARG;
                                           ^~~~~~~~
/home/smoker12/perl5/perlbrew/perls/perl-5.12.0/lib/5.12.0/amd64-freebsd/CORE/pp.h:292:29: note: expanded from macro 'PUSHTARG'
#define PUSHTARG        STMT_START { SvSETMAGIC(TARG); PUSHs(TARG); } STMT_END
                                   ^
lib/Simple.c:128:37: warning: '(' and '{' tokens introducing statement expression appear in different macro expansion contexts [-Wcompound-token-split-by-macro]
        sv_setpv(TARG, RETVAL); XSprePUSH; PUSHTARG;
                                           ^~~~~~~~
/home/smoker12/perl5/perlbrew/perls/perl-5.12.0/lib/5.12.0/amd64-freebsd/CORE/pp.h:292:31: note: expanded from macro 'PUSHTARG'
#define PUSHTARG        STMT_START { SvSETMAGIC(TARG); PUSHs(TARG); } STMT_END
                                     ^~~~~~~~~~~~~~~~
/home/smoker12/perl5/perlbrew/perls/perl-5.12.0/lib/5.12.0/amd64-freebsd/CORE/sv.h:1864:23: note: expanded from macro 'SvSETMAGIC'
#define SvSETMAGIC(x) STMT_START { if (SvSMAGICAL(x)) mg_set(x); } STMT_END
                      ^~~~~~~~~~
/home/smoker12/perl5/perlbrew/perls/perl-5.12.0/lib/5.12.0/amd64-freebsd/CORE/perl.h:459:29: note: expanded from macro 'STMT_START'
#   define STMT_START   (void)( /* gcc supports "({ STATEMENTS; })" */
                              ^
lib/Simple.c:128:37: note: '{' token is here
        sv_setpv(TARG, RETVAL); XSprePUSH; PUSHTARG;
                                           ^~~~~~~~
/home/smoker12/perl5/perlbrew/perls/perl-5.12.0/lib/5.12.0/amd64-freebsd/CORE/pp.h:292:31: note: expanded from macro 'PUSHTARG'
#define PUSHTARG        STMT_START { SvSETMAGIC(TARG); PUSHs(TARG); } STMT_END
                                     ^~~~~~~~~~~~~~~~
/home/smoker12/perl5/perlbrew/perls/perl-5.12.0/lib/5.12.0/amd64-freebsd/CORE/sv.h:1864:34: note: expanded from macro 'SvSETMAGIC'
#define SvSETMAGIC(x) STMT_START { if (SvSMAGICAL(x)) mg_set(x); } STMT_END
                                 ^
lib/Simple.c:128:37: warning: '}' and ')' tokens terminating statement expression appear in different macro expansion contexts [-Wcompound-token-split-by-macro]
        sv_setpv(TARG, RETVAL); XSprePUSH; PUSHTARG;
                                           ^~~~~~~~
/home/smoker12/perl5/perlbrew/perls/perl-5.12.0/lib/5.12.0/amd64-freebsd/CORE/pp.h:292:31: note: expanded from macro 'PUSHTARG'
#define PUSHTARG        STMT_START { SvSETMAGIC(TARG); PUSHs(TARG); } STMT_END
                                     ^~~~~~~~~~~~~~~~
/home/smoker12/perl5/perlbrew/perls/perl-5.12.0/lib/5.12.0/amd64-freebsd/CORE/sv.h:1864:66: note: expanded from macro 'SvSETMAGIC'
#define SvSETMAGIC(x) STMT_START { if (SvSMAGICAL(x)) mg_set(x); } STMT_END
                                                                 ^
lib/Simple.c:128:37: note: ')' token is here
        sv_setpv(TARG, RETVAL); XSprePUSH; PUSHTARG;
                                           ^~~~~~~~
/home/smoker12/perl5/perlbrew/perls/perl-5.12.0/lib/5.12.0/amd64-freebsd/CORE/pp.h:292:31: note: expanded from macro 'PUSHTARG'
#define PUSHTARG        STMT_START { SvSETMAGIC(TARG); PUSHs(TARG); } STMT_END
                                     ^~~~~~~~~~~~~~~~
/home/smoker12/perl5/perlbrew/perls/perl-5.12.0/lib/5.12.0/amd64-freebsd/CORE/sv.h:1864:68: note: expanded from macro 'SvSETMAGIC'
#define SvSETMAGIC(x) STMT_START { if (SvSMAGICAL(x)) mg_set(x); } STMT_END
                                                                   ^~~~~~~~
/home/smoker12/perl5/perlbrew/perls/perl-5.12.0/lib/5.12.0/amd64-freebsd/CORE/perl.h:460:21: note: expanded from macro 'STMT_END'
#   define STMT_END     )
                        ^
lib/Simple.c:128:37: warning: '}' and ')' tokens terminating statement expression appear in different macro expansion contexts [-Wcompound-token-split-by-macro]
        sv_setpv(TARG, RETVAL); XSprePUSH; PUSHTARG;
                                           ^~~~~~~~
/home/smoker12/perl5/perlbrew/perls/perl-5.12.0/lib/5.12.0/amd64-freebsd/CORE/pp.h:292:62: note: expanded from macro 'PUSHTARG'
#define PUSHTARG        STMT_START { SvSETMAGIC(TARG); PUSHs(TARG); } STMT_END
                                                                    ^
lib/Simple.c:128:37: note: ')' token is here
        sv_setpv(TARG, RETVAL); XSprePUSH; PUSHTARG;
                                           ^~~~~~~~
/home/smoker12/perl5/perlbrew/perls/perl-5.12.0/lib/5.12.0/amd64-freebsd/CORE/pp.h:292:64: note: expanded from macro 'PUSHTARG'
#define PUSHTARG        STMT_START { SvSETMAGIC(TARG); PUSHs(TARG); } STMT_END
                                                                      ^~~~~~~~
/home/smoker12/perl5/perlbrew/perls/perl-5.12.0/lib/5.12.0/amd64-freebsd/CORE/perl.h:460:21: note: expanded from macro 'STMT_END'
#   define STMT_END     )
                        ^
lib/Simple.c:130:5: warning: '(' and '{' tokens introducing statement expression appear in different macro expansion contexts [-Wcompound-token-split-by-macro]
    XSRETURN(1);
    ^~~~~~~~~~~
/home/smoker12/perl5/perlbrew/perls/perl-5.12.0/lib/5.12.0/amd64-freebsd/CORE/XSUB.h:278:5: note: expanded from macro 'XSRETURN'
    STMT_START {                                        \
    ^~~~~~~~~~
/home/smoker12/perl5/perlbrew/perls/perl-5.12.0/lib/5.12.0/amd64-freebsd/CORE/perl.h:459:29: note: expanded from macro 'STMT_START'
#   define STMT_START   (void)( /* gcc supports "({ STATEMENTS; })" */
                              ^
lib/Simple.c:130:5: note: '{' token is here
    XSRETURN(1);
    ^~~~~~~~~~~
/home/smoker12/perl5/perlbrew/perls/perl-5.12.0/lib/5.12.0/amd64-freebsd/CORE/XSUB.h:278:16: note: expanded from macro 'XSRETURN'
    STMT_START {                                        \
               ^
lib/Simple.c:130:5: warning: '}' and ')' tokens terminating statement expression appear in different macro expansion contexts [-Wcompound-token-split-by-macro]
    XSRETURN(1);
    ^~~~~~~~~~~
/home/smoker12/perl5/perlbrew/perls/perl-5.12.0/lib/5.12.0/amd64-freebsd/CORE/XSUB.h:282:5: note: expanded from macro 'XSRETURN'
    } STMT_END
    ^
lib/Simple.c:130:5: note: ')' token is here
    XSRETURN(1);
    ^~~~~~~~~~~
/home/smoker12/perl5/perlbrew/perls/perl-5.12.0/lib/5.12.0/amd64-freebsd/CORE/XSUB.h:282:7: note: expanded from macro 'XSRETURN'
    } STMT_END
      ^~~~~~~~
/home/smoker12/perl5/perlbrew/perls/perl-5.12.0/lib/5.12.0/amd64-freebsd/CORE/perl.h:460:21: note: expanded from macro 'STMT_END'
#   define STMT_END     )
                        ^
lib/Simple.c:152:5: warning: '(' and '{' tokens introducing statement expression appear in different macro expansion contexts [-Wcompound-token-split-by-macro]
    XS_VERSION_BOOTCHECK ;
    ^~~~~~~~~~~~~~~~~~~~
/home/smoker12/perl5/perlbrew/perls/perl-5.12.0/lib/5.12.0/amd64-freebsd/CORE/XSUB.h:298:5: note: expanded from macro 'XS_VERSION_BOOTCHECK'
    STMT_START {                                                        \
    ^~~~~~~~~~
/home/smoker12/perl5/perlbrew/perls/perl-5.12.0/lib/5.12.0/amd64-freebsd/CORE/perl.h:459:29: note: expanded from macro 'STMT_START'
#   define STMT_START   (void)( /* gcc supports "({ STATEMENTS; })" */
                              ^
lib/Simple.c:152:5: note: '{' token is here
    XS_VERSION_BOOTCHECK ;
    ^~~~~~~~~~~~~~~~~~~~
/home/smoker12/perl5/perlbrew/perls/perl-5.12.0/lib/5.12.0/amd64-freebsd/CORE/XSUB.h:298:16: note: expanded from macro 'XS_VERSION_BOOTCHECK'
    STMT_START {                                                        \
               ^
lib/Simple.c:152:5: warning: '}' and ')' tokens terminating statement expression appear in different macro expansion contexts [-Wcompound-token-split-by-macro]
    XS_VERSION_BOOTCHECK ;
    ^~~~~~~~~~~~~~~~~~~~
/home/smoker12/perl5/perlbrew/perls/perl-5.12.0/lib/5.12.0/amd64-freebsd/CORE/XSUB.h:322:5: note: expanded from macro 'XS_VERSION_BOOTCHECK'
    } STMT_END
    ^
lib/Simple.c:152:5: note: ')' token is here
    XS_VERSION_BOOTCHECK ;
    ^~~~~~~~~~~~~~~~~~~~
/home/smoker12/perl5/perlbrew/perls/perl-5.12.0/lib/5.12.0/amd64-freebsd/CORE/XSUB.h:322:7: note: expanded from macro 'XS_VERSION_BOOTCHECK'
    } STMT_END
      ^~~~~~~~
/home/smoker12/perl5/perlbrew/perls/perl-5.12.0/lib/5.12.0/amd64-freebsd/CORE/perl.h:460:21: note: expanded from macro 'STMT_END'
#   define STMT_END     )
                        ^
lib/Simple.c:161:5: warning: '(' and '{' tokens introducing statement expression appear in different macro expansion contexts [-Wcompound-token-split-by-macro]
    XSRETURN_YES;
    ^~~~~~~~~~~~
/home/smoker12/perl5/perlbrew/perls/perl-5.12.0/lib/5.12.0/amd64-freebsd/CORE/XSUB.h:290:24: note: expanded from macro 'XSRETURN_YES'
#define XSRETURN_YES   STMT_START { XST_mYES(0);   XSRETURN(1); } STMT_END
                       ^~~~~~~~~~
/home/smoker12/perl5/perlbrew/perls/perl-5.12.0/lib/5.12.0/amd64-freebsd/CORE/perl.h:459:29: note: expanded from macro 'STMT_START'
#   define STMT_START   (void)( /* gcc supports "({ STATEMENTS; })" */
                              ^
lib/Simple.c:161:5: note: '{' token is here
    XSRETURN_YES;
    ^~~~~~~~~~~~
/home/smoker12/perl5/perlbrew/perls/perl-5.12.0/lib/5.12.0/amd64-freebsd/CORE/XSUB.h:290:35: note: expanded from macro 'XSRETURN_YES'
#define XSRETURN_YES   STMT_START { XST_mYES(0);   XSRETURN(1); } STMT_END
                                  ^
lib/Simple.c:161:5: warning: '(' and '{' tokens introducing statement expression appear in different macro expansion contexts [-Wcompound-token-split-by-macro]
    XSRETURN_YES;
    ^~~~~~~~~~~~
/home/smoker12/perl5/perlbrew/perls/perl-5.12.0/lib/5.12.0/amd64-freebsd/CORE/XSUB.h:290:52: note: expanded from macro 'XSRETURN_YES'
#define XSRETURN_YES   STMT_START { XST_mYES(0);   XSRETURN(1); } STMT_END
                                                   ^~~~~~~~~~~
/home/smoker12/perl5/perlbrew/perls/perl-5.12.0/lib/5.12.0/amd64-freebsd/CORE/XSUB.h:278:5: note: expanded from macro 'XSRETURN'
    STMT_START {                                        \
    ^~~~~~~~~~
/home/smoker12/perl5/perlbrew/perls/perl-5.12.0/lib/5.12.0/amd64-freebsd/CORE/perl.h:459:29: note: expanded from macro 'STMT_START'
#   define STMT_START   (void)( /* gcc supports "({ STATEMENTS; })" */
                              ^
lib/Simple.c:161:5: note: '{' token is here
    XSRETURN_YES;
    ^~~~~~~~~~~~
/home/smoker12/perl5/perlbrew/perls/perl-5.12.0/lib/5.12.0/amd64-freebsd/CORE/XSUB.h:290:52: note: expanded from macro 'XSRETURN_YES'
#define XSRETURN_YES   STMT_START { XST_mYES(0);   XSRETURN(1); } STMT_END
                                                   ^~~~~~~~~~~
/home/smoker12/perl5/perlbrew/perls/perl-5.12.0/lib/5.12.0/amd64-freebsd/CORE/XSUB.h:278:16: note: expanded from macro 'XSRETURN'
    STMT_START {                                        \
               ^
lib/Simple.c:161:5: warning: '}' and ')' tokens terminating statement expression appear in different macro expansion contexts [-Wcompound-token-split-by-macro]
    XSRETURN_YES;
    ^~~~~~~~~~~~
/home/smoker12/perl5/perlbrew/perls/perl-5.12.0/lib/5.12.0/amd64-freebsd/CORE/XSUB.h:290:52: note: expanded from macro 'XSRETURN_YES'
#define XSRETURN_YES   STMT_START { XST_mYES(0);   XSRETURN(1); } STMT_END
                                                   ^~~~~~~~~~~
/home/smoker12/perl5/perlbrew/perls/perl-5.12.0/lib/5.12.0/amd64-freebsd/CORE/XSUB.h:282:5: note: expanded from macro 'XSRETURN'
    } STMT_END
    ^
lib/Simple.c:161:5: note: ')' token is here
    XSRETURN_YES;
    ^~~~~~~~~~~~
/home/smoker12/perl5/perlbrew/perls/perl-5.12.0/lib/5.12.0/amd64-freebsd/CORE/XSUB.h:290:52: note: expanded from macro 'XSRETURN_YES'
#define XSRETURN_YES   STMT_START { XST_mYES(0);   XSRETURN(1); } STMT_END
                                                   ^~~~~~~~~~~
/home/smoker12/perl5/perlbrew/perls/perl-5.12.0/lib/5.12.0/amd64-freebsd/CORE/XSUB.h:282:7: note: expanded from macro 'XSRETURN'
    } STMT_END
      ^~~~~~~~
/home/smoker12/perl5/perlbrew/perls/perl-5.12.0/lib/5.12.0/amd64-freebsd/CORE/perl.h:460:21: note: expanded from macro 'STMT_END'
#   define STMT_END     )
                        ^
lib/Simple.c:161:5: warning: '}' and ')' tokens terminating statement expression appear in different macro expansion contexts [-Wcompound-token-split-by-macro]
    XSRETURN_YES;
    ^~~~~~~~~~~~
/home/smoker12/perl5/perlbrew/perls/perl-5.12.0/lib/5.12.0/amd64-freebsd/CORE/XSUB.h:290:65: note: expanded from macro 'XSRETURN_YES'
#define XSRETURN_YES   STMT_START { XST_mYES(0);   XSRETURN(1); } STMT_END
                                                                ^
lib/Simple.c:161:5: note: ')' token is here
    XSRETURN_YES;
    ^~~~~~~~~~~~
/home/smoker12/perl5/perlbrew/perls/perl-5.12.0/lib/5.12.0/amd64-freebsd/CORE/XSUB.h:290:67: note: expanded from macro 'XSRETURN_YES'
#define XSRETURN_YES   STMT_START { XST_mYES(0);   XSRETURN(1); } STMT_END
                                                                  ^~~~~~~~
/home/smoker12/perl5/perlbrew/perls/perl-5.12.0/lib/5.12.0/amd64-freebsd/CORE/perl.h:460:21: note: expanded from macro 'STMT_END'
#   define STMT_END     )
                        ^
20 warnings generated.
lib/Simple.c:86:5: warning: '(' and '{' tokens introducing statement expression appear in different macro expansion contexts [-Wcompound-token-split-by-macro]
    XSRETURN(1);
    ^~~~~~~~~~~
/home/smoker12/perl5/perlbrew/perls/perl-5.12.0/lib/5.12.0/amd64-freebsd/CORE/XSUB.h:278:5: note: expanded from macro 'XSRETURN'
    STMT_START {                                        \
    ^~~~~~~~~~
/home/smoker12/perl5/perlbrew/perls/perl-5.12.0/lib/5.12.0/amd64-freebsd/CORE/perl.h:459:29: note: expanded from macro 'STMT_START'
#   define STMT_START   (void)( /* gcc supports "({ STATEMENTS; })" */
                              ^
lib/Simple.c:86:5: note: '{' token is here
    XSRETURN(1);
    ^~~~~~~~~~~
/home/smoker12/perl5/perlbrew/perls/perl-5.12.0/lib/5.12.0/amd64-freebsd/CORE/XSUB.h:278:16: note: expanded from macro 'XSRETURN'
    STMT_START {                                        \
               ^
lib/Simple.c:86:5: warning: '}' and ')' tokens terminating statement expression appear in different macro expansion contexts [-Wcompound-token-split-by-macro]
    XSRETURN(1);
    ^~~~~~~~~~~
/home/smoker12/perl5/perlbrew/perls/perl-5.12.0/lib/5.12.0/amd64-freebsd/CORE/XSUB.h:282:5: note: expanded from macro 'XSRETURN'
    } STMT_END
    ^
lib/Simple.c:86:5: note: ')' token is here
    XSRETURN(1);
    ^~~~~~~~~~~
/home/smoker12/perl5/perlbrew/perls/perl-5.12.0/lib/5.12.0/amd64-freebsd/CORE/XSUB.h:282:7: note: expanded from macro 'XSRETURN'
    } STMT_END
      ^~~~~~~~
/home/smoker12/perl5/perlbrew/perls/perl-5.12.0/lib/5.12.0/amd64-freebsd/CORE/perl.h:460:21: note: expanded from macro 'STMT_END'
#   define STMT_END     )
                        ^
lib/Simple.c:106:37: warning: '(' and '{' tokens introducing statement expression appear in different macro expansion contexts [-Wcompound-token-split-by-macro]
        sv_setpv(TARG, RETVAL); XSprePUSH; PUSHTARG;
                                           ^~~~~~~~
/home/smoker12/perl5/perlbrew/perls/perl-5.12.0/lib/5.12.0/amd64-freebsd/CORE/pp.h:292:18: note: expanded from macro 'PUSHTARG'
#define PUSHTARG        STMT_START { SvSETMAGIC(TARG); PUSHs(TARG); } STMT_END
                        ^~~~~~~~~~
/home/smoker12/perl5/perlbrew/perls/perl-5.12.0/lib/5.12.0/amd64-freebsd/CORE/perl.h:459:29: note: expanded from macro 'STMT_START'
#   define STMT_START   (void)( /* gcc supports "({ STATEMENTS; })" */
                              ^
lib/Simple.c:106:37: note: '{' token is here
        sv_setpv(TARG, RETVAL); XSprePUSH; PUSHTARG;
                                           ^~~~~~~~
/home/smoker12/perl5/perlbrew/perls/perl-5.12.0/lib/5.12.0/amd64-freebsd/CORE/pp.h:292:29: note: expanded from macro 'PUSHTARG'
#define PUSHTARG        STMT_START { SvSETMAGIC(TARG); PUSHs(TARG); } STMT_END
                                   ^
lib/Simple.c:106:37: warning: '(' and '{' tokens introducing statement expression appear in different macro expansion contexts [-Wcompound-token-split-by-macro]
        sv_setpv(TARG, RETVAL); XSprePUSH; PUSHTARG;
                                           ^~~~~~~~
/home/smoker12/perl5/perlbrew/perls/perl-5.12.0/lib/5.12.0/amd64-freebsd/CORE/pp.h:292:31: note: expanded from macro 'PUSHTARG'
#define PUSHTARG        STMT_START { SvSETMAGIC(TARG); PUSHs(TARG); } STMT_END
                                     ^~~~~~~~~~~~~~~~
/home/smoker12/perl5/perlbrew/perls/perl-5.12.0/lib/5.12.0/amd64-freebsd/CORE/sv.h:1864:23: note: expanded from macro 'SvSETMAGIC'
#define SvSETMAGIC(x) STMT_START { if (SvSMAGICAL(x)) mg_set(x); } STMT_END
                      ^~~~~~~~~~
/home/smoker12/perl5/perlbrew/perls/perl-5.12.0/lib/5.12.0/amd64-freebsd/CORE/perl.h:459:29: note: expanded from macro 'STMT_START'
#   define STMT_START   (void)( /* gcc supports "({ STATEMENTS; })" */
                              ^
lib/Simple.c:106:37: note: '{' token is here
        sv_setpv(TARG, RETVAL); XSprePUSH; PUSHTARG;
                                           ^~~~~~~~
/home/smoker12/perl5/perlbrew/perls/perl-5.12.0/lib/5.12.0/amd64-freebsd/CORE/pp.h:292:31: note: expanded from macro 'PUSHTARG'
#define PUSHTARG        STMT_START { SvSETMAGIC(TARG); PUSHs(TARG); } STMT_END
                                     ^~~~~~~~~~~~~~~~
/home/smoker12/perl5/perlbrew/perls/perl-5.12.0/lib/5.12.0/amd64-freebsd/CORE/sv.h:1864:34: note: expanded from macro 'SvSETMAGIC'
#define SvSETMAGIC(x) STMT_START { if (SvSMAGICAL(x)) mg_set(x); } STMT_END
                                 ^
lib/Simple.c:106:37: warning: '}' and ')' tokens terminating statement expression appear in different macro expansion contexts [-Wcompound-token-split-by-macro]
        sv_setpv(TARG, RETVAL); XSprePUSH; PUSHTARG;
                                           ^~~~~~~~
/home/smoker12/perl5/perlbrew/perls/perl-5.12.0/lib/5.12.0/amd64-freebsd/CORE/pp.h:292:31: note: expanded from macro 'PUSHTARG'
#define PUSHTARG        STMT_START { SvSETMAGIC(TARG); PUSHs(TARG); } STMT_END
                                     ^~~~~~~~~~~~~~~~
/home/smoker12/perl5/perlbrew/perls/perl-5.12.0/lib/5.12.0/amd64-freebsd/CORE/sv.h:1864:66: note: expanded from macro 'SvSETMAGIC'
#define SvSETMAGIC(x) STMT_START { if (SvSMAGICAL(x)) mg_set(x); } STMT_END
                                                                 ^
lib/Simple.c:106:37: note: ')' token is here
        sv_setpv(TARG, RETVAL); XSprePUSH; PUSHTARG;
                                           ^~~~~~~~
/home/smoker12/perl5/perlbrew/perls/perl-5.12.0/lib/5.12.0/amd64-freebsd/CORE/pp.h:292:31: note: expanded from macro 'PUSHTARG'
#define PUSHTARG        STMT_START { SvSETMAGIC(TARG); PUSHs(TARG); } STMT_END
                                     ^~~~~~~~~~~~~~~~
/home/smoker12/perl5/perlbrew/perls/perl-5.12.0/lib/5.12.0/amd64-freebsd/CORE/sv.h:1864:68: note: expanded from macro 'SvSETMAGIC'
#define SvSETMAGIC(x) STMT_START { if (SvSMAGICAL(x)) mg_set(x); } STMT_END
                                                                   ^~~~~~~~
/home/smoker12/perl5/perlbrew/perls/perl-5.12.0/lib/5.12.0/amd64-freebsd/CORE/perl.h:460:21: note: expanded from macro 'STMT_END'
#   define STMT_END     )
                        ^
lib/Simple.c:106:37: warning: '}' and ')' tokens terminating statement expression appear in different macro expansion contexts [-Wcompound-token-split-by-macro]
        sv_setpv(TARG, RETVAL); XSprePUSH; PUSHTARG;
                                           ^~~~~~~~
/home/smoker12/perl5/perlbrew/perls/perl-5.12.0/lib/5.12.0/amd64-freebsd/CORE/pp.h:292:62: note: expanded from macro 'PUSHTARG'
#define PUSHTARG        STMT_START { SvSETMAGIC(TARG); PUSHs(TARG); } STMT_END
                                                                    ^
lib/Simple.c:106:37: note: ')' token is here
        sv_setpv(TARG, RETVAL); XSprePUSH; PUSHTARG;
                                           ^~~~~~~~
/home/smoker12/perl5/perlbrew/perls/perl-5.12.0/lib/5.12.0/amd64-freebsd/CORE/pp.h:292:64: note: expanded from macro 'PUSHTARG'
#define PUSHTARG        STMT_START { SvSETMAGIC(TARG); PUSHs(TARG); } STMT_END
                                                                      ^~~~~~~~
/home/smoker12/perl5/perlbrew/perls/perl-5.12.0/lib/5.12.0/amd64-freebsd/CORE/perl.h:460:21: note: expanded from macro 'STMT_END'
#   define STMT_END     )
                        ^
lib/Simple.c:108:5: warning: '(' and '{' tokens introducing statement expression appear in different macro expansion contexts [-Wcompound-token-split-by-macro]
    XSRETURN(1);
    ^~~~~~~~~~~
/home/smoker12/perl5/perlbrew/perls/perl-5.12.0/lib/5.12.0/amd64-freebsd/CORE/XSUB.h:278:5: note: expanded from macro 'XSRETURN'
    STMT_START {                                        \
    ^~~~~~~~~~
/home/smoker12/perl5/perlbrew/perls/perl-5.12.0/lib/5.12.0/amd64-freebsd/CORE/perl.h:459:29: note: expanded from macro 'STMT_START'
#   define STMT_START   (void)( /* gcc supports "({ STATEMENTS; })" */
                              ^
lib/Simple.c:108:5: note: '{' token is here
    XSRETURN(1);
    ^~~~~~~~~~~
/home/smoker12/perl5/perlbrew/perls/perl-5.12.0/lib/5.12.0/amd64-freebsd/CORE/XSUB.h:278:16: note: expanded from macro 'XSRETURN'
    STMT_START {                                        \
               ^
lib/Simple.c:108:5: warning: '}' and ')' tokens terminating statement expression appear in different macro expansion contexts [-Wcompound-token-split-by-macro]
    XSRETURN(1);
    ^~~~~~~~~~~
/home/smoker12/perl5/perlbrew/perls/perl-5.12.0/lib/5.12.0/amd64-freebsd/CORE/XSUB.h:282:5: note: expanded from macro 'XSRETURN'
    } STMT_END
    ^
lib/Simple.c:108:5: note: ')' token is here
    XSRETURN(1);
    ^~~~~~~~~~~
/home/smoker12/perl5/perlbrew/perls/perl-5.12.0/lib/5.12.0/amd64-freebsd/CORE/XSUB.h:282:7: note: expanded from macro 'XSRETURN'
    } STMT_END
      ^~~~~~~~
/home/smoker12/perl5/perlbrew/perls/perl-5.12.0/lib/5.12.0/amd64-freebsd/CORE/perl.h:460:21: note: expanded from macro 'STMT_END'
#   define STMT_END     )
                        ^
lib/Simple.c:128:37: warning: '(' and '{' tokens introducing statement expression appear in different macro expansion contexts [-Wcompound-token-split-by-macro]
        sv_setpv(TARG, RETVAL); XSprePUSH; PUSHTARG;
                                           ^~~~~~~~
/home/smoker12/perl5/perlbrew/perls/perl-5.12.0/lib/5.12.0/amd64-freebsd/CORE/pp.h:292:18: note: expanded from macro 'PUSHTARG'
#define PUSHTARG        STMT_START { SvSETMAGIC(TARG); PUSHs(TARG); } STMT_END
                        ^~~~~~~~~~
/home/smoker12/perl5/perlbrew/perls/perl-5.12.0/lib/5.12.0/amd64-freebsd/CORE/perl.h:459:29: note: expanded from macro 'STMT_START'
#   define STMT_START   (void)( /* gcc supports "({ STATEMENTS; })" */
                              ^
lib/Simple.c:128:37: note: '{' token is here
        sv_setpv(TARG, RETVAL); XSprePUSH; PUSHTARG;
                                           ^~~~~~~~
/home/smoker12/perl5/perlbrew/perls/perl-5.12.0/lib/5.12.0/amd64-freebsd/CORE/pp.h:292:29: note: expanded from macro 'PUSHTARG'
#define PUSHTARG        STMT_START { SvSETMAGIC(TARG); PUSHs(TARG); } STMT_END
                                   ^
lib/Simple.c:128:37: warning: '(' and '{' tokens introducing statement expression appear in different macro expansion contexts [-Wcompound-token-split-by-macro]
        sv_setpv(TARG, RETVAL); XSprePUSH; PUSHTARG;
                                           ^~~~~~~~
/home/smoker12/perl5/perlbrew/perls/perl-5.12.0/lib/5.12.0/amd64-freebsd/CORE/pp.h:292:31: note: expanded from macro 'PUSHTARG'
#define PUSHTARG        STMT_START { SvSETMAGIC(TARG); PUSHs(TARG); } STMT_END
                                     ^~~~~~~~~~~~~~~~
/home/smoker12/perl5/perlbrew/perls/perl-5.12.0/lib/5.12.0/amd64-freebsd/CORE/sv.h:1864:23: note: expanded from macro 'SvSETMAGIC'
#define SvSETMAGIC(x) STMT_START { if (SvSMAGICAL(x)) mg_set(x); } STMT_END
                      ^~~~~~~~~~
/home/smoker12/perl5/perlbrew/perls/perl-5.12.0/lib/5.12.0/amd64-freebsd/CORE/perl.h:459:29: note: expanded from macro 'STMT_START'
#   define STMT_START   (void)( /* gcc supports "({ STATEMENTS; })" */
                              ^
lib/Simple.c:128:37: note: '{' token is here
        sv_setpv(TARG, RETVAL); XSprePUSH; PUSHTARG;
                                           ^~~~~~~~
/home/smoker12/perl5/perlbrew/perls/perl-5.12.0/lib/5.12.0/amd64-freebsd/CORE/pp.h:292:31: note: expanded from macro 'PUSHTARG'
#define PUSHTARG        STMT_START { SvSETMAGIC(TARG); PUSHs(TARG); } STMT_END
                                     ^~~~~~~~~~~~~~~~
/home/smoker12/perl5/perlbrew/perls/perl-5.12.0/lib/5.12.0/amd64-freebsd/CORE/sv.h:1864:34: note: expanded from macro 'SvSETMAGIC'
#define SvSETMAGIC(x) STMT_START { if (SvSMAGICAL(x)) mg_set(x); } STMT_END
                                 ^
lib/Simple.c:128:37: warning: '}' and ')' tokens terminating statement expression appear in different macro expansion contexts [-Wcompound-token-split-by-macro]
        sv_setpv(TARG, RETVAL); XSprePUSH; PUSHTARG;
                                           ^~~~~~~~
/home/smoker12/perl5/perlbrew/perls/perl-5.12.0/lib/5.12.0/amd64-freebsd/CORE/pp.h:292:31: note: expanded from macro 'PUSHTARG'
#define PUSHTARG        STMT_START { SvSETMAGIC(TARG); PUSHs(TARG); } STMT_END
                                     ^~~~~~~~~~~~~~~~
/home/smoker12/perl5/perlbrew/perls/perl-5.12.0/lib/5.12.0/amd64-freebsd/CORE/sv.h:1864:66: note: expanded from macro 'SvSETMAGIC'
#define SvSETMAGIC(x) STMT_START { if (SvSMAGICAL(x)) mg_set(x); } STMT_END
                                                                 ^
lib/Simple.c:128:37: note: ')' token is here
        sv_setpv(TARG, RETVAL); XSprePUSH; PUSHTARG;
                                           ^~~~~~~~
/home/smoker12/perl5/perlbrew/perls/perl-5.12.0/lib/5.12.0/amd64-freebsd/CORE/pp.h:292:31: note: expanded from macro 'PUSHTARG'
#define PUSHTARG        STMT_START { SvSETMAGIC(TARG); PUSHs(TARG); } STMT_END
                                     ^~~~~~~~~~~~~~~~
/home/smoker12/perl5/perlbrew/perls/perl-5.12.0/lib/5.12.0/amd64-freebsd/CORE/sv.h:1864:68: note: expanded from macro 'SvSETMAGIC'
#define SvSETMAGIC(x) STMT_START { if (SvSMAGICAL(x)) mg_set(x); } STMT_END
                                                                   ^~~~~~~~
/home/smoker12/perl5/perlbrew/perls/perl-5.12.0/lib/5.12.0/amd64-freebsd/CORE/perl.h:460:21: note: expanded from macro 'STMT_END'
#   define STMT_END     )
                        ^
lib/Simple.c:128:37: warning: '}' and ')' tokens terminating statement expression appear in different macro expansion contexts [-Wcompound-token-split-by-macro]
        sv_setpv(TARG, RETVAL); XSprePUSH; PUSHTARG;
                                           ^~~~~~~~
/home/smoker12/perl5/perlbrew/perls/perl-5.12.0/lib/5.12.0/amd64-freebsd/CORE/pp.h:292:62: note: expanded from macro 'PUSHTARG'
#define PUSHTARG        STMT_START { SvSETMAGIC(TARG); PUSHs(TARG); } STMT_END
                                                                    ^
lib/Simple.c:128:37: note: ')' token is here
        sv_setpv(TARG, RETVAL); XSprePUSH; PUSHTARG;
                                           ^~~~~~~~
/home/smoker12/perl5/perlbrew/perls/perl-5.12.0/lib/5.12.0/amd64-freebsd/CORE/pp.h:292:64: note: expanded from macro 'PUSHTARG'
#define PUSHTARG        STMT_START { SvSETMAGIC(TARG); PUSHs(TARG); } STMT_END
                                                                      ^~~~~~~~
/home/smoker12/perl5/perlbrew/perls/perl-5.12.0/lib/5.12.0/amd64-freebsd/CORE/perl.h:460:21: note: expanded from macro 'STMT_END'
#   define STMT_END     )
                        ^
lib/Simple.c:130:5: warning: '(' and '{' tokens introducing statement expression appear in different macro expansion contexts [-Wcompound-token-split-by-macro]
    XSRETURN(1);
    ^~~~~~~~~~~
/home/smoker12/perl5/perlbrew/perls/perl-5.12.0/lib/5.12.0/amd64-freebsd/CORE/XSUB.h:278:5: note: expanded from macro 'XSRETURN'
    STMT_START {                                        \
    ^~~~~~~~~~
/home/smoker12/perl5/perlbrew/perls/perl-5.12.0/lib/5.12.0/amd64-freebsd/CORE/perl.h:459:29: note: expanded from macro 'STMT_START'
#   define STMT_START   (void)( /* gcc supports "({ STATEMENTS; })" */
                              ^
lib/Simple.c:130:5: note: '{' token is here
    XSRETURN(1);
    ^~~~~~~~~~~
/home/smoker12/perl5/perlbrew/perls/perl-5.12.0/lib/5.12.0/amd64-freebsd/CORE/XSUB.h:278:16: note: expanded from macro 'XSRETURN'
    STMT_START {                                        \
               ^
lib/Simple.c:130:5: warning: '}' and ')' tokens terminating statement expression appear in different macro expansion contexts [-Wcompound-token-split-by-macro]
    XSRETURN(1);
    ^~~~~~~~~~~
/home/smoker12/perl5/perlbrew/perls/perl-5.12.0/lib/5.12.0/amd64-freebsd/CORE/XSUB.h:282:5: note: expanded from macro 'XSRETURN'
    } STMT_END
    ^
lib/Simple.c:130:5: note: ')' token is here
    XSRETURN(1);
    ^~~~~~~~~~~
/home/smoker12/perl5/perlbrew/perls/perl-5.12.0/lib/5.12.0/amd64-freebsd/CORE/XSUB.h:282:7: note: expanded from macro 'XSRETURN'
    } STMT_END
      ^~~~~~~~
/home/smoker12/perl5/perlbrew/perls/perl-5.12.0/lib/5.12.0/amd64-freebsd/CORE/perl.h:460:21: note: expanded from macro 'STMT_END'
#   define STMT_END     )
                        ^
lib/Simple.c:152:5: warning: '(' and '{' tokens introducing statement expression appear in different macro expansion contexts [-Wcompound-token-split-by-macro]
    XS_VERSION_BOOTCHECK ;
    ^~~~~~~~~~~~~~~~~~~~
/home/smoker12/perl5/perlbrew/perls/perl-5.12.0/lib/5.12.0/amd64-freebsd/CORE/XSUB.h:298:5: note: expanded from macro 'XS_VERSION_BOOTCHECK'
    STMT_START {                                                        \
    ^~~~~~~~~~
/home/smoker12/perl5/perlbrew/perls/perl-5.12.0/lib/5.12.0/amd64-freebsd/CORE/perl.h:459:29: note: expanded from macro 'STMT_START'
#   define STMT_START   (void)( /* gcc supports "({ STATEMENTS; })" */
                              ^
lib/Simple.c:152:5: note: '{' token is here
    XS_VERSION_BOOTCHECK ;
    ^~~~~~~~~~~~~~~~~~~~
/home/smoker12/perl5/perlbrew/perls/perl-5.12.0/lib/5.12.0/amd64-freebsd/CORE/XSUB.h:298:16: note: expanded from macro 'XS_VERSION_BOOTCHECK'
    STMT_START {                                                        \
               ^
lib/Simple.c:152:5: warning: '}' and ')' tokens terminating statement expression appear in different macro expansion contexts [-Wcompound-token-split-by-macro]
    XS_VERSION_BOOTCHECK ;
    ^~~~~~~~~~~~~~~~~~~~
/home/smoker12/perl5/perlbrew/perls/perl-5.12.0/lib/5.12.0/amd64-freebsd/CORE/XSUB.h:322:5: note: expanded from macro 'XS_VERSION_BOOTCHECK'
    } STMT_END
    ^
lib/Simple.c:152:5: note: ')' token is here
    XS_VERSION_BOOTCHECK ;
    ^~~~~~~~~~~~~~~~~~~~
/home/smoker12/perl5/perlbrew/perls/perl-5.12.0/lib/5.12.0/amd64-freebsd/CORE/XSUB.h:322:7: note: expanded from macro 'XS_VERSION_BOOTCHECK'
    } STMT_END
      ^~~~~~~~
/home/smoker12/perl5/perlbrew/perls/perl-5.12.0/lib/5.12.0/amd64-freebsd/CORE/perl.h:460:21: note: expanded from macro 'STMT_END'
#   define STMT_END     )
                        ^
lib/Simple.c:161:5: warning: '(' and '{' tokens introducing statement expression appear in different macro expansion contexts [-Wcompound-token-split-by-macro]
    XSRETURN_YES;
    ^~~~~~~~~~~~
/home/smoker12/perl5/perlbrew/perls/perl-5.12.0/lib/5.12.0/amd64-freebsd/CORE/XSUB.h:290:24: note: expanded from macro 'XSRETURN_YES'
#define XSRETURN_YES   STMT_START { XST_mYES(0);   XSRETURN(1); } STMT_END
                       ^~~~~~~~~~
/home/smoker12/perl5/perlbrew/perls/perl-5.12.0/lib/5.12.0/amd64-freebsd/CORE/perl.h:459:29: note: expanded from macro 'STMT_START'
#   define STMT_START   (void)( /* gcc supports "({ STATEMENTS; })" */
                              ^
lib/Simple.c:161:5: note: '{' token is here
    XSRETURN_YES;
    ^~~~~~~~~~~~
/home/smoker12/perl5/perlbrew/perls/perl-5.12.0/lib/5.12.0/amd64-freebsd/CORE/XSUB.h:290:35: note: expanded from macro 'XSRETURN_YES'
#define XSRETURN_YES   STMT_START { XST_mYES(0);   XSRETURN(1); } STMT_END
                                  ^
lib/Simple.c:161:5: warning: '(' and '{' tokens introducing statement expression appear in different macro expansion contexts [-Wcompound-token-split-by-macro]
    XSRETURN_YES;
    ^~~~~~~~~~~~
/home/smoker12/perl5/perlbrew/perls/perl-5.12.0/lib/5.12.0/amd64-freebsd/CORE/XSUB.h:290:52: note: expanded from macro 'XSRETURN_YES'
#define XSRETURN_YES   STMT_START { XST_mYES(0);   XSRETURN(1); } STMT_END
                                                   ^~~~~~~~~~~
/home/smoker12/perl5/perlbrew/perls/perl-5.12.0/lib/5.12.0/amd64-freebsd/CORE/XSUB.h:278:5: note: expanded from macro 'XSRETURN'
    STMT_START {                                        \
    ^~~~~~~~~~
/home/smoker12/perl5/perlbrew/perls/perl-5.12.0/lib/5.12.0/amd64-freebsd/CORE/perl.h:459:29: note: expanded from macro 'STMT_START'
#   define STMT_START   (void)( /* gcc supports "({ STATEMENTS; })" */
                              ^
lib/Simple.c:161:5: note: '{' token is here
    XSRETURN_YES;
    ^~~~~~~~~~~~
/home/smoker12/perl5/perlbrew/perls/perl-5.12.0/lib/5.12.0/amd64-freebsd/CORE/XSUB.h:290:52: note: expanded from macro 'XSRETURN_YES'
#define XSRETURN_YES   STMT_START { XST_mYES(0);   XSRETURN(1); } STMT_END
                                                   ^~~~~~~~~~~
/home/smoker12/perl5/perlbrew/perls/perl-5.12.0/lib/5.12.0/amd64-freebsd/CORE/XSUB.h:278:16: note: expanded from macro 'XSRETURN'
    STMT_START {                                        \
               ^
lib/Simple.c:161:5: warning: '}' and ')' tokens terminating statement expression appear in different macro expansion contexts [-Wcompound-token-split-by-macro]
    XSRETURN_YES;
    ^~~~~~~~~~~~
/home/smoker12/perl5/perlbrew/perls/perl-5.12.0/lib/5.12.0/amd64-freebsd/CORE/XSUB.h:290:52: note: expanded from macro 'XSRETURN_YES'
#define XSRETURN_YES   STMT_START { XST_mYES(0);   XSRETURN(1); } STMT_END
                                                   ^~~~~~~~~~~
/home/smoker12/perl5/perlbrew/perls/perl-5.12.0/lib/5.12.0/amd64-freebsd/CORE/XSUB.h:282:5: note: expanded from macro 'XSRETURN'
    } STMT_END
    ^
lib/Simple.c:161:5: note: ')' token is here
    XSRETURN_YES;
    ^~~~~~~~~~~~
/home/smoker12/perl5/perlbrew/perls/perl-5.12.0/lib/5.12.0/amd64-freebsd/CORE/XSUB.h:290:52: note: expanded from macro 'XSRETURN_YES'
#define XSRETURN_YES   STMT_START { XST_mYES(0);   XSRETURN(1); } STMT_END
                                                   ^~~~~~~~~~~
/home/smoker12/perl5/perlbrew/perls/perl-5.12.0/lib/5.12.0/amd64-freebsd/CORE/XSUB.h:282:7: note: expanded from macro 'XSRETURN'
    } STMT_END
      ^~~~~~~~
/home/smoker12/perl5/perlbrew/perls/perl-5.12.0/lib/5.12.0/amd64-freebsd/CORE/perl.h:460:21: note: expanded from macro 'STMT_END'
#   define STMT_END     )
                        ^
lib/Simple.c:161:5: warning: '}' and ')' tokens terminating statement expression appear in different macro expansion contexts [-Wcompound-token-split-by-macro]
    XSRETURN_YES;
    ^~~~~~~~~~~~
/home/smoker12/perl5/perlbrew/perls/perl-5.12.0/lib/5.12.0/amd64-freebsd/CORE/XSUB.h:290:65: note: expanded from macro 'XSRETURN_YES'
#define XSRETURN_YES   STMT_START { XST_mYES(0);   XSRETURN(1); } STMT_END
                                                                ^
lib/Simple.c:161:5: note: ')' token is here
    XSRETURN_YES;
    ^~~~~~~~~~~~
/home/smoker12/perl5/perlbrew/perls/perl-5.12.0/lib/5.12.0/amd64-freebsd/CORE/XSUB.h:290:67: note: expanded from macro 'XSRETURN_YES'
#define XSRETURN_YES   STMT_START { XST_mYES(0);   XSRETURN(1); } STMT_END
                                                                  ^~~~~~~~
/home/smoker12/perl5/perlbrew/perls/perl-5.12.0/lib/5.12.0/amd64-freebsd/CORE/perl.h:460:21: note: expanded from macro 'STMT_END'
#   define STMT_END     )
                        ^
20 warnings generated.
t/ppm.t ........................ ok
t/properties/dist_suffix.t ..... ok
t/properties/license.t ......... ok
t/properties/module_name.t ..... ok
t/properties/needs_compiler.t .. ok
t/properties/release_status.t .. ok
t/properties/requires.t ........ ok
t/properties/share_dir.t ....... ok
t/resume.t ..................... ok
t/runthrough.t ................. ok
t/sample.t ..................... ok
t/script_dist.t ................ ok
t/signature.t .................. ok
t/test_file_exts.t ............. ok
t/test_reqs.t .................. ok
t/test_type.t .................. ok
t/test_types.t ................. ok
t/tilde.t ...................... ok
t/unit_run_test_harness.t ...... ok
t/use_tap_harness.t ............ ok
t/versions.t ................... ok
t/write_default_maniskip.t ..... ok
lib/Simple.c:86:5: warning: '(' and '{' tokens introducing statement expression appear in different macro expansion contexts [-Wcompound-token-split-by-macro]
    XSRETURN(1);
    ^~~~~~~~~~~
/home/smoker12/perl5/perlbrew/perls/perl-5.12.0/lib/5.12.0/amd64-freebsd/CORE/XSUB.h:278:5: note: expanded from macro 'XSRETURN'
    STMT_START {                                        \
    ^~~~~~~~~~
/home/smoker12/perl5/perlbrew/perls/perl-5.12.0/lib/5.12.0/amd64-freebsd/CORE/perl.h:459:29: note: expanded from macro 'STMT_START'
#   define STMT_START   (void)( /* gcc supports "({ STATEMENTS; })" */
                              ^
lib/Simple.c:86:5: note: '{' token is here
    XSRETURN(1);
    ^~~~~~~~~~~
/home/smoker12/perl5/perlbrew/perls/perl-5.12.0/lib/5.12.0/amd64-freebsd/CORE/XSUB.h:278:16: note: expanded from macro 'XSRETURN'
    STMT_START {                                        \
               ^
lib/Simple.c:86:5: warning: '}' and ')' tokens terminating statement expression appear in different macro expansion contexts [-Wcompound-token-split-by-macro]
    XSRETURN(1);
    ^~~~~~~~~~~
/home/smoker12/perl5/perlbrew/perls/perl-5.12.0/lib/5.12.0/amd64-freebsd/CORE/XSUB.h:282:5: note: expanded from macro 'XSRETURN'
    } STMT_END
    ^
lib/Simple.c:86:5: note: ')' token is here
    XSRETURN(1);
    ^~~~~~~~~~~
/home/smoker12/perl5/perlbrew/perls/perl-5.12.0/lib/5.12.0/amd64-freebsd/CORE/XSUB.h:282:7: note: expanded from macro 'XSRETURN'
    } STMT_END
      ^~~~~~~~
/home/smoker12/perl5/perlbrew/perls/perl-5.12.0/lib/5.12.0/amd64-freebsd/CORE/perl.h:460:21: note: expanded from macro 'STMT_END'
#   define STMT_END     )
                        ^
lib/Simple.c:106:37: warning: '(' and '{' tokens introducing statement expression appear in different macro expansion contexts [-Wcompound-token-split-by-macro]
        sv_setpv(TARG, RETVAL); XSprePUSH; PUSHTARG;
                                           ^~~~~~~~
/home/smoker12/perl5/perlbrew/perls/perl-5.12.0/lib/5.12.0/amd64-freebsd/CORE/pp.h:292:18: note: expanded from macro 'PUSHTARG'
#define PUSHTARG        STMT_START { SvSETMAGIC(TARG); PUSHs(TARG); } STMT_END
                        ^~~~~~~~~~
/home/smoker12/perl5/perlbrew/perls/perl-5.12.0/lib/5.12.0/amd64-freebsd/CORE/perl.h:459:29: note: expanded from macro 'STMT_START'
#   define STMT_START   (void)( /* gcc supports "({ STATEMENTS; })" */
                              ^
lib/Simple.c:106:37: note: '{' token is here
        sv_setpv(TARG, RETVAL); XSprePUSH; PUSHTARG;
                                           ^~~~~~~~
/home/smoker12/perl5/perlbrew/perls/perl-5.12.0/lib/5.12.0/amd64-freebsd/CORE/pp.h:292:29: note: expanded from macro 'PUSHTARG'
#define PUSHTARG        STMT_START { SvSETMAGIC(TARG); PUSHs(TARG); } STMT_END
                                   ^
lib/Simple.c:106:37: warning: '(' and '{' tokens introducing statement expression appear in different macro expansion contexts [-Wcompound-token-split-by-macro]
        sv_setpv(TARG, RETVAL); XSprePUSH; PUSHTARG;
                                           ^~~~~~~~
/home/smoker12/perl5/perlbrew/perls/perl-5.12.0/lib/5.12.0/amd64-freebsd/CORE/pp.h:292:31: note: expanded from macro 'PUSHTARG'
#define PUSHTARG        STMT_START { SvSETMAGIC(TARG); PUSHs(TARG); } STMT_END
                                     ^~~~~~~~~~~~~~~~
/home/smoker12/perl5/perlbrew/perls/perl-5.12.0/lib/5.12.0/amd64-freebsd/CORE/sv.h:1864:23: note: expanded from macro 'SvSETMAGIC'
#define SvSETMAGIC(x) STMT_START { if (SvSMAGICAL(x)) mg_set(x); } STMT_END
                      ^~~~~~~~~~
/home/smoker12/perl5/perlbrew/perls/perl-5.12.0/lib/5.12.0/amd64-freebsd/CORE/perl.h:459:29: note: expanded from macro 'STMT_START'
#   define STMT_START   (void)( /* gcc supports "({ STATEMENTS; })" */
                              ^
lib/Simple.c:106:37: note: '{' token is here
        sv_setpv(TARG, RETVAL); XSprePUSH; PUSHTARG;
                                           ^~~~~~~~
/home/smoker12/perl5/perlbrew/perls/perl-5.12.0/lib/5.12.0/amd64-freebsd/CORE/pp.h:292:31: note: expanded from macro 'PUSHTARG'
#define PUSHTARG        STMT_START { SvSETMAGIC(TARG); PUSHs(TARG); } STMT_END
                                     ^~~~~~~~~~~~~~~~
/home/smoker12/perl5/perlbrew/perls/perl-5.12.0/lib/5.12.0/amd64-freebsd/CORE/sv.h:1864:34: note: expanded from macro 'SvSETMAGIC'
#define SvSETMAGIC(x) STMT_START { if (SvSMAGICAL(x)) mg_set(x); } STMT_END
                                 ^
lib/Simple.c:106:37: warning: '}' and ')' tokens terminating statement expression appear in different macro expansion contexts [-Wcompound-token-split-by-macro]
        sv_setpv(TARG, RETVAL); XSprePUSH; PUSHTARG;
                                           ^~~~~~~~
/home/smoker12/perl5/perlbrew/perls/perl-5.12.0/lib/5.12.0/amd64-freebsd/CORE/pp.h:292:31: note: expanded from macro 'PUSHTARG'
#define PUSHTARG        STMT_START { SvSETMAGIC(TARG); PUSHs(TARG); } STMT_END
                                     ^~~~~~~~~~~~~~~~
/home/smoker12/perl5/perlbrew/perls/perl-5.12.0/lib/5.12.0/amd64-freebsd/CORE/sv.h:1864:66: note: expanded from macro 'SvSETMAGIC'
#define SvSETMAGIC(x) STMT_START { if (SvSMAGICAL(x)) mg_set(x); } STMT_END
                                                                 ^
lib/Simple.c:106:37: note: ')' token is here
        sv_setpv(TARG, RETVAL); XSprePUSH; PUSHTARG;
                                           ^~~~~~~~
/home/smoker12/perl5/perlbrew/perls/perl-5.12.0/lib/5.12.0/amd64-freebsd/CORE/pp.h:292:31: note: expanded from macro 'PUSHTARG'
#define PUSHTARG        STMT_START { SvSETMAGIC(TARG); PUSHs(TARG); } STMT_END
                                     ^~~~~~~~~~~~~~~~
/home/smoker12/perl5/perlbrew/perls/perl-5.12.0/lib/5.12.0/amd64-freebsd/CORE/sv.h:1864:68: note: expanded from macro 'SvSETMAGIC'
#define SvSETMAGIC(x) STMT_START { if (SvSMAGICAL(x)) mg_set(x); } STMT_END
                                                                   ^~~~~~~~
/home/smoker12/perl5/perlbrew/perls/perl-5.12.0/lib/5.12.0/amd64-freebsd/CORE/perl.h:460:21: note: expanded from macro 'STMT_END'
#   define STMT_END     )
                        ^
lib/Simple.c:106:37: warning: '}' and ')' tokens terminating statement expression appear in different macro expansion contexts [-Wcompound-token-split-by-macro]
        sv_setpv(TARG, RETVAL); XSprePUSH; PUSHTARG;
                                           ^~~~~~~~
/home/smoker12/perl5/perlbrew/perls/perl-5.12.0/lib/5.12.0/amd64-freebsd/CORE/pp.h:292:62: note: expanded from macro 'PUSHTARG'
#define PUSHTARG        STMT_START { SvSETMAGIC(TARG); PUSHs(TARG); } STMT_END
                                                                    ^
lib/Simple.c:106:37: note: ')' token is here
        sv_setpv(TARG, RETVAL); XSprePUSH; PUSHTARG;
                                           ^~~~~~~~
/home/smoker12/perl5/perlbrew/perls/perl-5.12.0/lib/5.12.0/amd64-freebsd/CORE/pp.h:292:64: note: expanded from macro 'PUSHTARG'
#define PUSHTARG        STMT_START { SvSETMAGIC(TARG); PUSHs(TARG); } STMT_END
                                                                      ^~~~~~~~
/home/smoker12/perl5/perlbrew/perls/perl-5.12.0/lib/5.12.0/amd64-freebsd/CORE/perl.h:460:21: note: expanded from macro 'STMT_END'
#   define STMT_END     )
                        ^
lib/Simple.c:108:5: warning: '(' and '{' tokens introducing statement expression appear in different macro expansion contexts [-Wcompound-token-split-by-macro]
    XSRETURN(1);
    ^~~~~~~~~~~
/home/smoker12/perl5/perlbrew/perls/perl-5.12.0/lib/5.12.0/amd64-freebsd/CORE/XSUB.h:278:5: note: expanded from macro 'XSRETURN'
    STMT_START {                                        \
    ^~~~~~~~~~
/home/smoker12/perl5/perlbrew/perls/perl-5.12.0/lib/5.12.0/amd64-freebsd/CORE/perl.h:459:29: note: expanded from macro 'STMT_START'
#   define STMT_START   (void)( /* gcc supports "({ STATEMENTS; })" */
                              ^
lib/Simple.c:108:5: note: '{' token is here
    XSRETURN(1);
    ^~~~~~~~~~~
/home/smoker12/perl5/perlbrew/perls/perl-5.12.0/lib/5.12.0/amd64-freebsd/CORE/XSUB.h:278:16: note: expanded from macro 'XSRETURN'
    STMT_START {                                        \
               ^
lib/Simple.c:108:5: warning: '}' and ')' tokens terminating statement expression appear in different macro expansion contexts [-Wcompound-token-split-by-macro]
    XSRETURN(1);
    ^~~~~~~~~~~
/home/smoker12/perl5/perlbrew/perls/perl-5.12.0/lib/5.12.0/amd64-freebsd/CORE/XSUB.h:282:5: note: expanded from macro 'XSRETURN'
    } STMT_END
    ^
lib/Simple.c:108:5: note: ')' token is here
    XSRETURN(1);
    ^~~~~~~~~~~
/home/smoker12/perl5/perlbrew/perls/perl-5.12.0/lib/5.12.0/amd64-freebsd/CORE/XSUB.h:282:7: note: expanded from macro 'XSRETURN'
    } STMT_END
      ^~~~~~~~
/home/smoker12/perl5/perlbrew/perls/perl-5.12.0/lib/5.12.0/amd64-freebsd/CORE/perl.h:460:21: note: expanded from macro 'STMT_END'
#   define STMT_END     )
                        ^
lib/Simple.c:128:37: warning: '(' and '{' tokens introducing statement expression appear in different macro expansion contexts [-Wcompound-token-split-by-macro]
        sv_setpv(TARG, RETVAL); XSprePUSH; PUSHTARG;
                                           ^~~~~~~~
/home/smoker12/perl5/perlbrew/perls/perl-5.12.0/lib/5.12.0/amd64-freebsd/CORE/pp.h:292:18: note: expanded from macro 'PUSHTARG'
#define PUSHTARG        STMT_START { SvSETMAGIC(TARG); PUSHs(TARG); } STMT_END
                        ^~~~~~~~~~
/home/smoker12/perl5/perlbrew/perls/perl-5.12.0/lib/5.12.0/amd64-freebsd/CORE/perl.h:459:29: note: expanded from macro 'STMT_START'
#   define STMT_START   (void)( /* gcc supports "({ STATEMENTS; })" */
                              ^
lib/Simple.c:128:37: note: '{' token is here
        sv_setpv(TARG, RETVAL); XSprePUSH; PUSHTARG;
                                           ^~~~~~~~
/home/smoker12/perl5/perlbrew/perls/perl-5.12.0/lib/5.12.0/amd64-freebsd/CORE/pp.h:292:29: note: expanded from macro 'PUSHTARG'
#define PUSHTARG        STMT_START { SvSETMAGIC(TARG); PUSHs(TARG); } STMT_END
                                   ^
lib/Simple.c:128:37: warning: '(' and '{' tokens introducing statement expression appear in different macro expansion contexts [-Wcompound-token-split-by-macro]
        sv_setpv(TARG, RETVAL); XSprePUSH; PUSHTARG;
                                           ^~~~~~~~
/home/smoker12/perl5/perlbrew/perls/perl-5.12.0/lib/5.12.0/amd64-freebsd/CORE/pp.h:292:31: note: expanded from macro 'PUSHTARG'
#define PUSHTARG        STMT_START { SvSETMAGIC(TARG); PUSHs(TARG); } STMT_END
                                     ^~~~~~~~~~~~~~~~
/home/smoker12/perl5/perlbrew/perls/perl-5.12.0/lib/5.12.0/amd64-freebsd/CORE/sv.h:1864:23: note: expanded from macro 'SvSETMAGIC'
#define SvSETMAGIC(x) STMT_START { if (SvSMAGICAL(x)) mg_set(x); } STMT_END
                      ^~~~~~~~~~
/home/smoker12/perl5/perlbrew/perls/perl-5.12.0/lib/5.12.0/amd64-freebsd/CORE/perl.h:459:29: note: expanded from macro 'STMT_START'
#   define STMT_START   (void)( /* gcc supports "({ STATEMENTS; })" */
                              ^
lib/Simple.c:128:37: note: '{' token is here
        sv_setpv(TARG, RETVAL); XSprePUSH; PUSHTARG;
                                           ^~~~~~~~
/home/smoker12/perl5/perlbrew/perls/perl-5.12.0/lib/5.12.0/amd64-freebsd/CORE/pp.h:292:31: note: expanded from macro 'PUSHTARG'
#define PUSHTARG        STMT_START { SvSETMAGIC(TARG); PUSHs(TARG); } STMT_END
                                     ^~~~~~~~~~~~~~~~
/home/smoker12/perl5/perlbrew/perls/perl-5.12.0/lib/5.12.0/amd64-freebsd/CORE/sv.h:1864:34: note: expanded from macro 'SvSETMAGIC'
#define SvSETMAGIC(x) STMT_START { if (SvSMAGICAL(x)) mg_set(x); } STMT_END
                                 ^
lib/Simple.c:128:37: warning: '}' and ')' tokens terminating statement expression appear in different macro expansion contexts [-Wcompound-token-split-by-macro]
        sv_setpv(TARG, RETVAL); XSprePUSH; PUSHTARG;
                                           ^~~~~~~~
/home/smoker12/perl5/perlbrew/perls/perl-5.12.0/lib/5.12.0/amd64-freebsd/CORE/pp.h:292:31: note: expanded from macro 'PUSHTARG'
#define PUSHTARG        STMT_START { SvSETMAGIC(TARG); PUSHs(TARG); } STMT_END
                                     ^~~~~~~~~~~~~~~~
/home/smoker12/perl5/perlbrew/perls/perl-5.12.0/lib/5.12.0/amd64-freebsd/CORE/sv.h:1864:66: note: expanded from macro 'SvSETMAGIC'
#define SvSETMAGIC(x) STMT_START { if (SvSMAGICAL(x)) mg_set(x); } STMT_END
                                                                 ^
lib/Simple.c:128:37: note: ')' token is here
        sv_setpv(TARG, RETVAL); XSprePUSH; PUSHTARG;
                                           ^~~~~~~~
/home/smoker12/perl5/perlbrew/perls/perl-5.12.0/lib/5.12.0/amd64-freebsd/CORE/pp.h:292:31: note: expanded from macro 'PUSHTARG'
#define PUSHTARG        STMT_START { SvSETMAGIC(TARG); PUSHs(TARG); } STMT_END
                                     ^~~~~~~~~~~~~~~~
/home/smoker12/perl5/perlbrew/perls/perl-5.12.0/lib/5.12.0/amd64-freebsd/CORE/sv.h:1864:68: note: expanded from macro 'SvSETMAGIC'
#define SvSETMAGIC(x) STMT_START { if (SvSMAGICAL(x)) mg_set(x); } STMT_END
                                                                   ^~~~~~~~
/home/smoker12/perl5/perlbrew/perls/perl-5.12.0/lib/5.12.0/amd64-freebsd/CORE/perl.h:460:21: note: expanded from macro 'STMT_END'
#   define STMT_END     )
                        ^
lib/Simple.c:128:37: warning: '}' and ')' tokens terminating statement expression appear in different macro expansion contexts [-Wcompound-token-split-by-macro]
        sv_setpv(TARG, RETVAL); XSprePUSH; PUSHTARG;
                                           ^~~~~~~~
/home/smoker12/perl5/perlbrew/perls/perl-5.12.0/lib/5.12.0/amd64-freebsd/CORE/pp.h:292:62: note: expanded from macro 'PUSHTARG'
#define PUSHTARG        STMT_START { SvSETMAGIC(TARG); PUSHs(TARG); } STMT_END
                                                                    ^
lib/Simple.c:128:37: note: ')' token is here
        sv_setpv(TARG, RETVAL); XSprePUSH; PUSHTARG;
                                           ^~~~~~~~
/home/smoker12/perl5/perlbrew/perls/perl-5.12.0/lib/5.12.0/amd64-freebsd/CORE/pp.h:292:64: note: expanded from macro 'PUSHTARG'
#define PUSHTARG        STMT_START { SvSETMAGIC(TARG); PUSHs(TARG); } STMT_END
                                                                      ^~~~~~~~
/home/smoker12/perl5/perlbrew/perls/perl-5.12.0/lib/5.12.0/amd64-freebsd/CORE/perl.h:460:21: note: expanded from macro 'STMT_END'
#   define STMT_END     )
                        ^
lib/Simple.c:130:5: warning: '(' and '{' tokens introducing statement expression appear in different macro expansion contexts [-Wcompound-token-split-by-macro]
    XSRETURN(1);
    ^~~~~~~~~~~
/home/smoker12/perl5/perlbrew/perls/perl-5.12.0/lib/5.12.0/amd64-freebsd/CORE/XSUB.h:278:5: note: expanded from macro 'XSRETURN'
    STMT_START {                                        \
    ^~~~~~~~~~
/home/smoker12/perl5/perlbrew/perls/perl-5.12.0/lib/5.12.0/amd64-freebsd/CORE/perl.h:459:29: note: expanded from macro 'STMT_START'
#   define STMT_START   (void)( /* gcc supports "({ STATEMENTS; })" */
                              ^
lib/Simple.c:130:5: note: '{' token is here
    XSRETURN(1);
    ^~~~~~~~~~~
/home/smoker12/perl5/perlbrew/perls/perl-5.12.0/lib/5.12.0/amd64-freebsd/CORE/XSUB.h:278:16: note: expanded from macro 'XSRETURN'
    STMT_START {                                        \
               ^
lib/Simple.c:130:5: warning: '}' and ')' tokens terminating statement expression appear in different macro expansion contexts [-Wcompound-token-split-by-macro]
    XSRETURN(1);
    ^~~~~~~~~~~
/home/smoker12/perl5/perlbrew/perls/perl-5.12.0/lib/5.12.0/amd64-freebsd/CORE/XSUB.h:282:5: note: expanded from macro 'XSRETURN'
    } STMT_END
    ^
lib/Simple.c:130:5: note: ')' token is here
    XSRETURN(1);
    ^~~~~~~~~~~
/home/smoker12/perl5/perlbrew/perls/perl-5.12.0/lib/5.12.0/amd64-freebsd/CORE/XSUB.h:282:7: note: expanded from macro 'XSRETURN'
    } STMT_END
      ^~~~~~~~
/home/smoker12/perl5/perlbrew/perls/perl-5.12.0/lib/5.12.0/amd64-freebsd/CORE/perl.h:460:21: note: expanded from macro 'STMT_END'
#   define STMT_END     )
                        ^
lib/Simple.c:152:5: warning: '(' and '{' tokens introducing statement expression appear in different macro expansion contexts [-Wcompound-token-split-by-macro]
    XS_VERSION_BOOTCHECK ;
    ^~~~~~~~~~~~~~~~~~~~
/home/smoker12/perl5/perlbrew/perls/perl-5.12.0/lib/5.12.0/amd64-freebsd/CORE/XSUB.h:298:5: note: expanded from macro 'XS_VERSION_BOOTCHECK'
    STMT_START {                                                        \
    ^~~~~~~~~~
/home/smoker12/perl5/perlbrew/perls/perl-5.12.0/lib/5.12.0/amd64-freebsd/CORE/perl.h:459:29: note: expanded from macro 'STMT_START'
#   define STMT_START   (void)( /* gcc supports "({ STATEMENTS; })" */
                              ^
lib/Simple.c:152:5: note: '{' token is here
    XS_VERSION_BOOTCHECK ;
    ^~~~~~~~~~~~~~~~~~~~
/home/smoker12/perl5/perlbrew/perls/perl-5.12.0/lib/5.12.0/amd64-freebsd/CORE/XSUB.h:298:16: note: expanded from macro 'XS_VERSION_BOOTCHECK'
    STMT_START {                                                        \
               ^
lib/Simple.c:152:5: warning: '}' and ')' tokens terminating statement expression appear in different macro expansion contexts [-Wcompound-token-split-by-macro]
    XS_VERSION_BOOTCHECK ;
    ^~~~~~~~~~~~~~~~~~~~
/home/smoker12/perl5/perlbrew/perls/perl-5.12.0/lib/5.12.0/amd64-freebsd/CORE/XSUB.h:322:5: note: expanded from macro 'XS_VERSION_BOOTCHECK'
    } STMT_END
    ^
lib/Simple.c:152:5: note: ')' token is here
    XS_VERSION_BOOTCHECK ;
    ^~~~~~~~~~~~~~~~~~~~
/home/smoker12/perl5/perlbrew/perls/perl-5.12.0/lib/5.12.0/amd64-freebsd/CORE/XSUB.h:322:7: note: expanded from macro 'XS_VERSION_BOOTCHECK'
    } STMT_END
      ^~~~~~~~
/home/smoker12/perl5/perlbrew/perls/perl-5.12.0/lib/5.12.0/amd64-freebsd/CORE/perl.h:460:21: note: expanded from macro 'STMT_END'
#   define STMT_END     )
                        ^
lib/Simple.c:161:5: warning: '(' and '{' tokens introducing statement expression appear in different macro expansion contexts [-Wcompound-token-split-by-macro]
    XSRETURN_YES;
    ^~~~~~~~~~~~
/home/smoker12/perl5/perlbrew/perls/perl-5.12.0/lib/5.12.0/amd64-freebsd/CORE/XSUB.h:290:24: note: expanded from macro 'XSRETURN_YES'
#define XSRETURN_YES   STMT_START { XST_mYES(0);   XSRETURN(1); } STMT_END
                       ^~~~~~~~~~
/home/smoker12/perl5/perlbrew/perls/perl-5.12.0/lib/5.12.0/amd64-freebsd/CORE/perl.h:459:29: note: expanded from macro 'STMT_START'
#   define STMT_START   (void)( /* gcc supports "({ STATEMENTS; })" */
                              ^
lib/Simple.c:161:5: note: '{' token is here
    XSRETURN_YES;
    ^~~~~~~~~~~~
/home/smoker12/perl5/perlbrew/perls/perl-5.12.0/lib/5.12.0/amd64-freebsd/CORE/XSUB.h:290:35: note: expanded from macro 'XSRETURN_YES'
#define XSRETURN_YES   STMT_START { XST_mYES(0);   XSRETURN(1); } STMT_END
                                  ^
lib/Simple.c:161:5: warning: '(' and '{' tokens introducing statement expression appear in different macro expansion contexts [-Wcompound-token-split-by-macro]
    XSRETURN_YES;
    ^~~~~~~~~~~~
/home/smoker12/perl5/perlbrew/perls/perl-5.12.0/lib/5.12.0/amd64-freebsd/CORE/XSUB.h:290:52: note: expanded from macro 'XSRETURN_YES'
#define XSRETURN_YES   STMT_START { XST_mYES(0);   XSRETURN(1); } STMT_END
                                                   ^~~~~~~~~~~
/home/smoker12/perl5/perlbrew/perls/perl-5.12.0/lib/5.12.0/amd64-freebsd/CORE/XSUB.h:278:5: note: expanded from macro 'XSRETURN'
    STMT_START {                                        \
    ^~~~~~~~~~
/home/smoker12/perl5/perlbrew/perls/perl-5.12.0/lib/5.12.0/amd64-freebsd/CORE/perl.h:459:29: note: expanded from macro 'STMT_START'
#   define STMT_START   (void)( /* gcc supports "({ STATEMENTS; })" */
                              ^
lib/Simple.c:161:5: note: '{' token is here
    XSRETURN_YES;
    ^~~~~~~~~~~~
/home/smoker12/perl5/perlbrew/perls/perl-5.12.0/lib/5.12.0/amd64-freebsd/CORE/XSUB.h:290:52: note: expanded from macro 'XSRETURN_YES'
#define XSRETURN_YES   STMT_START { XST_mYES(0);   XSRETURN(1); } STMT_END
                                                   ^~~~~~~~~~~
/home/smoker12/perl5/perlbrew/perls/perl-5.12.0/lib/5.12.0/amd64-freebsd/CORE/XSUB.h:278:16: note: expanded from macro 'XSRETURN'
    STMT_START {                                        \
               ^
lib/Simple.c:161:5: warning: '}' and ')' tokens terminating statement expression appear in different macro expansion contexts [-Wcompound-token-split-by-macro]
    XSRETURN_YES;
    ^~~~~~~~~~~~
/home/smoker12/perl5/perlbrew/perls/perl-5.12.0/lib/5.12.0/amd64-freebsd/CORE/XSUB.h:290:52: note: expanded from macro 'XSRETURN_YES'
#define XSRETURN_YES   STMT_START { XST_mYES(0);   XSRETURN(1); } STMT_END
                                                   ^~~~~~~~~~~
/home/smoker12/perl5/perlbrew/perls/perl-5.12.0/lib/5.12.0/amd64-freebsd/CORE/XSUB.h:282:5: note: expanded from macro 'XSRETURN'
    } STMT_END
    ^
lib/Simple.c:161:5: note: ')' token is here
    XSRETURN_YES;
    ^~~~~~~~~~~~
/home/smoker12/perl5/perlbrew/perls/perl-5.12.0/lib/5.12.0/amd64-freebsd/CORE/XSUB.h:290:52: note: expanded from macro 'XSRETURN_YES'
#define XSRETURN_YES   STMT_START { XST_mYES(0);   XSRETURN(1); } STMT_END
                                                   ^~~~~~~~~~~
/home/smoker12/perl5/perlbrew/perls/perl-5.12.0/lib/5.12.0/amd64-freebsd/CORE/XSUB.h:282:7: note: expanded from macro 'XSRETURN'
    } STMT_END
      ^~~~~~~~
/home/smoker12/perl5/perlbrew/perls/perl-5.12.0/lib/5.12.0/amd64-freebsd/CORE/perl.h:460:21: note: expanded from macro 'STMT_END'
#   define STMT_END     )
                        ^
lib/Simple.c:161:5: warning: '}' and ')' tokens terminating statement expression appear in different macro expansion contexts [-Wcompound-token-split-by-macro]
    XSRETURN_YES;
    ^~~~~~~~~~~~
/home/smoker12/perl5/perlbrew/perls/perl-5.12.0/lib/5.12.0/amd64-freebsd/CORE/XSUB.h:290:65: note: expanded from macro 'XSRETURN_YES'
#define XSRETURN_YES   STMT_START { XST_mYES(0);   XSRETURN(1); } STMT_END
                                                                ^
lib/Simple.c:161:5: note: ')' token is here
    XSRETURN_YES;
    ^~~~~~~~~~~~
/home/smoker12/perl5/perlbrew/perls/perl-5.12.0/lib/5.12.0/amd64-freebsd/CORE/XSUB.h:290:67: note: expanded from macro 'XSRETURN_YES'
#define XSRETURN_YES   STMT_START { XST_mYES(0);   XSRETURN(1); } STMT_END
                                                                  ^~~~~~~~
/home/smoker12/perl5/perlbrew/perls/perl-5.12.0/lib/5.12.0/amd64-freebsd/CORE/perl.h:460:21: note: expanded from macro 'STMT_END'
#   define STMT_END     )
                        ^
20 warnings generated.
lib/Simple.c:86:5: warning: '(' and '{' tokens introducing statement expression appear in different macro expansion contexts [-Wcompound-token-split-by-macro]
    XSRETURN(1);
    ^~~~~~~~~~~
/home/smoker12/perl5/perlbrew/perls/perl-5.12.0/lib/5.12.0/amd64-freebsd/CORE/XSUB.h:278:5: note: expanded from macro 'XSRETURN'
    STMT_START {                                        \
    ^~~~~~~~~~
/home/smoker12/perl5/perlbrew/perls/perl-5.12.0/lib/5.12.0/amd64-freebsd/CORE/perl.h:459:29: note: expanded from macro 'STMT_START'
#   define STMT_START   (void)( /* gcc supports "({ STATEMENTS; })" */
                              ^
lib/Simple.c:86:5: note: '{' token is here
    XSRETURN(1);
    ^~~~~~~~~~~
/home/smoker12/perl5/perlbrew/perls/perl-5.12.0/lib/5.12.0/amd64-freebsd/CORE/XSUB.h:278:16: note: expanded from macro 'XSRETURN'
    STMT_START {                                        \
               ^
lib/Simple.c:86:5: warning: '}' and ')' tokens terminating statement expression appear in different macro expansion contexts [-Wcompound-token-split-by-macro]
    XSRETURN(1);
    ^~~~~~~~~~~
/home/smoker12/perl5/perlbrew/perls/perl-5.12.0/lib/5.12.0/amd64-freebsd/CORE/XSUB.h:282:5: note: expanded from macro 'XSRETURN'
    } STMT_END
    ^
lib/Simple.c:86:5: note: ')' token is here
    XSRETURN(1);
    ^~~~~~~~~~~
/home/smoker12/perl5/perlbrew/perls/perl-5.12.0/lib/5.12.0/amd64-freebsd/CORE/XSUB.h:282:7: note: expanded from macro 'XSRETURN'
    } STMT_END
      ^~~~~~~~
/home/smoker12/perl5/perlbrew/perls/perl-5.12.0/lib/5.12.0/amd64-freebsd/CORE/perl.h:460:21: note: expanded from macro 'STMT_END'
#   define STMT_END     )
                        ^
lib/Simple.c:106:37: warning: '(' and '{' tokens introducing statement expression appear in different macro expansion contexts [-Wcompound-token-split-by-macro]
        sv_setpv(TARG, RETVAL); XSprePUSH; PUSHTARG;
                                           ^~~~~~~~
/home/smoker12/perl5/perlbrew/perls/perl-5.12.0/lib/5.12.0/amd64-freebsd/CORE/pp.h:292:18: note: expanded from macro 'PUSHTARG'
#define PUSHTARG        STMT_START { SvSETMAGIC(TARG); PUSHs(TARG); } STMT_END
                        ^~~~~~~~~~
/home/smoker12/perl5/perlbrew/perls/perl-5.12.0/lib/5.12.0/amd64-freebsd/CORE/perl.h:459:29: note: expanded from macro 'STMT_START'
#   define STMT_START   (void)( /* gcc supports "({ STATEMENTS; })" */
                              ^
lib/Simple.c:106:37: note: '{' token is here
        sv_setpv(TARG, RETVAL); XSprePUSH; PUSHTARG;
                                           ^~~~~~~~
/home/smoker12/perl5/perlbrew/perls/perl-5.12.0/lib/5.12.0/amd64-freebsd/CORE/pp.h:292:29: note: expanded from macro 'PUSHTARG'
#define PUSHTARG        STMT_START { SvSETMAGIC(TARG); PUSHs(TARG); } STMT_END
                                   ^
lib/Simple.c:106:37: warning: '(' and '{' tokens introducing statement expression appear in different macro expansion contexts [-Wcompound-token-split-by-macro]
        sv_setpv(TARG, RETVAL); XSprePUSH; PUSHTARG;
                                           ^~~~~~~~
/home/smoker12/perl5/perlbrew/perls/perl-5.12.0/lib/5.12.0/amd64-freebsd/CORE/pp.h:292:31: note: expanded from macro 'PUSHTARG'
#define PUSHTARG        STMT_START { SvSETMAGIC(TARG); PUSHs(TARG); } STMT_END
                                     ^~~~~~~~~~~~~~~~
/home/smoker12/perl5/perlbrew/perls/perl-5.12.0/lib/5.12.0/amd64-freebsd/CORE/sv.h:1864:23: note: expanded from macro 'SvSETMAGIC'
#define SvSETMAGIC(x) STMT_START { if (SvSMAGICAL(x)) mg_set(x); } STMT_END
                      ^~~~~~~~~~
/home/smoker12/perl5/perlbrew/perls/perl-5.12.0/lib/5.12.0/amd64-freebsd/CORE/perl.h:459:29: note: expanded from macro 'STMT_START'
#   define STMT_START   (void)( /* gcc supports "({ STATEMENTS; })" */
                              ^
lib/Simple.c:106:37: note: '{' token is here
        sv_setpv(TARG, RETVAL); XSprePUSH; PUSHTARG;
                                           ^~~~~~~~
/home/smoker12/perl5/perlbrew/perls/perl-5.12.0/lib/5.12.0/amd64-freebsd/CORE/pp.h:292:31: note: expanded from macro 'PUSHTARG'
#define PUSHTARG        STMT_START { SvSETMAGIC(TARG); PUSHs(TARG); } STMT_END
                                     ^~~~~~~~~~~~~~~~
/home/smoker12/perl5/perlbrew/perls/perl-5.12.0/lib/5.12.0/amd64-freebsd/CORE/sv.h:1864:34: note: expanded from macro 'SvSETMAGIC'
#define SvSETMAGIC(x) STMT_START { if (SvSMAGICAL(x)) mg_set(x); } STMT_END
                                 ^
lib/Simple.c:106:37: warning: '}' and ')' tokens terminating statement expression appear in different macro expansion contexts [-Wcompound-token-split-by-macro]
        sv_setpv(TARG, RETVAL); XSprePUSH; PUSHTARG;
                                           ^~~~~~~~
/home/smoker12/perl5/perlbrew/perls/perl-5.12.0/lib/5.12.0/amd64-freebsd/CORE/pp.h:292:31: note: expanded from macro 'PUSHTARG'
#define PUSHTARG        STMT_START { SvSETMAGIC(TARG); PUSHs(TARG); } STMT_END
                                     ^~~~~~~~~~~~~~~~
/home/smoker12/perl5/perlbrew/perls/perl-5.12.0/lib/5.12.0/amd64-freebsd/CORE/sv.h:1864:66: note: expanded from macro 'SvSETMAGIC'
#define SvSETMAGIC(x) STMT_START { if (SvSMAGICAL(x)) mg_set(x); } STMT_END
                                                                 ^
lib/Simple.c:106:37: note: ')' token is here
        sv_setpv(TARG, RETVAL); XSprePUSH; PUSHTARG;
                                           ^~~~~~~~
/home/smoker12/perl5/perlbrew/perls/perl-5.12.0/lib/5.12.0/amd64-freebsd/CORE/pp.h:292:31: note: expanded from macro 'PUSHTARG'
#define PUSHTARG        STMT_START { SvSETMAGIC(TARG); PUSHs(TARG); } STMT_END
                                     ^~~~~~~~~~~~~~~~
/home/smoker12/perl5/perlbrew/perls/perl-5.12.0/lib/5.12.0/amd64-freebsd/CORE/sv.h:1864:68: note: expanded from macro 'SvSETMAGIC'
#define SvSETMAGIC(x) STMT_START { if (SvSMAGICAL(x)) mg_set(x); } STMT_END
                                                                   ^~~~~~~~
/home/smoker12/perl5/perlbrew/perls/perl-5.12.0/lib/5.12.0/amd64-freebsd/CORE/perl.h:460:21: note: expanded from macro 'STMT_END'
#   define STMT_END     )
                        ^
lib/Simple.c:106:37: warning: '}' and ')' tokens terminating statement expression appear in different macro expansion contexts [-Wcompound-token-split-by-macro]
        sv_setpv(TARG, RETVAL); XSprePUSH; PUSHTARG;
                                           ^~~~~~~~
/home/smoker12/perl5/perlbrew/perls/perl-5.12.0/lib/5.12.0/amd64-freebsd/CORE/pp.h:292:62: note: expanded from macro 'PUSHTARG'
#define PUSHTARG        STMT_START { SvSETMAGIC(TARG); PUSHs(TARG); } STMT_END
                                                                    ^
lib/Simple.c:106:37: note: ')' token is here
        sv_setpv(TARG, RETVAL); XSprePUSH; PUSHTARG;
                                           ^~~~~~~~
/home/smoker12/perl5/perlbrew/perls/perl-5.12.0/lib/5.12.0/amd64-freebsd/CORE/pp.h:292:64: note: expanded from macro 'PUSHTARG'
#define PUSHTARG        STMT_START { SvSETMAGIC(TARG); PUSHs(TARG); } STMT_END
                                                                      ^~~~~~~~
/home/smoker12/perl5/perlbrew/perls/perl-5.12.0/lib/5.12.0/amd64-freebsd/CORE/perl.h:460:21: note: expanded from macro 'STMT_END'
#   define STMT_END     )
                        ^
lib/Simple.c:108:5: warning: '(' and '{' tokens introducing statement expression appear in different macro expansion contexts [-Wcompound-token-split-by-macro]
    XSRETURN(1);
    ^~~~~~~~~~~
/home/smoker12/perl5/perlbrew/perls/perl-5.12.0/lib/5.12.0/amd64-freebsd/CORE/XSUB.h:278:5: note: expanded from macro 'XSRETURN'
    STMT_START {                                        \
    ^~~~~~~~~~
/home/smoker12/perl5/perlbrew/perls/perl-5.12.0/lib/5.12.0/amd64-freebsd/CORE/perl.h:459:29: note: expanded from macro 'STMT_START'
#   define STMT_START   (void)( /* gcc supports "({ STATEMENTS; })" */
                              ^
lib/Simple.c:108:5: note: '{' token is here
    XSRETURN(1);
    ^~~~~~~~~~~
/home/smoker12/perl5/perlbrew/perls/perl-5.12.0/lib/5.12.0/amd64-freebsd/CORE/XSUB.h:278:16: note: expanded from macro 'XSRETURN'
    STMT_START {                                        \
               ^
lib/Simple.c:108:5: warning: '}' and ')' tokens terminating statement expression appear in different macro expansion contexts [-Wcompound-token-split-by-macro]
    XSRETURN(1);
    ^~~~~~~~~~~
/home/smoker12/perl5/perlbrew/perls/perl-5.12.0/lib/5.12.0/amd64-freebsd/CORE/XSUB.h:282:5: note: expanded from macro 'XSRETURN'
    } STMT_END
    ^
lib/Simple.c:108:5: note: ')' token is here
    XSRETURN(1);
    ^~~~~~~~~~~
/home/smoker12/perl5/perlbrew/perls/perl-5.12.0/lib/5.12.0/amd64-freebsd/CORE/XSUB.h:282:7: note: expanded from macro 'XSRETURN'
    } STMT_END
      ^~~~~~~~
/home/smoker12/perl5/perlbrew/perls/perl-5.12.0/lib/5.12.0/amd64-freebsd/CORE/perl.h:460:21: note: expanded from macro 'STMT_END'
#   define STMT_END     )
                        ^
lib/Simple.c:128:37: warning: '(' and '{' tokens introducing statement expression appear in different macro expansion contexts [-Wcompound-token-split-by-macro]
        sv_setpv(TARG, RETVAL); XSprePUSH; PUSHTARG;
                                           ^~~~~~~~
/home/smoker12/perl5/perlbrew/perls/perl-5.12.0/lib/5.12.0/amd64-freebsd/CORE/pp.h:292:18: note: expanded from macro 'PUSHTARG'
#define PUSHTARG        STMT_START { SvSETMAGIC(TARG); PUSHs(TARG); } STMT_END
                        ^~~~~~~~~~
/home/smoker12/perl5/perlbrew/perls/perl-5.12.0/lib/5.12.0/amd64-freebsd/CORE/perl.h:459:29: note: expanded from macro 'STMT_START'
#   define STMT_START   (void)( /* gcc supports "({ STATEMENTS; })" */
                              ^
lib/Simple.c:128:37: note: '{' token is here
        sv_setpv(TARG, RETVAL); XSprePUSH; PUSHTARG;
                                           ^~~~~~~~
/home/smoker12/perl5/perlbrew/perls/perl-5.12.0/lib/5.12.0/amd64-freebsd/CORE/pp.h:292:29: note: expanded from macro 'PUSHTARG'
#define PUSHTARG        STMT_START { SvSETMAGIC(TARG); PUSHs(TARG); } STMT_END
                                   ^
lib/Simple.c:128:37: warning: '(' and '{' tokens introducing statement expression appear in different macro expansion contexts [-Wcompound-token-split-by-macro]
        sv_setpv(TARG, RETVAL); XSprePUSH; PUSHTARG;
                                           ^~~~~~~~
/home/smoker12/perl5/perlbrew/perls/perl-5.12.0/lib/5.12.0/amd64-freebsd/CORE/pp.h:292:31: note: expanded from macro 'PUSHTARG'
#define PUSHTARG        STMT_START { SvSETMAGIC(TARG); PUSHs(TARG); } STMT_END
                                     ^~~~~~~~~~~~~~~~
/home/smoker12/perl5/perlbrew/perls/perl-5.12.0/lib/5.12.0/amd64-freebsd/CORE/sv.h:1864:23: note: expanded from macro 'SvSETMAGIC'
#define SvSETMAGIC(x) STMT_START { if (SvSMAGICAL(x)) mg_set(x); } STMT_END
                      ^~~~~~~~~~
/home/smoker12/perl5/perlbrew/perls/perl-5.12.0/lib/5.12.0/amd64-freebsd/CORE/perl.h:459:29: note: expanded from macro 'STMT_START'
#   define STMT_START   (void)( /* gcc supports "({ STATEMENTS; })" */
                              ^
lib/Simple.c:128:37: note: '{' token is here
        sv_setpv(TARG, RETVAL); XSprePUSH; PUSHTARG;
                                           ^~~~~~~~
/home/smoker12/perl5/perlbrew/perls/perl-5.12.0/lib/5.12.0/amd64-freebsd/CORE/pp.h:292:31: note: expanded from macro 'PUSHTARG'
#define PUSHTARG        STMT_START { SvSETMAGIC(TARG); PUSHs(TARG); } STMT_END
                                     ^~~~~~~~~~~~~~~~
/home/smoker12/perl5/perlbrew/perls/perl-5.12.0/lib/5.12.0/amd64-freebsd/CORE/sv.h:1864:34: note: expanded from macro 'SvSETMAGIC'
#define SvSETMAGIC(x) STMT_START { if (SvSMAGICAL(x)) mg_set(x); } STMT_END
                                 ^
lib/Simple.c:128:37: warning: '}' and ')' tokens terminating statement expression appear in different macro expansion contexts [-Wcompound-token-split-by-macro]
        sv_setpv(TARG, RETVAL); XSprePUSH; PUSHTARG;
                                           ^~~~~~~~
/home/smoker12/perl5/perlbrew/perls/perl-5.12.0/lib/5.12.0/amd64-freebsd/CORE/pp.h:292:31: note: expanded from macro 'PUSHTARG'
#define PUSHTARG        STMT_START { SvSETMAGIC(TARG); PUSHs(TARG); } STMT_END
                                     ^~~~~~~~~~~~~~~~
/home/smoker12/perl5/perlbrew/perls/perl-5.12.0/lib/5.12.0/amd64-freebsd/CORE/sv.h:1864:66: note: expanded from macro 'SvSETMAGIC'
#define SvSETMAGIC(x) STMT_START { if (SvSMAGICAL(x)) mg_set(x); } STMT_END
                                                                 ^
lib/Simple.c:128:37: note: ')' token is here
        sv_setpv(TARG, RETVAL); XSprePUSH; PUSHTARG;
                                           ^~~~~~~~
/home/smoker12/perl5/perlbrew/perls/perl-5.12.0/lib/5.12.0/amd64-freebsd/CORE/pp.h:292:31: note: expanded from macro 'PUSHTARG'
#define PUSHTARG        STMT_START { SvSETMAGIC(TARG); PUSHs(TARG); } STMT_END
                                     ^~~~~~~~~~~~~~~~
/home/smoker12/perl5/perlbrew/perls/perl-5.12.0/lib/5.12.0/amd64-freebsd/CORE/sv.h:1864:68: note: expanded from macro 'SvSETMAGIC'
#define SvSETMAGIC(x) STMT_START { if (SvSMAGICAL(x)) mg_set(x); } STMT_END
                                                                   ^~~~~~~~
/home/smoker12/perl5/perlbrew/perls/perl-5.12.0/lib/5.12.0/amd64-freebsd/CORE/perl.h:460:21: note: expanded from macro 'STMT_END'
#   define STMT_END     )
                        ^
lib/Simple.c:128:37: warning: '}' and ')' tokens terminating statement expression appear in different macro expansion contexts [-Wcompound-token-split-by-macro]
        sv_setpv(TARG, RETVAL); XSprePUSH; PUSHTARG;
                                           ^~~~~~~~
/home/smoker12/perl5/perlbrew/perls/perl-5.12.0/lib/5.12.0/amd64-freebsd/CORE/pp.h:292:62: note: expanded from macro 'PUSHTARG'
#define PUSHTARG        STMT_START { SvSETMAGIC(TARG); PUSHs(TARG); } STMT_END
                                                                    ^
lib/Simple.c:128:37: note: ')' token is here
        sv_setpv(TARG, RETVAL); XSprePUSH; PUSHTARG;
                                           ^~~~~~~~
/home/smoker12/perl5/perlbrew/perls/perl-5.12.0/lib/5.12.0/amd64-freebsd/CORE/pp.h:292:64: note: expanded from macro 'PUSHTARG'
#define PUSHTARG        STMT_START { SvSETMAGIC(TARG); PUSHs(TARG); } STMT_END
                                                                      ^~~~~~~~
/home/smoker12/perl5/perlbrew/perls/perl-5.12.0/lib/5.12.0/amd64-freebsd/CORE/perl.h:460:21: note: expanded from macro 'STMT_END'
#   define STMT_END     )
                        ^
lib/Simple.c:130:5: warning: '(' and '{' tokens introducing statement expression appear in different macro expansion contexts [-Wcompound-token-split-by-macro]
    XSRETURN(1);
    ^~~~~~~~~~~
/home/smoker12/perl5/perlbrew/perls/perl-5.12.0/lib/5.12.0/amd64-freebsd/CORE/XSUB.h:278:5: note: expanded from macro 'XSRETURN'
    STMT_START {                                        \
    ^~~~~~~~~~
/home/smoker12/perl5/perlbrew/perls/perl-5.12.0/lib/5.12.0/amd64-freebsd/CORE/perl.h:459:29: note: expanded from macro 'STMT_START'
#   define STMT_START   (void)( /* gcc supports "({ STATEMENTS; })" */
                              ^
lib/Simple.c:130:5: note: '{' token is here
    XSRETURN(1);
    ^~~~~~~~~~~
/home/smoker12/perl5/perlbrew/perls/perl-5.12.0/lib/5.12.0/amd64-freebsd/CORE/XSUB.h:278:16: note: expanded from macro 'XSRETURN'
    STMT_START {                                        \
               ^
lib/Simple.c:130:5: warning: '}' and ')' tokens terminating statement expression appear in different macro expansion contexts [-Wcompound-token-split-by-macro]
    XSRETURN(1);
    ^~~~~~~~~~~
/home/smoker12/perl5/perlbrew/perls/perl-5.12.0/lib/5.12.0/amd64-freebsd/CORE/XSUB.h:282:5: note: expanded from macro 'XSRETURN'
    } STMT_END
    ^
lib/Simple.c:130:5: note: ')' token is here
    XSRETURN(1);
    ^~~~~~~~~~~
/home/smoker12/perl5/perlbrew/perls/perl-5.12.0/lib/5.12.0/amd64-freebsd/CORE/XSUB.h:282:7: note: expanded from macro 'XSRETURN'
    } STMT_END
      ^~~~~~~~
/home/smoker12/perl5/perlbrew/perls/perl-5.12.0/lib/5.12.0/amd64-freebsd/CORE/perl.h:460:21: note: expanded from macro 'STMT_END'
#   define STMT_END     )
                        ^
lib/Simple.c:152:5: warning: '(' and '{' tokens introducing statement expression appear in different macro expansion contexts [-Wcompound-token-split-by-macro]
    XS_VERSION_BOOTCHECK ;
    ^~~~~~~~~~~~~~~~~~~~
/home/smoker12/perl5/perlbrew/perls/perl-5.12.0/lib/5.12.0/amd64-freebsd/CORE/XSUB.h:298:5: note: expanded from macro 'XS_VERSION_BOOTCHECK'
    STMT_START {                                                        \
    ^~~~~~~~~~
/home/smoker12/perl5/perlbrew/perls/perl-5.12.0/lib/5.12.0/amd64-freebsd/CORE/perl.h:459:29: note: expanded from macro 'STMT_START'
#   define STMT_START   (void)( /* gcc supports "({ STATEMENTS; })" */
                              ^
lib/Simple.c:152:5: note: '{' token is here
    XS_VERSION_BOOTCHECK ;
    ^~~~~~~~~~~~~~~~~~~~
/home/smoker12/perl5/perlbrew/perls/perl-5.12.0/lib/5.12.0/amd64-freebsd/CORE/XSUB.h:298:16: note: expanded from macro 'XS_VERSION_BOOTCHECK'
    STMT_START {                                                        \
               ^
lib/Simple.c:152:5: warning: '}' and ')' tokens terminating statement expression appear in different macro expansion contexts [-Wcompound-token-split-by-macro]
    XS_VERSION_BOOTCHECK ;
    ^~~~~~~~~~~~~~~~~~~~
/home/smoker12/perl5/perlbrew/perls/perl-5.12.0/lib/5.12.0/amd64-freebsd/CORE/XSUB.h:322:5: note: expanded from macro 'XS_VERSION_BOOTCHECK'
    } STMT_END
    ^
lib/Simple.c:152:5: note: ')' token is here
    XS_VERSION_BOOTCHECK ;
    ^~~~~~~~~~~~~~~~~~~~
/home/smoker12/perl5/perlbrew/perls/perl-5.12.0/lib/5.12.0/amd64-freebsd/CORE/XSUB.h:322:7: note: expanded from macro 'XS_VERSION_BOOTCHECK'
    } STMT_END
      ^~~~~~~~
/home/smoker12/perl5/perlbrew/perls/perl-5.12.0/lib/5.12.0/amd64-freebsd/CORE/perl.h:460:21: note: expanded from macro 'STMT_END'
#   define STMT_END     )
                        ^
lib/Simple.c:161:5: warning: '(' and '{' tokens introducing statement expression appear in different macro expansion contexts [-Wcompound-token-split-by-macro]
    XSRETURN_YES;
    ^~~~~~~~~~~~
/home/smoker12/perl5/perlbrew/perls/perl-5.12.0/lib/5.12.0/amd64-freebsd/CORE/XSUB.h:290:24: note: expanded from macro 'XSRETURN_YES'
#define XSRETURN_YES   STMT_START { XST_mYES(0);   XSRETURN(1); } STMT_END
                       ^~~~~~~~~~
/home/smoker12/perl5/perlbrew/perls/perl-5.12.0/lib/5.12.0/amd64-freebsd/CORE/perl.h:459:29: note: expanded from macro 'STMT_START'
#   define STMT_START   (void)( /* gcc supports "({ STATEMENTS; })" */
                              ^
lib/Simple.c:161:5: note: '{' token is here
    XSRETURN_YES;
    ^~~~~~~~~~~~
/home/smoker12/perl5/perlbrew/perls/perl-5.12.0/lib/5.12.0/amd64-freebsd/CORE/XSUB.h:290:35: note: expanded from macro 'XSRETURN_YES'
#define XSRETURN_YES   STMT_START { XST_mYES(0);   XSRETURN(1); } STMT_END
                                  ^
lib/Simple.c:161:5: warning: '(' and '{' tokens introducing statement expression appear in different macro expansion contexts [-Wcompound-token-split-by-macro]
    XSRETURN_YES;
    ^~~~~~~~~~~~
/home/smoker12/perl5/perlbrew/perls/perl-5.12.0/lib/5.12.0/amd64-freebsd/CORE/XSUB.h:290:52: note: expanded from macro 'XSRETURN_YES'
#define XSRETURN_YES   STMT_START { XST_mYES(0);   XSRETURN(1); } STMT_END
                                                   ^~~~~~~~~~~
/home/smoker12/perl5/perlbrew/perls/perl-5.12.0/lib/5.12.0/amd64-freebsd/CORE/XSUB.h:278:5: note: expanded from macro 'XSRETURN'
    STMT_START {                                        \
    ^~~~~~~~~~
/home/smoker12/perl5/perlbrew/perls/perl-5.12.0/lib/5.12.0/amd64-freebsd/CORE/perl.h:459:29: note: expanded from macro 'STMT_START'
#   define STMT_START   (void)( /* gcc supports "({ STATEMENTS; })" */
                              ^
lib/Simple.c:161:5: note: '{' token is here
    XSRETURN_YES;
    ^~~~~~~~~~~~
/home/smoker12/perl5/perlbrew/perls/perl-5.12.0/lib/5.12.0/amd64-freebsd/CORE/XSUB.h:290:52: note: expanded from macro 'XSRETURN_YES'
#define XSRETURN_YES   STMT_START { XST_mYES(0);   XSRETURN(1); } STMT_END
                                                   ^~~~~~~~~~~
/home/smoker12/perl5/perlbrew/perls/perl-5.12.0/lib/5.12.0/amd64-freebsd/CORE/XSUB.h:278:16: note: expanded from macro 'XSRETURN'
    STMT_START {                                        \
               ^
lib/Simple.c:161:5: warning: '}' and ')' tokens terminating statement expression appear in different macro expansion contexts [-Wcompound-token-split-by-macro]
    XSRETURN_YES;
    ^~~~~~~~~~~~
/home/smoker12/perl5/perlbrew/perls/perl-5.12.0/lib/5.12.0/amd64-freebsd/CORE/XSUB.h:290:52: note: expanded from macro 'XSRETURN_YES'
#define XSRETURN_YES   STMT_START { XST_mYES(0);   XSRETURN(1); } STMT_END
                                                   ^~~~~~~~~~~
/home/smoker12/perl5/perlbrew/perls/perl-5.12.0/lib/5.12.0/amd64-freebsd/CORE/XSUB.h:282:5: note: expanded from macro 'XSRETURN'
    } STMT_END
    ^
lib/Simple.c:161:5: note: ')' token is here
    XSRETURN_YES;
    ^~~~~~~~~~~~
/home/smoker12/perl5/perlbrew/perls/perl-5.12.0/lib/5.12.0/amd64-freebsd/CORE/XSUB.h:290:52: note: expanded from macro 'XSRETURN_YES'
#define XSRETURN_YES   STMT_START { XST_mYES(0);   XSRETURN(1); } STMT_END
                                                   ^~~~~~~~~~~
/home/smoker12/perl5/perlbrew/perls/perl-5.12.0/lib/5.12.0/amd64-freebsd/CORE/XSUB.h:282:7: note: expanded from macro 'XSRETURN'
    } STMT_END
      ^~~~~~~~
/home/smoker12/perl5/perlbrew/perls/perl-5.12.0/lib/5.12.0/amd64-freebsd/CORE/perl.h:460:21: note: expanded from macro 'STMT_END'
#   define STMT_END     )
                        ^
lib/Simple.c:161:5: warning: '}' and ')' tokens terminating statement expression appear in different macro expansion contexts [-Wcompound-token-split-by-macro]
    XSRETURN_YES;
    ^~~~~~~~~~~~
/home/smoker12/perl5/perlbrew/perls/perl-5.12.0/lib/5.12.0/amd64-freebsd/CORE/XSUB.h:290:65: note: expanded from macro 'XSRETURN_YES'
#define XSRETURN_YES   STMT_START { XST_mYES(0);   XSRETURN(1); } STMT_END
                                                                ^
lib/Simple.c:161:5: note: ')' token is here
    XSRETURN_YES;
    ^~~~~~~~~~~~
/home/smoker12/perl5/perlbrew/perls/perl-5.12.0/lib/5.12.0/amd64-freebsd/CORE/XSUB.h:290:67: note: expanded from macro 'XSRETURN_YES'
#define XSRETURN_YES   STMT_START { XST_mYES(0);   XSRETURN(1); } STMT_END
                                                                  ^~~~~~~~
/home/smoker12/perl5/perlbrew/perls/perl-5.12.0/lib/5.12.0/amd64-freebsd/CORE/perl.h:460:21: note: expanded from macro 'STMT_END'
#   define STMT_END     )
                        ^
20 warnings generated.
lib/Simple.c:86:5: warning: '(' and '{' tokens introducing statement expression appear in different macro expansion contexts [-Wcompound-token-split-by-macro]
    XSRETURN(1);
    ^~~~~~~~~~~
/home/smoker12/perl5/perlbrew/perls/perl-5.12.0/lib/5.12.0/amd64-freebsd/CORE/XSUB.h:278:5: note: expanded from macro 'XSRETURN'
    STMT_START {                                        \
    ^~~~~~~~~~
/home/smoker12/perl5/perlbrew/perls/perl-5.12.0/lib/5.12.0/amd64-freebsd/CORE/perl.h:459:29: note: expanded from macro 'STMT_START'
#   define STMT_START   (void)( /* gcc supports "({ STATEMENTS; })" */
                              ^
lib/Simple.c:86:5: note: '{' token is here
    XSRETURN(1);
    ^~~~~~~~~~~
/home/smoker12/perl5/perlbrew/perls/perl-5.12.0/lib/5.12.0/amd64-freebsd/CORE/XSUB.h:278:16: note: expanded from macro 'XSRETURN'
    STMT_START {                                        \
               ^
lib/Simple.c:86:5: warning: '}' and ')' tokens terminating statement expression appear in different macro expansion contexts [-Wcompound-token-split-by-macro]
    XSRETURN(1);
    ^~~~~~~~~~~
/home/smoker12/perl5/perlbrew/perls/perl-5.12.0/lib/5.12.0/amd64-freebsd/CORE/XSUB.h:282:5: note: expanded from macro 'XSRETURN'
    } STMT_END
    ^
lib/Simple.c:86:5: note: ')' token is here
    XSRETURN(1);
    ^~~~~~~~~~~
/home/smoker12/perl5/perlbrew/perls/perl-5.12.0/lib/5.12.0/amd64-freebsd/CORE/XSUB.h:282:7: note: expanded from macro 'XSRETURN'
    } STMT_END
      ^~~~~~~~
/home/smoker12/perl5/perlbrew/perls/perl-5.12.0/lib/5.12.0/amd64-freebsd/CORE/perl.h:460:21: note: expanded from macro 'STMT_END'
#   define STMT_END     )
                        ^
lib/Simple.c:106:37: warning: '(' and '{' tokens introducing statement expression appear in different macro expansion contexts [-Wcompound-token-split-by-macro]
        sv_setpv(TARG, RETVAL); XSprePUSH; PUSHTARG;
                                           ^~~~~~~~
/home/smoker12/perl5/perlbrew/perls/perl-5.12.0/lib/5.12.0/amd64-freebsd/CORE/pp.h:292:18: note: expanded from macro 'PUSHTARG'
#define PUSHTARG        STMT_START { SvSETMAGIC(TARG); PUSHs(TARG); } STMT_END
                        ^~~~~~~~~~
/home/smoker12/perl5/perlbrew/perls/perl-5.12.0/lib/5.12.0/amd64-freebsd/CORE/perl.h:459:29: note: expanded from macro 'STMT_START'
#   define STMT_START   (void)( /* gcc supports "({ STATEMENTS; })" */
                              ^
lib/Simple.c:106:37: note: '{' token is here
        sv_setpv(TARG, RETVAL); XSprePUSH; PUSHTARG;
                                           ^~~~~~~~
/home/smoker12/perl5/perlbrew/perls/perl-5.12.0/lib/5.12.0/amd64-freebsd/CORE/pp.h:292:29: note: expanded from macro 'PUSHTARG'
#define PUSHTARG        STMT_START { SvSETMAGIC(TARG); PUSHs(TARG); } STMT_END
                                   ^
lib/Simple.c:106:37: warning: '(' and '{' tokens introducing statement expression appear in different macro expansion contexts [-Wcompound-token-split-by-macro]
        sv_setpv(TARG, RETVAL); XSprePUSH; PUSHTARG;
                                           ^~~~~~~~
/home/smoker12/perl5/perlbrew/perls/perl-5.12.0/lib/5.12.0/amd64-freebsd/CORE/pp.h:292:31: note: expanded from macro 'PUSHTARG'
#define PUSHTARG        STMT_START { SvSETMAGIC(TARG); PUSHs(TARG); } STMT_END
                                     ^~~~~~~~~~~~~~~~
/home/smoker12/perl5/perlbrew/perls/perl-5.12.0/lib/5.12.0/amd64-freebsd/CORE/sv.h:1864:23: note: expanded from macro 'SvSETMAGIC'
#define SvSETMAGIC(x) STMT_START { if (SvSMAGICAL(x)) mg_set(x); } STMT_END
                      ^~~~~~~~~~
/home/smoker12/perl5/perlbrew/perls/perl-5.12.0/lib/5.12.0/amd64-freebsd/CORE/perl.h:459:29: note: expanded from macro 'STMT_START'
#   define STMT_START   (void)( /* gcc supports "({ STATEMENTS; })" */
                              ^
lib/Simple.c:106:37: note: '{' token is here
        sv_setpv(TARG, RETVAL); XSprePUSH; PUSHTARG;
                                           ^~~~~~~~
/home/smoker12/perl5/perlbrew/perls/perl-5.12.0/lib/5.12.0/amd64-freebsd/CORE/pp.h:292:31: note: expanded from macro 'PUSHTARG'
#define PUSHTARG        STMT_START { SvSETMAGIC(TARG); PUSHs(TARG); } STMT_END
                                     ^~~~~~~~~~~~~~~~
/home/smoker12/perl5/perlbrew/perls/perl-5.12.0/lib/5.12.0/amd64-freebsd/CORE/sv.h:1864:34: note: expanded from macro 'SvSETMAGIC'
#define SvSETMAGIC(x) STMT_START { if (SvSMAGICAL(x)) mg_set(x); } STMT_END
                                 ^
lib/Simple.c:106:37: warning: '}' and ')' tokens terminating statement expression appear in different macro expansion contexts [-Wcompound-token-split-by-macro]
        sv_setpv(TARG, RETVAL); XSprePUSH; PUSHTARG;
                                           ^~~~~~~~
/home/smoker12/perl5/perlbrew/perls/perl-5.12.0/lib/5.12.0/amd64-freebsd/CORE/pp.h:292:31: note: expanded from macro 'PUSHTARG'
#define PUSHTARG        STMT_START { SvSETMAGIC(TARG); PUSHs(TARG); } STMT_END
                                     ^~~~~~~~~~~~~~~~
/home/smoker12/perl5/perlbrew/perls/perl-5.12.0/lib/5.12.0/amd64-freebsd/CORE/sv.h:1864:66: note: expanded from macro 'SvSETMAGIC'
#define SvSETMAGIC(x) STMT_START { if (SvSMAGICAL(x)) mg_set(x); } STMT_END
                                                                 ^
lib/Simple.c:106:37: note: ')' token is here
        sv_setpv(TARG, RETVAL); XSprePUSH; PUSHTARG;
                                           ^~~~~~~~
/home/smoker12/perl5/perlbrew/perls/perl-5.12.0/lib/5.12.0/amd64-freebsd/CORE/pp.h:292:31: note: expanded from macro 'PUSHTARG'
#define PUSHTARG        STMT_START { SvSETMAGIC(TARG); PUSHs(TARG); } STMT_END
                                     ^~~~~~~~~~~~~~~~
/home/smoker12/perl5/perlbrew/perls/perl-5.12.0/lib/5.12.0/amd64-freebsd/CORE/sv.h:1864:68: note: expanded from macro 'SvSETMAGIC'
#define SvSETMAGIC(x) STMT_START { if (SvSMAGICAL(x)) mg_set(x); } STMT_END
                                                                   ^~~~~~~~
/home/smoker12/perl5/perlbrew/perls/perl-5.12.0/lib/5.12.0/amd64-freebsd/CORE/perl.h:460:21: note: expanded from macro 'STMT_END'
#   define STMT_END     )
                        ^
lib/Simple.c:106:37: warning: '}' and ')' tokens terminating statement expression appear in different macro expansion contexts [-Wcompound-token-split-by-macro]
        sv_setpv(TARG, RETVAL); XSprePUSH; PUSHTARG;
                                           ^~~~~~~~
/home/smoker12/perl5/perlbrew/perls/perl-5.12.0/lib/5.12.0/amd64-freebsd/CORE/pp.h:292:62: note: expanded from macro 'PUSHTARG'
#define PUSHTARG        STMT_START { SvSETMAGIC(TARG); PUSHs(TARG); } STMT_END
                                                                    ^
lib/Simple.c:106:37: note: ')' token is here
        sv_setpv(TARG, RETVAL); XSprePUSH; PUSHTARG;
                                           ^~~~~~~~
/home/smoker12/perl5/perlbrew/perls/perl-5.12.0/lib/5.12.0/amd64-freebsd/CORE/pp.h:292:64: note: expanded from macro 'PUSHTARG'
#define PUSHTARG        STMT_START { SvSETMAGIC(TARG); PUSHs(TARG); } STMT_END
                                                                      ^~~~~~~~
/home/smoker12/perl5/perlbrew/perls/perl-5.12.0/lib/5.12.0/amd64-freebsd/CORE/perl.h:460:21: note: expanded from macro 'STMT_END'
#   define STMT_END     )
                        ^
lib/Simple.c:108:5: warning: '(' and '{' tokens introducing statement expression appear in different macro expansion contexts [-Wcompound-token-split-by-macro]
    XSRETURN(1);
    ^~~~~~~~~~~
/home/smoker12/perl5/perlbrew/perls/perl-5.12.0/lib/5.12.0/amd64-freebsd/CORE/XSUB.h:278:5: note: expanded from macro 'XSRETURN'
    STMT_START {                                        \
    ^~~~~~~~~~
/home/smoker12/perl5/perlbrew/perls/perl-5.12.0/lib/5.12.0/amd64-freebsd/CORE/perl.h:459:29: note: expanded from macro 'STMT_START'
#   define STMT_START   (void)( /* gcc supports "({ STATEMENTS; })" */
                              ^
lib/Simple.c:108:5: note: '{' token is here
    XSRETURN(1);
    ^~~~~~~~~~~
/home/smoker12/perl5/perlbrew/perls/perl-5.12.0/lib/5.12.0/amd64-freebsd/CORE/XSUB.h:278:16: note: expanded from macro 'XSRETURN'
    STMT_START {                                        \
               ^
lib/Simple.c:108:5: warning: '}' and ')' tokens terminating statement expression appear in different macro expansion contexts [-Wcompound-token-split-by-macro]
    XSRETURN(1);
    ^~~~~~~~~~~
/home/smoker12/perl5/perlbrew/perls/perl-5.12.0/lib/5.12.0/amd64-freebsd/CORE/XSUB.h:282:5: note: expanded from macro 'XSRETURN'
    } STMT_END
    ^
lib/Simple.c:108:5: note: ')' token is here
    XSRETURN(1);
    ^~~~~~~~~~~
/home/smoker12/perl5/perlbrew/perls/perl-5.12.0/lib/5.12.0/amd64-freebsd/CORE/XSUB.h:282:7: note: expanded from macro 'XSRETURN'
    } STMT_END
      ^~~~~~~~
/home/smoker12/perl5/perlbrew/perls/perl-5.12.0/lib/5.12.0/amd64-freebsd/CORE/perl.h:460:21: note: expanded from macro 'STMT_END'
#   define STMT_END     )
                        ^
lib/Simple.c:128:37: warning: '(' and '{' tokens introducing statement expression appear in different macro expansion contexts [-Wcompound-token-split-by-macro]
        sv_setpv(TARG, RETVAL); XSprePUSH; PUSHTARG;
                                           ^~~~~~~~
/home/smoker12/perl5/perlbrew/perls/perl-5.12.0/lib/5.12.0/amd64-freebsd/CORE/pp.h:292:18: note: expanded from macro 'PUSHTARG'
#define PUSHTARG        STMT_START { SvSETMAGIC(TARG); PUSHs(TARG); } STMT_END
                        ^~~~~~~~~~
/home/smoker12/perl5/perlbrew/perls/perl-5.12.0/lib/5.12.0/amd64-freebsd/CORE/perl.h:459:29: note: expanded from macro 'STMT_START'
#   define STMT_START   (void)( /* gcc supports "({ STATEMENTS; })" */
                              ^
lib/Simple.c:128:37: note: '{' token is here
        sv_setpv(TARG, RETVAL); XSprePUSH; PUSHTARG;
                                           ^~~~~~~~
/home/smoker12/perl5/perlbrew/perls/perl-5.12.0/lib/5.12.0/amd64-freebsd/CORE/pp.h:292:29: note: expanded from macro 'PUSHTARG'
#define PUSHTARG        STMT_START { SvSETMAGIC(TARG); PUSHs(TARG); } STMT_END
                                   ^
lib/Simple.c:128:37: warning: '(' and '{' tokens introducing statement expression appear in different macro expansion contexts [-Wcompound-token-split-by-macro]
        sv_setpv(TARG, RETVAL); XSprePUSH; PUSHTARG;
                                           ^~~~~~~~
/home/smoker12/perl5/perlbrew/perls/perl-5.12.0/lib/5.12.0/amd64-freebsd/CORE/pp.h:292:31: note: expanded from macro 'PUSHTARG'
#define PUSHTARG        STMT_START { SvSETMAGIC(TARG); PUSHs(TARG); } STMT_END
                                     ^~~~~~~~~~~~~~~~
/home/smoker12/perl5/perlbrew/perls/perl-5.12.0/lib/5.12.0/amd64-freebsd/CORE/sv.h:1864:23: note: expanded from macro 'SvSETMAGIC'
#define SvSETMAGIC(x) STMT_START { if (SvSMAGICAL(x)) mg_set(x); } STMT_END
                      ^~~~~~~~~~
/home/smoker12/perl5/perlbrew/perls/perl-5.12.0/lib/5.12.0/amd64-freebsd/CORE/perl.h:459:29: note: expanded from macro 'STMT_START'
#   define STMT_START   (void)( /* gcc supports "({ STATEMENTS; })" */
                              ^
lib/Simple.c:128:37: note: '{' token is here
        sv_setpv(TARG, RETVAL); XSprePUSH; PUSHTARG;
                                           ^~~~~~~~
/home/smoker12/perl5/perlbrew/perls/perl-5.12.0/lib/5.12.0/amd64-freebsd/CORE/pp.h:292:31: note: expanded from macro 'PUSHTARG'
#define PUSHTARG        STMT_START { SvSETMAGIC(TARG); PUSHs(TARG); } STMT_END
                                     ^~~~~~~~~~~~~~~~
/home/smoker12/perl5/perlbrew/perls/perl-5.12.0/lib/5.12.0/amd64-freebsd/CORE/sv.h:1864:34: note: expanded from macro 'SvSETMAGIC'
#define SvSETMAGIC(x) STMT_START { if (SvSMAGICAL(x)) mg_set(x); } STMT_END
                                 ^
lib/Simple.c:128:37: warning: '}' and ')' tokens terminating statement expression appear in different macro expansion contexts [-Wcompound-token-split-by-macro]
        sv_setpv(TARG, RETVAL); XSprePUSH; PUSHTARG;
                                           ^~~~~~~~
/home/smoker12/perl5/perlbrew/perls/perl-5.12.0/lib/5.12.0/amd64-freebsd/CORE/pp.h:292:31: note: expanded from macro 'PUSHTARG'
#define PUSHTARG        STMT_START { SvSETMAGIC(TARG); PUSHs(TARG); } STMT_END
                                     ^~~~~~~~~~~~~~~~
/home/smoker12/perl5/perlbrew/perls/perl-5.12.0/lib/5.12.0/amd64-freebsd/CORE/sv.h:1864:66: note: expanded from macro 'SvSETMAGIC'
#define SvSETMAGIC(x) STMT_START { if (SvSMAGICAL(x)) mg_set(x); } STMT_END
                                                                 ^
lib/Simple.c:128:37: note: ')' token is here
        sv_setpv(TARG, RETVAL); XSprePUSH; PUSHTARG;
                                           ^~~~~~~~
/home/smoker12/perl5/perlbrew/perls/perl-5.12.0/lib/5.12.0/amd64-freebsd/CORE/pp.h:292:31: note: expanded from macro 'PUSHTARG'
#define PUSHTARG        STMT_START { SvSETMAGIC(TARG); PUSHs(TARG); } STMT_END
                                     ^~~~~~~~~~~~~~~~
/home/smoker12/perl5/perlbrew/perls/perl-5.12.0/lib/5.12.0/amd64-freebsd/CORE/sv.h:1864:68: note: expanded from macro 'SvSETMAGIC'
#define SvSETMAGIC(x) STMT_START { if (SvSMAGICAL(x)) mg_set(x); } STMT_END
                                                                   ^~~~~~~~
/home/smoker12/perl5/perlbrew/perls/perl-5.12.0/lib/5.12.0/amd64-freebsd/CORE/perl.h:460:21: note: expanded from macro 'STMT_END'
#   define STMT_END     )
                        ^
lib/Simple.c:128:37: warning: '}' and ')' tokens terminating statement expression appear in different macro expansion contexts [-Wcompound-token-split-by-macro]
        sv_setpv(TARG, RETVAL); XSprePUSH; PUSHTARG;
                                           ^~~~~~~~
/home/smoker12/perl5/perlbrew/perls/perl-5.12.0/lib/5.12.0/amd64-freebsd/CORE/pp.h:292:62: note: expanded from macro 'PUSHTARG'
#define PUSHTARG        STMT_START { SvSETMAGIC(TARG); PUSHs(TARG); } STMT_END
                                                                    ^
lib/Simple.c:128:37: note: ')' token is here
        sv_setpv(TARG, RETVAL); XSprePUSH; PUSHTARG;
                                           ^~~~~~~~
/home/smoker12/perl5/perlbrew/perls/perl-5.12.0/lib/5.12.0/amd64-freebsd/CORE/pp.h:292:64: note: expanded from macro 'PUSHTARG'
#define PUSHTARG        STMT_START { SvSETMAGIC(TARG); PUSHs(TARG); } STMT_END
                                                                      ^~~~~~~~
/home/smoker12/perl5/perlbrew/perls/perl-5.12.0/lib/5.12.0/amd64-freebsd/CORE/perl.h:460:21: note: expanded from macro 'STMT_END'
#   define STMT_END     )
                        ^
lib/Simple.c:130:5: warning: '(' and '{' tokens introducing statement expression appear in different macro expansion contexts [-Wcompound-token-split-by-macro]
    XSRETURN(1);
    ^~~~~~~~~~~
/home/smoker12/perl5/perlbrew/perls/perl-5.12.0/lib/5.12.0/amd64-freebsd/CORE/XSUB.h:278:5: note: expanded from macro 'XSRETURN'
    STMT_START {                                        \
    ^~~~~~~~~~
/home/smoker12/perl5/perlbrew/perls/perl-5.12.0/lib/5.12.0/amd64-freebsd/CORE/perl.h:459:29: note: expanded from macro 'STMT_START'
#   define STMT_START   (void)( /* gcc supports "({ STATEMENTS; })" */
                              ^
lib/Simple.c:130:5: note: '{' token is here
    XSRETURN(1);
    ^~~~~~~~~~~
/home/smoker12/perl5/perlbrew/perls/perl-5.12.0/lib/5.12.0/amd64-freebsd/CORE/XSUB.h:278:16: note: expanded from macro 'XSRETURN'
    STMT_START {                                        \
               ^
lib/Simple.c:130:5: warning: '}' and ')' tokens terminating statement expression appear in different macro expansion contexts [-Wcompound-token-split-by-macro]
    XSRETURN(1);
    ^~~~~~~~~~~
/home/smoker12/perl5/perlbrew/perls/perl-5.12.0/lib/5.12.0/amd64-freebsd/CORE/XSUB.h:282:5: note: expanded from macro 'XSRETURN'
    } STMT_END
    ^
lib/Simple.c:130:5: note: ')' token is here
    XSRETURN(1);
    ^~~~~~~~~~~
/home/smoker12/perl5/perlbrew/perls/perl-5.12.0/lib/5.12.0/amd64-freebsd/CORE/XSUB.h:282:7: note: expanded from macro 'XSRETURN'
    } STMT_END
      ^~~~~~~~
/home/smoker12/perl5/perlbrew/perls/perl-5.12.0/lib/5.12.0/amd64-freebsd/CORE/perl.h:460:21: note: expanded from macro 'STMT_END'
#   define STMT_END     )
                        ^
lib/Simple.c:152:5: warning: '(' and '{' tokens introducing statement expression appear in different macro expansion contexts [-Wcompound-token-split-by-macro]
    XS_VERSION_BOOTCHECK ;
    ^~~~~~~~~~~~~~~~~~~~
/home/smoker12/perl5/perlbrew/perls/perl-5.12.0/lib/5.12.0/amd64-freebsd/CORE/XSUB.h:298:5: note: expanded from macro 'XS_VERSION_BOOTCHECK'
    STMT_START {                                                        \
    ^~~~~~~~~~
/home/smoker12/perl5/perlbrew/perls/perl-5.12.0/lib/5.12.0/amd64-freebsd/CORE/perl.h:459:29: note: expanded from macro 'STMT_START'
#   define STMT_START   (void)( /* gcc supports "({ STATEMENTS; })" */
                              ^
lib/Simple.c:152:5: note: '{' token is here
    XS_VERSION_BOOTCHECK ;
    ^~~~~~~~~~~~~~~~~~~~
/home/smoker12/perl5/perlbrew/perls/perl-5.12.0/lib/5.12.0/amd64-freebsd/CORE/XSUB.h:298:16: note: expanded from macro 'XS_VERSION_BOOTCHECK'
    STMT_START {                                                        \
               ^
lib/Simple.c:152:5: warning: '}' and ')' tokens terminating statement expression appear in different macro expansion contexts [-Wcompound-token-split-by-macro]
    XS_VERSION_BOOTCHECK ;
    ^~~~~~~~~~~~~~~~~~~~
/home/smoker12/perl5/perlbrew/perls/perl-5.12.0/lib/5.12.0/amd64-freebsd/CORE/XSUB.h:322:5: note: expanded from macro 'XS_VERSION_BOOTCHECK'
    } STMT_END
    ^
lib/Simple.c:152:5: note: ')' token is here
    XS_VERSION_BOOTCHECK ;
    ^~~~~~~~~~~~~~~~~~~~
/home/smoker12/perl5/perlbrew/perls/perl-5.12.0/lib/5.12.0/amd64-freebsd/CORE/XSUB.h:322:7: note: expanded from macro 'XS_VERSION_BOOTCHECK'
    } STMT_END
      ^~~~~~~~
/home/smoker12/perl5/perlbrew/perls/perl-5.12.0/lib/5.12.0/amd64-freebsd/CORE/perl.h:460:21: note: expanded from macro 'STMT_END'
#   define STMT_END     )
                        ^
lib/Simple.c:161:5: warning: '(' and '{' tokens introducing statement expression appear in different macro expansion contexts [-Wcompound-token-split-by-macro]
    XSRETURN_YES;
    ^~~~~~~~~~~~
/home/smoker12/perl5/perlbrew/perls/perl-5.12.0/lib/5.12.0/amd64-freebsd/CORE/XSUB.h:290:24: note: expanded from macro 'XSRETURN_YES'
#define XSRETURN_YES   STMT_START { XST_mYES(0);   XSRETURN(1); } STMT_END
                       ^~~~~~~~~~
/home/smoker12/perl5/perlbrew/perls/perl-5.12.0/lib/5.12.0/amd64-freebsd/CORE/perl.h:459:29: note: expanded from macro 'STMT_START'
#   define STMT_START   (void)( /* gcc supports "({ STATEMENTS; })" */
                              ^
lib/Simple.c:161:5: note: '{' token is here
    XSRETURN_YES;
    ^~~~~~~~~~~~
/home/smoker12/perl5/perlbrew/perls/perl-5.12.0/lib/5.12.0/amd64-freebsd/CORE/XSUB.h:290:35: note: expanded from macro 'XSRETURN_YES'
#define XSRETURN_YES   STMT_START { XST_mYES(0);   XSRETURN(1); } STMT_END
                                  ^
lib/Simple.c:161:5: warning: '(' and '{' tokens introducing statement expression appear in different macro expansion contexts [-Wcompound-token-split-by-macro]
    XSRETURN_YES;
    ^~~~~~~~~~~~
/home/smoker12/perl5/perlbrew/perls/perl-5.12.0/lib/5.12.0/amd64-freebsd/CORE/XSUB.h:290:52: note: expanded from macro 'XSRETURN_YES'
#define XSRETURN_YES   STMT_START { XST_mYES(0);   XSRETURN(1); } STMT_END
                                                   ^~~~~~~~~~~
/home/smoker12/perl5/perlbrew/perls/perl-5.12.0/lib/5.12.0/amd64-freebsd/CORE/XSUB.h:278:5: note: expanded from macro 'XSRETURN'
    STMT_START {                                        \
    ^~~~~~~~~~
/home/smoker12/perl5/perlbrew/perls/perl-5.12.0/lib/5.12.0/amd64-freebsd/CORE/perl.h:459:29: note: expanded from macro 'STMT_START'
#   define STMT_START   (void)( /* gcc supports "({ STATEMENTS; })" */
                              ^
lib/Simple.c:161:5: note: '{' token is here
    XSRETURN_YES;
    ^~~~~~~~~~~~
/home/smoker12/perl5/perlbrew/perls/perl-5.12.0/lib/5.12.0/amd64-freebsd/CORE/XSUB.h:290:52: note: expanded from macro 'XSRETURN_YES'
#define XSRETURN_YES   STMT_START { XST_mYES(0);   XSRETURN(1); } STMT_END
                                                   ^~~~~~~~~~~
/home/smoker12/perl5/perlbrew/perls/perl-5.12.0/lib/5.12.0/amd64-freebsd/CORE/XSUB.h:278:16: note: expanded from macro 'XSRETURN'
    STMT_START {                                        \
               ^
lib/Simple.c:161:5: warning: '}' and ')' tokens terminating statement expression appear in different macro expansion contexts [-Wcompound-token-split-by-macro]
    XSRETURN_YES;
    ^~~~~~~~~~~~
/home/smoker12/perl5/perlbrew/perls/perl-5.12.0/lib/5.12.0/amd64-freebsd/CORE/XSUB.h:290:52: note: expanded from macro 'XSRETURN_YES'
#define XSRETURN_YES   STMT_START { XST_mYES(0);   XSRETURN(1); } STMT_END
                                                   ^~~~~~~~~~~
/home/smoker12/perl5/perlbrew/perls/perl-5.12.0/lib/5.12.0/amd64-freebsd/CORE/XSUB.h:282:5: note: expanded from macro 'XSRETURN'
    } STMT_END
    ^
lib/Simple.c:161:5: note: ')' token is here
    XSRETURN_YES;
    ^~~~~~~~~~~~
/home/smoker12/perl5/perlbrew/perls/perl-5.12.0/lib/5.12.0/amd64-freebsd/CORE/XSUB.h:290:52: note: expanded from macro 'XSRETURN_YES'
#define XSRETURN_YES   STMT_START { XST_mYES(0);   XSRETURN(1); } STMT_END
                                                   ^~~~~~~~~~~
/home/smoker12/perl5/perlbrew/perls/perl-5.12.0/lib/5.12.0/amd64-freebsd/CORE/XSUB.h:282:7: note: expanded from macro 'XSRETURN'
    } STMT_END
      ^~~~~~~~
/home/smoker12/perl5/perlbrew/perls/perl-5.12.0/lib/5.12.0/amd64-freebsd/CORE/perl.h:460:21: note: expanded from macro 'STMT_END'
#   define STMT_END     )
                        ^
lib/Simple.c:161:5: warning: '}' and ')' tokens terminating statement expression appear in different macro expansion contexts [-Wcompound-token-split-by-macro]
    XSRETURN_YES;
    ^~~~~~~~~~~~
/home/smoker12/perl5/perlbrew/perls/perl-5.12.0/lib/5.12.0/amd64-freebsd/CORE/XSUB.h:290:65: note: expanded from macro 'XSRETURN_YES'
#define XSRETURN_YES   STMT_START { XST_mYES(0);   XSRETURN(1); } STMT_END
                                                                ^
lib/Simple.c:161:5: note: ')' token is here
    XSRETURN_YES;
    ^~~~~~~~~~~~
/home/smoker12/perl5/perlbrew/perls/perl-5.12.0/lib/5.12.0/amd64-freebsd/CORE/XSUB.h:290:67: note: expanded from macro 'XSRETURN_YES'
#define XSRETURN_YES   STMT_START { XST_mYES(0);   XSRETURN(1); } STMT_END
                                                                  ^~~~~~~~
/home/smoker12/perl5/perlbrew/perls/perl-5.12.0/lib/5.12.0/amd64-freebsd/CORE/perl.h:460:21: note: expanded from macro 'STMT_END'
#   define STMT_END     )
                        ^
20 warnings generated.
lib/Simple/With/Deep/Name.c:86:5: warning: '(' and '{' tokens introducing statement expression appear in different macro expansion contexts [-Wcompound-token-split-by-macro]
    XSRETURN(1);
    ^~~~~~~~~~~
/home/smoker12/perl5/perlbrew/perls/perl-5.12.0/lib/5.12.0/amd64-freebsd/CORE/XSUB.h:278:5: note: expanded from macro 'XSRETURN'
    STMT_START {                                        \
    ^~~~~~~~~~
/home/smoker12/perl5/perlbrew/perls/perl-5.12.0/lib/5.12.0/amd64-freebsd/CORE/perl.h:459:29: note: expanded from macro 'STMT_START'
#   define STMT_START   (void)( /* gcc supports "({ STATEMENTS; })" */
                              ^
lib/Simple/With/Deep/Name.c:86:5: note: '{' token is here
    XSRETURN(1);
    ^~~~~~~~~~~
/home/smoker12/perl5/perlbrew/perls/perl-5.12.0/lib/5.12.0/amd64-freebsd/CORE/XSUB.h:278:16: note: expanded from macro 'XSRETURN'
    STMT_START {                                        \
               ^
lib/Simple/With/Deep/Name.c:86:5: warning: '}' and ')' tokens terminating statement expression appear in different macro expansion contexts [-Wcompound-token-split-by-macro]
    XSRETURN(1);
    ^~~~~~~~~~~
/home/smoker12/perl5/perlbrew/perls/perl-5.12.0/lib/5.12.0/amd64-freebsd/CORE/XSUB.h:282:5: note: expanded from macro 'XSRETURN'
    } STMT_END
    ^
lib/Simple/With/Deep/Name.c:86:5: note: ')' token is here
    XSRETURN(1);
    ^~~~~~~~~~~
/home/smoker12/perl5/perlbrew/perls/perl-5.12.0/lib/5.12.0/amd64-freebsd/CORE/XSUB.h:282:7: note: expanded from macro 'XSRETURN'
    } STMT_END
      ^~~~~~~~
/home/smoker12/perl5/perlbrew/perls/perl-5.12.0/lib/5.12.0/amd64-freebsd/CORE/perl.h:460:21: note: expanded from macro 'STMT_END'
#   define STMT_END     )
                        ^
lib/Simple/With/Deep/Name.c:106:37: warning: '(' and '{' tokens introducing statement expression appear in different macro expansion contexts [-Wcompound-token-split-by-macro]
        sv_setpv(TARG, RETVAL); XSprePUSH; PUSHTARG;
                                           ^~~~~~~~
/home/smoker12/perl5/perlbrew/perls/perl-5.12.0/lib/5.12.0/amd64-freebsd/CORE/pp.h:292:18: note: expanded from macro 'PUSHTARG'
#define PUSHTARG        STMT_START { SvSETMAGIC(TARG); PUSHs(TARG); } STMT_END
                        ^~~~~~~~~~
/home/smoker12/perl5/perlbrew/perls/perl-5.12.0/lib/5.12.0/amd64-freebsd/CORE/perl.h:459:29: note: expanded from macro 'STMT_START'
#   define STMT_START   (void)( /* gcc supports "({ STATEMENTS; })" */
                              ^
lib/Simple/With/Deep/Name.c:106:37: note: '{' token is here
        sv_setpv(TARG, RETVAL); XSprePUSH; PUSHTARG;
                                           ^~~~~~~~
/home/smoker12/perl5/perlbrew/perls/perl-5.12.0/lib/5.12.0/amd64-freebsd/CORE/pp.h:292:29: note: expanded from macro 'PUSHTARG'
#define PUSHTARG        STMT_START { SvSETMAGIC(TARG); PUSHs(TARG); } STMT_END
                                   ^
lib/Simple/With/Deep/Name.c:106:37: warning: '(' and '{' tokens introducing statement expression appear in different macro expansion contexts [-Wcompound-token-split-by-macro]
        sv_setpv(TARG, RETVAL); XSprePUSH; PUSHTARG;
                                           ^~~~~~~~
/home/smoker12/perl5/perlbrew/perls/perl-5.12.0/lib/5.12.0/amd64-freebsd/CORE/pp.h:292:31: note: expanded from macro 'PUSHTARG'
#define PUSHTARG        STMT_START { SvSETMAGIC(TARG); PUSHs(TARG); } STMT_END
                                     ^~~~~~~~~~~~~~~~
/home/smoker12/perl5/perlbrew/perls/perl-5.12.0/lib/5.12.0/amd64-freebsd/CORE/sv.h:1864:23: note: expanded from macro 'SvSETMAGIC'
#define SvSETMAGIC(x) STMT_START { if (SvSMAGICAL(x)) mg_set(x); } STMT_END
                      ^~~~~~~~~~
/home/smoker12/perl5/perlbrew/perls/perl-5.12.0/lib/5.12.0/amd64-freebsd/CORE/perl.h:459:29: note: expanded from macro 'STMT_START'
#   define STMT_START   (void)( /* gcc supports "({ STATEMENTS; })" */
                              ^
lib/Simple/With/Deep/Name.c:106:37: note: '{' token is here
        sv_setpv(TARG, RETVAL); XSprePUSH; PUSHTARG;
                                           ^~~~~~~~
/home/smoker12/perl5/perlbrew/perls/perl-5.12.0/lib/5.12.0/amd64-freebsd/CORE/pp.h:292:31: note: expanded from macro 'PUSHTARG'
#define PUSHTARG        STMT_START { SvSETMAGIC(TARG); PUSHs(TARG); } STMT_END
                                     ^~~~~~~~~~~~~~~~
/home/smoker12/perl5/perlbrew/perls/perl-5.12.0/lib/5.12.0/amd64-freebsd/CORE/sv.h:1864:34: note: expanded from macro 'SvSETMAGIC'
#define SvSETMAGIC(x) STMT_START { if (SvSMAGICAL(x)) mg_set(x); } STMT_END
                                 ^
lib/Simple/With/Deep/Name.c:106:37: warning: '}' and ')' tokens terminating statement expression appear in different macro expansion contexts [-Wcompound-token-split-by-macro]
        sv_setpv(TARG, RETVAL); XSprePUSH; PUSHTARG;
                                           ^~~~~~~~
/home/smoker12/perl5/perlbrew/perls/perl-5.12.0/lib/5.12.0/amd64-freebsd/CORE/pp.h:292:31: note: expanded from macro 'PUSHTARG'
#define PUSHTARG        STMT_START { SvSETMAGIC(TARG); PUSHs(TARG); } STMT_END
                                     ^~~~~~~~~~~~~~~~
/home/smoker12/perl5/perlbrew/perls/perl-5.12.0/lib/5.12.0/amd64-freebsd/CORE/sv.h:1864:66: note: expanded from macro 'SvSETMAGIC'
#define SvSETMAGIC(x) STMT_START { if (SvSMAGICAL(x)) mg_set(x); } STMT_END
                                                                 ^
lib/Simple/With/Deep/Name.c:106:37: note: ')' token is here
        sv_setpv(TARG, RETVAL); XSprePUSH; PUSHTARG;
                                           ^~~~~~~~
/home/smoker12/perl5/perlbrew/perls/perl-5.12.0/lib/5.12.0/amd64-freebsd/CORE/pp.h:292:31: note: expanded from macro 'PUSHTARG'
#define PUSHTARG        STMT_START { SvSETMAGIC(TARG); PUSHs(TARG); } STMT_END
                                     ^~~~~~~~~~~~~~~~
/home/smoker12/perl5/perlbrew/perls/perl-5.12.0/lib/5.12.0/amd64-freebsd/CORE/sv.h:1864:68: note: expanded from macro 'SvSETMAGIC'
#define SvSETMAGIC(x) STMT_START { if (SvSMAGICAL(x)) mg_set(x); } STMT_END
                                                                   ^~~~~~~~
/home/smoker12/perl5/perlbrew/perls/perl-5.12.0/lib/5.12.0/amd64-freebsd/CORE/perl.h:460:21: note: expanded from macro 'STMT_END'
#   define STMT_END     )
                        ^
lib/Simple/With/Deep/Name.c:106:37: warning: '}' and ')' tokens terminating statement expression appear in different macro expansion contexts [-Wcompound-token-split-by-macro]
        sv_setpv(TARG, RETVAL); XSprePUSH; PUSHTARG;
                                           ^~~~~~~~
/home/smoker12/perl5/perlbrew/perls/perl-5.12.0/lib/5.12.0/amd64-freebsd/CORE/pp.h:292:62: note: expanded from macro 'PUSHTARG'
#define PUSHTARG        STMT_START { SvSETMAGIC(TARG); PUSHs(TARG); } STMT_END
                                                                    ^
lib/Simple/With/Deep/Name.c:106:37: note: ')' token is here
        sv_setpv(TARG, RETVAL); XSprePUSH; PUSHTARG;
                                           ^~~~~~~~
/home/smoker12/perl5/perlbrew/perls/perl-5.12.0/lib/5.12.0/amd64-freebsd/CORE/pp.h:292:64: note: expanded from macro 'PUSHTARG'
#define PUSHTARG        STMT_START { SvSETMAGIC(TARG); PUSHs(TARG); } STMT_END
                                                                      ^~~~~~~~
/home/smoker12/perl5/perlbrew/perls/perl-5.12.0/lib/5.12.0/amd64-freebsd/CORE/perl.h:460:21: note: expanded from macro 'STMT_END'
#   define STMT_END     )
                        ^
lib/Simple/With/Deep/Name.c:108:5: warning: '(' and '{' tokens introducing statement expression appear in different macro expansion contexts [-Wcompound-token-split-by-macro]
    XSRETURN(1);
    ^~~~~~~~~~~
/home/smoker12/perl5/perlbrew/perls/perl-5.12.0/lib/5.12.0/amd64-freebsd/CORE/XSUB.h:278:5: note: expanded from macro 'XSRETURN'
    STMT_START {                                        \
    ^~~~~~~~~~
/home/smoker12/perl5/perlbrew/perls/perl-5.12.0/lib/5.12.0/amd64-freebsd/CORE/perl.h:459:29: note: expanded from macro 'STMT_START'
#   define STMT_START   (void)( /* gcc supports "({ STATEMENTS; })" */
                              ^
lib/Simple/With/Deep/Name.c:108:5: note: '{' token is here
    XSRETURN(1);
    ^~~~~~~~~~~
/home/smoker12/perl5/perlbrew/perls/perl-5.12.0/lib/5.12.0/amd64-freebsd/CORE/XSUB.h:278:16: note: expanded from macro 'XSRETURN'
    STMT_START {                                        \
               ^
lib/Simple/With/Deep/Name.c:108:5: warning: '}' and ')' tokens terminating statement expression appear in different macro expansion contexts [-Wcompound-token-split-by-macro]
    XSRETURN(1);
    ^~~~~~~~~~~
/home/smoker12/perl5/perlbrew/perls/perl-5.12.0/lib/5.12.0/amd64-freebsd/CORE/XSUB.h:282:5: note: expanded from macro 'XSRETURN'
    } STMT_END
    ^
lib/Simple/With/Deep/Name.c:108:5: note: ')' token is here
    XSRETURN(1);
    ^~~~~~~~~~~
/home/smoker12/perl5/perlbrew/perls/perl-5.12.0/lib/5.12.0/amd64-freebsd/CORE/XSUB.h:282:7: note: expanded from macro 'XSRETURN'
    } STMT_END
      ^~~~~~~~
/home/smoker12/perl5/perlbrew/perls/perl-5.12.0/lib/5.12.0/amd64-freebsd/CORE/perl.h:460:21: note: expanded from macro 'STMT_END'
#   define STMT_END     )
                        ^
lib/Simple/With/Deep/Name.c:128:37: warning: '(' and '{' tokens introducing statement expression appear in different macro expansion contexts [-Wcompound-token-split-by-macro]
        sv_setpv(TARG, RETVAL); XSprePUSH; PUSHTARG;
                                           ^~~~~~~~
/home/smoker12/perl5/perlbrew/perls/perl-5.12.0/lib/5.12.0/amd64-freebsd/CORE/pp.h:292:18: note: expanded from macro 'PUSHTARG'
#define PUSHTARG        STMT_START { SvSETMAGIC(TARG); PUSHs(TARG); } STMT_END
                        ^~~~~~~~~~
/home/smoker12/perl5/perlbrew/perls/perl-5.12.0/lib/5.12.0/amd64-freebsd/CORE/perl.h:459:29: note: expanded from macro 'STMT_START'
#   define STMT_START   (void)( /* gcc supports "({ STATEMENTS; })" */
                              ^
lib/Simple/With/Deep/Name.c:128:37: note: '{' token is here
        sv_setpv(TARG, RETVAL); XSprePUSH; PUSHTARG;
                                           ^~~~~~~~
/home/smoker12/perl5/perlbrew/perls/perl-5.12.0/lib/5.12.0/amd64-freebsd/CORE/pp.h:292:29: note: expanded from macro 'PUSHTARG'
#define PUSHTARG        STMT_START { SvSETMAGIC(TARG); PUSHs(TARG); } STMT_END
                                   ^
lib/Simple/With/Deep/Name.c:128:37: warning: '(' and '{' tokens introducing statement expression appear in different macro expansion contexts [-Wcompound-token-split-by-macro]
        sv_setpv(TARG, RETVAL); XSprePUSH; PUSHTARG;
                                           ^~~~~~~~
/home/smoker12/perl5/perlbrew/perls/perl-5.12.0/lib/5.12.0/amd64-freebsd/CORE/pp.h:292:31: note: expanded from macro 'PUSHTARG'
#define PUSHTARG        STMT_START { SvSETMAGIC(TARG); PUSHs(TARG); } STMT_END
                                     ^~~~~~~~~~~~~~~~
/home/smoker12/perl5/perlbrew/perls/perl-5.12.0/lib/5.12.0/amd64-freebsd/CORE/sv.h:1864:23: note: expanded from macro 'SvSETMAGIC'
#define SvSETMAGIC(x) STMT_START { if (SvSMAGICAL(x)) mg_set(x); } STMT_END
                      ^~~~~~~~~~
/home/smoker12/perl5/perlbrew/perls/perl-5.12.0/lib/5.12.0/amd64-freebsd/CORE/perl.h:459:29: note: expanded from macro 'STMT_START'
#   define STMT_START   (void)( /* gcc supports "({ STATEMENTS; })" */
                              ^
lib/Simple/With/Deep/Name.c:128:37: note: '{' token is here
        sv_setpv(TARG, RETVAL); XSprePUSH; PUSHTARG;
                                           ^~~~~~~~
/home/smoker12/perl5/perlbrew/perls/perl-5.12.0/lib/5.12.0/amd64-freebsd/CORE/pp.h:292:31: note: expanded from macro 'PUSHTARG'
#define PUSHTARG        STMT_START { SvSETMAGIC(TARG); PUSHs(TARG); } STMT_END
                                     ^~~~~~~~~~~~~~~~
/home/smoker12/perl5/perlbrew/perls/perl-5.12.0/lib/5.12.0/amd64-freebsd/CORE/sv.h:1864:34: note: expanded from macro 'SvSETMAGIC'
#define SvSETMAGIC(x) STMT_START { if (SvSMAGICAL(x)) mg_set(x); } STMT_END
                                 ^
lib/Simple/With/Deep/Name.c:128:37: warning: '}' and ')' tokens terminating statement expression appear in different macro expansion contexts [-Wcompound-token-split-by-macro]
        sv_setpv(TARG, RETVAL); XSprePUSH; PUSHTARG;
                                           ^~~~~~~~
/home/smoker12/perl5/perlbrew/perls/perl-5.12.0/lib/5.12.0/amd64-freebsd/CORE/pp.h:292:31: note: expanded from macro 'PUSHTARG'
#define PUSHTARG        STMT_START { SvSETMAGIC(TARG); PUSHs(TARG); } STMT_END
                                     ^~~~~~~~~~~~~~~~
/home/smoker12/perl5/perlbrew/perls/perl-5.12.0/lib/5.12.0/amd64-freebsd/CORE/sv.h:1864:66: note: expanded from macro 'SvSETMAGIC'
#define SvSETMAGIC(x) STMT_START { if (SvSMAGICAL(x)) mg_set(x); } STMT_END
                                                                 ^
lib/Simple/With/Deep/Name.c:128:37: note: ')' token is here
        sv_setpv(TARG, RETVAL); XSprePUSH; PUSHTARG;
                                           ^~~~~~~~
/home/smoker12/perl5/perlbrew/perls/perl-5.12.0/lib/5.12.0/amd64-freebsd/CORE/pp.h:292:31: note: expanded from macro 'PUSHTARG'
#define PUSHTARG        STMT_START { SvSETMAGIC(TARG); PUSHs(TARG); } STMT_END
                                     ^~~~~~~~~~~~~~~~
/home/smoker12/perl5/perlbrew/perls/perl-5.12.0/lib/5.12.0/amd64-freebsd/CORE/sv.h:1864:68: note: expanded from macro 'SvSETMAGIC'
#define SvSETMAGIC(x) STMT_START { if (SvSMAGICAL(x)) mg_set(x); } STMT_END
                                                                   ^~~~~~~~
/home/smoker12/perl5/perlbrew/perls/perl-5.12.0/lib/5.12.0/amd64-freebsd/CORE/perl.h:460:21: note: expanded from macro 'STMT_END'
#   define STMT_END     )
                        ^
lib/Simple/With/Deep/Name.c:128:37: warning: '}' and ')' tokens terminating statement expression appear in different macro expansion contexts [-Wcompound-token-split-by-macro]
        sv_setpv(TARG, RETVAL); XSprePUSH; PUSHTARG;
                                           ^~~~~~~~
/home/smoker12/perl5/perlbrew/perls/perl-5.12.0/lib/5.12.0/amd64-freebsd/CORE/pp.h:292:62: note: expanded from macro 'PUSHTARG'
#define PUSHTARG        STMT_START { SvSETMAGIC(TARG); PUSHs(TARG); } STMT_END
                                                                    ^
lib/Simple/With/Deep/Name.c:128:37: note: ')' token is here
        sv_setpv(TARG, RETVAL); XSprePUSH; PUSHTARG;
                                           ^~~~~~~~
/home/smoker12/perl5/perlbrew/perls/perl-5.12.0/lib/5.12.0/amd64-freebsd/CORE/pp.h:292:64: note: expanded from macro 'PUSHTARG'
#define PUSHTARG        STMT_START { SvSETMAGIC(TARG); PUSHs(TARG); } STMT_END
                                                                      ^~~~~~~~
/home/smoker12/perl5/perlbrew/perls/perl-5.12.0/lib/5.12.0/amd64-freebsd/CORE/perl.h:460:21: note: expanded from macro 'STMT_END'
#   define STMT_END     )
                        ^
lib/Simple/With/Deep/Name.c:130:5: warning: '(' and '{' tokens introducing statement expression appear in different macro expansion contexts [-Wcompound-token-split-by-macro]
    XSRETURN(1);
    ^~~~~~~~~~~
/home/smoker12/perl5/perlbrew/perls/perl-5.12.0/lib/5.12.0/amd64-freebsd/CORE/XSUB.h:278:5: note: expanded from macro 'XSRETURN'
    STMT_START {                                        \
    ^~~~~~~~~~
/home/smoker12/perl5/perlbrew/perls/perl-5.12.0/lib/5.12.0/amd64-freebsd/CORE/perl.h:459:29: note: expanded from macro 'STMT_START'
#   define STMT_START   (void)( /* gcc supports "({ STATEMENTS; })" */
                              ^
lib/Simple/With/Deep/Name.c:130:5: note: '{' token is here
    XSRETURN(1);
    ^~~~~~~~~~~
/home/smoker12/perl5/perlbrew/perls/perl-5.12.0/lib/5.12.0/amd64-freebsd/CORE/XSUB.h:278:16: note: expanded from macro 'XSRETURN'
    STMT_START {                                        \
               ^
lib/Simple/With/Deep/Name.c:130:5: warning: '}' and ')' tokens terminating statement expression appear in different macro expansion contexts [-Wcompound-token-split-by-macro]
    XSRETURN(1);
    ^~~~~~~~~~~
/home/smoker12/perl5/perlbrew/perls/perl-5.12.0/lib/5.12.0/amd64-freebsd/CORE/XSUB.h:282:5: note: expanded from macro 'XSRETURN'
    } STMT_END
    ^
lib/Simple/With/Deep/Name.c:130:5: note: ')' token is here
    XSRETURN(1);
    ^~~~~~~~~~~
/home/smoker12/perl5/perlbrew/perls/perl-5.12.0/lib/5.12.0/amd64-freebsd/CORE/XSUB.h:282:7: note: expanded from macro 'XSRETURN'
    } STMT_END
      ^~~~~~~~
/home/smoker12/perl5/perlbrew/perls/perl-5.12.0/lib/5.12.0/amd64-freebsd/CORE/perl.h:460:21: note: expanded from macro 'STMT_END'
#   define STMT_END     )
                        ^
lib/Simple/With/Deep/Name.c:152:5: warning: '(' and '{' tokens introducing statement expression appear in different macro expansion contexts [-Wcompound-token-split-by-macro]
    XS_VERSION_BOOTCHECK ;
    ^~~~~~~~~~~~~~~~~~~~
/home/smoker12/perl5/perlbrew/perls/perl-5.12.0/lib/5.12.0/amd64-freebsd/CORE/XSUB.h:298:5: note: expanded from macro 'XS_VERSION_BOOTCHECK'
    STMT_START {                                                        \
    ^~~~~~~~~~
/home/smoker12/perl5/perlbrew/perls/perl-5.12.0/lib/5.12.0/amd64-freebsd/CORE/perl.h:459:29: note: expanded from macro 'STMT_START'
#   define STMT_START   (void)( /* gcc supports "({ STATEMENTS; })" */
                              ^
lib/Simple/With/Deep/Name.c:152:5: note: '{' token is here
    XS_VERSION_BOOTCHECK ;
    ^~~~~~~~~~~~~~~~~~~~
/home/smoker12/perl5/perlbrew/perls/perl-5.12.0/lib/5.12.0/amd64-freebsd/CORE/XSUB.h:298:16: note: expanded from macro 'XS_VERSION_BOOTCHECK'
    STMT_START {                                                        \
               ^
lib/Simple/With/Deep/Name.c:152:5: warning: '}' and ')' tokens terminating statement expression appear in different macro expansion contexts [-Wcompound-token-split-by-macro]
    XS_VERSION_BOOTCHECK ;
    ^~~~~~~~~~~~~~~~~~~~
/home/smoker12/perl5/perlbrew/perls/perl-5.12.0/lib/5.12.0/amd64-freebsd/CORE/XSUB.h:322:5: note: expanded from macro 'XS_VERSION_BOOTCHECK'
    } STMT_END
    ^
lib/Simple/With/Deep/Name.c:152:5: note: ')' token is here
    XS_VERSION_BOOTCHECK ;
    ^~~~~~~~~~~~~~~~~~~~
/home/smoker12/perl5/perlbrew/perls/perl-5.12.0/lib/5.12.0/amd64-freebsd/CORE/XSUB.h:322:7: note: expanded from macro 'XS_VERSION_BOOTCHECK'
    } STMT_END
      ^~~~~~~~
/home/smoker12/perl5/perlbrew/perls/perl-5.12.0/lib/5.12.0/amd64-freebsd/CORE/perl.h:460:21: note: expanded from macro 'STMT_END'
#   define STMT_END     )
                        ^
lib/Simple/With/Deep/Name.c:161:5: warning: '(' and '{' tokens introducing statement expression appear in different macro expansion contexts [-Wcompound-token-split-by-macro]
    XSRETURN_YES;
    ^~~~~~~~~~~~
/home/smoker12/perl5/perlbrew/perls/perl-5.12.0/lib/5.12.0/amd64-freebsd/CORE/XSUB.h:290:24: note: expanded from macro 'XSRETURN_YES'
#define XSRETURN_YES   STMT_START { XST_mYES(0);   XSRETURN(1); } STMT_END
                       ^~~~~~~~~~
/home/smoker12/perl5/perlbrew/perls/perl-5.12.0/lib/5.12.0/amd64-freebsd/CORE/perl.h:459:29: note: expanded from macro 'STMT_START'
#   define STMT_START   (void)( /* gcc supports "({ STATEMENTS; })" */
                              ^
lib/Simple/With/Deep/Name.c:161:5: note: '{' token is here
    XSRETURN_YES;
    ^~~~~~~~~~~~
/home/smoker12/perl5/perlbrew/perls/perl-5.12.0/lib/5.12.0/amd64-freebsd/CORE/XSUB.h:290:35: note: expanded from macro 'XSRETURN_YES'
#define XSRETURN_YES   STMT_START { XST_mYES(0);   XSRETURN(1); } STMT_END
                                  ^
lib/Simple/With/Deep/Name.c:161:5: warning: '(' and '{' tokens introducing statement expression appear in different macro expansion contexts [-Wcompound-token-split-by-macro]
    XSRETURN_YES;
    ^~~~~~~~~~~~
/home/smoker12/perl5/perlbrew/perls/perl-5.12.0/lib/5.12.0/amd64-freebsd/CORE/XSUB.h:290:52: note: expanded from macro 'XSRETURN_YES'
#define XSRETURN_YES   STMT_START { XST_mYES(0);   XSRETURN(1); } STMT_END
                                                   ^~~~~~~~~~~
/home/smoker12/perl5/perlbrew/perls/perl-5.12.0/lib/5.12.0/amd64-freebsd/CORE/XSUB.h:278:5: note: expanded from macro 'XSRETURN'
    STMT_START {                                        \
    ^~~~~~~~~~
/home/smoker12/perl5/perlbrew/perls/perl-5.12.0/lib/5.12.0/amd64-freebsd/CORE/perl.h:459:29: note: expanded from macro 'STMT_START'
#   define STMT_START   (void)( /* gcc supports "({ STATEMENTS; })" */
                              ^
lib/Simple/With/Deep/Name.c:161:5: note: '{' token is here
    XSRETURN_YES;
    ^~~~~~~~~~~~
/home/smoker12/perl5/perlbrew/perls/perl-5.12.0/lib/5.12.0/amd64-freebsd/CORE/XSUB.h:290:52: note: expanded from macro 'XSRETURN_YES'
#define XSRETURN_YES   STMT_START { XST_mYES(0);   XSRETURN(1); } STMT_END
                                                   ^~~~~~~~~~~
/home/smoker12/perl5/perlbrew/perls/perl-5.12.0/lib/5.12.0/amd64-freebsd/CORE/XSUB.h:278:16: note: expanded from macro 'XSRETURN'
    STMT_START {                                        \
               ^
lib/Simple/With/Deep/Name.c:161:5: warning: '}' and ')' tokens terminating statement expression appear in different macro expansion contexts [-Wcompound-token-split-by-macro]
    XSRETURN_YES;
    ^~~~~~~~~~~~
/home/smoker12/perl5/perlbrew/perls/perl-5.12.0/lib/5.12.0/amd64-freebsd/CORE/XSUB.h:290:52: note: expanded from macro 'XSRETURN_YES'
#define XSRETURN_YES   STMT_START { XST_mYES(0);   XSRETURN(1); } STMT_END
                                                   ^~~~~~~~~~~
/home/smoker12/perl5/perlbrew/perls/perl-5.12.0/lib/5.12.0/amd64-freebsd/CORE/XSUB.h:282:5: note: expanded from macro 'XSRETURN'
    } STMT_END
    ^
lib/Simple/With/Deep/Name.c:161:5: note: ')' token is here
    XSRETURN_YES;
    ^~~~~~~~~~~~
/home/smoker12/perl5/perlbrew/perls/perl-5.12.0/lib/5.12.0/amd64-freebsd/CORE/XSUB.h:290:52: note: expanded from macro 'XSRETURN_YES'
#define XSRETURN_YES   STMT_START { XST_mYES(0);   XSRETURN(1); } STMT_END
                                                   ^~~~~~~~~~~
/home/smoker12/perl5/perlbrew/perls/perl-5.12.0/lib/5.12.0/amd64-freebsd/CORE/XSUB.h:282:7: note: expanded from macro 'XSRETURN'
    } STMT_END
      ^~~~~~~~
/home/smoker12/perl5/perlbrew/perls/perl-5.12.0/lib/5.12.0/amd64-freebsd/CORE/perl.h:460:21: note: expanded from macro 'STMT_END'
#   define STMT_END     )
                        ^
lib/Simple/With/Deep/Name.c:161:5: warning: '}' and ')' tokens terminating statement expression appear in different macro expansion contexts [-Wcompound-token-split-by-macro]
    XSRETURN_YES;
    ^~~~~~~~~~~~
/home/smoker12/perl5/perlbrew/perls/perl-5.12.0/lib/5.12.0/amd64-freebsd/CORE/XSUB.h:290:65: note: expanded from macro 'XSRETURN_YES'
#define XSRETURN_YES   STMT_START { XST_mYES(0);   XSRETURN(1); } STMT_END
                                                                ^
lib/Simple/With/Deep/Name.c:161:5: note: ')' token is here
    XSRETURN_YES;
    ^~~~~~~~~~~~
/home/smoker12/perl5/perlbrew/perls/perl-5.12.0/lib/5.12.0/amd64-freebsd/CORE/XSUB.h:290:67: note: expanded from macro 'XSRETURN_YES'
#define XSRETURN_YES   STMT_START { XST_mYES(0);   XSRETURN(1); } STMT_END
                                                                  ^~~~~~~~
/home/smoker12/perl5/perlbrew/perls/perl-5.12.0/lib/5.12.0/amd64-freebsd/CORE/perl.h:460:21: note: expanded from macro 'STMT_END'
#   define STMT_END     )
                        ^
20 warnings generated.
lib/Simple.c:86:5: warning: '(' and '{' tokens introducing statement expression appear in different macro expansion contexts [-Wcompound-token-split-by-macro]
    XSRETURN(1);
    ^~~~~~~~~~~
/home/smoker12/perl5/perlbrew/perls/perl-5.12.0/lib/5.12.0/amd64-freebsd/CORE/XSUB.h:278:5: note: expanded from macro 'XSRETURN'
    STMT_START {                                        \
    ^~~~~~~~~~
/home/smoker12/perl5/perlbrew/perls/perl-5.12.0/lib/5.12.0/amd64-freebsd/CORE/perl.h:459:29: note: expanded from macro 'STMT_START'
#   define STMT_START   (void)( /* gcc supports "({ STATEMENTS; })" */
                              ^
lib/Simple.c:86:5: note: '{' token is here
    XSRETURN(1);
    ^~~~~~~~~~~
/home/smoker12/perl5/perlbrew/perls/perl-5.12.0/lib/5.12.0/amd64-freebsd/CORE/XSUB.h:278:16: note: expanded from macro 'XSRETURN'
    STMT_START {                                        \
               ^
lib/Simple.c:86:5: warning: '}' and ')' tokens terminating statement expression appear in different macro expansion contexts [-Wcompound-token-split-by-macro]
    XSRETURN(1);
    ^~~~~~~~~~~
/home/smoker12/perl5/perlbrew/perls/perl-5.12.0/lib/5.12.0/amd64-freebsd/CORE/XSUB.h:282:5: note: expanded from macro 'XSRETURN'
    } STMT_END
    ^
lib/Simple.c:86:5: note: ')' token is here
    XSRETURN(1);
    ^~~~~~~~~~~
/home/smoker12/perl5/perlbrew/perls/perl-5.12.0/lib/5.12.0/amd64-freebsd/CORE/XSUB.h:282:7: note: expanded from macro 'XSRETURN'
    } STMT_END
      ^~~~~~~~
/home/smoker12/perl5/perlbrew/perls/perl-5.12.0/lib/5.12.0/amd64-freebsd/CORE/perl.h:460:21: note: expanded from macro 'STMT_END'
#   define STMT_END     )
                        ^
lib/Simple.c:108:5: warning: '(' and '{' tokens introducing statement expression appear in different macro expansion contexts [-Wcompound-token-split-by-macro]
    XS_VERSION_BOOTCHECK ;
    ^~~~~~~~~~~~~~~~~~~~
/home/smoker12/perl5/perlbrew/perls/perl-5.12.0/lib/5.12.0/amd64-freebsd/CORE/XSUB.h:298:5: note: expanded from macro 'XS_VERSION_BOOTCHECK'
    STMT_START {                                                        \
    ^~~~~~~~~~
/home/smoker12/perl5/perlbrew/perls/perl-5.12.0/lib/5.12.0/amd64-freebsd/CORE/perl.h:459:29: note: expanded from macro 'STMT_START'
#   define STMT_START   (void)( /* gcc supports "({ STATEMENTS; })" */
                              ^
lib/Simple.c:108:5: note: '{' token is here
    XS_VERSION_BOOTCHECK ;
    ^~~~~~~~~~~~~~~~~~~~
/home/smoker12/perl5/perlbrew/perls/perl-5.12.0/lib/5.12.0/amd64-freebsd/CORE/XSUB.h:298:16: note: expanded from macro 'XS_VERSION_BOOTCHECK'
    STMT_START {                                                        \
               ^
lib/Simple.c:108:5: warning: '}' and ')' tokens terminating statement expression appear in different macro expansion contexts [-Wcompound-token-split-by-macro]
    XS_VERSION_BOOTCHECK ;
    ^~~~~~~~~~~~~~~~~~~~
/home/smoker12/perl5/perlbrew/perls/perl-5.12.0/lib/5.12.0/amd64-freebsd/CORE/XSUB.h:322:5: note: expanded from macro 'XS_VERSION_BOOTCHECK'
    } STMT_END
    ^
lib/Simple.c:108:5: note: ')' token is here
    XS_VERSION_BOOTCHECK ;
    ^~~~~~~~~~~~~~~~~~~~
/home/smoker12/perl5/perlbrew/perls/perl-5.12.0/lib/5.12.0/amd64-freebsd/CORE/XSUB.h:322:7: note: expanded from macro 'XS_VERSION_BOOTCHECK'
    } STMT_END
      ^~~~~~~~
/home/smoker12/perl5/perlbrew/perls/perl-5.12.0/lib/5.12.0/amd64-freebsd/CORE/perl.h:460:21: note: expanded from macro 'STMT_END'
#   define STMT_END     )
                        ^
lib/Simple.c:115:5: warning: '(' and '{' tokens introducing statement expression appear in different macro expansion contexts [-Wcompound-token-split-by-macro]
    XSRETURN_YES;
    ^~~~~~~~~~~~
/home/smoker12/perl5/perlbrew/perls/perl-5.12.0/lib/5.12.0/amd64-freebsd/CORE/XSUB.h:290:24: note: expanded from macro 'XSRETURN_YES'
#define XSRETURN_YES   STMT_START { XST_mYES(0);   XSRETURN(1); } STMT_END
                       ^~~~~~~~~~
/home/smoker12/perl5/perlbrew/perls/perl-5.12.0/lib/5.12.0/amd64-freebsd/CORE/perl.h:459:29: note: expanded from macro 'STMT_START'
#   define STMT_START   (void)( /* gcc supports "({ STATEMENTS; })" */
                              ^
lib/Simple.c:115:5: note: '{' token is here
    XSRETURN_YES;
    ^~~~~~~~~~~~
/home/smoker12/perl5/perlbrew/perls/perl-5.12.0/lib/5.12.0/amd64-freebsd/CORE/XSUB.h:290:35: note: expanded from macro 'XSRETURN_YES'
#define XSRETURN_YES   STMT_START { XST_mYES(0);   XSRETURN(1); } STMT_END
                                  ^
lib/Simple.c:115:5: warning: '(' and '{' tokens introducing statement expression appear in different macro expansion contexts [-Wcompound-token-split-by-macro]
    XSRETURN_YES;
    ^~~~~~~~~~~~
/home/smoker12/perl5/perlbrew/perls/perl-5.12.0/lib/5.12.0/amd64-freebsd/CORE/XSUB.h:290:52: note: expanded from macro 'XSRETURN_YES'
#define XSRETURN_YES   STMT_START { XST_mYES(0);   XSRETURN(1); } STMT_END
                                                   ^~~~~~~~~~~
/home/smoker12/perl5/perlbrew/perls/perl-5.12.0/lib/5.12.0/amd64-freebsd/CORE/XSUB.h:278:5: note: expanded from macro 'XSRETURN'
    STMT_START {                                        \
    ^~~~~~~~~~
/home/smoker12/perl5/perlbrew/perls/perl-5.12.0/lib/5.12.0/amd64-freebsd/CORE/perl.h:459:29: note: expanded from macro 'STMT_START'
#   define STMT_START   (void)( /* gcc supports "({ STATEMENTS; })" */
                              ^
lib/Simple.c:115:5: note: '{' token is here
    XSRETURN_YES;
    ^~~~~~~~~~~~
/home/smoker12/perl5/perlbrew/perls/perl-5.12.0/lib/5.12.0/amd64-freebsd/CORE/XSUB.h:290:52: note: expanded from macro 'XSRETURN_YES'
#define XSRETURN_YES   STMT_START { XST_mYES(0);   XSRETURN(1); } STMT_END
                                                   ^~~~~~~~~~~
/home/smoker12/perl5/perlbrew/perls/perl-5.12.0/lib/5.12.0/amd64-freebsd/CORE/XSUB.h:278:16: note: expanded from macro 'XSRETURN'
    STMT_START {                                        \
               ^
lib/Simple.c:115:5: warning: '}' and ')' tokens terminating statement expression appear in different macro expansion contexts [-Wcompound-token-split-by-macro]
    XSRETURN_YES;
    ^~~~~~~~~~~~
/home/smoker12/perl5/perlbrew/perls/perl-5.12.0/lib/5.12.0/amd64-freebsd/CORE/XSUB.h:290:52: note: expanded from macro 'XSRETURN_YES'
#define XSRETURN_YES   STMT_START { XST_mYES(0);   XSRETURN(1); } STMT_END
                                                   ^~~~~~~~~~~
/home/smoker12/perl5/perlbrew/perls/perl-5.12.0/lib/5.12.0/amd64-freebsd/CORE/XSUB.h:282:5: note: expanded from macro 'XSRETURN'
    } STMT_END
    ^
lib/Simple.c:115:5: note: ')' token is here
    XSRETURN_YES;
    ^~~~~~~~~~~~
/home/smoker12/perl5/perlbrew/perls/perl-5.12.0/lib/5.12.0/amd64-freebsd/CORE/XSUB.h:290:52: note: expanded from macro 'XSRETURN_YES'
#define XSRETURN_YES   STMT_START { XST_mYES(0);   XSRETURN(1); } STMT_END
                                                   ^~~~~~~~~~~
/home/smoker12/perl5/perlbrew/perls/perl-5.12.0/lib/5.12.0/amd64-freebsd/CORE/XSUB.h:282:7: note: expanded from macro 'XSRETURN'
    } STMT_END
      ^~~~~~~~
/home/smoker12/perl5/perlbrew/perls/perl-5.12.0/lib/5.12.0/amd64-freebsd/CORE/perl.h:460:21: note: expanded from macro 'STMT_END'
#   define STMT_END     )
                        ^
lib/Simple.c:115:5: warning: '}' and ')' tokens terminating statement expression appear in different macro expansion contexts [-Wcompound-token-split-by-macro]
    XSRETURN_YES;
    ^~~~~~~~~~~~
/home/smoker12/perl5/perlbrew/perls/perl-5.12.0/lib/5.12.0/amd64-freebsd/CORE/XSUB.h:290:65: note: expanded from macro 'XSRETURN_YES'
#define XSRETURN_YES   STMT_START { XST_mYES(0);   XSRETURN(1); } STMT_END
                                                                ^
lib/Simple.c:115:5: note: ')' token is here
    XSRETURN_YES;
    ^~~~~~~~~~~~
/home/smoker12/perl5/perlbrew/perls/perl-5.12.0/lib/5.12.0/amd64-freebsd/CORE/XSUB.h:290:67: note: expanded from macro 'XSRETURN_YES'
#define XSRETURN_YES   STMT_START { XST_mYES(0);   XSRETURN(1); } STMT_END
                                                                  ^~~~~~~~
/home/smoker12/perl5/perlbrew/perls/perl-5.12.0/lib/5.12.0/amd64-freebsd/CORE/perl.h:460:21: note: expanded from macro 'STMT_END'
#   define STMT_END     )
                        ^
8 warnings generated.
t/xs.t ......................... ok
All tests successful.
Files=53, Tests=1189, 134 wallclock secs ( 0.41 usr  0.21 sys + 35.47 cusr 11.41 csys = 47.50 CPU)
Result: PASS

------------------------------
PREREQUISITES
------------------------------

Prerequisite modules loaded:

requires:

    Module                 Need     Have    
    ---------------------- -------- --------
    CPAN::Meta             2.142060 2.143240
    Cwd                    0        3.31    
    Data::Dumper           0        2.125   
    ExtUtils::CBuilder     0.27     0.27    
    ExtUtils::Install      0        2.06    
    ExtUtils::InstallPaths 0.003    0.012   
    ExtUtils::Manifest     0        1.70    
    ExtUtils::Mkbootstrap  0        7.64    
    ExtUtils::ParseXS      2.21     2.21    
    File::Basename         0        2.78    
    File::Compare          0        1.1006  
    File::Copy             0        2.18    
    File::Find             0        1.15    
    File::Path             0        2.08_01 
    File::Spec             0.82     3.31    
    Getopt::Long           0        2.38    
    Module::Metadata       1.000002 1.000037
    perl                   5.006001 5.012000
    Perl::OSType           1        1.010   
    TAP::Harness           3.29     3.46    
    Text::Abbrev           0        1.01    
    Text::ParseWords       0        3.27    
    version                0.87     0.9929  

build_requires:

    Module                 Need     Have    
    ---------------------- -------- --------
    CPAN::Meta::YAML       0.003    0.011   
    File::Temp             0.15     0.22    
    Parse::CPAN::Meta      1.4401   1.4414  
    TAP::Harness           3.29     3.46    
    Test::More             0.49     1.302191

configure_requires:

    Module                 Need     Have    
    ---------------------- -------- --------
    CPAN::Meta             2.142060 2.143240
    File::Basename         0        2.78    
    File::Copy             0        2.18    
    File::Path             0        2.08_01 
    File::Spec             0.82     3.31    
    Module::Metadata       1.000002 1.000037
    Perl::OSType           1        1.010   
    version                0.87     0.9929  


------------------------------
ENVIRONMENT AND OTHER CONTEXT
------------------------------

Environment variables:

    AUTOMATED_TESTING = 1
    LANG = C.UTF-8
    PATH = /sbin:/bin:/usr/sbin:/usr/bin:/usr/local/sbin:/usr/local/bin:/home/smoker12/bin
    PERL5LIB = /home/smoker12/.cpan/build/Test-Harness-3.46-QoJJKV/blib/arch:/home/smoker12/.cpan/build/Test-Harness-3.46-QoJJKV/blib/lib:/home/smoker12/.cpan/build/ExtUtils-InstallPaths-0.012-7fmLLk/blib/arch:/home/smoker12/.cpan/build/ExtUtils-InstallPaths-0.012-7fmLLk/blib/lib:/home/smoker12/.cpan/build/ExtUtils-Config-0.008-Dz2F_s/blib/arch:/home/smoker12/.cpan/build/ExtUtils-Config-0.008-Dz2F_s/blib/lib:/home/smoker12/.cpan/build/Perl-OSType-1.010-xtTQ9M/blib/arch:/home/smoker12/.cpan/build/Perl-OSType-1.010-xtTQ9M/blib/lib
    PERL5OPT = 
    PERL5_CPANPLUS_IS_RUNNING = 87088
    PERL5_CPAN_IS_RUNNING = 87088
    PERL5_CPAN_IS_RUNNING_IN_RECURSION = 19,87088
    PERL_CR_SMOKER_CURRENT = Module-Build-0.42_35
    PERL_EXTUTILS_AUTOINSTALL = --defaultdeps
    PERL_MM_USE_DEFAULT = 1
    SHELL = /bin/sh

Perl special variables (and OS-specific diagnostics, for MSWin32):

    $^X = /home/smoker12/perl5/perlbrew/perls/perl-5.12.0/bin/perl
    $UID/$EUID = 1002 / 1002
    $GID = 1002 1002
    $EGID = 1002 1002

Perl module toolchain versions installed:

    Module              Have    
    ------------------- --------
    CPAN                1.94_56 
    CPAN::Meta          2.143240
    Cwd                 3.31    
    ExtUtils::CBuilder  0.27    
    ExtUtils::Command   7.64    
    ExtUtils::Install   2.06    
    ExtUtils::MakeMaker 7.64    
    ExtUtils::Manifest  1.70    
    ExtUtils::ParseXS   2.21    
    File::Spec          3.31    
    JSON                n/a     
    JSON::PP            4.12    
    Module::Build       0.3603  
    Module::Signature   n/a     
    Parse::CPAN::Meta   1.4414  
    Test::Harness       3.46    
    Test::More          1.302191
    YAML                n/a     
    YAML::Syck          1.34    
    version             0.9929  


--

Summary of my perl5 (revision 5 version 12 subversion 0) configuration:
   
  Platform:
    osname=freebsd, osvers=13.1-release-p3, archname=amd64-freebsd
    uname='freebsd smoker-10.smoker 13.1-release-p3 freebsd 13.1-release-p3 generic amd64 '
    config_args='-de -Dprefix=/home/smoker12/perl5/perlbrew/perls/perl-5.12.0 -Duse64bitint -Aeval:scriptdir=/home/smoker12/perl5/perlbrew/perls/perl-5.12.0/bin'
    hint=recommended, useposix=true, d_sigaction=define
    useithreads=undef, usemultiplicity=undef
    useperlio=define, d_sfio=undef, uselargefiles=define, usesocks=undef
    use64bitint=define, use64bitall=define, uselongdouble=undef
    usemymalloc=n, bincompat5005=undef
  Compiler:
    cc='cc', ccflags ='-DHAS_FPSETMASK -DHAS_FLOATINGPOINT_H -fno-strict-aliasing -pipe -fstack-protector -I/usr/local/include',
    optimize='-O2',
    cppflags='-DHAS_FPSETMASK -DHAS_FLOATINGPOINT_H -fno-strict-aliasing -pipe -fstack-protector -I/usr/local/include'
    ccversion='', gccversion='FreeBSD Clang 13.0.0 (git@github.com:llvm/llvm-project.git llvmorg-13.0.0-0-gd7b669b3a303)', gccosandvers=''
    intsize=4, longsize=8, ptrsize=8, doublesize=8, byteorder=12345678
    d_longlong=define, longlongsize=8, d_longdbl=define, longdblsize=16
    ivtype='long', ivsize=8, nvtype='double', nvsize=8, Off_t='off_t', lseeksize=8
    alignbytes=8, prototype=define
  Linker and Libraries:
    ld='cc', ldflags ='-Wl,-E  -fstack-protector -L/usr/local/lib'
    libpth=/usr/lib /usr/local/lib
    libs=-ldl -lm -lcrypt -lutil -lc
    perllibs=-ldl -lm -lcrypt -lutil -lc
    libc=, so=so, useshrplib=false, libperl=libperl.a
    gnulibc_version=''
  Dynamic Linking:
    dlsrc=dl_dlopen.xs, dlext=so, d_dlsymun=undef, ccdlflags=' '
    cccdlflags='-DPIC -fPIC', lddlflags='-shared  -L/usr/local/lib -fstack-protector'


Characteristics of this binary (from libperl): 
  Compile-time options: PERL_DONT_CREATE_GVSV PERL_MALLOC_WRAP USE_64_BIT_ALL
                        USE_64_BIT_INT USE_LARGE_FILES USE_PERLIO
                        USE_PERL_ATOF
  Locally applied patches:
	Devel::PatchPerl 2.08
  Built under freebsd
  Compiled at Nov 17 2022 20:51:41
  %ENV:
    PERL5LIB="/home/smoker12/.cpan/build/Test-Harness-3.46-QoJJKV/blib/arch:/home/smoker12/.cpan/build/Test-Harness-3.46-QoJJKV/blib/lib:/home/smoker12/.cpan/build/ExtUtils-InstallPaths-0.012-7fmLLk/blib/arch:/home/smoker12/.cpan/build/ExtUtils-InstallPaths-0.012-7fmLLk/blib/lib:/home/smoker12/.cpan/build/ExtUtils-Config-0.008-Dz2F_s/blib/arch:/home/smoker12/.cpan/build/ExtUtils-Config-0.008-Dz2F_s/blib/lib:/home/smoker12/.cpan/build/Perl-OSType-1.010-xtTQ9M/blib/arch:/home/smoker12/.cpan/build/Perl-OSType-1.010-xtTQ9M/blib/lib"
    PERL5OPT=""
    PERL5_CPANPLUS_IS_RUNNING="87088"
    PERL5_CPAN_IS_RUNNING="87088"
    PERL5_CPAN_IS_RUNNING_IN_RECURSION="19,87088"
    PERL_CR_SMOKER_CURRENT="Module-Build-0.42_35"
    PERL_EXTUTILS_AUTOINSTALL="--defaultdeps"
    PERL_MM_USE_DEFAULT="1"
  @INC:
    /home/smoker12/.cpan/build/Test-Harness-3.46-QoJJKV/blib/arch
    /home/smoker12/.cpan/build/Test-Harness-3.46-QoJJKV/blib/lib
    /home/smoker12/.cpan/build/ExtUtils-InstallPaths-0.012-7fmLLk/blib/arch
    /home/smoker12/.cpan/build/ExtUtils-InstallPaths-0.012-7fmLLk/blib/lib
    /home/smoker12/.cpan/build/ExtUtils-Config-0.008-Dz2F_s/blib/arch
    /home/smoker12/.cpan/build/ExtUtils-Config-0.008-Dz2F_s/blib/lib
    /home/smoker12/.cpan/build/Perl-OSType-1.010-xtTQ9M/blib/arch
    /home/smoker12/.cpan/build/Perl-OSType-1.010-xtTQ9M/blib/lib
    /home/smoker12/perl5/perlbrew/perls/perl-5.12.0/lib/site_perl/5.12.0/amd64-freebsd
    /home/smoker12/perl5/perlbrew/perls/perl-5.12.0/lib/site_perl/5.12.0
    /home/smoker12/perl5/perlbrew/perls/perl-5.12.0/lib/5.12.0/amd64-freebsd
    /home/smoker12/perl5/perlbrew/perls/perl-5.12.0/lib/5.12.0
    .