Report for Test-Corpus-Audio-MPD-1.120990

Back
From: metabase:user:30f4dfbe-2aae-11df-837a-5e0a49663a4f
Subject: PASS Test-Corpus-Audio-MPD-1.120990 v5.14.4 Mac OS X
Date: 2016-05-06T20:57:08Z

This distribution has been tested as part of the CPAN Testers
project, supporting the Perl programming language.  See
http://wiki.cpantesters.org/ for more information or email
questions to cpan-testers-discuss@perl.org


--
Dear Jerome Quelin,

This is a computer-generated report for Test-Corpus-Audio-MPD-1.120990
on perl 5.14.4, created by CPAN-Reporter-1.2016.

Thank you for uploading your work to CPAN.  Congratulations!
All tests were successful.

Sections of this report:

    * Tester comments
    * Program output
    * Prerequisites
    * Environment and other context

------------------------------
TESTER COMMENTS
------------------------------

Additional comments from tester:

this report is from an automated smoke testing program
and was not reviewed by a human for accuracy

------------------------------
PROGRAM OUTPUT
------------------------------

Output from './Build test':

t/00-compile.t ................ ok
# 
# 
# perl: v5.14.4 (wanted 5.008) on darwin from /Users/hornenj/perl5/perlbrew/perls/perl-5.14.4/bin/perl5.14.4
# 
# Exporter                                      => 5.72       (want any version)
# File::Copy                                    => 2.21       (want any version)
# File::ShareDir::PathClass                     => 1.112440   (want any version)
# File::Temp                                    => 0.2304     (want any version)
# Module::Build                                 => 0.4214     (want 0.3601) 
# Path::Class                                   => 0.35       (want any version)
# Readonly                                      => 2          (want any version)
# Test::More                                    => 1.001014   (want 0.88)   
# base                                          => 2.18       (want any version)
# strict                                        => 1.04       (want any version)
# warnings                                      => 1.12       (want any version)
# 
# Thanks for using my code.  I hope it works for you.
# If not, please try and include this output in the bug report.
# That will help me reproduce the issue and solve you problem.
# 
t/000-report-versions-tiny.t .. ok
t/release-has-version.t ....... skipped: these tests are for release candidate testing
t/release-kwalitee.t .......... skipped: these tests are for release candidate testing
t/release-minimum-version.t ... skipped: these tests are for release candidate testing
t/release-pod-coverage.t ...... skipped: these tests are for release candidate testing
t/release-pod-syntax.t ........ skipped: these tests are for release candidate testing
All tests successful.
Files=7, Tests=2,  0 wallclock secs ( 0.02 usr  0.01 sys +  0.13 cusr  0.04 csys =  0.20 CPU)
Result: PASS

------------------------------
PREREQUISITES
------------------------------

Prerequisite modules loaded:

requires:

    Module                    Need   Have    
    ------------------------- ------ --------
    base                      0      2.18    
    Exporter                  0      5.72    
    File::Copy                0      2.21    
    File::ShareDir            1.00   1.102   
    File::ShareDir::PathClass 0      1.112440
    File::Temp                0      0.2304  
    Path::Class               0      0.35    
    perl                      5.008  5.014004
    Readonly                  0      2.00    
    strict                    0      1.04    
    warnings                  0      1.12    

build_requires:

    Module                    Need   Have    
    ------------------------- ------ --------
    Module::Build             0.3601 0.4214  
    Test::More                0.88   1.001014

configure_requires:

    Module                    Need   Have    
    ------------------------- ------ --------
    Module::Build             0.3601 0.4214  


------------------------------
ENVIRONMENT AND OTHER CONTEXT
------------------------------

Environment variables:

    AUTOMATED_TESTING = 1
    LANG = en_US.UTF-8
    LC_ALL = POSIX
    NO_NETWORK_TESTING = 1
    PATH = /Users/hornenj/perl5/perlbrew/bin:/Users/hornenj/perl5/perlbrew/perls/perl-5.14.4/bin:/Users/hornenj/perl5/perlbrew/bin:/Users/hornenj/bin:/sw/lib/perl5/ExtUtils:/sw/bin:/am/ncbiapdata/bin:/usr/bin:/bin:/usr/X11R6/bin:/netopt/ncbi_tools/bin:/usr/local/ncbi/blast/bin:/net/traces01.be-md.ncbi.nlm.nih.gov/trace_software/vdb/mac/release/x86_64/bin
    PERL5LIB = /Users/hornenj/.cpan/build/File-ShareDir-PathClass-1.112440-kHPX_3/blib/arch:/Users/hornenj/.cpan/build/File-ShareDir-PathClass-1.112440-kHPX_3/blib/lib:/Users/hornenj/.cpan/build/Getopt-Euclid-0.4.5-sLH0Vq/blib/arch:/Users/hornenj/.cpan/build/Getopt-Euclid-0.4.5-sLH0Vq/blib/lib:/Users/hornenj/.cpan/build/Audio-MPD-Common-2.003-9h9kc6/blib/arch:/Users/hornenj/.cpan/build/Audio-MPD-Common-2.003-9h9kc6/blib/lib:/Users/hornenj/.cpan/build/String-Formatter-0.102084-hwO5Nv/blib/arch:/Users/hornenj/.cpan/build/String-Formatter-0.102084-hwO5Nv/blib/lib:/Users/hornenj/.cpan/build/MooseX-Has-Sugar-1.000004-iUFCb8/blib/arch:/Users/hornenj/.cpan/build/MooseX-Has-Sugar-1.000004-iUFCb8/blib/lib
    PERL5OPT = 
    PERL5_CPANPLUS_IS_RUNNING = 92982
    PERL5_CPAN_IS_RUNNING = 92982
    PERL5_MINISMOKEBOX = 0.58
    PERLBREW_BASHRC_VERSION = 0.75
    PERLBREW_HOME = /Users/hornenj/.perlbrew
    PERLBREW_LIB = 
    PERLBREW_MANPATH = /Users/hornenj/perl5/perlbrew/perls/perl-5.14.4/man
    PERLBREW_PATH = /Users/hornenj/perl5/perlbrew/bin:/Users/hornenj/perl5/perlbrew/perls/perl-5.14.4/bin
    PERLBREW_PERL = perl-5.14.4
    PERLBREW_ROOT = /Users/hornenj/perl5/perlbrew
    PERLBREW_VERSION = 0.75
    PERL_EXTUTILS_AUTOINSTALL = --defaultdeps
    PERL_LOCAL_LIB_ROOT = 
    PERL_MM_USE_DEFAULT = 1
    SHELL = /bin/bash
    TERM = xterm-256color
    TMPDIR = /var/folders/pz/pd7y1qjs6s3cbk170cw50fjc000c61/T/
    ac_cv_path_INTLTOOL_PERL = /usr/bin/perl

Perl special variables (and OS-specific diagnostics, for MSWin32):

    $^X = /Users/hornenj/perl5/perlbrew/perls/perl-5.14.4/bin/perl5.14.4
    $UID/$EUID = 12481 / 12481
    $GID = 14 14 5344 37191 527 241
    $EGID = 14 14 5344 37191 527 241

Perl module toolchain versions installed:

    Module              Have    
    ------------------- --------
    CPAN                2.10    
    CPAN::Meta          2.150005
    Cwd                 3.47    
    ExtUtils::CBuilder  0.280224
    ExtUtils::Command   7.10    
    ExtUtils::Install   2.04    
    ExtUtils::MakeMaker 7.10    
    ExtUtils::Manifest  1.70    
    ExtUtils::ParseXS   3.30    
    File::Spec          3.47    
    JSON                2.90    
    JSON::PP            2.27300 
    Module::Build       0.4214  
    Module::Signature   n/a     
    Parse::CPAN::Meta   1.4417  
    Test::Harness       3.35    
    Test::More          1.001014
    YAML                1.15    
    YAML::Syck          1.29    
    version             0.9912  


--

Summary of my perl5 (revision 5 version 14 subversion 4) configuration:
   
  Platform:
    osname=darwin, osvers=14.3.0, archname=darwin-thread-multi-2level
    uname='darwin ncbimac2027.ncbi.nlm.nih.gov 14.3.0 darwin kernel version 14.3.0: mon mar 23 11:59:05 pdt 2015; root:xnu-2782.20.48~5release_x86_64 x86_64 '
    config_args='-de -Dprefix=/Users/hornenj/perl5/perlbrew/perls/perl-5.14.4 -Duseithreads -Dusemultiplicity -Dusedevel -Accflags=-O2 -W -Wformat=2 -Wswitch -Wshadow -Wwrite-strings -Wuninitialized -Wall -pipe -mtune=native -march=native -fomit-frame-pointer -msse2 -msse -mmmx -pedantic -D_FORTIFY_SOURCE=2 -Wpointer-arith -Wstrict-prototypes -fstack-protector -Wstack-protector -Wextra -Wbad-function-cast -Wcast-align -Wcast-qual -Wdisabled-optimization -Wendif-labels -Wfloat-equal -Wformat-nonliteral -Winline -Wmissing-declarations -Wmissing-prototypes -Wnested-externs -Wpointer-arith -Wundef -Wformat-security -fassociative-math -Acc=cc -Aeval:scriptdir=/Users/hornenj/perl5/perlbrew/perls/perl-5.14.4/bin'
    hint=recommended, useposix=true, d_sigaction=define
    useithreads=define, usemultiplicity=define
    useperlio=define, d_sfio=undef, uselargefiles=define, usesocks=undef
    use64bitint=define, use64bitall=define, uselongdouble=undef
    usemymalloc=n, bincompat5005=undef
  Compiler:
    cc=' cc', ccflags ='-fno-common -DPERL_DARWIN -O2 -W -Wformat=2 -Wswitch -Wshadow -Wwrite-strings -Wuninitialized -Wall -pipe -mtune=native -march=native -fomit-frame-pointer -msse2 -msse -mmmx -pedantic -D_FORTIFY_SOURCE=2 -Wpointer-arith -Wstrict-prototypes -fstack-protector -Wstack-protector -Wextra -Wbad-function-cast -Wcast-align -Wcast-qual -Wdisabled-optimization -Wendif-labels -Wfloat-equal -Wformat-nonliteral -Winline -Wmissing-declarations -Wmissing-prototypes -Wnested-externs -Wpointer-arith -Wundef -Wformat-security -fassociative-math -fno-strict-aliasing -I/usr/local/include',
    optimize='-O3',
    cppflags='-fno-common -DPERL_DARWIN -O2 -W -Wformat=2 -Wswitch -Wshadow -Wwrite-strings -Wuninitialized -Wall -pipe -mtune=native -march=native -fomit-frame-pointer -msse2 -msse -mmmx -pedantic -D_FORTIFY_SOURCE=2 -Wpointer-arith -Wstrict-prototypes -fstack-protector -Wstack-protector -Wextra -Wbad-function-cast -Wcast-align -Wcast-qual -Wdisabled-optimization -Wendif-labels -Wfloat-equal -Wformat-nonliteral -Winline -Wmissing-declarations -Wmissing-prototypes -Wnested-externs -Wpointer-arith -Wundef -Wformat-security -fassociative-math -fno-strict-aliasing -I/usr/local/include'
    ccversion='', gccversion='4.2.1 Compatible Apple LLVM 6.0 (clang-600.0.56)', gccosandvers=''
    intsize=4, longsize=8, ptrsize=8, doublesize=8, byteorder=12345678
    d_longlong=define, longlongsize=8, d_longdbl=define, longdblsize=16
    ivtype='long', ivsize=8, nvtype='double', nvsize=8, Off_t='off_t', lseeksize=8
    alignbytes=8, prototype=define
  Linker and Libraries:
    ld='env MACOSX_DEPLOYMENT_TARGET=10.3 cc', ldflags =' -fstack-protector -L/usr/local/lib'
    libpth=/usr/local/lib /usr/lib
    libs=-ldbm -ldl -lm -lutil -lc
    perllibs=-ldl -lm -lutil -lc
    libc=, so=dylib, useshrplib=false, libperl=libperl.a
    gnulibc_version=''
  Dynamic Linking:
    dlsrc=dl_dlopen.xs, dlext=bundle, d_dlsymun=undef, ccdlflags=' '
    cccdlflags=' ', lddlflags=' -bundle -undefined dynamic_lookup -L/usr/local/lib -fstack-protector'


Characteristics of this binary (from libperl): 
  Compile-time options: MULTIPLICITY PERL_DONT_CREATE_GVSV
                        PERL_IMPLICIT_CONTEXT PERL_MALLOC_WRAP
                        PERL_PRESERVE_IVUV PERL_USE_DEVEL USE_64_BIT_ALL
                        USE_64_BIT_INT USE_ITHREADS USE_LARGE_FILES
                        USE_PERLIO USE_PERL_ATOF USE_REENTRANT_API
  Locally applied patches:
	Devel::PatchPerl 1.30
  Built under darwin
  Compiled at Apr 20 2015 09:34:28
  %ENV:
    PERL5LIB="/Users/hornenj/.cpan/build/File-ShareDir-PathClass-1.112440-kHPX_3/blib/arch:/Users/hornenj/.cpan/build/File-ShareDir-PathClass-1.112440-kHPX_3/blib/lib:/Users/hornenj/.cpan/build/Getopt-Euclid-0.4.5-sLH0Vq/blib/arch:/Users/hornenj/.cpan/build/Getopt-Euclid-0.4.5-sLH0Vq/blib/lib:/Users/hornenj/.cpan/build/Audio-MPD-Common-2.003-9h9kc6/blib/arch:/Users/hornenj/.cpan/build/Audio-MPD-Common-2.003-9h9kc6/blib/lib:/Users/hornenj/.cpan/build/String-Formatter-0.102084-hwO5Nv/blib/arch:/Users/hornenj/.cpan/build/String-Formatter-0.102084-hwO5Nv/blib/lib:/Users/hornenj/.cpan/build/MooseX-Has-Sugar-1.000004-iUFCb8/blib/arch:/Users/hornenj/.cpan/build/MooseX-Has-Sugar-1.000004-iUFCb8/blib/lib"
    PERL5OPT=""
    PERL5_CPANPLUS_IS_RUNNING="92982"
    PERL5_CPAN_IS_RUNNING="92982"
    PERL5_MINISMOKEBOX="0.58"
    PERLBREW_BASHRC_VERSION="0.75"
    PERLBREW_HOME="/Users/hornenj/.perlbrew"
    PERLBREW_LIB=""
    PERLBREW_MANPATH="/Users/hornenj/perl5/perlbrew/perls/perl-5.14.4/man"
    PERLBREW_PATH="/Users/hornenj/perl5/perlbrew/bin:/Users/hornenj/perl5/perlbrew/perls/perl-5.14.4/bin"
    PERLBREW_PERL="perl-5.14.4"
    PERLBREW_ROOT="/Users/hornenj/perl5/perlbrew"
    PERLBREW_VERSION="0.75"
    PERL_EXTUTILS_AUTOINSTALL="--defaultdeps"
    PERL_LOCAL_LIB_ROOT=""
    PERL_MM_USE_DEFAULT="1"
  @INC:
    /Users/hornenj/.cpan/build/File-ShareDir-PathClass-1.112440-kHPX_3/blib/arch
    /Users/hornenj/.cpan/build/File-ShareDir-PathClass-1.112440-kHPX_3/blib/lib
    /Users/hornenj/.cpan/build/Getopt-Euclid-0.4.5-sLH0Vq/blib/arch
    /Users/hornenj/.cpan/build/Getopt-Euclid-0.4.5-sLH0Vq/blib/lib
    /Users/hornenj/.cpan/build/Audio-MPD-Common-2.003-9h9kc6/blib/arch
    /Users/hornenj/.cpan/build/Audio-MPD-Common-2.003-9h9kc6/blib/lib
    /Users/hornenj/.cpan/build/String-Formatter-0.102084-hwO5Nv/blib/arch
    /Users/hornenj/.cpan/build/String-Formatter-0.102084-hwO5Nv/blib/lib
    /Users/hornenj/.cpan/build/MooseX-Has-Sugar-1.000004-iUFCb8/blib/arch
    /Users/hornenj/.cpan/build/MooseX-Has-Sugar-1.000004-iUFCb8/blib/lib
    /Users/hornenj/perl5/perlbrew/perls/perl-5.14.4/lib/site_perl/5.14.4/darwin-thread-multi-2level
    /Users/hornenj/perl5/perlbrew/perls/perl-5.14.4/lib/site_perl/5.14.4
    /Users/hornenj/perl5/perlbrew/perls/perl-5.14.4/lib/5.14.4/darwin-thread-multi-2level
    /Users/hornenj/perl5/perlbrew/perls/perl-5.14.4/lib/5.14.4
    .