Back
From: metabase:user:30f4dfbe-2aae-11df-837a-5e0a49663a4f
Subject: PASS Path-ScanINC-0.002 v5.15.3 GNU/Linux
Date: 2012-08-13T16:22:37Z
This distribution has been tested as part of the CPAN Testers
project, supporting the Perl programming language. See
http://wiki.cpantesters.org/ for more information or email
questions to cpan-testers-discuss@perl.org
--
Dear Kent Fredric,
This is a computer-generated report for Path-ScanINC-0.002
on perl 5.15.3, created by CPAN-Reporter-1.2006.
Thank you for uploading your work to CPAN. Congratulations!
All tests were successful.
Sections of this report:
* Tester comments
* Program output
* Prerequisites
* Environment and other context
------------------------------
TESTER COMMENTS
------------------------------
Additional comments from tester:
this report is from an automated smoke testing program
and was not reviewed by a human for accuracy
------------------------------
PROGRAM OUTPUT
------------------------------
Output from './Build test':
t/00-compile.t ................ ok
#
#
# perl: v5.15.3 (wanted 5.006) on linux from /home/njh/perl5/perlbrew/perls/perl-5.15.3/bin/perl5.15.3
#
# Carp => 1.26 (want any version)
# Data::Dump => 1.21 (want any version)
# Dist::Zilla::PluginBundle::Author::KENTNL => module not found. (want v1.3.0)
# Dist::Zilla::PluginBundle::Author::KENTNL::Lite => module not found. (want v1.3.0)
# File::Find => 1.20 (want any version)
# File::Spec => 3.34 (want any version)
# File::Temp => 0.22 (want any version)
# FindBin => 1.51 (want any version)
# List::Util => 1.25 (want any version)
# Module::Build => 0.4002 (want 0.3601)
# Scalar::Util => 1.25 (want any version)
# Test::Fatal => 0.010 (want any version)
# Test::More => 0.98 (want 0.96)
# Try::Tiny => 0.11 (want any version)
# strict => 1.04 (want any version)
# warnings => 1.12 (want any version)
#
# Thanks for using my code. I hope it works for you.
# If not, please try and include this output in the bug report.
# That will help me reproduce the issue and solve you problem.
#
t/000-report-versions-tiny.t .. ok
t/01_construction.t ........... ok
t/02_immutable.t .............. ok
t/03_basic_scanfile.t ......... ok
All tests successful.
Files=5, Tests=32, 0 wallclock secs ( 0.03 usr 0.00 sys + 0.14 cusr 0.03 csys = 0.20 CPU)
Result: PASS
------------------------------
PREREQUISITES
------------------------------
Prerequisite modules loaded:
requires:
Module Need Have
------------- ------ --------
Carp 0 1.26
Data::Dump 0 1.21
File::Spec 0 3.34
perl 5.006 5.015003
Scalar::Util 0 1.25
strict 0 1.04
Try::Tiny 0 0.11
warnings 0 1.12
build_requires:
Module Need Have
------------- ------ --------
File::Find 0 1.20
File::Temp 0 0.22
FindBin 0 1.51
List::Util 0 1.25
Module::Build 0.3601 0.4002
Test::Fatal 0 0.010
Test::More 0.96 0.98
configure_requires:
Module Need Have
------------- ------ --------
Module::Build 0.3601 0.4002
------------------------------
ENVIRONMENT AND OTHER CONTEXT
------------------------------
Environment variables:
AUTOMATED_TESTING = 1
LANG = en_GB.UTF-8
LANGUAGE = en_GB:en
PATH = /home/njh/perl5/perlbrew/bin:/home/njh/perl5/perlbrew/perls/perl-5.15.3/bin:/usr/bin:/bin
PERL5LIB = /home/njh/.cpan/build/Moo-1.000003-gadQcb/blib/arch:/home/njh/.cpan/build/Moo-1.000003-gadQcb/blib/lib:/home/njh/.cpan/build/Devel-GlobalDestruction-0.09-SNWrhj/blib/arch:/home/njh/.cpan/build/Devel-GlobalDestruction-0.09-SNWrhj/blib/lib:/home/njh/.cpan/build/Role-Tiny-1.001005-fG9I73/blib/arch:/home/njh/.cpan/build/Role-Tiny-1.001005-fG9I73/blib/lib:/home/njh/.cpan/build/strictures-1.004001-GiZYsk/blib/arch:/home/njh/.cpan/build/strictures-1.004001-GiZYsk/blib/lib:/home/njh/.cpan/build/Class-Method-Modifiers-1.09-84X01U/blib/arch:/home/njh/.cpan/build/Class-Method-Modifiers-1.09-84X01U/blib/lib:/home/njh/.cpan/build/Config-INI-0.019-yrMMTk/blib/arch:/home/njh/.cpan/build/Config-INI-0.019-yrMMTk/blib/lib:/home/njh/.cpan/build/Mixin-Linewise-0.003-HYOyyF/blib/arch:/home/njh/.cpan/build/Mixin-Linewise-0.003-HYOyyF/blib/lib
PERL5OPT =
PERL5_CPANPLUS_IS_RUNNING = 18458
PERL5_CPAN_IS_RUNNING = 18458
PERL5_MINISMOKEBOX = 0.54
PERLBREW_MANPATH = /home/njh/perl5/perlbrew/perls/perl-5.15.3/man
PERLBREW_PATH = /home/njh/perl5/perlbrew/bin:/home/njh/perl5/perlbrew/perls/perl-5.15.3/bin
PERLBREW_PERL = perl-5.15.3
PERLBREW_ROOT = /home/njh/perl5/perlbrew
PERLBREW_VERSION = 0.46
PERL_EXTUTILS_AUTOINSTALL = --defaultdeps
PERL_MM_USE_DEFAULT = 1
SHELL = /bin/sh
Perl special variables (and OS-specific diagnostics, for MSWin32):
$^X = /home/njh/perl5/perlbrew/perls/perl-5.15.3/bin/perl5.15.3
$UID/$EUID = 1000 / 1000
$GID = 1000 24 25 29 30 44 46 108 112 1000
$EGID = 1000 24 25 29 30 44 46 108 112 1000
Perl module toolchain versions installed:
Module Have
------------------- --------
CPAN 1.9800
CPAN::Meta 2.120921
Cwd 3.37
ExtUtils::CBuilder 0.280205
ExtUtils::Command 1.17
ExtUtils::Install 1.57
ExtUtils::MakeMaker 6.62
ExtUtils::Manifest 1.60
ExtUtils::ParseXS 3.15
File::Spec 3.34
JSON 2.53
JSON::PP 2.27200
Module::Build 0.4002
Module::Signature 0.68
Parse::CPAN::Meta 1.4404
Test::Harness 3.25
Test::More 0.98
YAML 0.84
YAML::Syck 1.20
version 0.99
--
Summary of my perl5 (revision 5 version 15 subversion 3) configuration:
Platform:
osname=linux, osvers=3.2.0-2-amd64, archname=x86_64-linux
uname='linux gateway 3.2.0-2-amd64 #1 smp sun apr 15 16:47:38 utc 2012 x86_64 gnulinux '
config_args='-de -Dprefix=/home/njh/perl5/perlbrew/perls/perl-5.15.3 -Dusedevel -Accflags=-O2 -W -Wformat=2 -Wswitch -Wshadow -Wwrite-strings -Wuninitialized -Wall -pipe -mtune=native -march=native -fomit-frame-pointer -mfpmath=sse -pedantic -D_FORTIFY_SOURCE=2 -Wpointer-arith -Wstrict-prototypes -fstack-protector -Wstack-protector -Wextra -Wbad-function-cast -Wcast-align -Wcast-qual -Wdisabled-optimization -Wendif-labels -Wfloat-equal -Wformat-nonliteral -Winline -Wmissing-declarations -Wmissing-prototypes -Wnested-externs -Wpointer-arith -Wundef -Wformat-security'
hint=recommended, useposix=true, d_sigaction=define
useithreads=undef, usemultiplicity=undef
useperlio=define, d_sfio=undef, uselargefiles=define, usesocks=undef
use64bitint=define, use64bitall=define, uselongdouble=undef
usemymalloc=n, bincompat5005=undef
Compiler:
cc='cc', ccflags ='-O2 -W -Wformat=2 -Wswitch -Wshadow -Wwrite-strings -Wuninitialized -Wall -pipe -mtune=native -march=native -fomit-frame-pointer -mfpmath=sse -pedantic -D_FORTIFY_SOURCE=2 -Wpointer-arith -Wstrict-prototypes -fstack-protector -Wstack-protector -Wextra -Wbad-function-cast -Wcast-align -Wcast-qual -Wdisabled-optimization -Wendif-labels -Wfloat-equal -Wformat-nonliteral -Winline -Wmissing-declarations -Wmissing-prototypes -Wnested-externs -Wpointer-arith -Wundef -Wformat-security -fno-strict-aliasing -I/usr/local/include -D_LARGEFILE_SOURCE -D_FILE_OFFSET_BITS=64',
optimize='-O2',
cppflags='-O2 -W -Wformat=2 -Wswitch -Wshadow -Wwrite-strings -Wuninitialized -Wall -pipe -mtune=native -march=native -fomit-frame-pointer -mfpmath=sse -pedantic -D_FORTIFY_SOURCE=2 -Wpointer-arith -Wstrict-prototypes -fstack-protector -Wstack-protector -Wextra -Wbad-function-cast -Wcast-align -Wcast-qual -Wdisabled-optimization -Wendif-labels -Wfloat-equal -Wformat-nonliteral -Winline -Wmissing-declarations -Wmissing-prototypes -Wnested-externs -Wpointer-arith -Wundef -Wformat-security -fno-strict-aliasing -I/usr/local/include'
ccversion='', gccversion='4.6.3', gccosandvers=''
intsize=4, longsize=8, ptrsize=8, doublesize=8, byteorder=12345678
d_longlong=define, longlongsize=8, d_longdbl=define, longdblsize=16
ivtype='long', ivsize=8, nvtype='double', nvsize=8, Off_t='off_t', lseeksize=8
alignbytes=8, prototype=define
Linker and Libraries:
ld='cc', ldflags =' -fstack-protector -L/usr/local/lib'
libpth=/usr/local/lib /lib/x86_64-linux-gnu /lib/../lib /usr/lib/x86_64-linux-gnu /usr/lib/../lib /lib /usr/lib
libs=-lnsl -lgdbm -ldb -ldl -lm -lcrypt -lutil -lc -lgdbm_compat
perllibs=-lnsl -ldl -lm -lcrypt -lutil -lc
libc=, so=so, useshrplib=false, libperl=libperl.a
gnulibc_version='2.13'
Dynamic Linking:
dlsrc=dl_dlopen.xs, dlext=so, d_dlsymun=undef, ccdlflags='-Wl,-E'
cccdlflags='-fPIC', lddlflags='-shared -O2 -L/usr/local/lib -fstack-protector'
Characteristics of this binary (from libperl):
Compile-time options: HAS_TIMES PERLIO_LAYERS PERL_DONT_CREATE_GVSV
PERL_MALLOC_WRAP PERL_PRESERVE_IVUV PERL_USE_DEVEL
USE_64_BIT_ALL USE_64_BIT_INT USE_LARGE_FILES
USE_LOCALE USE_LOCALE_COLLATE USE_LOCALE_CTYPE
USE_LOCALE_NUMERIC USE_PERLIO USE_PERL_ATOF
Built under linux
Compiled at Apr 22 2012 20:19:49
%ENV:
PERL5LIB="/home/njh/.cpan/build/Moo-1.000003-gadQcb/blib/arch:/home/njh/.cpan/build/Moo-1.000003-gadQcb/blib/lib:/home/njh/.cpan/build/Devel-GlobalDestruction-0.09-SNWrhj/blib/arch:/home/njh/.cpan/build/Devel-GlobalDestruction-0.09-SNWrhj/blib/lib:/home/njh/.cpan/build/Role-Tiny-1.001005-fG9I73/blib/arch:/home/njh/.cpan/build/Role-Tiny-1.001005-fG9I73/blib/lib:/home/njh/.cpan/build/strictures-1.004001-GiZYsk/blib/arch:/home/njh/.cpan/build/strictures-1.004001-GiZYsk/blib/lib:/home/njh/.cpan/build/Class-Method-Modifiers-1.09-84X01U/blib/arch:/home/njh/.cpan/build/Class-Method-Modifiers-1.09-84X01U/blib/lib:/home/njh/.cpan/build/Config-INI-0.019-yrMMTk/blib/arch:/home/njh/.cpan/build/Config-INI-0.019-yrMMTk/blib/lib:/home/njh/.cpan/build/Mixin-Linewise-0.003-HYOyyF/blib/arch:/home/njh/.cpan/build/Mixin-Linewise-0.003-HYOyyF/blib/lib"
PERL5OPT=""
PERL5_CPANPLUS_IS_RUNNING="18458"
PERL5_CPAN_IS_RUNNING="18458"
PERL5_MINISMOKEBOX="0.54"
PERLBREW_MANPATH="/home/njh/perl5/perlbrew/perls/perl-5.15.3/man"
PERLBREW_PATH="/home/njh/perl5/perlbrew/bin:/home/njh/perl5/perlbrew/perls/perl-5.15.3/bin"
PERLBREW_PERL="perl-5.15.3"
PERLBREW_ROOT="/home/njh/perl5/perlbrew"
PERLBREW_VERSION="0.46"
PERL_EXTUTILS_AUTOINSTALL="--defaultdeps"
PERL_MM_USE_DEFAULT="1"
@INC:
/home/njh/.cpan/build/Moo-1.000003-gadQcb/blib/arch
/home/njh/.cpan/build/Moo-1.000003-gadQcb/blib/lib
/home/njh/.cpan/build/Devel-GlobalDestruction-0.09-SNWrhj/blib/arch
/home/njh/.cpan/build/Devel-GlobalDestruction-0.09-SNWrhj/blib/lib
/home/njh/.cpan/build/Role-Tiny-1.001005-fG9I73/blib/arch
/home/njh/.cpan/build/Role-Tiny-1.001005-fG9I73/blib/lib
/home/njh/.cpan/build/strictures-1.004001-GiZYsk/blib/arch
/home/njh/.cpan/build/strictures-1.004001-GiZYsk/blib/lib
/home/njh/.cpan/build/Class-Method-Modifiers-1.09-84X01U/blib/arch
/home/njh/.cpan/build/Class-Method-Modifiers-1.09-84X01U/blib/lib
/home/njh/.cpan/build/Config-INI-0.019-yrMMTk/blib/arch
/home/njh/.cpan/build/Config-INI-0.019-yrMMTk/blib/lib
/home/njh/.cpan/build/Mixin-Linewise-0.003-HYOyyF/blib/arch
/home/njh/.cpan/build/Mixin-Linewise-0.003-HYOyyF/blib/lib
/home/njh/perl5/perlbrew/perls/perl-5.15.3/lib/site_perl/5.15.3/x86_64-linux
/home/njh/perl5/perlbrew/perls/perl-5.15.3/lib/site_perl/5.15.3
/home/njh/perl5/perlbrew/perls/perl-5.15.3/lib/5.15.3/x86_64-linux
/home/njh/perl5/perlbrew/perls/perl-5.15.3/lib/5.15.3
.