Crypt-OpenSSL-PKCS10 v0.26 Perl 5 v5.18.1 i686-linux-thread-multi
- Status
- Pass
- From
- Chris Williams (BINGOS)
- Dist
-
Crypt-OpenSSL-PKCS10 v0.26
- Platform
- Perl 5 v5.18.1 i686-linux-thread-multi
- Date
- 2024-10-04 17:14:20
- ID
- 18042bd0-8274-11ef-98b0-b3c3213a625c
This distribution has been tested as part of the CPAN Testers
project, supporting the Perl programming language. See
http://wiki.cpantesters.org/ for more information or email
questions to cpan-testers-discuss@perl.org
--
Dear Timothy Legge,
This is a computer-generated error report created automatically by
CPANPLUS, version 0.9914. Testers personal comments may appear
at the end of this report.
Thank you for uploading your work to CPAN. Congratulations!
All tests were successful.
TEST RESULTS:
Below is the error stack from stage 'make test':
"/home/cpan/pit/thr/perl-5.18.1/bin/perl" -MExtUtils::Command::MM -e 'cp_nonempty' -- PKCS10.bs blib/arch/auto/Crypt/OpenSSL/PKCS10/PKCS10.bs 644
PERL_DL_NONLAZY=1 "/home/cpan/pit/thr/perl-5.18.1/bin/perl" "-MExtUtils::Command::MM" "-MTest::Harness" "-e" "undef *Test::Harness::Switches; test_harness(0, 'blib/lib', 'blib/arch')" t/*.t
t/author-pod-spell.t ... skipped: these tests are for testing by the author
t/author-pod-syntax.t .. skipped: these tests are for testing by the author
-----BEGIN CERTIFICATE REQUEST-----
MIIBPzCBqQIBADAAMIGfMA0GCSqGSIb3DQEBAQUAA4GNADCBiQKBgQC5iEkamFDX
yILk1ofrwJ+TWeHMtwlp7FsLm2HTEWIi7RUi3/r08l4vgYE4fOwSaxaPuldFyqHp
B/R5igMKnitA8lglJx1G+5jgi/rDhL19p+/IiQ7C3/qSeI5Eg0r4JZx3LSASSDSW
cllguiPCwggqXe/hRMqvCRZm8dGSJs6VmwIDAQABoAAwDQYJKoZIhvcNAQELBQAD
gYEADSwiiRcKmb1N0xwXhL4FDBJt2vO8COeUaFUBZZ+v9Cywj+TFCtUxeCMv9Reo
nVof5PB3/phuflH+StjKrpbDN2jSXwkXE1MDFERLfLf+lj2nsDDNSpETBj83vTG2
JcM1HMzQ4o6OXz4TEFQgdgvNnR4UMtzuEf+sUciBtBEdonM=
-----END CERTIFICATE REQUEST-----
Public-Key: (1024 bit)
Modulus:
00:b9:88:49:1a:98:50:d7:c8:82:e4:d6:87:eb:c0:
9f:93:59:e1:cc:b7:09:69:ec:5b:0b:9b:61:d3:11:
62:22:ed:15:22:df:fa:f4:f2:5e:2f:81:81:38:7c:
ec:12:6b:16:8f:ba:57:45:ca:a1:e9:07:f4:79:8a:
03:0a:9e:2b:40:f2:58:25:27:1d:46:fb:98:e0:8b:
fa:c3:84:bd:7d:a7:ef:c8:89:0e:c2:df:fa:92:78:
8e:44:83:4a:f8:25:9c:77:2d:20:12:48:34:96:72:
59:60:ba:23:c2:c2:08:2a:5d:ef:e1:44:ca:af:09:
16:66:f1:d1:92:26:ce:95:9b
Exponent: 65537 (0x10001)
-----BEGIN CERTIFICATE REQUEST-----
MIIBPzCBqQIBADAAMIGfMA0GCSqGSIb3DQEBAQUAA4GNADCBiQKBgQDyMUIsMOn8
F/S8+0IWnkxDksu+29U3pJWPcWz31akFuN5PXt6xFqrrZ5s+E5tJhAS+qDejk5kb
ybpwH3NPHPIRxaASzxLQBjr2LxrcVeRfePcZrZ8pLIAGawYbeQD6ZfdtVZZqHstr
iJ6y12EhtRjAAaZkuhYQQ3MmeTGrhCNR0wIDAQABoAAwDQYJKoZIhvcNAQELBQAD
gYEAzAxT79MPOMykqpVYFUpCMcuvKdfEhR6ZtLzTxHS/j9kK2uQdULjWnMn98DQ7
TeLxak6hr+HipA+E9oSfdWGxsIPGSZZ5v5SKhEQHCE06ZVcfSbTEB+OxxdwWJIYZ
68uot5BBuShiC6qV1SqsUpEhjdmfWbiTVpJ3R7hFCbOk/JM=
-----END CERTIFICATE REQUEST-----
Public-Key: (1024 bit)
Modulus:
00:f2:31:42:2c:30:e9:fc:17:f4:bc:fb:42:16:9e:
4c:43:92:cb:be:db:d5:37:a4:95:8f:71:6c:f7:d5:
a9:05:b8:de:4f:5e:de:b1:16:aa:eb:67:9b:3e:13:
9b:49:84:04:be:a8:37:a3:93:99:1b:c9:ba:70:1f:
73:4f:1c:f2:11:c5:a0:12:cf:12:d0:06:3a:f6:2f:
1a:dc:55:e4:5f:78:f7:19:ad:9f:29:2c:80:06:6b:
06:1b:79:00:fa:65:f7:6d:55:96:6a:1e:cb:6b:88:
9e:b2:d7:61:21:b5:18:c0:01:a6:64:ba:16:10:43:
73:26:79:31:ab:84:23:51:d3
Exponent: 65537 (0x10001)
rsa
-----BEGIN PUBLIC KEY-----
MIGfMA0GCSqGSIb3DQEBAQUAA4GNADCBiQKBgQDyMUIsMOn8F/S8+0IWnkxDksu+
29U3pJWPcWz31akFuN5PXt6xFqrrZ5s+E5tJhAS+qDejk5kbybpwH3NPHPIRxaAS
zxLQBjr2LxrcVeRfePcZrZ8pLIAGawYbeQD6ZfdtVZZqHstriJ6y12EhtRjAAaZk
uhYQQ3MmeTGrhCNR0wIDAQAB
-----END PUBLIC KEY-----
-----BEGIN CERTIFICATE REQUEST-----
MIICJzCCAZACAQAwKTELMAkGA1UEBhMCUk8xDDAKBgNVBAoMA1VUSTEMMAoGA1UE
CwwDc3NpMIGfMA0GCSqGSIb3DQEBAQUAA4GNADCBiQKBgQDcvX95sdP5yymyiH2K
mIRh2XLstTJ0IN+fAKvQ/LF5yAnwyjocHZIsD3eB7gxVLPxHBGaxHWEZ2Ldy8Jb/
sZ7Um00j4EsTVn7ZHA0E+BDDtsVoH24yPW0COlzOLmuwmu09WOCD9gfCP7xZ90pS
uoE2IR2flFoz9ianp3xgKvRtfwIDAQABoIG9MIG6BgkqhkiG9w0BCQ4xgawwgakw
DgYDVR0PAQH/BAQDAgWgMC4GA1UdJQQnMCUGCCsGAQUFBwMBBglghkgBhvhCBAEG
CisGAQQBgjcKAwMGAisEMBwGA1UdEQQVMBOBEXN0ZXZlQG9wZW5zc2wub3JnMB0G
A1UdDgQWBBTuGnl79ecgVsk/JAcKOSi6AMy1jzAZBgMqAwMEEhYQTXkgbmV3IGV4
dGVuc2lvbjAPBgMqAwQECB4GAGEAYgBjMA0GCSqGSIb3DQEBCwUAA4GBABE/UZoF
KLVr14AjWuXH5EMKGKzH9BJ6hrx5srkWkoqZ68vXQcDRTd8MO/GLZeAKtEaYihgG
8T3mI/xs4aVXwu5Z2gar3E9P9tBjLCLpvFGZQiTkI4+0oeGMmr98u1BYE2q5Dw+i
z8Ls6moTJSEAB5UT7qDBHr8UKpWu9EVRo+Hy
-----END CERTIFICATE REQUEST-----
C=RO, O=UTI, OU=ssi
Public-Key: (1024 bit)
Modulus:
00:dc:bd:7f:79:b1:d3:f9:cb:29:b2:88:7d:8a:98:
84:61:d9:72:ec:b5:32:74:20:df:9f:00:ab:d0:fc:
b1:79:c8:09:f0:ca:3a:1c:1d:92:2c:0f:77:81:ee:
0c:55:2c:fc:47:04:66:b1:1d:61:19:d8:b7:72:f0:
96:ff:b1:9e:d4:9b:4d:23:e0:4b:13:56:7e:d9:1c:
0d:04:f8:10:c3:b6:c5:68:1f:6e:32:3d:6d:02:3a:
5c:ce:2e:6b:b0:9a:ed:3d:58:e0:83:f6:07:c2:3f:
bc:59:f7:4a:52:ba:81:36:21:1d:9f:94:5a:33:f6:
26:a7:a7:7c:60:2a:f4:6d:7f
Exponent: 65537 (0x10001)
rsa
-----BEGIN PUBLIC KEY-----
MIGfMA0GCSqGSIb3DQEBAQUAA4GNADCBiQKBgQDcvX95sdP5yymyiH2KmIRh2XLs
tTJ0IN+fAKvQ/LF5yAnwyjocHZIsD3eB7gxVLPxHBGaxHWEZ2Ldy8Jb/sZ7Um00j
4EsTVn7ZHA0E+BDDtsVoH24yPW0COlzOLmuwmu09WOCD9gfCP7xZ90pSuoE2IR2f
lFoz9ianp3xgKvRtfwIDAQAB
-----END PUBLIC KEY-----
C=DE, ST=NRW, L=Foo, O=Internet Widgits Pty Ltd, CN=foo.der.bar.com
Public-Key: (2048 bit)
Modulus:
00:c0:f3:18:17:17:28:00:e7:26:3f:b3:e3:40:13:
30:96:36:a3:5d:97:7a:ad:9c:e5:10:d5:93:a0:4f:
02:60:0d:0c:d9:36:f3:4c:e0:42:1a:68:71:5d:f3:
36:c7:fc:01:77:c3:7e:a1:e9:b1:09:73:5a:a4:ad:
75:9e:e5:d4:30:3d:0e:98:92:b2:e5:c2:0f:78:7b:
49:af:21:4d:99:a1:99:25:63:59:5b:b0:2f:96:b8:
95:b4:a8:a0:18:41:6d:4f:d1:bb:3e:a4:b0:da:1f:
08:20:3d:85:50:fc:29:40:ae:12:31:71:55:04:9c:
45:cb:40:47:b0:60:58:46:3e:68:46:26:16:fb:c0:
e5:76:1d:a1:b1:c1:f0:47:f1:5f:ff:62:c1:81:b7:
13:92:d8:f3:df:bf:f5:24:0a:13:43:3d:93:05:42:
10:aa:0f:16:53:e3:32:ba:dc:1e:f8:04:b2:34:98:
5f:2c:c1:5d:16:7a:e6:88:de:99:f4:ed:8a:f4:bd:
33:c5:e7:88:bd:3e:54:e1:c2:c1:88:d3:38:84:fb:
41:76:68:3d:76:23:90:94:47:74:33:b9:0b:1a:8f:
c7:7f:d5:d2:82:32:1b:4c:fd:e2:fc:17:75:46:97:
73:a5:19:03:20:68:c2:58:ee:be:7d:a4:1e:08:0f:
11:eb
Exponent: 65537 (0x10001)
rsa
-----BEGIN PUBLIC KEY-----
MIIBIjANBgkqhkiG9w0BAQEFAAOCAQ8AMIIBCgKCAQEAwPMYFxcoAOcmP7PjQBMw
ljajXZd6rZzlENWToE8CYA0M2TbzTOBCGmhxXfM2x/wBd8N+oemxCXNapK11nuXU
MD0OmJKy5cIPeHtJryFNmaGZJWNZW7AvlriVtKigGEFtT9G7PqSw2h8IID2FUPwp
QK4SMXFVBJxFy0BHsGBYRj5oRiYW+8Dldh2hscHwR/Ff/2LBgbcTktjz37/1JAoT
Qz2TBUIQqg8WU+Myutwe+ASyNJhfLMFdFnrmiN6Z9O2K9L0zxeeIvT5U4cLBiNM4
hPtBdmg9diOQlEd0M7kLGo/Hf9XSgjIbTP3i/Bd1RpdzpRkDIGjCWO6+faQeCA8R
6wIDAQAB
-----END PUBLIC KEY-----
t/Mytest.t ............. ok
t/release-kwalitee.t ... skipped: these tests are for release candidate testing
t/release-meta-json.t .. skipped: these tests are for release candidate testing
All tests successful.
Files=5, Tests=7, 1 wallclock secs ( 0.03 usr 0.00 sys + 0.28 cusr 0.02 csys = 0.33 CPU)
Result: PASS
PREREQUISITES:
Here is a list of prerequisites you specified and versions we
managed to load:
Module Name Have Want
Crypt::OpenSSL::Guess 0.15 0.11
Crypt::OpenSSL::RSA 0.33 0
Exporter 5.68 0
Test::More 1.302199 0
XSLoader 0.16 0
Perl module toolchain versions installed:
Module Name Have
CPANPLUS 0.9914
CPANPLUS::Dist::Build 0.90
Cwd 3.75
ExtUtils::CBuilder 0.280236
ExtUtils::Command 7.70
ExtUtils::Install 2.22
ExtUtils::MakeMaker 7.70
ExtUtils::Manifest 1.75
ExtUtils::ParseXS 3.51
File::Spec 3.75
Module::Build 0.4234
Pod::Parser 1.60
Pod::Simple 3.28
Test2 1.302199
Test::Harness 3.48
Test::More 1.302199
version 0.9932
******************************** NOTE ********************************
The comments above are created mechanically, possibly without manual
checking by the sender. As there are many people performing automatic
tests on each upload to CPAN, it is likely that you will receive
identical messages about the same problem.
If you believe that the message is mistaken, please reply to the first
one with correction and/or additional informations, and do not take
it personally. We appreciate your patience. :)
**********************************************************************
Additional comments:
This report was machine-generated by CPANPLUS::Dist::YACSmoke 1.08.
Powered by minismokebox version 0.68
CPANPLUS is prefering Build.PL
------------------------------
ENVIRONMENT AND OTHER CONTEXT
------------------------------
Environment variables:
AUTOMATED_TESTING = 1
LANG = en_GB.UTF-8
LANGUAGE = en_GB:en
NONINTERACTIVE_TESTING = 1
PATH = /usr/local/bin:/usr/bin:/bin:/usr/local/games:/usr/games
PERL5LIB = /home/cpan/pit/jail/2OMY72Jv9R/lib/perl5:/home/cpan/pit/thr/conf/perl-5.18.1/.cpanplus/5.18.1/build/Y04mOlUNRW/Crypt-OpenSSL-PKCS10-0.26/blib/lib:/home/cpan/pit/thr/conf/perl-5.18.1/.cpanplus/5.18.1/build/Y04mOlUNRW/Crypt-OpenSSL-PKCS10-0.26/blib/arch
PERL5_CPANPLUS_IS_RUNNING = 487
PERL5_CPANPLUS_IS_VERSION = 0.9914
PERL5_MINISMOKEBOX = 0.68
PERL5_YACSMOKE_BASE = /home/cpan/pit/thr/conf/perl-5.18.1
PERL_EXTUTILS_AUTOINSTALL = --defaultdeps
PERL_LOCAL_LIB_ROOT = /home/cpan/pit/jail/2OMY72Jv9R
PERL_MB_OPT = --install_base "/home/cpan/pit/jail/2OMY72Jv9R"
PERL_MM_OPT = INSTALL_BASE=/home/cpan/pit/jail/2OMY72Jv9R
PERL_MM_USE_DEFAULT = 1
PERL_USE_UNSAFE_INC = 1
SHELL = /bin/bash
TERM = screen.xterm-256color
Perl special variables (and OS-specific diagnostics, for MSWin32):
Perl: $^X = /home/cpan/pit/thr/perl-5.18.1/bin/perl
UID: $< = 1001
EUID: $> = 1001
GID: $( = 1001 1001
EGID: $) = 1001 1001
-------------------------------
--
Summary of my perl5 (revision 5 version 18 subversion 1) configuration:
Platform:
osname=linux, osvers=5.10.0-12-686, archname=i686-linux-thread-multi
uname='linux dagobah 5.10.0-12-686 #1 smp debian 5.10.103-1 (2022-03-07) i686 gnulinux '
config_args='-des -Dprefix=/home/cpan/pit/thr/perl-5.18.1 -Dusethreads'
hint=recommended, useposix=true, d_sigaction=define
useithreads=define, usemultiplicity=define
useperlio=define, d_sfio=undef, uselargefiles=define, usesocks=undef
use64bitint=undef, use64bitall=undef, uselongdouble=undef
usemymalloc=n, bincompat5005=undef
Compiler:
cc='cc', ccflags ='-D_REENTRANT -D_GNU_SOURCE -fwrapv -fno-strict-aliasing -pipe -fstack-protector -I/usr/local/include -D_LARGEFILE_SOURCE -D_FILE_OFFSET_BITS=64',
optimize='-O2',
cppflags='-D_REENTRANT -D_GNU_SOURCE -fwrapv -fno-strict-aliasing -pipe -fstack-protector -I/usr/local/include'
ccversion='', gccversion='10.2.1 20210110', gccosandvers=''
intsize=4, longsize=4, ptrsize=4, doublesize=8, byteorder=1234
d_longlong=define, longlongsize=8, d_longdbl=define, longdblsize=12
ivtype='long', ivsize=4, nvtype='double', nvsize=8, Off_t='off_t', lseeksize=8
alignbytes=4, prototype=define
Linker and Libraries:
ld='cc', ldflags =' -fstack-protector -L/usr/local/lib'
libpth=/usr/local/lib /lib/i386-linux-gnu /lib/../lib /usr/lib/i386-linux-gnu /usr/lib/../lib /lib /usr/lib /lib64 /usr/lib64
libs=-lnsl -lgdbm -ldl -lm -lcrypt -lutil -lpthread -lc
perllibs=-lnsl -ldl -lm -lcrypt -lutil -lpthread -lc
libc=libc-2.31.so, so=so, useshrplib=false, libperl=libperl.a
gnulibc_version='2.31'
Dynamic Linking:
dlsrc=dl_dlopen.xs, dlext=so, d_dlsymun=undef, ccdlflags='-Wl,-E'
cccdlflags='-fPIC', lddlflags='-shared -O2 -L/usr/local/lib -fstack-protector'
Characteristics of this binary (from libperl):
Compile-time options: HAS_TIMES MULTIPLICITY PERLIO_LAYERS
PERL_DONT_CREATE_GVSV
PERL_HASH_FUNC_ONE_AT_A_TIME_HARD
PERL_IMPLICIT_CONTEXT PERL_MALLOC_WRAP
PERL_PRESERVE_IVUV PERL_SAWAMPERSAND USE_ITHREADS
USE_LARGE_FILES USE_LOCALE USE_LOCALE_COLLATE
USE_LOCALE_CTYPE USE_LOCALE_NUMERIC USE_PERLIO
USE_PERL_ATOF USE_REENTRANT_API
Locally applied patches:
Devel::PatchPerl 2.08
Built under linux
Compiled at Mar 18 2022 02:43:56
%ENV:
PERL5LIB="/home/cpan/pit/jail/2OMY72Jv9R/lib/perl5:/home/cpan/pit/thr/conf/perl-5.18.1/.cpanplus/5.18.1/build/Y04mOlUNRW/Crypt-OpenSSL-PKCS10-0.26/blib/lib:/home/cpan/pit/thr/conf/perl-5.18.1/.cpanplus/5.18.1/build/Y04mOlUNRW/Crypt-OpenSSL-PKCS10-0.26/blib/arch"
PERL5_CPANPLUS_IS_RUNNING="487"
PERL5_CPANPLUS_IS_VERSION="0.9914"
PERL5_MINISMOKEBOX="0.68"
PERL5_YACSMOKE_BASE="/home/cpan/pit/thr/conf/perl-5.18.1"
PERL_EXTUTILS_AUTOINSTALL="--defaultdeps"
PERL_LOCAL_LIB_ROOT="/home/cpan/pit/jail/2OMY72Jv9R"
PERL_MB_OPT="--install_base "/home/cpan/pit/jail/2OMY72Jv9R""
PERL_MM_OPT="INSTALL_BASE=/home/cpan/pit/jail/2OMY72Jv9R"
PERL_MM_USE_DEFAULT="1"
PERL_USE_UNSAFE_INC="1"
@INC:
/home/cpan/pit/jail/2OMY72Jv9R/lib/perl5/5.18.1/i686-linux-thread-multi
/home/cpan/pit/jail/2OMY72Jv9R/lib/perl5/5.18.1
/home/cpan/pit/jail/2OMY72Jv9R/lib/perl5/i686-linux-thread-multi
/home/cpan/pit/jail/2OMY72Jv9R/lib/perl5
/home/cpan/pit/thr/conf/perl-5.18.1/.cpanplus/5.18.1/build/Y04mOlUNRW/Crypt-OpenSSL-PKCS10-0.26/blib/lib
/home/cpan/pit/thr/conf/perl-5.18.1/.cpanplus/5.18.1/build/Y04mOlUNRW/Crypt-OpenSSL-PKCS10-0.26/blib/arch
/home/cpan/pit/thr/perl-5.18.1/lib/site_perl/5.18.1/i686-linux-thread-multi
/home/cpan/pit/thr/perl-5.18.1/lib/site_perl/5.18.1
/home/cpan/pit/thr/perl-5.18.1/lib/5.18.1/i686-linux-thread-multi
/home/cpan/pit/thr/perl-5.18.1/lib/5.18.1
.