Parallel-Queue v3.6 Perl 5 v5.26.2 OpenBSD.amd64-openbsd-thread-multi

Status
Pass
From
Alceu Rodrigues de Freitas Junior
Dist
Parallel-Queue v3.6
Platform
Perl 5 v5.26.2 OpenBSD.amd64-openbsd-thread-multi
Date
2018-07-10 00:35:06
ID
17c24486-83d9-11e8-8691-a29b68c7fbdd
This distribution has been tested as part of the CPAN Testers
project, supporting the Perl programming language.  See
http://wiki.cpantesters.org/ for more information or email
questions to cpan-testers-discuss@perl.org


--
Dear Steven Lembark,

This is a computer-generated report for Parallel-Queue-3.6
on perl 5.26.2, created by CPAN-Reporter-1.2018.

Thank you for uploading your work to CPAN.  Congratulations!
All tests were successful.

Sections of this report:

    * Tester comments
    * Program output
    * Prerequisites
    * Environment and other context

------------------------------
TESTER COMMENTS
------------------------------

Additional comments from tester:

this report is from an automated smoke testing program
and was not reviewed by a human for accuracy

------------------------------
PROGRAM OUTPUT
------------------------------

Output from '/usr/bin/make test':

PERL_DL_NONLAZY=1 "/home/goku/perl5/perlbrew/perls/perl-5.26.2/bin/perl" "-MExtUtils::Command::MM" "-MTest::Harness" "-e" "undef *Test::Harness::Switches; test_harness(0, 'blib/lib', 'blib/arch')" t/*.t
t/00-usable.t ................... ok
t/01-export-name.t .............. ok
Smartmatch is experimental at t/02-debug-mode.t line 70.
Non-forking queue
Next job: 'CODE(0x17a47bd1b250)'
Complete: '0' ()
Next job: 'CODE(0x17a47bd1b568)'
Complete: '0' ()
Next job: 'CODE(0x17a443e1a928)'
Complete: '0' ()
Next job: 'CODE(0x17a443e1aad8)'
Complete: '0' ()
Next job: 'CODE(0x17a4b5b8e520)'
Complete: '0' ()
Next job: 'CODE(0x17a4b5b8ea90)'
Complete: '0' ()
Next job: 'CODE(0x17a49c243fb8)'
Complete: '0' ()
Next job: 'CODE(0x17a45b7af148)'
Complete: '0' ()
Next job: 'CODE(0x17a4b5b8ec10)'
Complete: '0' ()
Next job: 'CODE(0x17a4b5b8ecd0)'
Complete: '0' ()
Next job: 'CODE(0x17a45b5321a8)'
Complete: '0' ()
Next job: 'CODE(0x17a45b532100)'
Complete: '0' ()
Next job: 'CODE(0x17a45b532058)'
Complete: '0' ()
Next job: 'CODE(0x17a45b532640)'
Complete: '0' ()
Next job: 'CODE(0x17a45b532f88)'
Complete: '0' ()
Next job: 'CODE(0x17a45b532ef8)'
Complete: '0' ()
Next job: 'CODE(0x17a4b612c3d0)'
Complete: '0' ()
Next job: 'CODE(0x17a4b612c478)'
Complete: '0' ()
Next job: 'CODE(0x17a4b612c520)'
Complete: '0' ()
Next job: 'CODE(0x17a4b612c5c8)'
Complete: '0' ()
Next job: ''
Non-forking queue
Next job: 'CODE(0x17a4b612c670)'
Complete: '0' ()
Next job: 'CODE(0x17a4b612c748)'
Complete: '0' ()
Next job: 'CODE(0x17a4b612c820)'
Complete: '0' ()
Next job: 'CODE(0x17a4b612c8f8)'
Complete: '0' ()
Next job: 'CODE(0x17a4b612c9d0)'
Complete: '0' ()
Next job: 'CODE(0x17a4b612caa8)'
Complete: '0' ()
Next job: 'CODE(0x17a4b612cb80)'
Complete: '0' ()
Next job: 'CODE(0x17a4b612cc58)'
Complete: '0' ()
Next job: 'CODE(0x17a4b612cd30)'
Complete: '0' ()
Next job: 'CODE(0x17a4b612ce08)'
Complete: '0' ()
Next job: 'CODE(0x17a4b612cee0)'
Complete: '0' ()
Next job: 'CODE(0x17a4b612cfb8)'
Complete: '0' ()
Next job: 'CODE(0x17a47ec430b8)'
Complete: '0' ()
Next job: 'CODE(0x17a47ec43190)'
Complete: '0' ()
Next job: 'CODE(0x17a47ec43268)'
Complete: '0' ()
Next job: 'CODE(0x17a47ec43340)'
Complete: '0' ()
Next job: 'CODE(0x17a47ec43418)'
Complete: '0' ()
Next job: 'CODE(0x17a47ec434f0)'
Complete: '0' ()
Next job: 'CODE(0x17a47ec435c8)'
Complete: '0' ()
Next job: 'CODE(0x17a47ec436a0)'
Complete: '0' ()
Next job: ''
Non-forking queue
Next job: 'CODE(0x17a47bd1b250)'
Complete: '0' ()
Next job: 'CODE(0x17a47bd1b568)'
Complete: '0' ()
Next job: 'CODE(0x17a443e1a928)'
Complete: '0' ()
Next job: 'CODE(0x17a443e1aad8)'
Complete: '0' ()
Next job: 'CODE(0x17a4b5b8e520)'
Complete: '0' ()
Next job: 'CODE(0x17a4b5b8ea90)'
Complete: '0' ()
Next job: 'CODE(0x17a49c243fb8)'
Complete: '0' ()
Next job: 'CODE(0x17a45b7af148)'
Complete: '0' ()
Next job: 'CODE(0x17a4b5b8ec10)'
Complete: '0' ()
Next job: 'CODE(0x17a4b5b8ecd0)'
Complete: '0' ()
Next job: 'CODE(0x17a45b5321a8)'
Complete: '0' ()
Next job: 'CODE(0x17a45b532100)'
Complete: '0' ()
Next job: 'CODE(0x17a45b532058)'
Complete: '0' ()
Next job: 'CODE(0x17a45b532640)'
Complete: '0' ()
Next job: 'CODE(0x17a45b532f88)'
Complete: '0' ()
Next job: 'CODE(0x17a45b532ef8)'
Complete: '0' ()
Next job: 'CODE(0x17a4b612c3d0)'
Complete: '0' ()
Next job: 'CODE(0x17a4b612c478)'
Complete: '0' ()
Next job: 'CODE(0x17a4b612c520)'
Complete: '0' ()
Next job: 'CODE(0x17a4b612c5c8)'
Complete: '0' ()
Next job: ''
Non-forking queue
Next job: 'CODE(0x17a4b612c670)'
Complete: '0' ()
Next job: 'CODE(0x17a4b612c748)'
Complete: '0' ()
Next job: 'CODE(0x17a4b612c820)'
Complete: '0' ()
Next job: 'CODE(0x17a4b612c8f8)'
Complete: '0' ()
Next job: 'CODE(0x17a4b612c9d0)'
Complete: '0' ()
Next job: 'CODE(0x17a4b612caa8)'
Complete: '0' ()
Next job: 'CODE(0x17a4b612cb80)'
Complete: '0' ()
Next job: 'CODE(0x17a4b612cc58)'
Complete: '0' ()
Next job: 'CODE(0x17a4b612cd30)'
Complete: '0' ()
Next job: 'CODE(0x17a4b612ce08)'
Complete: '0' ()
Next job: 'CODE(0x17a4b612cee0)'
Complete: '0' ()
Next job: 'CODE(0x17a4b612cfb8)'
Complete: '0' ()
Next job: 'CODE(0x17a47ec430b8)'
Complete: '0' ()
Next job: 'CODE(0x17a47ec43190)'
Complete: '0' ()
Next job: 'CODE(0x17a47ec43268)'
Complete: '0' ()
Next job: 'CODE(0x17a47ec43340)'
Complete: '0' ()
Next job: 'CODE(0x17a47ec43418)'
Complete: '0' ()
Next job: 'CODE(0x17a47ec434f0)'
Complete: '0' ()
Next job: 'CODE(0x17a47ec435c8)'
Complete: '0' ()
Next job: 'CODE(0x17a47ec436a0)'
Complete: '0' ()
Next job: ''
Non-forking queue
Next job: 'CODE(0x17a47bd1b250)'
Complete: '0' ()
Next job: 'CODE(0x17a47bd1b568)'
Complete: '0' ()
Next job: 'CODE(0x17a443e1a928)'
Complete: '0' ()
Next job: 'CODE(0x17a443e1aad8)'
Complete: '0' ()
Next job: 'CODE(0x17a4b5b8e520)'
Complete: '0' ()
Next job: 'CODE(0x17a4b5b8ea90)'
Complete: '0' ()
Next job: 'CODE(0x17a49c243fb8)'
Complete: '0' ()
Next job: 'CODE(0x17a45b7af148)'
Complete: '0' ()
Next job: 'CODE(0x17a4b5b8ec10)'
Complete: '0' ()
Next job: 'CODE(0x17a4b5b8ecd0)'
Complete: '0' ()
Next job: 'CODE(0x17a45b5321a8)'
Complete: '0' ()
Next job: 'CODE(0x17a45b532100)'
Complete: '0' ()
Next job: 'CODE(0x17a45b532058)'
Complete: '0' ()
Next job: 'CODE(0x17a45b532640)'
Complete: '0' ()
Next job: 'CODE(0x17a45b532f88)'
Complete: '0' ()
Next job: 'CODE(0x17a45b532ef8)'
Complete: '0' ()
Next job: 'CODE(0x17a4b612c3d0)'
Complete: '0' ()
Next job: 'CODE(0x17a4b612c478)'
Complete: '0' ()
Next job: 'CODE(0x17a4b612c520)'
Complete: '0' ()
Next job: 'CODE(0x17a4b612c5c8)'
Complete: '0' ()
Next job: ''
Non-forking queue
Next job: 'CODE(0x17a4b612c670)'
Complete: '0' ()
Next job: 'CODE(0x17a4b612c748)'
Complete: '0' ()
Next job: 'CODE(0x17a4b612c820)'
Complete: '0' ()
Next job: 'CODE(0x17a4b612c8f8)'
Complete: '0' ()
Next job: 'CODE(0x17a4b612c9d0)'
Complete: '0' ()
Next job: 'CODE(0x17a4b612caa8)'
Complete: '0' ()
Next job: 'CODE(0x17a4b612cb80)'
Complete: '0' ()
Next job: 'CODE(0x17a4b612cc58)'
Complete: '0' ()
Next job: 'CODE(0x17a4b612cd30)'
Complete: '0' ()
Next job: 'CODE(0x17a4b612ce08)'
Complete: '0' ()
Next job: 'CODE(0x17a4b612cee0)'
Complete: '0' ()
Next job: 'CODE(0x17a4b612cfb8)'
Complete: '0' ()
Next job: 'CODE(0x17a47ec430b8)'
Complete: '0' ()
Next job: 'CODE(0x17a47ec43190)'
Complete: '0' ()
Next job: 'CODE(0x17a47ec43268)'
Complete: '0' ()
Next job: 'CODE(0x17a47ec43340)'
Complete: '0' ()
Next job: 'CODE(0x17a47ec43418)'
Complete: '0' ()
Next job: 'CODE(0x17a47ec434f0)'
Complete: '0' ()
Next job: 'CODE(0x17a47ec435c8)'
Complete: '0' ()
Next job: 'CODE(0x17a47ec436a0)'
Complete: '0' ()
Next job: ''
t/02-debug-mode.t ............... ok
Smartmatch is experimental at t/03-fork.t line 83.
t/03-fork.t ..................... ok
t/04-nonzero-exit.t ............. ok
exit( 1 ) by 50541 at /mnt/cpan_build_dir/goku/Parallel-Queue-3.6-0/blib/lib/Parallel/Queue.pm line 227.
t/05-nonzero-with-finish.t ...... ok
Discarding non-queue 'PQ::Iterator::a'
Discarding non-queue 'PQ::Iterator::b'
Discarding non-queue 'PQ::Iterator::c'
t/06-iterator-package-nofork.t .. ok
Discarding non-queue 'PQ::Iterator::a'
Discarding non-queue 'PQ::Iterator::b'
Discarding non-queue 'PQ::Iterator::c'
t/07-iterator-package-fork.t .... ok
t/08-iterator-objects-nofork.t .. ok
t/09-iterator-objects-fork.t .... ok
All tests successful.
Files=10, Tests=87,  3 wallclock secs ( 0.02 usr  0.08 sys +  0.97 cusr  1.33 csys =  2.40 CPU)
Result: PASS

------------------------------
PREREQUISITES
------------------------------

Prerequisite modules loaded:

requires:

    Module              Need Have
    ------------------- ---- ----
    Carp                0    1.38
    Scalar::Util        0    1.50
    strict              0    1.11
    Symbol              0    1.08

build_requires:

    Module              Need Have
    ------------------- ---- ----
    ExtUtils::MakeMaker 0    7.34

configure_requires:

    Module              Need Have
    ------------------- ---- ----
    ExtUtils::MakeMaker 0    7.34


------------------------------
ENVIRONMENT AND OTHER CONTEXT
------------------------------

Environment variables:

    AUTOMATED_TESTING = 1
    DBD_MYSQL_TESTDB = test
    DBD_MYSQL_TESTHOST = localhost
    DBD_MYSQL_TESTPASSWORD = 
    DBD_MYSQL_TESTPORT = 3306
    DBD_MYSQL_TESTUSER = goku
    EXTENDED_TESTING = 1
    PATH = /home/goku/perl5/perlbrew/bin:/home/goku/perl5/perlbrew/perls/perl-5.26.2/bin:/home/goku/bin:/usr/bin:/bin:/usr/sbin:/sbin:/usr/X11R6/bin:/usr/local/bin:/usr/local/sbin
    PERL5LIB = 
    PERL5OPT = 
    PERL5_CPANPLUS_IS_RUNNING = 37505
    PERL5_CPAN_IS_RUNNING = 37505
    PERL5_CPAN_IS_RUNNING_IN_RECURSION = 88704,37505
    PERLBREW_HOME = /home/goku/.perlbrew
    PERLBREW_MANPATH = /home/goku/perl5/perlbrew/perls/perl-5.26.2/man
    PERLBREW_PATH = /home/goku/perl5/perlbrew/bin:/home/goku/perl5/perlbrew/perls/perl-5.26.2/bin
    PERLBREW_PERL = perl-5.26.2
    PERLBREW_ROOT = /home/goku/perl5/perlbrew
    PERLBREW_SHELLRC_VERSION = 0.84
    PERLBREW_VERSION = 0.84
    PERL_CR_SMOKER_CURRENT = Parallel-Queue-3.6
    PERL_EXTUTILS_AUTOINSTALL = --defaultdeps
    PERL_MM_USE_DEFAULT = 1
    SHELL = /usr/local/bin/bash
    TERM = vt220

Perl special variables (and OS-specific diagnostics, for MSWin32):

    $^X = /home/goku/perl5/perlbrew/perls/perl-5.26.2/bin/perl
    $UID/$EUID = 1002 / 1002
    $GID = 1002 1002 1001
    $EGID = 1002 1002 1001

Perl module toolchain versions installed:

    Module              Have    
    ------------------- --------
    CPAN                2.16    
    CPAN::Meta          2.150010
    Cwd                 3.74    
    ExtUtils::CBuilder  0.280230
    ExtUtils::Command   7.34    
    ExtUtils::Install   2.14    
    ExtUtils::MakeMaker 7.34    
    ExtUtils::Manifest  1.71    
    ExtUtils::ParseXS   3.35    
    File::Spec          3.74    
    JSON                2.97001 
    JSON::PP            2.97001 
    Module::Build       0.4224  
    Module::Signature   0.81    
    Parse::CPAN::Meta   2.150010
    Test::Harness       3.42    
    Test::More          1.302136
    YAML                1.26    
    YAML::Syck          1.30    
    version             0.9924  


--

Summary of my perl5 (revision 5 version 26 subversion 2) configuration:
   
  Platform:
    osname=openbsd
    osvers=6.3
    archname=OpenBSD.amd64-openbsd-thread-multi
    uname='openbsd cpan-smoker-openbsd 6.3 generic.mp#107 amd64 '
    config_args='-de -Dprefix=/home/goku/perl5/perlbrew/perls/perl-5.26.2 -Dman1dir=none -Dman3dir=none -Duse64bitall -Dusethreads -Dusemultiplicity -Duse64bitint -Aeval:scriptdir=/home/goku/perl5/perlbrew/perls/perl-5.26.2/bin'
    hint=recommended
    useposix=true
    d_sigaction=define
    useithreads=define
    usemultiplicity=define
    use64bitint=define
    use64bitall=define
    uselongdouble=undef
    usemymalloc=n
    default_inc_excludes_dot=define
    bincompat5005=undef
  Compiler:
    cc='cc'
    ccflags ='-pthread -fno-strict-aliasing -pipe -fstack-protector-strong -I/usr/local/include -D_FORTIFY_SOURCE=2'
    optimize='-O2'
    cppflags='-pthread -fno-strict-aliasing -pipe -fstack-protector-strong -I/usr/local/include'
    ccversion=''
    gccversion='4.2.1 Compatible OpenBSD Clang 5.0.1 (tags/RELEASE_501/final)'
    gccosandvers=''
    intsize=4
    longsize=8
    ptrsize=8
    doublesize=8
    byteorder=12345678
    doublekind=3
    d_longlong=define
    longlongsize=8
    d_longdbl=define
    longdblsize=16
    longdblkind=3
    ivtype='long'
    ivsize=8
    nvtype='double'
    nvsize=8
    Off_t='off_t'
    lseeksize=8
    alignbytes=8
    prototype=define
  Linker and Libraries:
    ld='cc'
    ldflags ='-pthread -Wl,-E  -fstack-protector-strong -L/usr/local/lib'
    libpth=/usr/lib /usr/local/lib
    libs=-lpthread -lm -lutil -lc
    perllibs=-lpthread -lm -lutil -lc
    libc=/usr/lib/libc.so.92.3
    so=so
    useshrplib=false
    libperl=libperl.a
    gnulibc_version=''
  Dynamic Linking:
    dlsrc=dl_dlopen.xs
    dlext=so
    d_dlsymun=undef
    ccdlflags=' '
    cccdlflags='-DPIC -fPIC '
    lddlflags='-shared -fPIC  -L/usr/local/lib -fstack-protector-strong'


Characteristics of this binary (from libperl): 
  Compile-time options:
    HAS_TIMES
    MULTIPLICITY
    PERLIO_LAYERS
    PERL_COPY_ON_WRITE
    PERL_DONT_CREATE_GVSV
    PERL_IMPLICIT_CONTEXT
    PERL_MALLOC_WRAP
    PERL_OP_PARENT
    PERL_PRESERVE_IVUV
    USE_64_BIT_ALL
    USE_64_BIT_INT
    USE_ITHREADS
    USE_LARGE_FILES
    USE_LOCALE
    USE_LOCALE_COLLATE
    USE_LOCALE_CTYPE
    USE_LOCALE_NUMERIC
    USE_LOCALE_TIME
    USE_PERLIO
    USE_PERL_ATOF
    USE_REENTRANT_API
  Locally applied patches:
    Devel::PatchPerl 1.48
  Built under openbsd
  Compiled at Jun 10 2018 14:27:37
  %ENV:
    PERL5LIB=""
    PERL5OPT=""
    PERL5_CPANPLUS_IS_RUNNING="37505"
    PERL5_CPAN_IS_RUNNING="37505"
    PERL5_CPAN_IS_RUNNING_IN_RECURSION="88704,37505"
    PERLBREW_HOME="/home/goku/.perlbrew"
    PERLBREW_MANPATH="/home/goku/perl5/perlbrew/perls/perl-5.26.2/man"
    PERLBREW_PATH="/home/goku/perl5/perlbrew/bin:/home/goku/perl5/perlbrew/perls/perl-5.26.2/bin"
    PERLBREW_PERL="perl-5.26.2"
    PERLBREW_ROOT="/home/goku/perl5/perlbrew"
    PERLBREW_SHELLRC_VERSION="0.84"
    PERLBREW_VERSION="0.84"
    PERL_CR_SMOKER_CURRENT="Parallel-Queue-3.6"
    PERL_EXTUTILS_AUTOINSTALL="--defaultdeps"
    PERL_MM_USE_DEFAULT="1"
  @INC:
    /home/goku/perl5/perlbrew/perls/perl-5.26.2/lib/site_perl/5.26.2/OpenBSD.amd64-openbsd-thread-multi
    /home/goku/perl5/perlbrew/perls/perl-5.26.2/lib/site_perl/5.26.2
    /home/goku/perl5/perlbrew/perls/perl-5.26.2/lib/5.26.2/OpenBSD.amd64-openbsd-thread-multi
    /home/goku/perl5/perlbrew/perls/perl-5.26.2/lib/5.26.2