App-RoboBot v4.004 Perl 5 v5.41.4 x86_64-linux

Status
Pass
From
Slaven Rezić
Dist
App-RoboBot v4.004
Platform
Perl 5 v5.41.4 x86_64-linux
Date
2024-10-20 08:19:56
ID
170e3e9c-8ebc-11ef-a7be-ed0a6e8775ea
This distribution has been tested as part of the CPAN Testers
project, supporting the Perl programming language.  See
http://wiki.cpantesters.org/ for more information or email
questions to cpan-testers-discuss@perl.org


--
Dear Jon Sime,

This is a computer-generated report for App-RoboBot-4.004
on perl 5.41.4, created by CPAN-Reporter-1.2020.

Thank you for uploading your work to CPAN.  Congratulations!
All tests were successful.

Sections of this report:

    * Tester comments
    * Program output
    * Prerequisites
    * Environment and other context

------------------------------
TESTER COMMENTS
------------------------------

Additional comments from tester:

none provided

------------------------------
PROGRAM OUTPUT
------------------------------

Output from '/usr/bin/make test':

Skip blib/lib/auto/share/dist/App-RoboBot/migrations/deploy/p-fakequotes-20161128183237.sql (unchanged)
Skip blib/lib/auto/share/dist/App-RoboBot/migrations/deploy/p-net-urls-20161128224203.sql (unchanged)
Skip blib/lib/auto/share/dist/App-RoboBot/migrations/deploy/p-factoids-20161128182038.sql (unchanged)
Skip blib/lib/auto/share/dist/App-RoboBot/migrations/deploy/p-autoreply-20161128171050.sql (unchanged)
Skip blib/lib/auto/share/dist/App-RoboBot/migrations/deploy/p-github-20161128190436.sql (unchanged)
Skip blib/lib/auto/share/dist/App-RoboBot/Vagrantfile (unchanged)
Skip blib/lib/auto/share/dist/App-RoboBot/migrations/deploy/p-memos-20161128214110.sql (unchanged)
Skip blib/lib/auto/share/dist/App-RoboBot/migrations/deploy/p-markov-20161128212720.sql (unchanged)
Skip blib/lib/auto/share/dist/App-RoboBot/migrations/deploy/p-macros-20161128210159.sql (unchanged)
Skip blib/lib/auto/share/dist/App-RoboBot/migrations/deploy/p-logger-20161128205533.sql (unchanged)
Skip blib/lib/auto/share/dist/App-RoboBot/migrations/deploy/p-madlibs-20161128211213.sql (unchanged)
Skip blib/lib/auto/share/dist/App-RoboBot/migrations/deploy/p-auth-20161128164909.sql (unchanged)
Skip blib/lib/auto/share/dist/App-RoboBot/migrations/deploy/p-channellink-20161128173743.sql (unchanged)
Skip blib/lib/auto/share/dist/App-RoboBot/migrations/deploy/base.sql (unchanged)
Skip blib/lib/auto/share/dist/App-RoboBot/migrations/deploy/p-karma-20161128200656.sql (unchanged)
Skip blib/lib/auto/share/dist/App-RoboBot/migrations/deploy/p-alarms-20161128153112.sql (unchanged)
Skip blib/lib/auto/share/dist/App-RoboBot/migrations/deploy/p-net-http-20161128214753.sql (unchanged)
Skip blib/lib/auto/share/dist/App-RoboBot/migrations/deploy/p-achievements-20161128144040.sql (unchanged)
Skip blib/lib/auto/share/dist/App-RoboBot/migrations/deploy/p-location-20161128204426.sql (unchanged)
Skip blib/lib/auto/share/dist/App-RoboBot/migrations/revert/p-logger-20161128205533.sql (unchanged)
Skip blib/lib/auto/share/dist/App-RoboBot/migrations/deploy/p-variables-20161128195027.sql (unchanged)
Skip blib/lib/auto/share/dist/App-RoboBot/migrations/revert/p-fakequotes-20161128183237.sql (unchanged)
Skip blib/lib/auto/share/dist/App-RoboBot/migrations/revert/p-auth-20161128164909.sql (unchanged)
Skip blib/lib/auto/share/dist/App-RoboBot/migrations/revert/p-alarms-20161128153112.sql (unchanged)
Skip blib/lib/auto/share/dist/App-RoboBot/migrations/deploy/p-skills-20161128215019.sql (unchanged)
Skip blib/lib/auto/share/dist/App-RoboBot/migrations/revert/p-karma-20161128200656.sql (unchanged)
Skip blib/lib/auto/share/dist/App-RoboBot/migrations/revert/p-autoreply-20161128171050.sql (unchanged)
Skip blib/lib/auto/share/dist/App-RoboBot/migrations/deploy/p-thinge-20161128223332.sql (unchanged)
Skip blib/lib/auto/share/dist/App-RoboBot/migrations/revert/p-madlibs-20161128211213.sql (unchanged)
Skip blib/lib/auto/share/dist/App-RoboBot/migrations/revert/base.sql (unchanged)
Skip blib/lib/auto/share/dist/App-RoboBot/migrations/revert/p-factoids-20161128182038.sql (unchanged)
Skip blib/lib/auto/share/dist/App-RoboBot/migrations/revert/p-macros-20161128210159.sql (unchanged)
Skip blib/lib/auto/share/dist/App-RoboBot/migrations/deploy/p-voting-20161128224521.sql (unchanged)
Skip blib/lib/auto/share/dist/App-RoboBot/migrations/deploy/p-skills-20161128231536.sql (unchanged)
Skip blib/lib/auto/share/dist/App-RoboBot/migrations/revert/p-github-20161128190436.sql (unchanged)
Skip blib/lib/auto/share/dist/App-RoboBot/migrations/revert/p-location-20161128204426.sql (unchanged)
Skip blib/lib/auto/share/dist/App-RoboBot/migrations/revert/p-channellink-20161128173743.sql (unchanged)
Skip blib/lib/auto/share/dist/App-RoboBot/migrations/revert/p-achievements-20161128144040.sql (unchanged)
Skip blib/lib/auto/share/dist/App-RoboBot/migrations/verify/p-achievements-20161128144040.sql (unchanged)
Skip blib/lib/auto/share/dist/App-RoboBot/migrations/verify/p-fakequotes-20161128183237.sql (unchanged)
Skip blib/lib/auto/share/dist/App-RoboBot/migrations/verify/p-auth-20161128164909.sql (unchanged)
Skip blib/lib/auto/share/dist/App-RoboBot/migrations/verify/p-factoids-20161128182038.sql (unchanged)
Skip blib/lib/auto/share/dist/App-RoboBot/migrations/verify/p-autoreply-20161128171050.sql (unchanged)
Skip blib/lib/auto/share/dist/App-RoboBot/migrations/revert/p-net-http-20161128214753.sql (unchanged)
Skip blib/lib/auto/share/dist/App-RoboBot/migrations/sqitch.conf (unchanged)
Skip blib/lib/auto/share/dist/App-RoboBot/migrations/verify/base.sql (unchanged)
Skip blib/lib/auto/share/dist/App-RoboBot/migrations/verify/p-channellink-20161128173743.sql (unchanged)
Skip blib/lib/auto/share/dist/App-RoboBot/migrations/revert/p-thinge-20161128223332.sql (unchanged)
Skip blib/lib/auto/share/dist/App-RoboBot/migrations/revert/p-skills-20161128231536.sql (unchanged)
Skip blib/lib/auto/share/dist/App-RoboBot/migrations/revert/p-memos-20161128214110.sql (unchanged)
Skip blib/lib/auto/share/dist/App-RoboBot/migrations/revert/p-markov-20161128212720.sql (unchanged)
Skip blib/lib/auto/share/dist/App-RoboBot/migrations/revert/p-variables-20161128195027.sql (unchanged)
Skip blib/lib/auto/share/dist/App-RoboBot/migrations/verify/p-alarms-20161128153112.sql (unchanged)
Skip blib/lib/auto/share/dist/App-RoboBot/migrations/sqitch.plan (unchanged)
Skip blib/lib/auto/share/dist/App-RoboBot/migrations/revert/p-voting-20161128224521.sql (unchanged)
Skip blib/lib/auto/share/dist/App-RoboBot/migrations/revert/p-net-urls-20161128224203.sql (unchanged)
Skip blib/lib/auto/share/dist/App-RoboBot/migrations/revert/p-skills-20161128215019.sql (unchanged)
Skip blib/lib/auto/share/dist/App-RoboBot/migrations/verify/p-memos-20161128214110.sql (unchanged)
Skip blib/lib/auto/share/dist/App-RoboBot/robobot.conf.sample (unchanged)
Skip blib/lib/auto/share/dist/App-RoboBot/migrations/verify/p-skills-20161128215019.sql (unchanged)
Skip blib/lib/auto/share/dist/App-RoboBot/migrations/verify/p-voting-20161128224521.sql (unchanged)
Skip blib/lib/auto/share/dist/App-RoboBot/migrations/verify/p-net-http-20161128214753.sql (unchanged)
Skip blib/lib/auto/share/dist/App-RoboBot/migrations/verify/p-variables-20161128195027.sql (unchanged)
Skip blib/lib/auto/share/dist/App-RoboBot/migrations/verify/p-markov-20161128212720.sql (unchanged)
Skip blib/lib/auto/share/dist/App-RoboBot/migrations/verify/p-logger-20161128205533.sql (unchanged)
Skip blib/lib/auto/share/dist/App-RoboBot/migrations/verify/p-madlibs-20161128211213.sql (unchanged)
Skip blib/lib/auto/share/dist/App-RoboBot/migrations/verify/p-skills-20161128231536.sql (unchanged)
Skip blib/lib/auto/share/dist/App-RoboBot/migrations/verify/p-karma-20161128200656.sql (unchanged)
Skip blib/lib/auto/share/dist/App-RoboBot/migrations/verify/p-github-20161128190436.sql (unchanged)
Skip blib/lib/auto/share/dist/App-RoboBot/ubuntu-xenial-16.04-cloudimg-console.log (unchanged)
Skip blib/lib/auto/share/dist/App-RoboBot/migrations/verify/p-location-20161128204426.sql (unchanged)
Skip blib/lib/auto/share/dist/App-RoboBot/migrations/verify/p-net-urls-20161128224203.sql (unchanged)
Skip blib/lib/auto/share/dist/App-RoboBot/migrations/verify/p-thinge-20161128223332.sql (unchanged)
Skip blib/lib/auto/share/dist/App-RoboBot/migrations/verify/p-macros-20161128210159.sql (unchanged)
PERL_DL_NONLAZY=1 "/opt/perl-5.41.4/bin/perl5.41.4" "-MExtUtils::Command::MM" "-MTest::Harness" "-e" "undef *Test::Harness::Switches; test_harness(0, 'blib/lib', 'blib/arch')" t/*.t
# 
# Versions for all modules listed in MYMETA.json (including optional ones):
# 
# === Configure Requires ===
# 
#     Module                  Want Have
#     ----------------------- ---- ----
#     ExtUtils::MakeMaker      any 7.70
#     File::ShareDir::Install 0.06 0.14
# 
# === Build Requires ===
# 
#     Module              Want Have
#     ------------------- ---- ----
#     ExtUtils::MakeMaker  any 7.70
# 
# === Test Requires ===
# 
#     Module              Want     Have
#     ------------------- ---- --------
#     ExtUtils::MakeMaker  any     7.70
#     File::Spec           any     3.93
#     Test::More           any 1.302204
# 
# === Test Recommends ===
# 
#     Module         Want     Have
#     ---------- -------- --------
#     CPAN::Meta 2.120900 2.150010
# 
# === Runtime Requires ===
# 
#     Module                          Want     Have
#     ------------------------------- ---- --------
#     Acme::Zalgo                      any    0.002
#     AnyEvent                         any     7.17
#     AnyEvent::IRC::Client            any    undef
#     AnyEvent::Mattermost             any    0.002
#     AnyEvent::SlackRTM               any      1.3
#     App::Sqitch                      any   v1.4.1
#     Clone                            any     0.47
#     Config::Any::Merge               any     0.08
#     Config::General                  any     2.65
#     DBD::Pg                          any   3.18.0
#     DBIx::DataStore                  any    0.097
#     Data::Dumper                     any    2.190
#     DateTime                         any     1.65
#     DateTime::Format::Pg             any  0.16014
#     EV                               any  missing
#     Exporter::Easy                   any     0.18
#     File::HomeDir                    any    1.006
#     File::ShareDir                   any    1.118
#     FileHandle                       any     2.05
#     Getopt::Long::Descriptive        any    0.114
#     HTML::TreeBuilder::LibXML        any     0.28
#     HTML::TreeBuilder::XPath         any     0.14
#     HTTP::Request                    any     7.00
#     IPC::Open2                       any     1.06
#     JSON                             any     4.10
#     JSON::Path                       any    1.0.6
#     LWP::Protocol::https             any     6.14
#     LWP::Simple                      any     6.77
#     LWP::UserAgent                   any     6.77
#     Lingua::EN::Tagger               any     0.31
#     List::Util                       any     1.66
#     Log::Dispatch::Screen            any     2.71
#     Log::Log4perl                    any     1.57
#     Log::Log4perl::Appender::Screen  any    undef
#     Module::Loaded                   any     0.08
#     Module::Pluggable::Object        any      5.2
#     Moose                            any   2.2207
#     MooseX::ClassAttribute           any     0.29
#     MooseX::SetOnce                  any    0.203
#     Number::Format                   any     1.76
#     Pod::Simple::SimpleTree          any     3.45
#     Scalar::Util                     any     1.66
#     Term::ExtendedColor              any    0.504
#     Text::Aspell                     any  missing
#     Text::Levenshtein                any     0.15
#     Text::Wrap                       any 2024.001
#     Time::HiRes                      any   1.9777
#     Try::Tiny                        any     0.32
#     URI                              any     5.29
#     URI::Find                        any 20160806
#     URI::QueryParam                  any     5.29
#     XML::LibXML                      any   2.0210
#     namespace::autoclean             any     0.29
#     strict                           any     1.13
#     vars                             any     1.05
#     warnings                         any     1.70
# 
# 
# *** WARNING WARNING WARNING WARNING WARNING WARNING WARNING WARNING ***
# 
# The following REQUIRED prerequisites were not satisfied:
# 
# EV is not installed (any version required)
# Text::Aspell is not installed (any version required)
# 
t/00-report-prereqs.t ............ ok
t/01-use.t ....................... ok
t/50-types-list.t ................ ok
t/50-types-map.t ................. ok
t/50-types-string.t .............. ok
t/50-types-vector.t .............. ok
t/author-pod-syntax.t ............ skipped: these tests are for testing by the author
t/release-changes_has_content.t .. skipped: these tests are for release candidate testing
All tests successful.
Files=8, Tests=96,  6 wallclock secs ( 0.06 usr  0.02 sys +  4.85 cusr  0.55 csys =  5.48 CPU)
Result: PASS

------------------------------
PREREQUISITES
------------------------------

Prerequisite modules loaded:

requires:

    Module                          Need     Have    
    ------------------------------- -------- --------
    Acme::Zalgo                     0        0.002   
    AnyEvent                        0        7.17    
    AnyEvent::IRC::Client           0        0       
    AnyEvent::Mattermost            0        0.002   
    AnyEvent::SlackRTM              0        1.3     
    App::Sqitch                     0        v1.4.1  
    Clone                           0        0.47    
    Config::Any::Merge              0        0.08    
    Config::General                 0        2.65    
    Data::Dumper                    0        2.190   
    DateTime                        0        1.65    
    DateTime::Format::Pg            0        0.16014 
    DBD::Pg                         0        3.18.0  
    DBIx::DataStore                 0        0.097   
  ! EV                              0        n/a     
    Exporter::Easy                  0        0.18    
    File::HomeDir                   0        1.006   
    File::ShareDir                  0        1.118   
    FileHandle                      0        2.05    
    Getopt::Long::Descriptive       0        0.114   
    HTML::TreeBuilder::LibXML       0        0.28    
    HTML::TreeBuilder::XPath        0        0.14    
    HTTP::Request                   0        7.00    
    IPC::Open2                      0        1.06    
    JSON                            0        4.10    
    JSON::Path                      0        1.0.6   
    Lingua::EN::Tagger              0        0.31    
    List::Util                      0        1.66    
    Log::Dispatch::Screen           0        2.71    
    Log::Log4perl                   0        1.57    
    Log::Log4perl::Appender::Screen 0        0       
    LWP::Protocol::https            0        6.14    
    LWP::Simple                     0        6.77    
    LWP::UserAgent                  0        6.77    
    Module::Loaded                  0        0.08    
    Module::Pluggable::Object       0        5.2     
    Moose                           0        2.2207  
    MooseX::ClassAttribute          0        0.29    
    MooseX::SetOnce                 0        0.203   
    namespace::autoclean            0        0.29    
    Number::Format                  0        1.76    
    perl                            5.020000 5.041004
    Pod::Simple::SimpleTree         0        3.45    
    Scalar::Util                    0        1.66    
    strict                          0        1.13    
    Term::ExtendedColor             0        0.504   
  ! Text::Aspell                    0        n/a     
    Text::Levenshtein               0        0.15    
    Text::Wrap                      0        2024.001
    Time::HiRes                     0        1.9777  
    Try::Tiny                       0        0.32    
    URI                             0        5.29    
    URI::Find                       0        20160806
    URI::QueryParam                 0        5.29    
    vars                            0        1.05    
    warnings                        0        1.70    
    XML::LibXML                     0        2.0210  

build_requires:

    Module                          Need     Have    
    ------------------------------- -------- --------
    ExtUtils::MakeMaker             0        7.70    
    File::Spec                      0        3.93    
    Test::More                      0        1.302204

configure_requires:

    Module                          Need     Have    
    ------------------------------- -------- --------
    ExtUtils::MakeMaker             0        7.70    
    File::ShareDir::Install         0.06     0.14    


------------------------------
ENVIRONMENT AND OTHER CONTEXT
------------------------------

Environment variables:

    LANG = C
    PATH = /usr/local/bin:/usr/bin:/bin:/usr/local/sbin:/usr/sbin:/sbin:/home/cpansand/bin/linux-gnu:/home/cpansand/bin/sh:/home/cpansand/bin:/usr/games:/home/cpansand/devel:/home/eserte/src/srezic-misc/scripts
    PERL5LIB = 
    PERL5OPT = 
    PERL5_CPANPLUS_IS_RUNNING = 1136850
    PERL5_CPAN_IS_RUNNING = 1136850
    PERL5_CPAN_IS_RUNNING_IN_RECURSION = 4071083,1136850
    PERLDOC = -MPod::Perldoc::ToTextOverstrike
    PERL_BATCH = yes
    PERL_CANARY_STABILITY_NOPROMPT = 1
    PERL_CPAN_REPORTER_CONFIG = /var/tmp/cpansmoker-1023/2024101914/cpanreporter_000_config.ini
    PERL_EXTUTILS_AUTOINSTALL = --defaultdeps
    PERL_USE_UNSAFE_INC = 1
    SHELL = /usr/bin/zsh
    TERM = screen
    TMPDIR = /var/tmp/cpansmoker-1023/2024101914

Perl special variables (and OS-specific diagnostics, for MSWin32):

    $^X = /opt/perl-5.41.4/bin/perl5.41.4
    $UID/$EUID = 1023 / 1023
    $GID = 1023 1023
    $EGID = 1023 1023

Perl module toolchain versions installed:

    Module              Have    
    ------------------- --------
    CPAN                2.37    
    CPAN::Meta          2.150010
    Cwd                 3.92    
    ExtUtils::CBuilder  0.280240
    ExtUtils::Command   7.70    
    ExtUtils::Install   2.22    
    ExtUtils::MakeMaker 7.70    
    ExtUtils::Manifest  1.75    
    ExtUtils::ParseXS   3.54    
    File::Spec          3.93    
    JSON                4.10    
    JSON::PP            4.16    
    Module::Build       0.4234  
    Module::Signature   n/a     
    Parse::CPAN::Meta   2.150010
    Test2               1.302204
    Test::Harness       3.50    
    Test::More          1.302204
    YAML                1.31    
    YAML::Syck          1.34    
    version             0.9933  


--

Summary of my perl5 (revision 5 version 41 subversion 4) configuration:
   
  Platform:
    osname=linux
    osvers=6.1.0-25-amd64
    archname=x86_64-linux
    uname='linux cloud5.bbbike.org 6.1.0-25-amd64 #1 smp preempt_dynamic debian 6.1.106-3 (2024-08-26) x86_64 gnulinux '
    config_args='-ds -e -Dprefix=/opt/perl-5.41.4 -Dusedevel -Dusemallocwrap=no -Dcf_email=srezic@cpan.org'
    hint=recommended
    useposix=true
    d_sigaction=define
    useithreads=undef
    usemultiplicity=undef
    use64bitint=define
    use64bitall=define
    uselongdouble=undef
    usemymalloc=n
    default_inc_excludes_dot=define
  Compiler:
    cc='cc'
    ccflags ='-fwrapv -fno-strict-aliasing -pipe -fstack-protector-strong -I/usr/local/include -D_LARGEFILE_SOURCE -D_FILE_OFFSET_BITS=64 -D_FORTIFY_SOURCE=2'
    optimize='-O2'
    cppflags='-fwrapv -fno-strict-aliasing -pipe -fstack-protector-strong -I/usr/local/include'
    ccversion=''
    gccversion='12.2.0'
    gccosandvers=''
    intsize=4
    longsize=8
    ptrsize=8
    doublesize=8
    byteorder=12345678
    doublekind=3
    d_longlong=define
    longlongsize=8
    d_longdbl=define
    longdblsize=16
    longdblkind=3
    ivtype='long'
    ivsize=8
    nvtype='double'
    nvsize=8
    Off_t='off_t'
    lseeksize=8
    alignbytes=8
    prototype=define
  Linker and Libraries:
    ld='cc'
    ldflags =' -fstack-protector-strong -L/usr/local/lib'
    libpth=/usr/local/lib /usr/lib/x86_64-linux-gnu /usr/lib /usr/lib64
    libs=-lpthread -lgdbm -ldb -ldl -lm -lcrypt -lutil -lc
    perllibs=-lpthread -ldl -lm -lcrypt -lutil -lc
    libc=/lib/x86_64-linux-gnu/libc.so.6
    so=so
    useshrplib=false
    libperl=libperl.a
    gnulibc_version='2.36'
  Dynamic Linking:
    dlsrc=dl_dlopen.xs
    dlext=so
    d_dlsymun=undef
    ccdlflags='-Wl,-E'
    cccdlflags='-fPIC'
    lddlflags='-shared -O2 -L/usr/local/lib -fstack-protector-strong'


Characteristics of this binary (from libperl): 
  Compile-time options:
    HAS_LONG_DOUBLE
    HAS_STRTOLD
    HAS_TIMES
    PERLIO_LAYERS
    PERL_COPY_ON_WRITE
    PERL_DONT_CREATE_GVSV
    PERL_HASH_FUNC_SIPHASH13
    PERL_HASH_USE_SBOX32
    PERL_OP_PARENT
    PERL_PRESERVE_IVUV
    PERL_USE_DEVEL
    PERL_USE_SAFE_PUTENV
    USE_64_BIT_ALL
    USE_64_BIT_INT
    USE_LARGE_FILES
    USE_LOCALE
    USE_LOCALE_COLLATE
    USE_LOCALE_CTYPE
    USE_LOCALE_NUMERIC
    USE_LOCALE_TIME
    USE_PERLIO
    USE_PERL_ATOF
  Built under linux
  Compiled at Sep 28 2024 08:44:34
  %ENV:
    PERL5LIB=""
    PERL5OPT=""
    PERL5_CPANPLUS_IS_RUNNING="1136850"
    PERL5_CPAN_IS_RUNNING="1136850"
    PERL5_CPAN_IS_RUNNING_IN_RECURSION="4071083,1136850"
    PERLDOC="-MPod::Perldoc::ToTextOverstrike"
    PERL_BATCH="yes"
    PERL_CANARY_STABILITY_NOPROMPT="1"
    PERL_CPAN_REPORTER_CONFIG="/var/tmp/cpansmoker-1023/2024101914/cpanreporter_000_config.ini"
    PERL_EXTUTILS_AUTOINSTALL="--defaultdeps"
    PERL_USE_UNSAFE_INC="1"
  @INC:
    /opt/perl-5.41.4/lib/site_perl/5.41.4/x86_64-linux
    /opt/perl-5.41.4/lib/site_perl/5.41.4
    /opt/perl-5.41.4/lib/5.41.4/x86_64-linux
    /opt/perl-5.41.4/lib/5.41.4
    .