Report for App-SmokeBox-PerlVersion-0.16

Back
From: metabase:user:30f4dfbe-2aae-11df-837a-5e0a49663a4f
Subject: PASS App-SmokeBox-PerlVersion-0.16 v5.20.2 
Date: 2015-06-28T23:55:01Z

This distribution has been tested as part of the CPAN Testers
project, supporting the Perl programming language.  See
http://wiki.cpantesters.org/ for more information or email
questions to cpan-testers-discuss@perl.org


--
Dear Chris Williams,

This is a computer-generated report for App-SmokeBox-PerlVersion-0.16
on perl 5.20.2, created by CPAN-Reporter-1.2014.

Thank you for uploading your work to CPAN.  Congratulations!
All tests were successful.

Sections of this report:

    * Tester comments
    * Program output
    * Prerequisites
    * Environment and other context

------------------------------
TESTER COMMENTS
------------------------------

Additional comments from tester:

none provided

------------------------------
PROGRAM OUTPUT
------------------------------

Output from 'C:\Perl64\site\bin\dmake.exe test':

C:\Perl64\bin\perl.exe "-MExtUtils::Command::MM" "-MTest::Harness" "-e" "undef *Test::Harness::Switches; test_harness(0, 'blib\lib', 'blib\arch')" t/*.t
t/00-compile.t ............ ok
# Using Perl C:\Perl64\bin\perl.exe
# 
# This is perl 5, version 20, subversion 2 (v5.20.2) built for MSWin32-x64-multi-thread
# (with 1 registered patch, see perl -V for more detail)
# 
# Copyright 1987-2015, Larry Wall
# 
# Binary build 2001 [298913] provided by ActiveState http://www.ActiveState.com
# Built Mar 24 2015 12:09:44
# 
# Perl may be copied only under the terms of either the Artistic License or the
# GNU General Public License, which may be found in the Perl 5 source kit.
# 
# Complete documentation for Perl, including FAQ lists, should be found on
# this system using "man perl" or "perldoc perl".  If you have access to the
# Internet, point your browser at http://www.perl.org/, the Perl Home Page.
# 
t/01-event.t .............. ok
# Using Perl C:\Perl64\bin\perl.exe
# 
# This is perl 5, version 20, subversion 2 (v5.20.2) built for MSWin32-x64-multi-thread
# (with 1 registered patch, see perl -V for more detail)
# 
# Copyright 1987-2015, Larry Wall
# 
# Binary build 2001 [298913] provided by ActiveState http://www.ActiveState.com
# Built Mar 24 2015 12:09:44
# 
# Perl may be copied only under the terms of either the Artistic License or the
# GNU General Public License, which may be found in the Perl 5 source kit.
# 
# Complete documentation for Perl, including FAQ lists, should be found on
# this system using "man perl" or "perldoc perl".  If you have access to the
# Internet, point your browser at http://www.perl.org/, the Perl Home Page.
# 
t/02-postback.t ........... ok
t/release-pod-coverage.t .. skipped: these tests are for release candidate testing
t/release-pod-syntax.t .... skipped: these tests are for release candidate testing
All tests successful.
Files=5, Tests=17,  4 wallclock secs ( 0.03 usr +  0.00 sys =  0.03 CPU)
Result: PASS

------------------------------
PREREQUISITES
------------------------------

Prerequisite modules loaded:

requires:

    Module              Need  Have    
    ------------------- ----- --------
    IPC::Cmd            0     0.92    
    POE                 1.293 1.367   
    POE::Wheel::Run     0     1.367   

build_requires:

    Module              Need  Have    
    ------------------- ----- --------
    File::Spec          0     3.48_01 
    IO::Handle          0     1.35    
    IPC::Open3          0     1.16    
    Test::More          0     1.001014

configure_requires:

    Module              Need  Have    
    ------------------- ----- --------
    ExtUtils::MakeMaker 6.30  6.98    


------------------------------
ENVIRONMENT AND OTHER CONTEXT
------------------------------

Environment variables:

    COMSPEC = C:\Windows\system32\cmd.exe
    INCLUDE = C:\Program Files (x86)\Microsoft Visual Studio 12.0\VC\INCLUDE;C:\Program Files (x86)\Windows Kits\8.1\include\shared;C:\Program Files (x86)\Windows Kits\8.1\include\um;C:\Program Files (x86)\Windows Kits\8.1\include\winrt;
    LIB = C:\Program Files (x86)\Microsoft Visual Studio 12.0\VC\LIB;C:\Program Files (x86)\Windows Kits\8.1\lib\winv6.3\um\x86;
    NUMBER_OF_PROCESSORS = 12
    PATH = C:\Program Files (x86)\Microsoft Visual Studio 12.0\Common7\IDE\CommonExtensions\Microsoft\TestWindow;C:\Program Files (x86)\MSBuild\12.0\bin;C:\Program Files (x86)\Microsoft Visual Studio 12.0\Common7\IDE\;C:\Program Files (x86)\Microsoft Visual Studio 12.0\VC\BIN;C:\Program Files (x86)\Microsoft Visual Studio 12.0\Common7\Tools;C:\Windows\Microsoft.NET\Framework\v4.0.30319;C:\Program Files (x86)\Microsoft Visual Studio 12.0\VC\VCPackages;C:\Program Files (x86)\Microsoft Visual Studio 12.0\Team Tools\Performance Tools;C:\Program Files (x86)\Windows Kits\8.1\bin\x86;C:\Program Files (x86)\Microsoft SDKs\Windows\v8.1A\bin\NETFX 4.5.1 Tools\;C:\Perl64\site\bin;C:\Perl64\bin;C:\Program Files (x86)\Intel\iCLS Client\;C:\Program Files\Intel\iCLS Client\;C:\Windows\system32;C:\Windows;C:\Windows\System32\Wbem;C:\Windows\System32\WindowsPowerShell\v1.0\;C:\Program Files\Intel\Intel(R) Management Engine Components\DAL;C:\Program Files\Intel\Intel(R) Management Engine Components\IPT;C:\Program Files (x86)\Intel\Intel(R) Management Engine Components\DAL;C:\Program Files (x86)\Intel\Intel(R) Management Engine Components\IPT;C:\Program Files (x86)\Windows Kits\8.1\Windows Performance Toolkit\;C:\Program Files (x86)\Windows Live\Shared;C:\Program Files (x86)\Windows Kits\8.0\Windows Performance Toolkit\;C:\Program Files (x86)\QuickTime\QTSystem\;C:\Program Files (x86)\NVIDIA Corporation\PhysX\Common;C:\Program Files (x86)\Skype\Phone\
    PERL5LIB = 
    PERL5OPT = 
    PERL5_CPANPLUS_IS_RUNNING = 3936
    PERL5_CPAN_IS_RUNNING = 3936
    PROCESSOR_IDENTIFIER = Intel64 Family 6 Model 62 Stepping 4, GenuineIntel
    TEMP = I:\TEMP

Perl special variables (and OS-specific diagnostics, for MSWin32):

    $^X = C:\Perl64\bin\perl.exe
    $UID/$EUID = 0 / 0
    $GID = 0
    $EGID = 0
    Win32::GetOSName = Win8
    Win32::GetOSVersion = , 6, 2, 9200, 2, 0, 0, 768, 1
    Win32::FsType = NTFS
    Win32::IsAdminUser = 0

Perl module toolchain versions installed:

    Module              Have    
    ------------------- --------
    CPAN                2.05    
    CPAN::Meta          2.140640
    Cwd                 3.48_01 
    ExtUtils::CBuilder  0.280220
    ExtUtils::Command   1.20    
    ExtUtils::Install   1.68    
    ExtUtils::MakeMaker 6.98    
    ExtUtils::Manifest  1.70    
    ExtUtils::ParseXS   3.24    
    File::Spec          3.48_01 
    JSON                2.90    
    JSON::PP            2.27203 
    Module::Build       0.4208  
    Module::Signature   n/a     
    Parse::CPAN::Meta   1.4414  
    Test::Harness       3.35    
    Test::More          1.001014
    YAML                n/a     
    YAML::Syck          1.29    
    version             0.9909  


--

Summary of my perl5 (revision 5 version 20 subversion 2) configuration:
   
  Platform:
    osname=MSWin32, osvers=6.1, archname=MSWin32-x64-multi-thread
    uname=''
    config_args='undef'
    hint=recommended, useposix=true, d_sigaction=undef
    useithreads=define, usemultiplicity=define
    use64bitint=define, use64bitall=undef, uselongdouble=undef
    usemymalloc=n, bincompat5005=undef
  Compiler:
    cc='C:\Perl64\site\bin\gcc.exe', ccflags =' -s -O2 -DWIN32 -DWIN64 -DCONSERVATIVE -DPERL_TEXTMODE_SCRIPTS -DUSE_SITECUSTOMIZE -DPERL_IMPLICIT_CONTEXT -DPERL_IMPLICIT_SYS -DUSE_PERLIO -fwrapv -fno-strict-aliasing -mms-bitfields',
    optimize='-s -O2',
    cppflags='-DWIN32'
    ccversion='', gccversion='4.6.3', gccosandvers=''
    intsize=4, longsize=4, ptrsize=8, doublesize=8, byteorder=12345678
    d_longlong=define, longlongsize=8, d_longdbl=define, longdblsize=12
    ivtype='long long', ivsize=8, nvtype='double', nvsize=8, Off_t='long long', lseeksize=8
    alignbytes=8, prototype=define
  Linker and Libraries:
    ld='C:\Perl64\site\bin\g++.exe', ldflags ='-s -static-libgcc -static-libstdc++ -L"C:\Perl64\lib\CORE" -L"C:\MinGW\x86_64-w64-mingw32\lib"'
    libpth=C:\MinGW\x86_64-w64-mingw32\lib
    libs=-lmoldname -lkernel32 -luser32 -lgdi32 -lwinspool -lcomdlg32 -ladvapi32 -lshell32 -lole32 -loleaut32 -lnetapi32 -luuid -lws2_32 -lmpr -lwinmm -lversion -lodbc32 -lodbccp32 -lcomctl32
    perllibs=-lmoldname -lkernel32 -luser32 -lgdi32 -lwinspool -lcomdlg32 -ladvapi32 -lshell32 -lole32 -loleaut32 -lnetapi32 -luuid -lws2_32 -lmpr -lwinmm -lversion -lodbc32 -lodbccp32 -lcomctl32
    libc=, so=dll, useshrplib=true, libperl=libperl520.a
    gnulibc_version=''
  Dynamic Linking:
    dlsrc=dl_win32.xs, dlext=dll, d_dlsymun=undef, ccdlflags=' '
    cccdlflags=' ', lddlflags='-mdll -s -static-libgcc -static-libstdc++ -L"C:\Perl64\lib\CORE" -L"C:\MinGW\x86_64-w64-mingw32\lib"'


Characteristics of this binary (from libperl): 
  Compile-time options: HAS_TIMES HAVE_INTERP_INTERN MULTIPLICITY
                        PERLIO_LAYERS PERL_DONT_CREATE_GVSV
                        PERL_HASH_FUNC_ONE_AT_A_TIME_HARD
                        PERL_IMPLICIT_CONTEXT PERL_IMPLICIT_SYS
                        PERL_MALLOC_WRAP PERL_NEW_COPY_ON_WRITE
                        PERL_PRESERVE_IVUV USE_64_BIT_INT USE_ITHREADS
                        USE_LARGE_FILES USE_LOCALE USE_LOCALE_COLLATE
                        USE_LOCALE_CTYPE USE_LOCALE_NUMERIC USE_PERLIO
                        USE_PERL_ATOF USE_SITECUSTOMIZE
  Locally applied patches:
	ActivePerl Build 2001 [298913]
  Built under MSWin32
  Compiled at Mar 24 2015 12:09:44
  %ENV:
    PERL5_CPANPLUS_IS_RUNNING="3936"
    PERL5_CPAN_IS_RUNNING="3936"
  @INC:
    C:/Perl64/site/lib
    C:/Perl64/lib
    .