Report for Catalyst-Authentication-Credential-Twitter-0.03000

Back
From: metabase:user:d2c9f356-b46f-11df-9a90-20a83c0b7757
Subject: PASS Catalyst-Authentication-Credential-Twitter-0.03000 v5.15.4 SunOS/Solaris
Date: 2011-11-15T15:25:45Z

This distribution has been tested as part of the CPAN Testers
project, supporting the Perl programming language.  See
http://wiki.cpantesters.org/ for more information or email
questions to cpan-testers-discuss@perl.org


--
Dear Yanick Champoux,

This is a computer-generated report for Catalyst-Authentication-Credential-Twitter-0.03000
on perl 5.15.4, created by CPAN-Reporter-1.2002.

Thank you for uploading your work to CPAN.  Congratulations!
All tests were successful.

Sections of this report:

    * Tester comments
    * Program output
    * Prerequisites
    * Environment and other context

------------------------------
TESTER COMMENTS
------------------------------

Additional comments from tester:

this report is from an automated smoke testing program
and was not reviewed by a human for accuracy

------------------------------
PROGRAM OUTPUT
------------------------------

Output from './Build test':

# Testing with Perl 5.015004, /export/home/cpant4/perl5/bin/perl5.15.4
#     Carp version is 1.23
#     Catalyst version is 5.90006
#     Catalyst::Controller version is undefined
#     Catalyst::Exception version is undefined
#     Class::Accessor::Fast version is 0.34
#     Data::Dumper version is 2.134
#     Module::Build version is 0.3901
#     Net::Twitter version is 3.18001
#     Scalar::Util version is 1.23
#     Test::More version is 0.98
#     base version is 2.18
#     parent version is 0.225
#     strict version is 1.04
#     warnings version is 1.12
t/000-report-versions.t .. ok
t/02pod.t ................ ok
t/basic_app.t ............ skipped: test requires Test::WWW::Mechanize::Catalyst
t/no_per_user.t .......... skipped: test requires Test::WWW::Mechanize::Catalyst
All tests successful.
Files=4, Tests=15,  1 wallclock secs ( 0.03 usr  0.02 sys +  0.87 cusr  0.13 csys =  1.05 CPU)
Result: PASS

------------------------------
PREREQUISITES
------------------------------

Prerequisite modules loaded:

requires:

    Module                Need   Have    
    --------------------- ------ --------
    base                  0      2.18    
    Catalyst::Exception   0      0       
    Class::Accessor::Fast 0      0.34    
    Data::Dumper          0      2.134   
    Net::Twitter          0      3.18001 
    strict                0      1.04    
    warnings              0      1.12    

build_requires:

    Module                Need   Have    
    --------------------- ------ --------
    Carp                  0      1.23    
    Catalyst              0      5.90006 
  ! Catalyst::Controller  0      broken  
    Module::Build         0.3601 0.39_01 
    parent                0      0.225   
    perl                  5.004  5.015004
    Scalar::Util          0      1.23    
    Test::More            0.94   0.98    

configure_requires:

    Module                Need   Have    
    --------------------- ------ --------
    Module::Build         0.3601 0.39_01 


------------------------------
ENVIRONMENT AND OTHER CONTEXT
------------------------------

Environment variables:

    AUTOMATED_TESTING = 1
    LANG = C
    LD_LIBRARY_PATH = /usr/local/lib:
    PATH = /export/home/cpant4/perl5/bin:/usr/local/bin:/usr/bin
    PERL5LIB = /export/home/cpant4/.cpan/build/Net-Twitter-3.18001-nvynwz/blib/arch:/export/home/cpant4/.cpan/build/Net-Twitter-3.18001-nvynwz/blib/lib:/export/home/cpant4/.cpan/build/Net-OAuth-0.27-LpWDPJ/blib/arch:/export/home/cpant4/.cpan/build/Net-OAuth-0.27-LpWDPJ/blib/lib:/export/home/cpant4/.cpan/build/Crypt-SSLeay-0.58-TTXQRT/blib/arch:/export/home/cpant4/.cpan/build/Crypt-SSLeay-0.58-TTXQRT/blib/lib:/export/home/cpant4/.cpan/build/MooseX-Aliases-0.10-E25jlv/blib/arch:/export/home/cpant4/.cpan/build/MooseX-Aliases-0.10-E25jlv/blib/lib:/export/home/cpant4/.cpan/build/Data-Visitor-0.27-dILN4W/blib/arch:/export/home/cpant4/.cpan/build/Data-Visitor-0.27-dILN4W/blib/lib:/export/home/cpant4/.cpan/build/Tie-ToObject-0.03-WEzVQl/blib/arch:/export/home/cpant4/.cpan/build/Tie-ToObject-0.03-WEzVQl/blib/lib
    PERL5OPT = 
    PERL5_CPANPLUS_IS_RUNNING = 18364
    PERL5_CPAN_IS_RUNNING = 18364
    PERL5_CPAN_IS_RUNNING_IN_RECURSION = 12936,18364
    PERL_CR_SMOKER_CURRENT = Catalyst-Authentication-Credential-Twitter-0.03000
    PERL_EXTUTILS_AUTOINSTALL = --defaultdeps
    PERL_MM_USE_DEFAULT = 1
    SHELL = /bin/bash
    TERM = xterm

Perl special variables (and OS-specific diagnostics, for MSWin32):

    $^X = /export/home/cpant4/perl5/bin/perl5.15.4
    $UID/$EUID = 104 / 104
    $GID = 1 1
    $EGID = 1 1

Perl module toolchain versions installed:

    Module              Have    
    ------------------- --------
    CPAN                1.9800  
    CPAN::Meta          2.112621
    Cwd                 3.37    
    ExtUtils::CBuilder  0.280204
    ExtUtils::Command   1.17    
    ExtUtils::Install   1.57    
    ExtUtils::MakeMaker 6.62    
    ExtUtils::Manifest  1.60    
    ExtUtils::ParseXS   3.05    
    File::Spec          3.34    
    JSON                2.53    
    JSON::PP            2.27200 
    Module::Build       0.39_01 
    Module::Signature   n/a     
    Parse::CPAN::Meta   1.4401  
    Test::Harness       3.23    
    Test::More          0.98    
    YAML                0.77    
    YAML::Syck          n/a     
    version             0.95    


--

Summary of my perl5 (revision 5 version 15 subversion 4) configuration:
   
  Platform:
    osname=solaris, osvers=2.10, archname=i86pc-solaris-64int
    uname='sunos vmrz0046 5.10 generic_141445-09 i86pc i386 i86pc solaris '
    config_args='-Dcc=gcc -Dprefix=~/perl5 -Duse64bitint -Dusedevel -d'
    hint=recommended, useposix=true, d_sigaction=define
    useithreads=undef, usemultiplicity=undef
    useperlio=define, d_sfio=undef, uselargefiles=define, usesocks=undef
    use64bitint=define, use64bitall=undef, uselongdouble=undef
    usemymalloc=n, bincompat5005=undef
  Compiler:
    cc='gcc', ccflags ='-DPTR_IS_LONG -fno-strict-aliasing -pipe -I/usr/local/include -D_LARGEFILE_SOURCE -D_FILE_OFFSET_BITS=64 -DPERL_USE_SAFE_PUTENV',
    optimize='-O',
    cppflags='-DPTR_IS_LONG -fno-strict-aliasing -pipe -I/usr/local/include'
    ccversion='', gccversion='3.4.6', gccosandvers='solaris2.10'
    intsize=4, longsize=4, ptrsize=4, doublesize=8, byteorder=12345678
    d_longlong=define, longlongsize=8, d_longdbl=define, longdblsize=12
    ivtype='long long', ivsize=8, nvtype='double', nvsize=8, Off_t='off_t', lseeksize=8
    alignbytes=4, prototype=define
  Linker and Libraries:
    ld='gcc', ldflags =' -L/usr/local/lib '
    libpth=/usr/local/lib /usr/lib /usr/ccs/lib
    libs=-lsocket -lnsl -lgdbm -ldl -lm -lc
    perllibs=-lsocket -lnsl -ldl -lm -lc
    libc=/lib/libc.so, so=so, useshrplib=false, libperl=libperl.a
    gnulibc_version=''
  Dynamic Linking:
    dlsrc=dl_dlopen.xs, dlext=so, d_dlsymun=undef, ccdlflags=' '
    cccdlflags='-fPIC', lddlflags='-G -L/usr/local/lib'


Characteristics of this binary (from libperl): 
  Compile-time options: HAS_TIMES PERLIO_LAYERS PERL_DONT_CREATE_GVSV
                        PERL_MALLOC_WRAP PERL_PRESERVE_IVUV PERL_USE_DEVEL
                        PERL_USE_SAFE_PUTENV USE_64_BIT_INT USE_LARGE_FILES
                        USE_LOCALE USE_LOCALE_COLLATE USE_LOCALE_CTYPE
                        USE_LOCALE_NUMERIC USE_PERLIO USE_PERL_ATOF
  Built under solaris
  Compiled at Oct 24 2011 11:26:38
  %ENV:
    PERL5LIB="/export/home/cpant4/.cpan/build/Net-Twitter-3.18001-nvynwz/blib/arch:/export/home/cpant4/.cpan/build/Net-Twitter-3.18001-nvynwz/blib/lib:/export/home/cpant4/.cpan/build/Net-OAuth-0.27-LpWDPJ/blib/arch:/export/home/cpant4/.cpan/build/Net-OAuth-0.27-LpWDPJ/blib/lib:/export/home/cpant4/.cpan/build/Crypt-SSLeay-0.58-TTXQRT/blib/arch:/export/home/cpant4/.cpan/build/Crypt-SSLeay-0.58-TTXQRT/blib/lib:/export/home/cpant4/.cpan/build/MooseX-Aliases-0.10-E25jlv/blib/arch:/export/home/cpant4/.cpan/build/MooseX-Aliases-0.10-E25jlv/blib/lib:/export/home/cpant4/.cpan/build/Data-Visitor-0.27-dILN4W/blib/arch:/export/home/cpant4/.cpan/build/Data-Visitor-0.27-dILN4W/blib/lib:/export/home/cpant4/.cpan/build/Tie-ToObject-0.03-WEzVQl/blib/arch:/export/home/cpant4/.cpan/build/Tie-ToObject-0.03-WEzVQl/blib/lib"
    PERL5OPT=""
    PERL5_CPANPLUS_IS_RUNNING="18364"
    PERL5_CPAN_IS_RUNNING="18364"
    PERL5_CPAN_IS_RUNNING_IN_RECURSION="12936,18364"
    PERL_CR_SMOKER_CURRENT="Catalyst-Authentication-Credential-Twitter-0.03000"
    PERL_EXTUTILS_AUTOINSTALL="--defaultdeps"
    PERL_MM_USE_DEFAULT="1"
  @INC:
    /export/home/cpant4/.cpan/build/Net-Twitter-3.18001-nvynwz/blib/arch
    /export/home/cpant4/.cpan/build/Net-Twitter-3.18001-nvynwz/blib/lib
    /export/home/cpant4/.cpan/build/Net-OAuth-0.27-LpWDPJ/blib/arch
    /export/home/cpant4/.cpan/build/Net-OAuth-0.27-LpWDPJ/blib/lib
    /export/home/cpant4/.cpan/build/Crypt-SSLeay-0.58-TTXQRT/blib/arch
    /export/home/cpant4/.cpan/build/Crypt-SSLeay-0.58-TTXQRT/blib/lib
    /export/home/cpant4/.cpan/build/MooseX-Aliases-0.10-E25jlv/blib/arch
    /export/home/cpant4/.cpan/build/MooseX-Aliases-0.10-E25jlv/blib/lib
    /export/home/cpant4/.cpan/build/Data-Visitor-0.27-dILN4W/blib/arch
    /export/home/cpant4/.cpan/build/Data-Visitor-0.27-dILN4W/blib/lib
    /export/home/cpant4/.cpan/build/Tie-ToObject-0.03-WEzVQl/blib/arch
    /export/home/cpant4/.cpan/build/Tie-ToObject-0.03-WEzVQl/blib/lib
    /export/home/cpant4/perl5/lib/site_perl/5.15.4/i86pc-solaris-64int
    /export/home/cpant4/perl5/lib/site_perl/5.15.4
    /export/home/cpant4/perl5/lib/5.15.4/i86pc-solaris-64int
    /export/home/cpant4/perl5/lib/5.15.4
    /export/home/cpant4/perl5/lib/site_perl
    .