Shell-Cmd v3.04 Perl 5 v5.20.3 x86_64-linux

Status
Pass
From
Slaven Rezić
Dist
Shell-Cmd v3.04
Platform
Perl 5 v5.20.3 x86_64-linux
Date
2021-07-14 23:06:15
ID
16c67e5c-e4f8-11eb-b29e-47891f24ea8f
This distribution has been tested as part of the CPAN Testers
project, supporting the Perl programming language.  See
http://wiki.cpantesters.org/ for more information or email
questions to cpan-testers-discuss@perl.org


--
Dear Sullivan Beck,

This is a computer-generated report for Shell-Cmd-3.04
on perl 5.20.3, created by CPAN-Reporter-1.2018.

Thank you for uploading your work to CPAN.  Congratulations!
All tests were successful.

Sections of this report:

    * Tester comments
    * Program output
    * Prerequisites
    * Environment and other context

------------------------------
TESTER COMMENTS
------------------------------

Additional comments from tester:

none provided

------------------------------
PROGRAM OUTPUT
------------------------------

Output from '/usr/bin/make test':

PERL_DL_NONLAZY=1 "/opt/perl-5.20.3/bin/perl" "-MExtUtils::Command::MM" "-MTest::Harness" "-e" "undef *Test::Harness::Switches; test_harness(0, 'blib/lib', 'blib/arch')" t/*.t
t/00-errflow_check-run.t ............... skipped: Invalid command or option: if [ -d /home/cpansand/.cpan/build/2021071423/Shell-Cmd-3.04-3/t/bin ]; then
t/00-errflow_dire-run.t ................ skipped: Invalid command or option: if [ -d /home/cpansand/.cpan/build/2021071423/Shell-Cmd-3.04-3/t/bin ]; then
t/00-errflow_mix1-run.t ................ skipped: Invalid command or option: fi
t/00-errflow_mix2-run.t ................ skipped: Invalid command or option: elif [ -d /home/cpansand/.cpan/build/2021071423/Shell-Cmd-3.04-3/t/bin ]; then
t/00-errflow_redir-run.t ............... skipped: Invalid command or option: if [ -d /home/cpansand/.cpan/build/2021071423/Shell-Cmd-3.04-3/t/bin ]; then
t/00-errflow_retry-run.t ............... skipped: Invalid command or option: if [ -d /home/cpansand/.cpan/build/2021071423/Shell-Cmd-3.04-3/t/bin ]; then
t/00-errflow_unclosed-run.t ............ ok
# ERROR: Invalid cmd option: foo
t/00-error-run.t ....................... skipped: Invalid command or option: /home/cpansand/.cpan/build/2021071423/Shell-Cmd-3.04-3/t/bin/succ 1 warn
t/00-obj.t ............................. ok
t/00-simple-dire.t ..................... ok
t/00s-errflow_mix1-run.t ............... skipped: SSH testing disabled.  Set SSH_TESTING to a list of hosts to enable.
t/00s-errflow_mix2-run.t ............... skipped: SSH testing disabled.  Set SSH_TESTING to a list of hosts to enable.
t/00s-errflow_unclosed-run.t ........... skipped: SSH testing disabled.  Set SSH_TESTING to a list of hosts to enable.
t/01-simple-fail1.t .................... ok
t/01-simple-fail2.t .................... ok
t/01-simple-fail3.t .................... ok
t/01-simple-run-echo.t ................. ok
t/01-simple-run-merge.t ................ ok
t/01-simple-run-opts.t ................. ok
t/01-simple-run-quiet.t ................ ok
t/01-simple-run-stderr.t ............... ok
t/01-simple-run-stdout.t ............... ok
t/01-simple-run.t ...................... ok
t/01-simple-script=run-quiet.t ......... ok
t/01-simple-script=run.t ............... ok
t/01-simple-script=script.t ............ ok
t/01-simple-script=simple-quiet.t ...... ok
t/01-simple-script=simple.t ............ ok
t/01s-simple-fail3.t ................... skipped: SSH testing disabled.  Set SSH_TESTING to a list of hosts to enable.
t/01s-simple-script=run.t .............. skipped: SSH testing disabled.  Set SSH_TESTING to a list of hosts to enable.
t/01s-simplessh-fail2.t ................ skipped: SSH testing disabled.  Set SSH_TESTING to a list of hosts to enable.
t/01s-simplessh-nohosts.t .............. skipped: SSH testing disabled.  Set SSH_TESTING to a list of hosts to enable.
t/01s-simplessh-run-opts.t ............. skipped: SSH testing disabled.  Set SSH_TESTING to a list of hosts to enable.
t/01s-simplessh-run.t .................. skipped: SSH testing disabled.  Set SSH_TESTING to a list of hosts to enable.
t/01s-simplessh2-quiet.t ............... skipped: SSH testing disabled.  Set SSH_TESTING to a list of hosts to enable.
t/01s-simplessh2-run.t ................. skipped: SSH testing disabled.  Set SSH_TESTING to a list of hosts to enable.
t/01s-simplessh2-run2.t ................ skipped: SSH testing disabled.  Set SSH_TESTING to a list of hosts to enable.
t/01s-simplessh2-stderr.t .............. skipped: SSH testing disabled.  Set SSH_TESTING to a list of hosts to enable.
t/01s-simplessh2-stdout.t .............. skipped: SSH testing disabled.  Set SSH_TESTING to a list of hosts to enable.
t/02-special_characters-run.t .......... ok
t/02-special_characters-script=run.t ... ok
t/10-fail-run-continue.t ............... ok
t/10-fail-run-display.t ................ ok
t/10-fail-run.t ........................ ok
t/10-fail-script=run-continue.t ........ ok
t/10-fail-script=run-display.t ......... ok
t/10-fail-script=run.t ................. ok
t/20-check-run.t ....................... ok
t/20-check-script=run.t ................ ok
t/30-retry-run.t ....................... ok
t/30-retry-script=run.t ................ ok
t/30-retry-script=script.t ............. ok
t/30-retry_sleep-run.t ................. ok
t/31-retry_fail-run-continue.t ......... ok
t/31-retry_fail-run-display.t .......... ok
t/31-retry_fail-run.t .................. ok
t/31-retry_fail-script=run-continue.t .. ok
t/31-retry_fail-script=run-display.t ... ok
t/31-retry_fail-script=run.t ........... ok
t/40-if-run.t .......................... ok
t/40-if-script=run.t ................... ok
t/41-for-run.t ......................... ok
t/41-for-script=run.t .................. ok
t/42-until-run.t ....................... ok
t/42-until-script=run.t ................ ok
t/43-while-run.t ....................... ok
t/43-while-script=run.t ................ ok
t/50-for_fail-run-continue.t ........... ok
t/50-for_fail-run.t .................... ok
t/50-for_fail-script=run.t ............. ok
t/50-for_fail-script=script.t .......... ok
t/60-check_retry-run.t ................. ok
t/60-check_retry-script=run.t .......... ok
t/60-check_retry-script=script.t ....... ok
t/61-check_fail-run.t .................. ok
t/62-check_succ-run-continue.t ......... ok
t/62-check_succ-run.t .................. ok
t/70-alt-run.t ......................... ok
t/70-alt-script=run.t .................. ok
t/70-alt2-run.t ........................ ok
t/71-alt_retry-run.t ................... ok
t/71-alt_retry-script=run.t ............ ok
t/71-alt_retry-script=script.t ......... ok
t/72-alt_retry-script.t ................ ok
t/90-alt_retry-script.t ................ ok
t/90-fail-script.t ..................... ok
t/90-for_fail-script.t ................. ok
t/90-simple-script-quiet.t ............. ok
t/90-simple-script-stderr.t ............ ok
t/90-simple-script-stdout.t ............ ok
t/90-simple-script.t ................... ok
t/91-long-run.t ........................ ok
t/_pod.t ............................... skipped: Author tests not required for installation (set RELEASE_TESTING to test)
t/_pod_coverage.t ...................... skipped: Author tests not required for installation (set RELEASE_TESTING to test)
t/_version.t ........................... skipped: Author tests not required for installation (set RELEASE_TESTING to test)
t/ZZ-cleanup-run.t ..................... ok
All tests successful.
Files=96, Tests=3546, 13 wallclock secs ( 0.28 usr  0.59 sys +  6.11 cusr  3.94 csys = 10.92 CPU)
Result: PASS

------------------------------
PREREQUISITES
------------------------------

Prerequisite modules loaded:

requires:

    Module                Need  Have    
    --------------------- ----- --------
    Capture::Tiny         0     0.48    
    Cwd                   0     3.75    
    IO::File              0     1.45    
    Net::OpenSSH          0     0.80    
    Parallel::ForkManager 0     2.02    
    perl                  5.008 5.020003

build_requires:

    Module                Need  Have    
    --------------------- ----- --------
    ExtUtils::MakeMaker   0     7.62    
    Test::Inter           1.09  1.09    
    Test::More            0     1.302185

configure_requires:

    Module                Need  Have    
    --------------------- ----- --------
    ExtUtils::MakeMaker   6.30  7.62    


------------------------------
ENVIRONMENT AND OTHER CONTEXT
------------------------------

Environment variables:

    LANG = en_US.UTF-8
    PATH = /usr/local/bin:/usr/bin:/bin:/usr/local/sbin:/usr/sbin:/sbin:/home/cpansand/bin/linux-gnu:/home/cpansand/bin/sh:/home/cpansand/bin:/usr/games:/home/cpansand/devel:/home/eserte/src/srezic-misc/scripts
    PERL5LIB = 
    PERL5OPT = 
    PERL5_CPANPLUS_IS_RUNNING = 31010
    PERL5_CPAN_IS_RUNNING = 31010
    PERL5_CPAN_IS_RUNNING_IN_RECURSION = 23946,31010
    PERLDOC = -MPod::Perldoc::ToTextOverstrike
    PERL_BATCH = yes
    PERL_CANARY_STABILITY_NOPROMPT = 1
    PERL_CPAN_REPORTER_CONFIG = /var/tmp/cpansmoker-1023/2021071422/cpanreporter_000_config.ini
    PERL_EXTUTILS_AUTOINSTALL = --defaultdeps
    PERL_USE_UNSAFE_INC = 1
    SHELL = /usr/bin/zsh
    TERM = screen
    TMPDIR = /var/tmp/cpansmoker-1023/2021071422

Perl special variables (and OS-specific diagnostics, for MSWin32):

    $^X = /opt/perl-5.20.3/bin/perl
    $UID/$EUID = 1023 / 1023
    $GID = 1023 1023
    $EGID = 1023 1023

Perl module toolchain versions installed:

    Module              Have    
    ------------------- --------
    CPAN                2.28    
    CPAN::Meta          2.150010
    Cwd                 3.75    
    ExtUtils::CBuilder  0.280236
    ExtUtils::Command   7.62    
    ExtUtils::Install   2.20    
    ExtUtils::MakeMaker 7.62    
    ExtUtils::Manifest  1.73    
    ExtUtils::ParseXS   3.35    
    File::Spec          3.75    
    JSON                4.03    
    JSON::PP            4.06    
    Module::Build       0.4231  
    Module::Signature   0.87    
    Parse::CPAN::Meta   2.150010
    Test::Harness       3.42    
    Test::More          1.302185
    YAML                1.30    
    YAML::Syck          1.34    
    version             0.9929  


--

Summary of my perl5 (revision 5 version 20 subversion 3) configuration:
   
  Platform:
    osname=linux, osvers=4.15.0-55-generic, archname=x86_64-linux
    uname='linux ubuntu18 4.15.0-55-generic #60-ubuntu smp tue jul 2 18:22:20 utc 2019 x86_64 x86_64 x86_64 gnulinux '
    config_args='-ds -e -Dprefix=/opt/perl-5.20.3 -Dcf_email=srezic@cpan.org'
    hint=recommended, useposix=true, d_sigaction=define
    useithreads=undef, usemultiplicity=undef
    use64bitint=define, use64bitall=define, uselongdouble=undef
    usemymalloc=n, bincompat5005=undef
  Compiler:
    cc='cc', ccflags ='-fwrapv -fno-strict-aliasing -pipe -fstack-protector -I/usr/local/include -D_LARGEFILE_SOURCE -D_FILE_OFFSET_BITS=64',
    optimize='-O2',
    cppflags='-fwrapv -fno-strict-aliasing -pipe -fstack-protector -I/usr/local/include'
    ccversion='', gccversion='7.4.0', gccosandvers=''
    intsize=4, longsize=8, ptrsize=8, doublesize=8, byteorder=12345678
    d_longlong=define, longlongsize=8, d_longdbl=define, longdblsize=16
    ivtype='long', ivsize=8, nvtype='double', nvsize=8, Off_t='off_t', lseeksize=8
    alignbytes=8, prototype=define
  Linker and Libraries:
    ld='cc', ldflags =' -fstack-protector -L/usr/local/lib'
    libpth=/usr/local/lib /usr/lib/gcc/x86_64-linux-gnu/7/include-fixed /usr/include/x86_64-linux-gnu /usr/lib /lib/x86_64-linux-gnu /lib/../lib /usr/lib/x86_64-linux-gnu /usr/lib/../lib /lib
    libs=-lpthread -lnsl -lgdbm -ldb -ldl -lm -lcrypt -lutil -lc
    perllibs=-lpthread -lnsl -ldl -lm -lcrypt -lutil -lc
    libc=libc-2.27.so, so=so, useshrplib=false, libperl=libperl.a
    gnulibc_version='2.27'
  Dynamic Linking:
    dlsrc=dl_dlopen.xs, dlext=so, d_dlsymun=undef, ccdlflags='-Wl,-E'
    cccdlflags='-fPIC', lddlflags='-shared -O2 -L/usr/local/lib -fstack-protector'


Characteristics of this binary (from libperl): 
  Compile-time options: HAS_TIMES PERLIO_LAYERS PERL_DONT_CREATE_GVSV
                        PERL_HASH_FUNC_ONE_AT_A_TIME_HARD PERL_MALLOC_WRAP
                        PERL_NEW_COPY_ON_WRITE PERL_PRESERVE_IVUV
                        USE_64_BIT_ALL USE_64_BIT_INT USE_LARGE_FILES
                        USE_LOCALE USE_LOCALE_COLLATE USE_LOCALE_CTYPE
                        USE_LOCALE_NUMERIC USE_PERLIO USE_PERL_ATOF
  Built under linux
  Compiled at Aug  6 2019 20:48:38
  %ENV:
    PERL5LIB=""
    PERL5OPT=""
    PERL5_CPANPLUS_IS_RUNNING="31010"
    PERL5_CPAN_IS_RUNNING="31010"
    PERL5_CPAN_IS_RUNNING_IN_RECURSION="23946,31010"
    PERLDOC="-MPod::Perldoc::ToTextOverstrike"
    PERL_BATCH="yes"
    PERL_CANARY_STABILITY_NOPROMPT="1"
    PERL_CPAN_REPORTER_CONFIG="/var/tmp/cpansmoker-1023/2021071422/cpanreporter_000_config.ini"
    PERL_EXTUTILS_AUTOINSTALL="--defaultdeps"
    PERL_USE_UNSAFE_INC="1"
  @INC:
    /opt/perl-5.20.3/lib/site_perl/5.20.3/x86_64-linux
    /opt/perl-5.20.3/lib/site_perl/5.20.3
    /opt/perl-5.20.3/lib/5.20.3/x86_64-linux
    /opt/perl-5.20.3/lib/5.20.3
    .