Report for Path-IsDev-0.6.0

Back
From: metabase:user:31d414ea-2aae-11df-837a-5e0a49663a4f
Subject: PASS Path-IsDev-0.6.0 v5.10.1 GNU/Linux
Date: 2013-10-07T16:18:23Z

This distribution has been tested as part of the CPAN Testers
project, supporting the Perl programming language.  See
http://wiki.cpantesters.org/ for more information or email
questions to cpan-testers-discuss@perl.org


--
Dear Kent Fredric,

This is a computer-generated report for Path-IsDev-0.6.0
on perl 5.10.1, created by CPAN-Reporter-1.1803.

Thank you for uploading your work to CPAN.  Congratulations!
All tests were successful.

Sections of this report:

    * Tester comments
    * Program output
    * Prerequisites
    * Environment and other context

------------------------------
TESTER COMMENTS
------------------------------

Additional comments from tester:

this report is from an automated smoke testing program
and was not reviewed by a human for accuracy

------------------------------
PROGRAM OUTPUT
------------------------------

Output from './Build test':

t/00-compile.t ..................... ok
# 
# 
# Generated by Dist::Zilla::Plugin::ReportVersions::Tiny v1.10
# perl: 5.010001 (wanted v5.10.0) on linux from /home/david/cpantesting/perl-5.10.1/bin/perl
# 
# Carp                                          => 1.32       (want any version)
# Class::Tiny                                   => 0.011      (want 0.010)  
# File::Spec                                    => 3.40       (want any version)
# File::Temp                                    => 0.2302     (want any version)
# FindBin                                       => 1.50       (want any version)
# IO::Handle                                    => 1.28       (want any version)
# IPC::Open3                                    => 1.04       (want any version)
# Module::Build                                 => 0.4007     (want 0.4007) 
# Module::Runtime                               => 0.013      (want any version)
# Path::Tiny                                    => 0.038      (want any version)
# Role::Tiny                                    => 1.003002   (want any version)
# Role::Tiny::With                              => <undef>    (want any version)
# Scalar::Util                                  => 1.32       (want any version)
# Sub::Exporter                                 => 0.982      (want any version)
# Test::Fatal                                   => 0.013      (want any version)
# Test::More                                    => 0.98       (want 0.98)   
# strict                                        => 1.04       (want any version)
# warnings                                      => 1.06       (want any version)
# 
# Thanks for using my code.  I hope it works for you.
# If not, please try and include this output in the bug report.
# That will help me reproduce the issue and solve your problem.
# 
t/000-report-versions-tiny.t ....... ok
t/Path-IsDev-Object/_matches.t ..... ok
    # $path_isdev_source = /home/david/cpantesting/perl-5.10.1/.cpan/build/Path-IsDev-0.6.0-LaJ_4q
    # $corpus_Changes_dir = /home/david/cpantesting/perl-5.10.1/.cpan/build/Path-IsDev-0.6.0-LaJ_4q/corpus/Changelog
    # $corpus_Changes_dir/../ = /home/david/cpantesting/perl-5.10.1/.cpan/build/Path-IsDev-0.6.0-LaJ_4q/corpus
t/Path-IsDev-Object/basic.t ........ ok
t/Path-IsDev/is_dev/Changelog.t .... ok
t/Path-IsDev/is_dev/DZil.t ......... ok
t/Path-IsDev/is_dev/DevDir.t ....... ok
t/Path-IsDev/is_dev/META.t ......... ok
t/Path-IsDev/is_dev/MYMETA.t ....... ok
t/Path-IsDev/is_dev/MakeMaker.t .... ok
t/Path-IsDev/is_dev/ModuleBuild.t .. ok
t/Path-IsDev/is_dev/TestDir.t ...... ok
t/basic.t .......................... ok
All tests successful.
Files=13, Tests=63,  4 wallclock secs ( 0.05 usr  0.06 sys +  0.86 cusr  0.24 csys =  1.21 CPU)
Result: PASS

------------------------------
PREREQUISITES
------------------------------

Prerequisite modules loaded:

requires:

    Module           Need    Have    
    ---------------- ------- --------
    Carp             0       1.32    
    Class::Tiny      0.010   0.011   
    Module::Runtime  0       0.013   
    Path::Tiny       0       0.038   
    perl             v5.10.0 5.010001
    Role::Tiny       0       1.003002
    Role::Tiny::With 0       0       
    Scalar::Util     0       1.32    
    strict           0       1.04    
    Sub::Exporter    0       0.982   
    warnings         0       1.06    

build_requires:

    Module           Need    Have    
    ---------------- ------- --------
    File::Spec       0       3.40    
    File::Temp       0       0.2302  
    FindBin          0       1.50    
    IO::Handle       0       1.28    
    IPC::Open3       0       1.04    
    Module::Build    0.4007  0.4007  
    Test::Fatal      0       0.013   
    Test::More       0.98    0.98    

configure_requires:

    Module           Need    Have    
    ---------------- ------- --------
    Module::Build    0.4007  0.4007  


------------------------------
ENVIRONMENT AND OTHER CONTEXT
------------------------------

Environment variables:

    AUTOMATED_TESTING = 1
    PATH = /usr/local/bin:/usr/bin:/bin:/usr/games
    PERL = 5.10.1
    PERL5LIB = 
    PERL5OPT = 
    PERL5_CPANPLUS_IS_RUNNING = 28107
    PERL5_CPAN_IS_RUNNING = 28107
    PERLVER = 5.10.1
    PERL_INLINE_DIRECTORY = /home/david/.Inline-5.10.1
    PERL_MM_USE_DEFAULT = 1
    SHELL = /bin/bash
    TERM = screen

Perl special variables (and OS-specific diagnostics, for MSWin32):

    $^X = /home/david/cpantesting/perl-5.10.1/bin/perl
    $UID/$EUID = 1000 / 1000
    $GID = 1000 1000
    $EGID = 1000 1000

Perl module toolchain versions installed:

    Module              Have  
    ------------------- ------
    CPAN                1.9402
    Cwd                 3.40  
    ExtUtils::CBuilder  0.2703
    ExtUtils::Command   1.16  
    ExtUtils::Install   1.54  
    ExtUtils::MakeMaker 6.78  
    ExtUtils::Manifest  1.60  
    ExtUtils::ParseXS   2.2206
    File::Spec          3.40  
    Module::Build       0.4007
    Module::Signature   n/a   
    Test::Harness       3.28  
    Test::More          0.98  
    YAML                0.70  
    YAML::Syck          n/a   
    version             0.9904


--

Summary of my perl5 (revision 5 version 10 subversion 1) configuration:
   
  Platform:
    osname=linux, osvers=2.6.18-4-xen-amd64, archname=x86_64-linux-thread-multi
    uname='linux pigsty.barnyard.co.uk 2.6.18-4-xen-amd64 #1 smp fri may 4 02:40:51 utc 2007 x86_64 gnulinux '
    config_args='-de -Duse64bitall -Dusethreads -Dprefix=/home/david/cpantesting/perl-5.10.1'
    hint=recommended, useposix=true, d_sigaction=define
    useithreads=define, usemultiplicity=define
    useperlio=define, d_sfio=undef, uselargefiles=define, usesocks=undef
    use64bitint=define, use64bitall=define, uselongdouble=undef
    usemymalloc=n, bincompat5005=undef
  Compiler:
    cc='cc', ccflags ='-D_REENTRANT -D_GNU_SOURCE -fno-strict-aliasing -pipe -fstack-protector -I/usr/local/include -D_LARGEFILE_SOURCE -D_FILE_OFFSET_BITS=64',
    optimize='-O2',
    cppflags='-D_REENTRANT -D_GNU_SOURCE -fno-strict-aliasing -pipe -fstack-protector -I/usr/local/include'
    ccversion='', gccversion='4.1.2 20061115 (prerelease) (Debian 4.1.1-21)', gccosandvers=''
    intsize=4, longsize=8, ptrsize=8, doublesize=8, byteorder=12345678
    d_longlong=define, longlongsize=8, d_longdbl=define, longdblsize=16
    ivtype='long', ivsize=8, nvtype='double', nvsize=8, Off_t='off_t', lseeksize=8
    alignbytes=8, prototype=define
  Linker and Libraries:
    ld='cc', ldflags =' -fstack-protector -L/usr/local/lib'
    libpth=/usr/local/lib /lib /usr/lib /lib64 /usr/lib64
    libs=-lnsl -lgdbm -ldb -ldl -lm -lcrypt -lutil -lpthread -lc -lgdbm_compat
    perllibs=-lnsl -ldl -lm -lcrypt -lutil -lpthread -lc
    libc=/lib/libc-2.3.6.so, so=so, useshrplib=false, libperl=libperl.a
    gnulibc_version='2.3.6'
  Dynamic Linking:
    dlsrc=dl_dlopen.xs, dlext=so, d_dlsymun=undef, ccdlflags='-Wl,-E'
    cccdlflags='-fPIC', lddlflags='-shared -O2 -L/usr/local/lib -fstack-protector'


Characteristics of this binary (from libperl): 
  Compile-time options: MULTIPLICITY PERL_DONT_CREATE_GVSV
                        PERL_IMPLICIT_CONTEXT PERL_MALLOC_WRAP USE_64_BIT_ALL
                        USE_64_BIT_INT USE_ITHREADS USE_LARGE_FILES
                        USE_PERLIO USE_REENTRANT_API
  Built under linux
  Compiled at Aug 25 2009 16:04:12
  %ENV:
    PERL="5.10.1"
    PERL5LIB=""
    PERL5OPT=""
    PERL5_CPANPLUS_IS_RUNNING="28107"
    PERL5_CPAN_IS_RUNNING="28107"
    PERLVER="5.10.1"
    PERL_INLINE_DIRECTORY="/home/david/.Inline-5.10.1"
    PERL_MM_USE_DEFAULT="1"
  @INC:
    /home/david/cpantesting/perl-5.10.1/lib/5.10.1/x86_64-linux-thread-multi
    /home/david/cpantesting/perl-5.10.1/lib/5.10.1
    /home/david/cpantesting/perl-5.10.1/lib/site_perl/5.10.1/x86_64-linux-thread-multi
    /home/david/cpantesting/perl-5.10.1/lib/site_perl/5.10.1
    .