WWW-Mechanize-Firefox v0.80 Perl 5 v5.26.2 i386-linux-thread-multi-64int

Status
Pass
From
ARTO
Dist
WWW-Mechanize-Firefox v0.80
Platform
Perl 5 v5.26.2 i386-linux-thread-multi-64int
Date
2018-10-29 05:47:14
ID
1685d59e-db3e-11e8-aa17-e9c2d7439994
This distribution has been tested as part of the CPAN Testers
project, supporting the Perl programming language.  See
http://wiki.cpantesters.org/ for more information or email
questions to cpan-testers-discuss@perl.org


--
Dear Max Maischein,

This is a computer-generated report for WWW-Mechanize-Firefox-0.80
on perl 5.26.2, created by CPAN-Reporter-1.2018.

Thank you for uploading your work to CPAN.  Congratulations!
All tests were successful.

Sections of this report:

    * Tester comments
    * Program output
    * Prerequisites
    * Environment and other context

------------------------------
TESTER COMMENTS
------------------------------

Additional comments from tester:

none provided

------------------------------
PROGRAM OUTPUT
------------------------------

Output from '/usr/bin/make test':

PERL_DL_NONLAZY=1 "/usr/bin/perl" "-MExtUtils::Command::MM" "-MTest::Harness" "-e" "undef *Test::Harness::Switches; test_harness(0, 'blib/lib', 'blib/arch')" t/00-load.t t/01-mech-destroy.t t/47-mech-memleak2.t t/47-mech-ref-memleak.t t/47-mech-simplest.t t/48-mech-launch.t t/49-mech-get-file.t t/49-mech-nav.t t/49-mech-reuse.t t/50-allow-js.t t/50-app-new.t t/50-app-profile.t t/50-click-coordinates-js.t t/50-click-coordinates.t t/50-click.t t/50-follow-link.t t/50-form-with-fields.t t/50-form2.t t/50-load-and-load.t t/50-mech-activateTab.t t/50-mech-bufsize.t t/50-mech-closeTab.t t/50-mech-content.t t/50-mech-ct.t t/50-mech-encoding.t t/50-mech-error.t t/50-mech-event.t t/50-mech-forms.t t/50-mech-get-nocache.t t/50-mech-get.t t/50-mech-multi-event.t t/50-mech-new-dsl.t t/50-mech-new-with-tab.t t/50-mech-new.t t/50-mech-post.t t/50-mech-save-dialog.t t/50-mech-set-fields-875912.t t/50-mech-status.t t/50-popup.t t/50-rt65615.t t/50-tick.t t/51-click_button.t t/51-click_js.t t/51-form-number-blakew.t t/51-mech-field.t t/51-mech-form-with-fields.t t/51-mech-links.t t/51-mech-navigation.t t/51-mech-sandbox.t t/51-mech-set-content.t t/51-mech-submit.t t/52-frame-document.t t/52-frame-event.t t/52-mech-api-find_link-frames.t t/52-mech-api-find_link.t t/52-mech-xpath.t t/52-selector-frames.t t/52-selector-noframes.t t/52-selector-relative.t t/53-mech-capture-js-error.t t/55-basic-auth.t t/60-mech-cookies.t t/60-mech-custom-headers.t t/65-is_visible.t t/65-mech-meta.t t/65-set_visible.t t/70-download-url.t t/70-mech-png.t t/70-real-status.t t/70-rt70106-reload.t t/70-rt71216.t t/70-tag-team.t t/70-two-instances.t t/70-urlbar.t t/75-save_url-cookies.t t/rt65615.t t/rt78706.t t/rt84418.t t/rt88100-continuation.t t/select.t t/mechanize/autocheck.t t/mechanize/content.t
# Testing WWW::Mechanize::Firefox 0.80, Perl 5.026002
# Carp 1.50
# Config 5.026002
# DynaLoader 1.42
# Encode 2.98
# Encode::Alias 2.24
# Encode::Config 2.05
# Encode::Encoding 2.08
# Encode::MIME::Name 1.03
# Exporter 5.73
# Exporter::Heavy 5.73
# Fcntl 1.13
# File::Basename 2.85
# Firefox::Application 0.80
# HTML::Selector::XPath 0.23
# HTTP::Cookies 6.04
# HTTP::Cookies::MozRepl 0.80
# HTTP::Cookies::Netscape 6.04
# HTTP::Date 6.02
# HTTP::Headers 6.18
# HTTP::Headers::Util 6.18
# HTTP::Message 6.18
# HTTP::Request 6.18
# HTTP::Request::Common 6.18
# HTTP::Response 6.18
# HTTP::Status 6.18
# JSON 2.97001
# JSON::XS 3.04
# List::Util 1.5
# MIME::Base64 3.15
# MozRepl::RemoteObject 0.40
# MozRepl::RemoteObject::Methods 0.40
# POSIX 1.76
# PerlIO 1.10
# Scalar::Util 1.5
# Storable 3.11
# Storable::Limit <unknown>
# Test::Builder 1.302140
# Test::Builder::Formatter 1.302140
# Test::Builder::Module 1.302140
# Test::Builder::TodoDiag 1.302140
# Test::More 1.302140
# Test2::API 1.302140
# Test2::API::Context 1.302140
# Test2::API::Instance 1.302140
# Test2::API::Stack 1.302140
# Test2::Event 1.302140
# Test2::Event::Bail 1.302140
# Test2::Event::Diag 1.302140
# Test2::Event::Exception 1.302140
# Test2::Event::Fail 1.302140
# Test2::Event::Note 1.302140
# Test2::Event::Ok 1.302140
# Test2::Event::Pass 1.302140
# Test2::Event::Plan 1.302140
# Test2::Event::Skip 1.302140
# Test2::Event::Subtest 1.302140
# Test2::Event::V2 1.302140
# Test2::Event::Waiting 1.302140
# Test2::EventFacet 1.302140
# Test2::EventFacet::About 1.302140
# Test2::EventFacet::Amnesty 1.302140
# Test2::EventFacet::Assert 1.302140
# Test2::EventFacet::Control 1.302140
# Test2::EventFacet::Error 1.302140
# Test2::EventFacet::Hub 1.302140
# Test2::EventFacet::Info 1.302140
# Test2::EventFacet::Meta 1.302140
# Test2::EventFacet::Parent 1.302140
# Test2::EventFacet::Plan 1.302140
# Test2::EventFacet::Trace 1.302140
# Test2::Formatter 1.302140
# Test2::Formatter::TAP 1.302140
# Test2::Hub 1.302140
# Test2::Hub::Interceptor 1.302140
# Test2::Hub::Interceptor::Terminator 1.302140
# Test2::Hub::Subtest 1.302140
# Test2::Util 1.302140
# Test2::Util::ExternalMeta 1.302140
# Test2::Util::Facets2Legacy 1.302140
# Test2::Util::HashBase 1.302140
# Test2::Util::Trace 1.302140
# Tie::Hash 1.05
# Time::HiRes 1.9758
# Time::Local 1.28
# Types::Serialiser 1.0
# URI 1.74
# URI::Escape 3.31
# WWW::Mechanize::Firefox 0.80
# WWW::Mechanize::Link 1.89
# XSLoader 0.24
# attributes 0.29
# base 2.23
# bytes 1.05
# common::sense 3.74
# constant 1.33
# mro 1.20
# overload 1.28
# overloading 0.02
# parent 0.237
# re 0.34
# strict 1.11
# vars 1.03
# warnings 1.37
# warnings::register 1.04
t/00-load.t ....................... ok
t/01-mech-destroy.t ............... skipped: Couldn't connect to MozRepl: Failed to connect to , problem connecting to "localhost", port 4242: Connection refused at /usr/local/share/perl5/MozRepl/Client.pm line 144
t/47-mech-memleak2.t .............. skipped: Couldn't connect to MozRepl: Failed to connect to , problem connecting to "localhost", port 4242: Connection refused at /usr/local/share/perl5/MozRepl/Client.pm line 144
t/47-mech-ref-memleak.t ........... skipped: Couldn't connect to MozRepl: Failed to connect to , problem connecting to "localhost", port 4242: Connection refused at /usr/local/share/perl5/MozRepl/Client.pm line 144
t/47-mech-simplest.t .............. skipped: Couldn't connect to MozRepl: Failed to connect to , problem connecting to "localhost", port 4242: Connection refused at /usr/local/share/perl5/MozRepl/Client.pm line 144
t/48-mech-launch.t ................ skipped: Couldn't connect to MozRepl: file not found: C:/Programme/Mozilla Firefox/firefox at /usr/local/share/perl5/MozRepl/RemoteObject.pm line 463.
t/49-mech-get-file.t .............. skipped: Couldn't connect to MozRepl: Failed to connect to , problem connecting to "localhost", port 4242: Connection refused at /usr/local/share/perl5/MozRepl/Client.pm line 144
t/49-mech-nav.t ................... skipped: Couldn't connect to MozRepl: Failed to connect to , problem connecting to "localhost", port 4242: Connection refused at /usr/local/share/perl5/MozRepl/Client.pm line 144
t/49-mech-reuse.t ................. skipped: Couldn't connect to MozRepl: Failed to connect to , problem connecting to "localhost", port 4242: Connection refused at /usr/local/share/perl5/MozRepl/Client.pm line 144
t/50-allow-js.t ................... skipped: Couldn't connect to MozRepl: Failed to connect to , problem connecting to "localhost", port 4242: Connection refused at /usr/local/share/perl5/MozRepl/Client.pm line 144
t/50-app-new.t .................... skipped: Couldn't connect to MozRepl: Failed to connect to , problem connecting to "localhost", port 4242: Connection refused at /usr/local/share/perl5/MozRepl/Client.pm line 144
t/50-app-profile.t ................ skipped: Couldn't connect to MozRepl: Failed to connect to , problem connecting to "localhost", port 4242: Connection refused at /usr/local/share/perl5/MozRepl/Client.pm line 144
"my" variable $type masks earlier declaration in same scope at t/50-click-coordinates-js.t line 45.
t/50-click-coordinates-js.t ....... skipped: Couldn't connect to MozRepl: Failed to connect to , problem connecting to "localhost", port 4242: Connection refused at /usr/local/share/perl5/MozRepl/Client.pm line 144
t/50-click-coordinates.t .......... skipped: ISMAP seems unsupported from Javascript. Need to investigate further.
t/50-click.t ...................... skipped: Couldn't connect to MozRepl: Failed to connect to , problem connecting to "localhost", port 4242: Connection refused at /usr/local/share/perl5/MozRepl/Client.pm line 144
t/50-follow-link.t ................ skipped: Couldn't connect to MozRepl: Failed to connect to , problem connecting to "localhost", port 4242: Connection refused at /usr/local/share/perl5/MozRepl/Client.pm line 144
t/50-form-with-fields.t ........... skipped: Couldn't connect to MozRepl: Failed to connect to , problem connecting to "localhost", port 4242: Connection refused at /usr/local/share/perl5/MozRepl/Client.pm line 144
t/50-form2.t ...................... skipped: Couldn't connect to MozRepl: Failed to connect to , problem connecting to "localhost", port 4242: Connection refused at /usr/local/share/perl5/MozRepl/Client.pm line 144
t/50-load-and-load.t .............. skipped: Couldn't connect to MozRepl: Failed to connect to , problem connecting to "localhost", port 4242: Connection refused at /usr/local/share/perl5/MozRepl/Client.pm line 144
t/50-mech-activateTab.t ........... skipped: Couldn't connect to MozRepl: Failed to connect to , problem connecting to "localhost", port 4242: Connection refused at /usr/local/share/perl5/MozRepl/Client.pm line 144
t/50-mech-bufsize.t ............... skipped: Couldn't connect to MozRepl: Failed to connect to , problem connecting to "localhost", port 4242: Connection refused at /usr/local/share/perl5/MozRepl/Client.pm line 144
t/50-mech-closeTab.t .............. skipped: Couldn't connect to MozRepl: Failed to connect to , problem connecting to "localhost", port 4242: Connection refused at /usr/local/share/perl5/MozRepl/Client.pm line 144
t/50-mech-content.t ............... skipped: Couldn't connect to MozRepl: Failed to connect to , problem connecting to "localhost", port 4242: Connection refused at /usr/local/share/perl5/MozRepl/Client.pm line 144
t/50-mech-ct.t .................... skipped: Couldn't connect to MozRepl: Failed to connect to , problem connecting to "localhost", port 4242: Connection refused at /usr/local/share/perl5/MozRepl/Client.pm line 144
t/50-mech-encoding.t .............. skipped: Couldn't connect to MozRepl: Failed to connect to , problem connecting to "localhost", port 4242: Connection refused at /usr/local/share/perl5/MozRepl/Client.pm line 144
t/50-mech-error.t ................. skipped: Couldn't connect to MozRepl: Failed to connect to , problem connecting to "localhost", port 4242: Connection refused at /usr/local/share/perl5/MozRepl/Client.pm line 144
t/50-mech-event.t ................. skipped: Couldn't connect to MozRepl: Failed to connect to , problem connecting to "localhost", port 4242: Connection refused at /usr/local/share/perl5/MozRepl/Client.pm line 144
t/50-mech-forms.t ................. skipped: Couldn't connect to MozRepl: Failed to connect to , problem connecting to "localhost", port 4242: Connection refused at /usr/local/share/perl5/MozRepl/Client.pm line 144
t/50-mech-get-nocache.t ........... skipped: Couldn't connect to MozRepl: Failed to connect to , problem connecting to "localhost", port 4242: Connection refused at /usr/local/share/perl5/MozRepl/Client.pm line 144
t/50-mech-get.t ................... skipped: Couldn't connect to MozRepl: Failed to connect to , problem connecting to "localhost", port 4242: Connection refused at /usr/local/share/perl5/MozRepl/Client.pm line 144
t/50-mech-multi-event.t ........... skipped: Couldn't connect to MozRepl: Failed to connect to , problem connecting to "localhost", port 4242: Connection refused at /usr/local/share/perl5/MozRepl/Client.pm line 144
t/50-mech-new-dsl.t ............... skipped: Couldn't connect to MozRepl: Failed to connect to , problem connecting to "localhost", port 4242: Connection refused at /usr/local/share/perl5/MozRepl/Client.pm line 144
t/50-mech-new-with-tab.t .......... skipped: Couldn't connect to MozRepl: Failed to connect to , problem connecting to "localhost", port 4242: Connection refused at /usr/local/share/perl5/MozRepl/Client.pm line 144
t/50-mech-new.t ................... skipped: Couldn't connect to MozRepl: Failed to connect to , problem connecting to "localhost", port 4242: Connection refused at /usr/local/share/perl5/MozRepl/Client.pm line 144
t/50-mech-post.t .................. skipped: Couldn't connect to MozRepl: Failed to connect to , problem connecting to "localhost", port 4242: Connection refused at /usr/local/share/perl5/MozRepl/Client.pm line 144
t/50-mech-save-dialog.t ........... skipped: Couldn't connect to MozRepl: Failed to connect to , problem connecting to "localhost", port 4242: Connection refused at /usr/local/share/perl5/MozRepl/Client.pm line 144
t/50-mech-set-fields-875912.t ..... skipped: Couldn't connect to MozRepl: Failed to connect to , problem connecting to "localhost", port 4242: Connection refused at /usr/local/share/perl5/MozRepl/Client.pm line 144
t/50-mech-status.t ................ skipped: Couldn't connect to MozRepl: Failed to connect to , problem connecting to "localhost", port 4242: Connection refused at /usr/local/share/perl5/MozRepl/Client.pm line 144
t/50-popup.t ...................... skipped: Opening windows are not yet tracked
t/50-rt65615.t .................... skipped: Couldn't connect to MozRepl: Failed to connect to , problem connecting to "localhost", port 4242: Connection refused at /usr/local/share/perl5/MozRepl/Client.pm line 144
t/50-tick.t ....................... skipped: Couldn't connect to MozRepl: Failed to connect to , problem connecting to "localhost", port 4242: Connection refused at /usr/local/share/perl5/MozRepl/Client.pm line 144
t/51-click_button.t ............... skipped: Couldn't connect to MozRepl: Failed to connect to , problem connecting to "localhost", port 4242: Connection refused at /usr/local/share/perl5/MozRepl/Client.pm line 144
t/51-click_js.t ................... skipped: Couldn't connect to MozRepl: Failed to connect to , problem connecting to "localhost", port 4242: Connection refused at /usr/local/share/perl5/MozRepl/Client.pm line 144
t/51-form-number-blakew.t ......... skipped: Couldn't connect to MozRepl: Failed to connect to , problem connecting to "localhost", port 4242: Connection refused at /usr/local/share/perl5/MozRepl/Client.pm line 144
t/51-mech-field.t ................. skipped: Couldn't connect to MozRepl: Failed to connect to , problem connecting to "localhost", port 4242: Connection refused at /usr/local/share/perl5/MozRepl/Client.pm line 144
t/51-mech-form-with-fields.t ...... skipped: Couldn't connect to MozRepl: Failed to connect to , problem connecting to "localhost", port 4242: Connection refused at /usr/local/share/perl5/MozRepl/Client.pm line 144
t/51-mech-links.t ................. skipped: Couldn't connect to MozRepl: Failed to connect to , problem connecting to "localhost", port 4242: Connection refused at /usr/local/share/perl5/MozRepl/Client.pm line 144
t/51-mech-navigation.t ............ skipped: Couldn't connect to MozRepl: Failed to connect to , problem connecting to "localhost", port 4242: Connection refused at /usr/local/share/perl5/MozRepl/Client.pm line 144
t/51-mech-sandbox.t ............... skipped: Couldn't connect to MozRepl: Failed to connect to , problem connecting to "localhost", port 4242: Connection refused at /usr/local/share/perl5/MozRepl/Client.pm line 144
t/51-mech-set-content.t ........... skipped: Couldn't connect to MozRepl: Failed to connect to , problem connecting to "localhost", port 4242: Connection refused at /usr/local/share/perl5/MozRepl/Client.pm line 144
t/51-mech-submit.t ................ skipped: Couldn't connect to MozRepl: Failed to connect to , problem connecting to "localhost", port 4242: Connection refused at /usr/local/share/perl5/MozRepl/Client.pm line 144
t/52-frame-document.t ............. skipped: Couldn't connect to MozRepl: Failed to connect to , problem connecting to "localhost", port 4242: Connection refused at /usr/local/share/perl5/MozRepl/Client.pm line 144
t/52-frame-event.t ................ skipped: Couldn't connect to MozRepl: Failed to connect to , problem connecting to "localhost", port 4242: Connection refused at /usr/local/share/perl5/MozRepl/Client.pm line 144
t/52-mech-api-find_link-frames.t .. skipped: Couldn't connect to MozRepl: Failed to connect to , problem connecting to "localhost", port 4242: Connection refused at /usr/local/share/perl5/MozRepl/Client.pm line 144
t/52-mech-api-find_link.t ......... skipped: Couldn't connect to MozRepl: Failed to connect to , problem connecting to "localhost", port 4242: Connection refused at /usr/local/share/perl5/MozRepl/Client.pm line 144
t/52-mech-xpath.t ................. skipped: Couldn't connect to MozRepl: Failed to connect to , problem connecting to "localhost", port 4242: Connection refused at /usr/local/share/perl5/MozRepl/Client.pm line 144
t/52-selector-frames.t ............ skipped: Couldn't connect to MozRepl: Failed to connect to , problem connecting to "localhost", port 4242: Connection refused at /usr/local/share/perl5/MozRepl/Client.pm line 144
t/52-selector-noframes.t .......... skipped: Couldn't connect to MozRepl: Failed to connect to , problem connecting to "localhost", port 4242: Connection refused at /usr/local/share/perl5/MozRepl/Client.pm line 144
t/52-selector-relative.t .......... skipped: Couldn't connect to MozRepl: Failed to connect to , problem connecting to "localhost", port 4242: Connection refused at /usr/local/share/perl5/MozRepl/Client.pm line 144
t/53-mech-capture-js-error.t ...... skipped: Couldn't connect to MozRepl: Failed to connect to , problem connecting to "localhost", port 4242: Connection refused at /usr/local/share/perl5/MozRepl/Client.pm line 144
t/55-basic-auth.t ................. skipped: presetting auth does not work yet
t/60-mech-cookies.t ............... skipped: Couldn't connect to MozRepl: Failed to connect to , problem connecting to "localhost", port 4242: Connection refused at /usr/local/share/perl5/MozRepl/Client.pm line 144
t/60-mech-custom-headers.t ........ skipped: Couldn't connect to MozRepl: Failed to connect to , problem connecting to "localhost", port 4242: Connection refused at /usr/local/share/perl5/MozRepl/Client.pm line 144
t/65-is_visible.t ................. skipped: Couldn't connect to MozRepl: Failed to connect to , problem connecting to "localhost", port 4242: Connection refused at /usr/local/share/perl5/MozRepl/Client.pm line 144
t/65-mech-meta.t .................. skipped: Couldn't connect to MozRepl: Failed to connect to , problem connecting to "localhost", port 4242: Connection refused at /usr/local/share/perl5/MozRepl/Client.pm line 144
t/65-set_visible.t ................ skipped: Couldn't connect to MozRepl: Failed to connect to , problem connecting to "localhost", port 4242: Connection refused at /usr/local/share/perl5/MozRepl/Client.pm line 144
t/70-download-url.t ............... skipped: Couldn't connect to MozRepl: Failed to connect to , problem connecting to "localhost", port 4242: Connection refused at /usr/local/share/perl5/MozRepl/Client.pm line 144
t/70-mech-png.t ................... skipped: Couldn't connect to MozRepl: Failed to connect to , problem connecting to "localhost", port 4242: Connection refused at /usr/local/share/perl5/MozRepl/Client.pm line 144
t/70-real-status.t ................ skipped: Couldn't connect to MozRepl: Failed to connect to , problem connecting to "localhost", port 4242: Connection refused at /usr/local/share/perl5/MozRepl/Client.pm line 144
t/70-rt70106-reload.t ............. skipped: Couldn't connect to MozRepl: Failed to connect to , problem connecting to "localhost", port 4242: Connection refused at /usr/local/share/perl5/MozRepl/Client.pm line 144
t/70-rt71216.t .................... skipped: Couldn't connect to MozRepl: Failed to connect to , problem connecting to "localhost", port 4242: Connection refused at /usr/local/share/perl5/MozRepl/Client.pm line 144
t/70-tag-team.t ................... skipped: Couldn't connect to MozRepl: Failed to connect to , problem connecting to "localhost", port 4242: Connection refused at /usr/local/share/perl5/MozRepl/Client.pm line 144
t/70-two-instances.t .............. skipped: Couldn't connect to MozRepl: Failed to connect to , problem connecting to "localhost", port 4242: Connection refused at /usr/local/share/perl5/MozRepl/Client.pm line 144
t/70-urlbar.t ..................... skipped: Couldn't connect to MozRepl: Failed to connect to , problem connecting to "localhost", port 4242: Connection refused at /usr/local/share/perl5/MozRepl/Client.pm line 144
t/75-save_url-cookies.t ........... skipped: Couldn't connect to MozRepl: Failed to connect to , problem connecting to "localhost", port 4242: Connection refused at /usr/local/share/perl5/MozRepl/Client.pm line 144
t/mechanize/autocheck.t ........... skipped: Couldn't connect to MozRepl: Failed to connect to , problem connecting to "localhost", port 4242: Connection refused at /usr/local/share/perl5/MozRepl/Client.pm line 144
t/mechanize/content.t ............. skipped: Couldn't connect to MozRepl: Failed to connect to , problem connecting to "localhost", port 4242: Connection refused at /usr/local/share/perl5/MozRepl/Client.pm line 144
t/rt65615.t ....................... skipped: Couldn't connect to MozRepl: Failed to connect to , problem connecting to "localhost", port 4242: Connection refused at /usr/local/share/perl5/MozRepl/Client.pm line 144
t/rt78706.t ....................... skipped: Couldn't connect to MozRepl: Failed to connect to , problem connecting to "localhost", port 4242: Connection refused at /usr/local/share/perl5/MozRepl/Client.pm line 144
t/rt84418.t ....................... skipped: Couldn't connect to MozRepl: Failed to connect to , problem connecting to "localhost", port 4242: Connection refused at /usr/local/share/perl5/MozRepl/Client.pm line 144
t/rt88100-continuation.t .......... skipped: Couldn't connect to MozRepl: Failed to connect to , problem connecting to "localhost", port 4242: Connection refused at /usr/local/share/perl5/MozRepl/Client.pm line 144
t/select.t ........................ skipped: Couldn't connect to MozRepl: Failed to connect to , problem connecting to "localhost", port 4242: Connection refused at /usr/local/share/perl5/MozRepl/Client.pm line 144
All tests successful.
Files=82, Tests=1, 49 wallclock secs ( 0.36 usr  0.16 sys + 43.57 cusr  4.09 csys = 48.18 CPU)
Result: PASS

------------------------------
PREREQUISITES
------------------------------

Prerequisite modules loaded:

requires:

    Module                  Need  Have    
    ----------------------- ----- --------
    Cwd                     0     3.75    
    File::Basename          0     2.85    
    HTML::Selector::XPath   0     0.23    
    HTTP::Cookies           0     6.04    
    HTTP::Date              0     6.02    
    HTTP::Request::Common   0     6.18    
    HTTP::Response          0     6.18    
    MIME::Base64            0     3.15    
    MozRepl::RemoteObject   0.39  0.40    
    Object::Import          0     1.004   
    parent                  0     0.237   
    perl                    5.006 5.026002
    Scalar::Util            1.14  1.50    
    Shell::Command          0     0.06    
    URI                     0     1.74    
    URI::data               0     1.74    
    WWW::Mechanize          0     1.89    
    WWW::Mechanize::Link    0     1.89    

build_requires:

    Module                  Need  Have    
    ----------------------- ----- --------
    Data::Dumper            0     2.172   
    ExtUtils::MakeMaker     0     7.34    
    Image::Info             0     1.41    
    Test::Deep              0     1.128   
    Test::HTTP::LocalServer 0.61  0.64    
    Test::More              0     1.302140
    URI                     0     1.74    
    URI::file               0     4.21    

configure_requires:

    Module                  Need  Have    
    ----------------------- ----- --------
    ExtUtils::MakeMaker     0     7.34    


------------------------------
ENVIRONMENT AND OTHER CONTEXT
------------------------------

Environment variables:

    LANG = en
    LC_ALL = en_US.utf8
    LC_COLLATE = en_US.utf8
    LC_CTYPE = en_US.utf8
    LC_IDENTIFICATION = en_US.utf8
    LC_MEASUREMENT = en_US.utf8
    LC_MESSAGES = en_US.utf8
    LC_MONETARY = en_US.utf8
    LC_NAME = en_US.utf8
    LC_NUMERIC = en_US.utf8
    LC_PAPER = A4
    LC_TELEPHONE = en_US.utf8
    LC_TIME = POSIX
    PATH = /usr/share/Modules/bin:/usr/lib/ccache:/bin:/sbin:/usr/bin:/usr/sbin:/usr/local/bin:/usr/local/sbin:/home/artur/bin
    PERL5LIB = 
    PERL5OPT = 
    PERL5_CPANPLUS_IS_RUNNING = 4414
    PERL5_CPAN_IS_RUNNING = 4414
    PERL_USE_UNSAFE_INC = 1
    SHELL = zsh
    TERM = screen-256color

Perl special variables (and OS-specific diagnostics, for MSWin32):

    $^X = /usr/bin/perl
    $UID/$EUID = 500 / 500
    $GID = 500 10 12 157 466 480 487 493 494 500
    $EGID = 500 10 12 157 466 480 487 493 494 500

Perl module toolchain versions installed:

    Module              Have    
    ------------------- --------
    CPAN                2.18    
    CPAN::Meta          2.150010
    Cwd                 3.75    
    ExtUtils::CBuilder  0.280230
    ExtUtils::Command   7.34    
    ExtUtils::Install   2.14    
    ExtUtils::MakeMaker 7.34    
    ExtUtils::Manifest  1.71    
    ExtUtils::ParseXS   3.35    
    File::Spec          3.75    
    JSON                2.97001 
    JSON::PP            2.97001 
    Module::Build       0.4224  
    Module::Signature   0.83    
    Parse::CPAN::Meta   2.150010
    Test::Harness       3.42    
    Test::More          1.302140
    YAML                1.26    
    YAML::Syck          1.31    
    version             0.9924  


--

Summary of my perl5 (revision 5 version 26 subversion 2) configuration:
   
  Platform:
    osname=linux
    osvers=4.17.3-200.fc28.x86_64
    archname=i386-linux-thread-multi-64int
    uname='linux buildvm-27.phx2.fedoraproject.org 4.17.3-200.fc28.x86_64 #1 smp tue jun 26 14:17:07 utc 2018 i686 i686 i386 gnulinux '
    config_args='-des -Doptimize=none -Dccflags=-O2 -g -pipe -Wall -Werror=format-security -Wp,-D_FORTIFY_SOURCE=2 -Wp,-D_GLIBCXX_ASSERTIONS -fexceptions -fstack-protector-strong -grecord-gcc-switches -specs=/usr/lib/rpm/redhat/redhat-hardened-cc1 -specs=/usr/lib/rpm/redhat/redhat-annobin-cc1 -m32 -march=i686 -mtune=generic -fasynchronous-unwind-tables -fstack-clash-protection -fcf-protection -Dldflags=-Wl,-z,relro  -Wl,-z,now -specs=/usr/lib/rpm/redhat/redhat-hardened-ld -Dccdlflags=-Wl,--enable-new-dtags -Wl,-z,relro  -Wl,-z,now -specs=/usr/lib/rpm/redhat/redhat-hardened-ld -Dlddlflags=-shared -Wl,-z,relro  -Wl,-z,now -specs=/usr/lib/rpm/redhat/redhat-hardened-ld -Dshrpdir=/usr/lib -DDEBUGGING=-g -Dversion=5.26.2 -Dmyhostname=localhost -Dperladmin=root@localhost -Dcc=gcc -Dcf_by=Red Hat, Inc. -Dprefix=/usr -Dvendorprefix=/usr -Dsiteprefix=/usr/local -Dsitelib=/usr/local/share/perl5 -Dsitearch=/usr/local/lib/perl5 -Dprivlib=/usr/share/perl5 -Dvendorlib=/usr/share/perl5/vendor_perl -Darchlib=/usr/lib/perl5 -Dvendorarch=/usr/lib/perl5/vendor_perl -Darchname=i386-linux-thread-multi -Duseshrplib -Dusethreads -Duseithreads -Dusedtrace=/usr/bin/dtrace -Duselargefiles -Dd_semctl_semun -Di_db -Ui_ndbm -Di_gdbm -Di_shadow -Di_syslog -Dman3ext=3pm -Duseperlio -Dinstallusrbinperl=n -Ubincompat5005 -Uversiononly -Dpager=/usr/bin/less -isr -Dd_gethostent_r_proto -Ud_endhostent_r_proto -Ud_sethostent_r_proto -Ud_endprotoent_r_proto -Ud_setprotoent_r_proto -Ud_endservent_r_proto -Ud_setservent_r_proto -Dscriptdir=/usr/bin -Dusesitecustomize -Duse64bitint'
    hint=recommended
    useposix=true
    d_sigaction=define
    useithreads=define
    usemultiplicity=define
    use64bitint=define
    use64bitall=undef
    uselongdouble=undef
    usemymalloc=n
    default_inc_excludes_dot=define
    bincompat5005=undef
  Compiler:
    cc='gcc'
    ccflags ='-D_REENTRANT -D_GNU_SOURCE -O2 -g -pipe -Wall -Werror=format-security -Wp,-D_FORTIFY_SOURCE=2 -Wp,-D_GLIBCXX_ASSERTIONS -fexceptions -fstack-protector-strong -grecord-gcc-switches -specs=/usr/lib/rpm/redhat/redhat-hardened-cc1 -specs=/usr/lib/rpm/redhat/redhat-annobin-cc1 -m32 -march=i686 -mtune=generic -fasynchronous-unwind-tables -fstack-clash-protection -fcf-protection -fwrapv -fno-strict-aliasing -I/usr/local/include -D_LARGEFILE_SOURCE -D_FILE_OFFSET_BITS=64'
    optimize='  -g'
    cppflags='-D_REENTRANT -D_GNU_SOURCE -O2 -g -pipe -Wall -Werror=format-security -Wp,-D_FORTIFY_SOURCE=2 -Wp,-D_GLIBCXX_ASSERTIONS -fexceptions -fstack-protector-strong -grecord-gcc-switches -specs=/usr/lib/rpm/redhat/redhat-hardened-cc1 -specs=/usr/lib/rpm/redhat/redhat-annobin-cc1 -m32 -march=i686 -mtune=generic -fasynchronous-unwind-tables -fstack-clash-protection -fcf-protection -fwrapv -fno-strict-aliasing -I/usr/local/include'
    ccversion=''
    gccversion='8.1.1 20180712 (Red Hat 8.1.1-5)'
    gccosandvers=''
    intsize=4
    longsize=4
    ptrsize=4
    doublesize=8
    byteorder=12345678
    doublekind=3
    d_longlong=define
    longlongsize=8
    d_longdbl=define
    longdblsize=12
    longdblkind=3
    ivtype='long long'
    ivsize=8
    nvtype='double'
    nvsize=8
    Off_t='off_t'
    lseeksize=8
    alignbytes=4
    prototype=define
  Linker and Libraries:
    ld='gcc'
    ldflags ='-Wl,-z,relro -Wl,-z,now -specs=/usr/lib/rpm/redhat/redhat-hardened-ld -fstack-protector-strong -L/usr/local/lib'
    libpth=/usr/local/lib /usr/lib /lib
    libs=-lpthread -lresolv -lgdbm -ldb -ldl -lm -lcrypt -lutil -lc -lgdbm_compat
    perllibs=-lpthread -lresolv -ldl -lm -lcrypt -lutil -lc
    libc=libc-2.27.so
    so=so
    useshrplib=true
    libperl=libperl.so
    gnulibc_version='2.27'
  Dynamic Linking:
    dlsrc=dl_dlopen.xs
    dlext=so
    d_dlsymun=undef
    ccdlflags='-Wl,--enable-new-dtags -Wl,-z,relro -Wl,-z,now -specs=/usr/lib/rpm/redhat/redhat-hardened-ld'
    cccdlflags='-fPIC'
    lddlflags='-lpthread -shared -Wl,-z,relro -Wl,-z,now -specs=/usr/lib/rpm/redhat/redhat-hardened-ld -L/usr/local/lib -fstack-protector-strong'


Characteristics of this binary (from libperl): 
  Compile-time options:
    HAS_TIMES
    MULTIPLICITY
    PERLIO_LAYERS
    PERL_COPY_ON_WRITE
    PERL_DONT_CREATE_GVSV
    PERL_IMPLICIT_CONTEXT
    PERL_MALLOC_WRAP
    PERL_OP_PARENT
    PERL_PRESERVE_IVUV
    USE_64_BIT_INT
    USE_ITHREADS
    USE_LARGE_FILES
    USE_LOCALE
    USE_LOCALE_COLLATE
    USE_LOCALE_CTYPE
    USE_LOCALE_NUMERIC
    USE_LOCALE_TIME
    USE_PERLIO
    USE_PERL_ATOF
    USE_REENTRANT_API
    USE_SITECUSTOMIZE
  Locally applied patches:
    Fedora Patch1: Removes date check, Fedora/RHEL specific
    Fedora Patch4: use libresolv instead of libbind
    Fedora Patch5: USE_MM_LD_RUN_PATH
    Fedora Patch6: Provide MM::maybe_command independently (bug #1129443)
    Fedora Patch7: Dont run one io test due to random builder failures
    Fedora Patch15: Define SONAME for libperl.so
    Fedora Patch16: Install libperl.so to -Dshrpdir value
    Fedora Patch22: Document Math::BigInt::CalcEmu requires Math::BigInt (CPAN RT#85015)
    Fedora Patch26: Make *DBM_File desctructors thread-safe (RT#61912)
    Fedora Patch27: Make PadlistNAMES() lvalue again (CPAN RT#101063)
    Fedora Patch30: Replace EU::MakeMaker dependency with EU::MM::Utils in IPC::Cmd (bug #1129443)
    Fedora Patch31: Make File::Glob more resistant against degenerative matching (RT#131211)
    Fedora Patch36: Fix glob UTF-8 flag on a glob reassignment (RT#131263)
    Fedora Patch38: Fix handling backslashes in PATH environment variable when executing "perl -S" (RT#129183)
    Fedora Patch45: Fix File::Glob rt131211.t test random failures
    Fedora Patch46: Fix t/op/hash.t test random failures
    Fedora Patch47: Parse caret variables with subscripts as normal variables inside ${...} escaping (RT#131664)
    Fedora Patch49: Do not display too many bytes when reporting malformed UTF-8 character
    Fedora Patch51: Fix error message for "our sub foo::bar" (RT#131679)
    Fedora Patch52: Fix executing arybase::_tie_it() in Safe compartement (RT#131588)
    Fedora Patch54: Fix splitting non-ASCII strings if unicode_strings feature is enabled (RT#130907)
    Fedora Patch55: Fix compiler warnings in code generated by ExtUtils::Constant (CPAN RT#63832)
    Fedora Patch56: Fix compiler warnings in code generated by ExtUtils::Constant (CPAN RT#101487)
    Fedora Patch58: Fix unreliable Time-HiRes tests (CPAN RT#122819)
    Fedora Patch61: Fix Term::ReadLine not to create spurious &STDERR files (RT#132008)
    Fedora Patch64: Fix an overflow when parsing a character range with no preceding character (RT#132245)
    Fedora Patch65: Fix walking symbol table for ISA in Carp
    Fedora Patch66: Fix handling file names with null bytes in stat and lstat functions (RT#131895)
    Fedora Patch67: Fix a crash when untying an object witout a stash
    Fedora Patch68: Fix deparsing of transliterations with unprintable characters (RT#132405)
    Fedora Patch69: Fix error reporting on do() on a directory (RT#125774)
    Fedora Patch70: Fix stack manipulation when a lexical subroutine is defined in a do block in a member of an iteration list (RT#132442)
    Fedora Patch71: Fix setting $! when statting a closed filehandle (RT#108288)
    Fedora Patch72: Fix tainting of s/// with overloaded replacement (RT#115266)
    Fedora Patch73: Expand system() arguments before a fork (RT#121105)
    Fedora Patch76: Avoid undefined behavior when copying memory in Glob and pp_caller (RT#131746)
    Fedora Patch78: Fix compatibility with libxcrypt (RT#133184)
    Fedora Patch79: Link XS modules to pthread library to fix linking with -z defs
    Fedora Patch80: Fix parsing braced subscript after parentheses (RT#8045)
    Fedora Patch81: Do not clobber file bytes in :encoding layer (RT#132833)
    Fedora Patch82: Fix line numbers in multi-line s/// (RT#131930)
    Fedora Patch83: Fix parsing extended bracketed character classes (RT#132167)
    Fedora Patch84: Fix a possibly unitialized memory read in the Perl parser (RT#133074)
    Fedora Patch85: Fix an infinite loop in the regular expression compiler (RT#133185)
    Fedora Patch86: Adjust tests to gdbm-1.15 (RT#133295)
    Fedora Patch87: Fix an integer wrap when allocating memory for an environment variable (RT#133204)
    Fedora Patch88: Fix printing a warning about a wide character when matching a regular expression while ISO-8859-1 locale is in effect
    Fedora Patch89: Fix invoking a check for wide characters while ISO-8859-1 locale is in effect
    Fedora Patch200: Link XS modules to libperl.so with EU::CBuilder on Linux
    Fedora Patch201: Link XS modules to libperl.so with EU::MM on Linux
  Built under linux
  Compiled at Jul 27 2018 08:47:39
  %ENV:
    PERL5LIB=""
    PERL5OPT=""
    PERL5_CPANPLUS_IS_RUNNING="4414"
    PERL5_CPAN_IS_RUNNING="4414"
    PERL_USE_UNSAFE_INC="1"
  @INC:
    /usr/local/lib/perl5
    /usr/local/share/perl5
    /usr/lib/perl5/vendor_perl
    /usr/share/perl5/vendor_perl
    /usr/lib/perl5
    /usr/share/perl5
    .