Report for Vim-Debug-0.904

Back
From: metabase:user:320bfe00-2aae-11df-837a-5e0a49663a4f
Subject: PASS Vim-Debug-0.904 v5.23.7 GNU/Linux
Date: 2016-01-26T19:07:47Z

This distribution has been tested as part of the CPAN Testers
project, supporting the Perl programming language.  See
http://wiki.cpantesters.org/ for more information or email
questions to cpan-testers-discuss@perl.org


--
Dear Eric D Johnson,

This is a computer-generated report for Vim-Debug-0.904
on perl 5.23.7, created by CPAN-Reporter-1.2015.

Thank you for uploading your work to CPAN.  Congratulations!
All tests were successful.

Sections of this report:

    * Tester comments
    * Program output
    * Prerequisites
    * Environment and other context

------------------------------
TESTER COMMENTS
------------------------------

Additional comments from tester:

this report is from an automated smoke testing program
and was not reviewed by a human for accuracy

------------------------------
PROGRAM OUTPUT
------------------------------

Output from '/usr/bin/make test':

PERL_DL_NONLAZY=1 "/home/sand/src/perl/repoperls/installed-perls/perl/v5.23.7/f991/bin/perl" "-MExtUtils::Command::MM" "-MTest::Harness" "-e" "undef *Test::Harness::Switches; test_harness(0, 'blib/lib', 'blib/arch')" t/*.t
t/00-compile.t ......... ok
# Prerequisite Report:
#    Version Module                     
#   -------- ---------------------------
#       1.38 Carp                       
#       0.11 Dir::Self                  
#       7.10 ExtUtils::MakeMaker        
#       2.85 File::Basename             
#       0.38 File::Copy::Recursive      
#       1.33 File::Find                 
#       2.12 File::Path                 
#       3.62 File::Spec::Functions      
#     0.2304 File::Temp                 
#       2.48 Getopt::Long               
#       1.12 IO::Pty                    
#       0.94 IPC::Run                   
#    1.42_01 List::Util                 
#     2.1604 Moose                      
#     2.1604 Moose::Role                
#     2.1604 Moose::Util                
#       0.27 MooseX::ClassAttribute     
#       3.04 Net::Telnet                
#      1.367 POE                        
#      1.367 POE::Component::Server::TCP
#   1.001014 Test::More                 
#       0.24 Try::Tiny                  
#       1.10 strict                     
#       1.35 warnings                   
t/00-report-prereqs.t .. ok
t/perl.parseOutput.t ... ok
Unescaped left brace in regex is deprecated, passed through in regex; marked by <-- HERE in m/ { <-- HERE -VDEOR-} / at t/lib/Vim/Debug/Client.pm line 68.
Unescaped left brace in regex is deprecated, passed through in regex; marked by <-- HERE in m/ { <-- HERE -VDEOR-} / at t/lib/Vim/Debug/Client.pm line 68.
t/perl.stop.t .......... ok
Unescaped left brace in regex is deprecated, passed through in regex; marked by <-- HERE in m/ { <-- HERE -VDEOR-} / at t/lib/Vim/Debug/Client.pm line 68.
t/perl.t ............... ok
t/pod.t ................ ok
All tests successful.
Files=6, Tests=76, 13 wallclock secs ( 0.04 usr  0.04 sys +  4.04 cusr  0.68 csys =  4.80 CPU)
Result: PASS

------------------------------
PREREQUISITES
------------------------------

Prerequisite modules loaded:

requires:

    Module                      Need Have    
    --------------------------- ---- --------
    Carp                        0    1.38    
    Dir::Self                   0    0.11    
    File::Basename              0    2.85    
    File::Copy::Recursive       0    0.38    
    File::Path                  0    2.12    
    Getopt::Long                0    2.48    
    IO::Pty                     0    1.12    
    IPC::Run                    0    0.94    
    Moose                       0    2.1604  
    Moose::Role                 0    2.1604  
    Moose::Util                 0    2.1604  
    MooseX::ClassAttribute      0    0.27    
    POE                         0    1.367   
    POE::Component::Server::TCP 0    1.367   
    strict                      0    1.10    
    Try::Tiny                   0    0.24    
    warnings                    0    1.35    

build_requires:

    Module                      Need Have    
    --------------------------- ---- --------
    ExtUtils::MakeMaker         0    7.10    
    File::Find                  0    1.33    
    File::Spec::Functions       0    3.62    
    File::Temp                  0    0.2304  
    List::Util                  0    1.42_01 
    Net::Telnet                 0    3.04    
    Test::More                  0    1.001014

configure_requires:

    Module                      Need Have    
    --------------------------- ---- --------
    ExtUtils::MakeMaker         6.30 7.10    


------------------------------
ENVIRONMENT AND OTHER CONTEXT
------------------------------

Environment variables:

    AUTOMATED_TESTING = 1
    LANG = en_US.UTF-8
    LANGUAGE = en_US:en
    PATH = /home/sand/bin:/usr/local/bin:/usr/bin:/bin:/usr/games:/usr/local/perl/bin:/usr/X11/bin:/sbin:/usr/sbin
    PERL5LIB = 
    PERL5OPT = 
    PERL5_CPANPLUS_IS_RUNNING = 1781
    PERL5_CPAN_IS_RUNNING = 1781
    PERL_MM_USE_DEFAULT = 1
    SHELL = /usr/bin/zsh
    TERM = screen

Perl special variables (and OS-specific diagnostics, for MSWin32):

    $^X = /home/sand/src/perl/repoperls/installed-perls/perl/v5.23.7/f991/bin/perl
    $UID/$EUID = 1005 / 1005
    $GID = 1005 1005
    $EGID = 1005 1005

Perl module toolchain versions installed:

    Module              Have     
    ------------------- ---------
    CPAN                2.11     
    CPAN::Meta          2.150005 
    Cwd                 3.62     
    ExtUtils::CBuilder  0.280224 
    ExtUtils::Command   7.10     
    ExtUtils::Install   2.04     
    ExtUtils::MakeMaker 7.10     
    ExtUtils::Manifest  1.70     
    ExtUtils::ParseXS   3.31     
    File::Spec          3.62     
    JSON                2.90     
    JSON::PP            2.27300  
    Module::Build       0.4216   
    Module::Signature   0.79     
    Parse::CPAN::Meta   1.4417   
    Test::Harness       3.36     
    Test::More          1.001014 
    YAML                1.15     
    YAML::Syck          1.29     
    version             0.9912_03


--

Summary of my perl5 (revision 5 version 23 subversion 7) configuration:
  Derived from: 0057cacf350b14c192133e88ac3a3fcff4093a7f
  Platform:
    osname=linux, osvers=4.3.0-1-amd64, archname=x86_64-linux
    uname='linux k83 4.3.0-1-amd64 #1 smp debian 4.3.3-2 (2015-12-17) x86_64 gnulinux '
    config_args='-Dprefix=/home/sand/src/perl/repoperls/installed-perls/perl/v5.23.7/f991 -Dmyhostname=k83 -Dinstallusrbinperl=n -Uversiononly -Dusedevel -des -Ui_db -Dlibswanted=cl pthread socket inet nsl gdbm dbm malloc dl ld sun m crypt sec util c cposix posix ucb BSD gdbm_compat -Uuseithreads -Uuselongdouble'
    hint=recommended, useposix=true, d_sigaction=define
    useithreads=undef, usemultiplicity=undef
    use64bitint=define, use64bitall=define, uselongdouble=undef
    usemymalloc=n, bincompat5005=undef
  Compiler:
    cc='cc', ccflags ='-fwrapv -fno-strict-aliasing -pipe -fstack-protector-strong -I/usr/local/include -D_LARGEFILE_SOURCE -D_FILE_OFFSET_BITS=64 -D_FORTIFY_SOURCE=2',
    optimize='-O2',
    cppflags='-fwrapv -fno-strict-aliasing -pipe -fstack-protector-strong -I/usr/local/include'
    ccversion='', gccversion='5.3.1 20160101', gccosandvers=''
    intsize=4, longsize=8, ptrsize=8, doublesize=8, byteorder=12345678, doublekind=3
    d_longlong=define, longlongsize=8, d_longdbl=define, longdblsize=16, longdblkind=3
    ivtype='long', ivsize=8, nvtype='double', nvsize=8, Off_t='off_t', lseeksize=8
    alignbytes=8, prototype=define
  Linker and Libraries:
    ld='cc', ldflags =' -fstack-protector-strong -L/usr/local/lib'
    libpth=/usr/local/lib /usr/lib/gcc/x86_64-linux-gnu/5/include-fixed /usr/include/x86_64-linux-gnu /usr/lib /lib/x86_64-linux-gnu /lib/../lib /usr/lib/x86_64-linux-gnu /usr/lib/../lib /lib
    libs=-lpthread -lnsl -lgdbm -ldl -lm -lcrypt -lutil -lc -lgdbm_compat
    perllibs=-lpthread -lnsl -ldl -lm -lcrypt -lutil -lc
    libc=libc-2.21.so, so=so, useshrplib=false, libperl=libperl.a
    gnulibc_version='2.21'
  Dynamic Linking:
    dlsrc=dl_dlopen.xs, dlext=so, d_dlsymun=undef, ccdlflags='-Wl,-E'
    cccdlflags='-fPIC', lddlflags='-shared -O2 -L/usr/local/lib -fstack-protector-strong'


Characteristics of this binary (from libperl): 
  Compile-time options: HAS_TIMES PERLIO_LAYERS PERL_COPY_ON_WRITE
                        PERL_DONT_CREATE_GVSV
                        PERL_HASH_FUNC_ONE_AT_A_TIME_HARD PERL_MALLOC_WRAP
                        PERL_PRESERVE_IVUV PERL_USE_DEVEL USE_64_BIT_ALL
                        USE_64_BIT_INT USE_LARGE_FILES USE_LOCALE
                        USE_LOCALE_COLLATE USE_LOCALE_CTYPE
                        USE_LOCALE_NUMERIC USE_LOCALE_TIME USE_PERLIO
                        USE_PERL_ATOF
  Locally applied patches:
	uncommitted-changes
	Devel::PatchPerl 1.38
  Built under linux
  Compiled at Jan 21 2016 08:05:48
  %ENV:
    PERL5LIB=""
    PERL5OPT=""
    PERL5_CPANPLUS_IS_RUNNING="1781"
    PERL5_CPAN_IS_RUNNING="1781"
    PERL_MM_USE_DEFAULT="1"
  @INC:
    /home/sand/src/perl/repoperls/installed-perls/perl/v5.23.7/f991/lib/site_perl/5.23.7/x86_64-linux
    /home/sand/src/perl/repoperls/installed-perls/perl/v5.23.7/f991/lib/site_perl/5.23.7
    /home/sand/src/perl/repoperls/installed-perls/perl/v5.23.7/f991/lib/5.23.7/x86_64-linux
    /home/sand/src/perl/repoperls/installed-perls/perl/v5.23.7/f991/lib/5.23.7
    .